{"text_format":"1","workbook":"xlsx","n_sheets":14,"sheets":["入力シート","入力シート（受電点需要計画）","入力シート（高圧機器点基準値計画）","入力シート（低圧機器点基準値計画）","入力シート(1分周期基準値)","入力シート(属地周期基準値)","入力シート(1秒周期基準値)","入力シート(1分周期発電計画)","入力シート(属地周期発電計画)","入力シート(1秒周期発電計画)","Add_Plan_Style","使い方","エラーメッセージ一覧","OCTO-W9-0532-001.xsd"],"not_rendered":{"charts":0,"images":10,"macros":1,"external_links":1,"defined_names":3,"comments":0,"pivot_tables":0},"unopened":[],"bounds":{"document_bytes":16777216,"sheet_cells":100000,"rows_first":2000,"rows_last":500,"rows_between":2000,"halvings":0,"cell_chars":16384,"cell_head_chars":4096},"cells_cut":0,"cells_raw":0,"read":"whole","date_system":"1900"}

{"sheet":"入力シート","index":0,"n_rows":49,"n_cols":11,"rows_kept":49,"cut":false,"hidden":false,"merged":[[11,6,11,8],[5,3,5,8],[5,9,5,12],[10,5,10,8],[6,5,6,8],[7,5,7,8],[8,5,8,8],[9,5,9,8],[10,10,10,12]]}
[null,null,null,"機器点計画入力支援ツール"]
[]
[null,null,null,"対象年月日",null,"読込ファイル名"]
[null,null,null,"対象各リスト・パターン",null,"出力先"]
[null,null,null,"保存済み各リスト・パターン",""]
[null,null,null,"基本情報",null,null,null,null,null,"出力ファイル名情報"]
[null,null,null,null,"コード","名称▲",null,null,null,"XMLファイル名",{"$f":"\"W9_\"&E8&\"_\"&K8&\"_\"&K9&\"_\"&K10&\"_\"&K11&\".xml\"","v":"W9_0532__01__.xml"}]
[null,null,null,"情報区分","0532","機器点計画（三次②～一次）",null,null,null,"対象時期の開始日",{"$f":"IF(E3=\"\",\"\",E3)","v":""}]
[null,null,null,"提出先事業者",null,null,null,null,null,"約定対象開始コマ番号","01"]
[null,null,null,"送信事業者",null,null,null,null,null,"アグリゲータ用系統コード",{"$f":"IF(E11=\"\",\"\",E11)","v":""}]
[null,null,null,"提出者（アグリゲータ用系統コード）",null,null,null,null,null,"電源等コード"]
[null,null,null,"運用モード","通常","基準値設定方法▲","無"]
[null,null,null,"受電点需要有無","無","高圧機器点有無","無","低圧機器点有無","無"]
[null,null,null,"1分周期基準値","無","属地周期基準値","無","1秒周期基準値","無"]
[null,null,null,"1分周期発電計画","無","属地周期発電計画","無","1秒周期発電計画","無"]
[]
[]
[]
[]
[]
[]
[]
[]
[]
[]
[]
[]
[]
[]
[]
[]
[]
[]
[]
[]
[]
[]
[]
[]
[]
[]
[]
[]
[]
[]
[]
[]
[]
[null,null,null,{"$f":"SUM(#REF!)","v":{"$error":"#REF!"}},{"$f":"SUM(#REF!)","v":{"$error":"#REF!"}},{"$f":"SUM(#REF!)","v":{"$error":"#REF!"}},{"$f":"SUM(#REF!)","v":{"$error":"#REF!"}},{"$f":"SUM(#REF!)","v":{"$error":"#REF!"}},{"$f":"SUM(#REF!)","v":{"$error":"#REF!"}},{"$f":"SUM(#REF!)","v":{"$error":"#REF!"}},{"$f":"SUM(#REF!)","v":{"$error":"#REF!"}}]

{"sheet":"入力シート（受電点需要計画）","index":1,"n_rows":10,"n_cols":53,"rows_kept":10,"cut":false,"hidden":true,"merged":[[7,0,7,1]]}
["受電点需要計画"]
[]
[]
[]
[]
[]
[null,null,"採用",null,"","","","",""]
["合計基準値＝Σ基準値内訳",null,"#","Y7","Y8","01","02","03","04","05","06","07","08","09",10,11,12,13,14,15,16,17,18,19,20,21,22,23,24,25,26,27,28,29,30,31,32,33,34,35,36,37,38,39,40,41,42,43,44,45,46,47,48]
["明細番号","供給地点特定番号","時間帯","23:00～23:30","23:30～24:00","0:00～0:30","0:30～1:00","1:00～1:30","1:30～2:00","2:00～2:30","2:30～3:00","3:00～3:30","3:30～4:00","4:00～4:30","4:30～5:00","5:00～5:30","5:30～6:00","6:00～6:30","6:30～7:00","7:00～7:30","7:30～8:00","8:00～8:30","8:30～9:00","9:00～9:30","9:30～10:00","10:00～10:30","10:30～11:00","11:00～11:30","11:30～12:00","12:00～12:30","12:30～13:00","13:00～13:30","13:30～14:00","14:00～14:30","14:30～15:00","15:00～15:30","15:30～16:00","16:00～16:30","16:30～17:00","17:00～17:30","17:30～18:00","18:00～18:30","18:30～19:00","19:00～19:30","19:30～20:00","20:00～20:30","20:30～21:00","21:00～21:30","21:30～22:00","22:00～22:30","22:30～23:00","23:00～23:30","23:30～24:00"]
[1,null,"受電点需要計画(kWh)▲"]

{"sheet":"入力シート（高圧機器点基準値計画）","index":2,"n_rows":25,"n_cols":53,"rows_kept":25,"cut":false,"hidden":true,"merged":[[16,1,24,1],[7,1,14,1],[7,0,14,0]]}
["高圧機器点基準値計画"]
[]
[]
[]
[null,null,"採用",null,""]
[null,null,"#","Y7","Y8","01","02","03","04","05","06","07","08","09",10,11,12,13,14,15,16,17,18,19,20,21,22,23,24,25,26,27,28,29,30,31,32,33,34,35,36,37,38,39,40,41,42,43,44,45,46,47,48]
[null,null,"時間帯","23:00～23:30","23:30～24:00","0:00～0:30","0:30～1:00","1:00～1:30","1:30～2:00","2:00～2:30","2:30～3:00","3:00～3:30","3:30～4:00","4:00～4:30","4:30～5:00","5:00～5:30","5:30～6:00","6:00～6:30","6:30～7:00","7:00～7:30","7:30～8:00","8:00～8:30","8:30～9:00","9:00～9:30","9:30～10:00","10:00～10:30","10:30～11:00","11:00～11:30","11:30～12:00","12:00～12:30","12:30～13:00","13:00～13:30","13:30～14:00","14:00～14:30","14:30～15:00","15:00～15:30","15:30～16:00","16:00～16:30","16:30～17:00","17:00～17:30","17:30～18:00","18:00～18:30","18:30～19:00","19:00～19:30","19:30～20:00","20:00～20:30","20:30～21:00","21:00～21:30","21:30～22:00","22:00～22:30","22:30～23:00","23:00～23:30","23:30～24:00"]
["合計基準値＝\nΣ基準値内訳","(kWh)\n高圧機器点","基準値（アセス用）",{"$f":"SUMIF($C:$C,\"基準値（アセス用）▲\",D:D)","v":0},0,0,0,0,0,0,0,0,0,0,0,0,0,0,0,0,0,0,0,0,0,0,0,0,0,0,0,0,0,0,0,{"$f":"SUMIF($C:$C,\"基準値（アセス用）▲\",AJ:AJ)","v":0},0,0,0,0,0,0,0,0,0,0,0,0,0,0,0,0,0]
[null,null,"基準値（調整電力量用・機器端）",{"$f":"SUMIF($C:$C,\"基準値（調整電力量用・機器端）▲\",D:D)","v":0},0,0,0,0,0,0,0,0,0,0,0,0,0,0,0,0,0,0,0,0,0,0,0,0,0,0,0,0,0,0,0,{"$f":"SUMIF($C:$C,\"基準値（調整電力量用・機器端）▲\",AJ:AJ)","v":0},0,0,0,0,0,0,0,0,0,0,0,0,0,0,0,0,0]
[null,null,"発電基準値（アセス用）",{"$f":"SUMIF($C:$C,\"発電基準値（アセス用）▲\",D:D)","v":0},0,0,0,0,0,0,0,0,0,0,0,0,0,0,0,0,0,0,0,0,0,0,0,0,0,0,0,0,0,0,0,{"$f":"SUMIF($C:$C,\"発電基準値（アセス用）▲\",AJ:AJ)","v":0},0,0,0,0,0,0,0,0,0,0,0,0,0,0,0,0,0]
[null,null,"発電基準値（調整電力量用・機器端）",{"$f":"SUMIF($C:$C,\"発電基準値（調整電力量用・機器端）▲\",D:D)","v":0},0,0,0,0,0,0,0,0,0,0,0,0,0,0,0,0,0,0,0,0,0,0,0,0,0,0,0,0,0,0,0,{"$f":"SUMIF($C:$C,\"発電基準値（調整電力量用・機器端）▲\",AJ:AJ)","v":0},0,0,0,0,0,0,0,0,0,0,0,0,0,0,0,0,0]
[null,null,"発電上限",{"$f":"SUMIF($C:$C,\"発電上限▲\",D:D)","v":0},0,0,0,0,0,0,0,0,0,0,0,0,0,0,0,0,0,0,0,0,0,0,0,0,0,0,0,0,0,0,0,{"$f":"SUMIF($C:$C,\"発電上限▲\",AJ:AJ)","v":0},0,0,0,0,0,0,0,0,0,0,0,0,0,0,0,0,0]
[null,null,"基準値需要抑制計画（アセス用）",{"$f":"SUMIF($C:$C,\"基準値需要抑制計画（アセス用）▲\",D:D)","v":0},0,0,0,0,0,0,0,0,0,0,0,0,0,0,0,0,0,0,0,0,0,0,0,0,0,0,0,0,0,0,0,{"$f":"SUMIF($C:$C,\"基準値需要抑制計画（アセス用）▲\",AJ:AJ)","v":0},0,0,0,0,0,0,0,0,0,0,0,0,0,0,0,0,0]
[null,null,"基準値需要抑制計画（調整電力量用・機器端）",{"$f":"SUMIF($C:$C,\"基準値需要抑制計画（調整電力量用・機器端）▲\",D:D)","v":0},0,0,0,0,0,0,0,0,0,0,0,0,0,0,0,0,0,0,0,0,0,0,0,0,0,0,0,0,0,0,0,{"$f":"SUMIF($C:$C,\"基準値需要抑制計画（調整電力量用・機器端）▲\",AJ:AJ)","v":0},0,0,0,0,0,0,0,0,0,0,0,0,0,0,0,0,0]
[null,null,"発電基準値需要抑制計画（アセス用）",{"$f":"SUMIF($C:$C,\"発電基準値需要抑制計画（アセス用）▲\",D:D)","v":0},0,0,0,0,0,0,0,0,0,0,0,0,0,0,0,0,0,0,0,0,0,0,0,0,0,0,0,0,0,0,0,{"$f":"SUMIF($C:$C,\"発電基準値需要抑制計画（アセス用）▲\",AJ:AJ)","v":0},0,0,0,0,0,0,0,0,0,0,0,0,0,0,0,0,0]
["明細番号","機器点特定番号","発電基準値需要抑制計画（調整電力量用・機器端）",{"$f":"SUMIF($C:$C,\"発電基準値需要抑制計画（調整電力量用・機器端）▲\",D:D)","v":0},0,0,0,0,0,0,0,0,0,0,0,0,0,0,0,0,0,0,0,0,0,0,0,0,0,0,0,0,0,0,0,{"$f":"SUMIF($C:$C,\"発電基準値需要抑制計画（調整電力量用・機器端）▲\",AJ:AJ)","v":0},0,0,0,0,0,0,0,0,0,0,0,0,0,0,0,0,0]
[null,null,"基準値（アセス用）▲"]
[null,null,"基準値（調整電力量用・機器端）▲"]
[null,null,"発電基準値（アセス用）▲"]
[null,null,"発電基準値（調整電力量用・機器端）▲"]
[1,null,"発電上限▲"]
[null,null,"基準値需要抑制計画（アセス用）▲"]
[null,null,"基準値需要抑制計画（調整電力量用・機器端）▲"]
[null,null,"発電基準値需要抑制計画（アセス用）▲"]
[null,null,"発電基準値需要抑制計画（調整電力量用・機器端）▲"]

{"sheet":"入力シート（低圧機器点基準値計画）","index":3,"n_rows":17,"n_cols":55,"rows_kept":17,"cut":false,"hidden":true,"merged":[[12,1,16,1],[12,2,16,2],[12,3,16,3],[7,0,10,1],[7,2,10,3]]}
["低圧機器点基準値計画"]
[]
[]
[]
[null,null,null,null,"採用"]
[null,null,null,null,"#","Y7","Y8","01","02","03","04","05","06","07","08","09",10,11,12,13,14,15,16,17,18,19,20,21,22,23,24,25,26,27,28,29,30,31,32,33,34,35,36,37,38,39,40,41,42,43,44,45,46,47,48]
[null,null,null,null,"時間帯","23:00～23:30","23:30～24:00","0:00～0:30","0:30～1:00","1:00～1:30","1:30～2:00","2:00～2:30","2:30～3:00","3:00～3:30","3:30～4:00","4:00～4:30","4:30～5:00","5:00～5:30","5:30～6:00","6:00～6:30","6:30～7:00","7:00～7:30","7:30～8:00","8:00～8:30","8:30～9:00","9:00～9:30","9:30～10:00","10:00～10:30","10:30～11:00","11:00～11:30","11:30～12:00","12:00～12:30","12:30～13:00","13:00～13:30","13:30～14:00","14:00～14:30","14:30～15:00","15:00～15:30","15:30～16:00","16:00～16:30","16:30～17:00","17:00～17:30","17:30～18:00","18:00～18:30","18:30～19:00","19:00～19:30","19:30～20:00","20:00～20:30","20:30～21:00","21:00～21:30","21:30～22:00","22:00～22:30","22:30～23:00","23:00～23:30","23:30～24:00"]
["合計基準値＝Σ基準値内訳",null,"低圧機器点(kWh)",null,"基準値",{"$f":"SUMIF($E:$E,\"基準値▲\",F:F)","v":0},0,0,0,0,0,0,0,0,0,0,0,0,0,0,0,0,0,0,0,0,0,0,0,0,0,0,0,0,0,0,0,{"$f":"SUMIF($E:$E,\"基準値▲\",AL:AL)","v":0},0,0,0,0,0,0,0,0,0,0,0,0,0,0,0,0,0]
[null,null,null,null,"発電基準値",{"$f":"SUMIF($E:$E,\"発電基準値▲\",F:F)","v":0},0,0,0,0,0,0,0,0,0,0,0,0,0,0,0,0,0,0,0,0,0,0,0,0,0,0,0,0,0,0,0,{"$f":"SUMIF($E:$E,\"発電基準値▲\",AL:AL)","v":0},0,0,0,0,0,0,0,0,0,0,0,0,0,0,0,0,0]
[null,null,null,null,"発電上限",{"$f":"SUMIF($E:$E,\"発電上限▲\",F:F)","v":0},0,0,0,0,0,0,0,0,0,0,0,0,0,0,0,0,0,0,0,0,0,0,0,0,0,0,0,0,0,0,0,{"$f":"SUMIF($E:$E,\"発電上限▲\",AL:AL)","v":0},0,0,0,0,0,0,0,0,0,0,0,0,0,0,0,0,0]
[null,null,null,null,"基準値需要抑制計画",{"$f":"SUMIF($E:$E,\"基準値需要抑制計画▲\",F:F)","v":0},0,0,0,0,0,0,0,0,0,0,0,0,0,0,0,0,0,0,0,0,0,0,0,0,0,0,0,0,0,0,0,{"$f":"SUMIF($E:$E,\"基準値需要抑制計画▲\",AL:AL)","v":0},0,0,0,0,0,0,0,0,0,0,0,0,0,0,0,0,0]
["明細番号","小売電気事業者コード","小売電気事業者名称▲","発電BGコード▲","発電基準値需要抑制計画",{"$f":"SUMIF($E:$E,\"発電基準値需要抑制計画▲\",F:F)","v":0},0,0,0,0,0,0,0,0,0,0,0,0,0,0,0,0,0,0,0,0,0,0,0,0,0,0,0,0,0,0,0,{"$f":"SUMIF($E:$E,\"発電基準値需要抑制計画▲\",AL:AL)","v":0},0,0,0,0,0,0,0,0,0,0,0,0,0,0,0,0,0]
[null,null,null,null,"基準値▲"]
[null,null,null,null,"発電基準値▲"]
[1,null,null,null,"発電上限▲"]
[null,null,null,null,"基準値需要抑制計画▲"]
[null,null,null,null,"発電基準値需要抑制計画▲"]

{"sheet":"入力シート(1分周期基準値)","index":4,"n_rows":59,"n_cols":35,"rows_kept":59,"cut":false,"hidden":true,"merged":[[6,4,7,34],[6,3,7,3],[6,2,7,2],[8,2,10,2],[8,3,9,3],[8,4,10,4],[8,5,8,34],[9,5,9,34]]}
["1分周期基準値電力"]
[]
[]
[]
[]
[null,null,"(※)不整合電力量が±１の範囲内であれば、丸め誤差として許容します。"]
[null,null,"30分基準値電力","30分基準値電力と\n基準値電力の整合性","基準値電力"]
[]
[null,null,"30分基準値電力\n(kWh)","30分平均基準値電力\n－30分基準値電力","30分平均基準値電力(kWh)","機器点1分基準値電力(kW)"]
[null,null,null,null,null,"タイムスロット"]
["#","時間帯",null,"不整合電力量(kWh)",null,"01","02","03","04","05","06","07","08","09","10","11","12","13","14","15","16","17","18","19","20","21","22","23","24","25","26","27","28","29","30"]
["01","0:00～0:30",0,{"$f":"E12-C12","v":0},{"$f":"IFERROR(ROUND(AVERAGE(F12:AI12)*0.5,0),0)","v":0}]
["02","0:30～1:00",0,{"$f":"E13-C13","v":0},0]
["03","1:00～1:30",0,0,0]
["04","1:30～2:00",0,0,0]
["05","2:00～2:30",0,0,0]
["06","2:30～3:00",0,0,0]
["07","3:00～3:30",0,0,0]
["08","3:30～4:00",0,{"$f":"E19-C19","v":0},{"$f":"IFERROR(ROUND(AVERAGE(F19:AI19)*0.5,0),0)","v":0}]
["09","4:00～4:30",0,0,0]
[10,"4:30～5:00",0,0,0]
[11,"5:00～5:30",0,0,0]
[12,"5:30～6:00",0,0,0]
[13,"6:00～6:30",0,0,0]
[14,"6:30～7:00",0,0,0]
[15,"7:00～7:30",0,0,0]
[16,"7:30～8:00",0,0,0]
[17,"8:00～8:30",0,0,0]
[18,"8:30～9:00",0,0,0]
[19,"9:00～9:30",0,0,0]
[20,"9:30～10:00",0,0,0]
[21,"10:00～10:30",0,0,0]
[22,"10:30～11:00",0,0,0]
[23,"11:00～11:30",0,0,0]
[24,"11:30～12:00",0,0,0]
[25,"12:00～12:30",0,0,0]
[26,"12:30～13:00",0,0,0]
[27,"13:00～13:30",0,0,0]
[28,"13:30～14:00",0,0,0]
[29,"14:00～14:30",0,0,0]
[30,"14:30～15:00",0,0,0]
[31,"15:00～15:30",0,0,0]
[32,"15:30～16:00",0,0,0]
[33,"16:00～16:30",0,0,0]
[34,"16:30～17:00",0,0,0]
[35,"17:00～17:30",0,0,0]
[36,"17:30～18:00",0,0,0]
[37,"18:00～18:30",0,0,0]
[38,"18:30～19:00",0,0,0]
[39,"19:00～19:30",0,0,0]
[40,"19:30～20:00",0,0,0]
[41,"20:00～20:30",0,0,0]
[42,"20:30～21:00",0,0,0]
[43,"21:00～21:30",0,0,0]
[44,"21:30～22:00",0,0,0]
[45,"22:00～22:30",0,0,0]
[46,"22:30～23:00",0,0,0]
[47,"23:00～23:30",0,0,0]
[48,"23:30～24:00",0,0,0]

{"sheet":"入力シート(属地周期基準値)","index":5,"n_rows":1460,"n_cols":66,"rows_kept":1460,"cut":false,"hidden":true,"merged":[[1430,0,1459,0],[1100,0,1129,0],[1130,0,1159,0],[1160,0,1189,0],[1190,0,1219,0],[1220,0,1249,0],[1250,0,1279,0],[1280,0,1309,0],[1310,0,1339,0],[1340,0,1369,0],[1370,0,1399,0],[1400,0,1429,0],[1070,0,1099,0],[740,0,769,0],[770,0,799,0],[800,0,829,0],[830,0,859,0],[860,0,889,0],[890,0,919,0],[920,0,949,0],[950,0,979,0],[980,0,1009,0],[1010,0,1039,0],[1040,0,1069,0],[710,0,739,0],[380,0,409,0],[410,0,439,0],[440,0,469,0],[470,0,499,0],[500,0,529,0],[530,0,559,0],[560,0,589,0],[590,0,619,0],[620,0,649,0],[650,0,679,0],[680,0,709,0],[350,0,379,0],[20,0,49,0],[50,0,79,0],[80,0,109,0],[110,0,139,0],[140,0,169,0],[170,0,199,0],[200,0,229,0],[230,0,259,0],[260,0,289,0],[290,0,319,0],[320,0,349,0],[15,3,16,3],[15,4,16,4],[15,6,16,65],[17,4,18,4],[17,6,17,65],[18,6,18,65]]}
["属地周期基準値電力"]
[]
[]
[]
[]
[]
[]
[]
[]
[]
[]
[]
[]
[]
[null,null,null,"（※）機器点1分基準値電力と属地周期基準値電力の差が±1の範囲内であれば、丸め誤差として許容します。"]
[null,null,null,"機器点1分\n基準値電力","1分基準値電力と\n基準値電力の整合性",null,"基準値電力"]
[]
[null,null,null,"機器点1分","1分平均基準値電力－\n機器点1分基準値電力","1分平均","属地周期基準値電力(kW)"]
[null,null,null,"基準値電力",null,"基準値電力","タイムビート"]
["時刻コード","タイムスロット","時間帯","(kW)","不整合電力量(kW)","(kW)","01","02","03","04","05","06","07","08","09","10","11","12","13","14","15","16","17","18","19","20","21","22","23","24","25","26","27","28","29","30","31","32","33","34","35","36","37","38","39","40","41","42","43","44","45","46","47","48","49","50","51","52","53","54","55","56","57","58","59","60"]
["01","01","0:00～0:01",{"$f":"'入力シート(1分周期基準値)'!F12","v":0},{"$f":"F21-D21","v":0},{"$f":"IFERROR(ROUND(AVERAGE(G21:BN21),0),0)","v":0}]
[null,"02","0:01～0:02",{"$f":"'入力シート(1分周期基準値)'!G12","v":0},0,0]
[null,"03","0:02～0:03",{"$f":"'入力シート(1分周期基準値)'!H12","v":0},0,0]
[null,"04","0:03～0:04",{"$f":"'入力シート(1分周期基準値)'!I12","v":0},0,0]
[null,"05","0:04～0:05",{"$f":"'入力シート(1分周期基準値)'!J12","v":0},0,0]
[null,"06","0:05～0:06",{"$f":"'入力シート(1分周期基準値)'!K12","v":0},0,0]
[null,"07","0:06～0:07",{"$f":"'入力シート(1分周期基準値)'!L12","v":0},0,0]
[null,"08","0:07～0:08",{"$f":"'入力シート(1分周期基準値)'!M12","v":0},0,0]
[null,"09","0:08～0:09",{"$f":"'入力シート(1分周期基準値)'!N12","v":0},0,0]
[null,"10","0:09～0:10",{"$f":"'入力シート(1分周期基準値)'!O12","v":0},0,0]
[null,"11","0:10～0:11",{"$f":"'入力シート(1分周期基準値)'!P12","v":0},0,0]
[null,"12","0:11～0:12",{"$f":"'入力シート(1分周期基準値)'!Q12","v":0},0,0]
[null,"13","0:12～0:13",{"$f":"'入力シート(1分周期基準値)'!R12","v":0},0,0]
[null,"14","0:13～0:14",{"$f":"'入力シート(1分周期基準値)'!S12","v":0},0,0]
[null,"15","0:14～0:15",{"$f":"'入力シート(1分周期基準値)'!T12","v":0},0,0]
[null,"16","0:15～0:16",{"$f":"'入力シート(1分周期基準値)'!U12","v":0},0,0]
[null,"17","0:16～0:17",{"$f":"'入力シート(1分周期基準値)'!V12","v":0},0,0]
[null,"18","0:17～0:18",{"$f":"'入力シート(1分周期基準値)'!W12","v":0},0,0]
[null,"19","0:18～0:19",{"$f":"'入力シート(1分周期基準値)'!X12","v":0},0,0]
[null,"20","0:19～0:20",{"$f":"'入力シート(1分周期基準値)'!Y12","v":0},0,0]
[null,"21","0:20～0:21",{"$f":"'入力シート(1分周期基準値)'!Z12","v":0},0,0]
[null,"22","0:21～0:22",{"$f":"'入力シート(1分周期基準値)'!AA12","v":0},0,0]
[null,"23","0:22～0:23",{"$f":"'入力シート(1分周期基準値)'!AB12","v":0},0,0]
[null,"24","0:23～0:24",{"$f":"'入力シート(1分周期基準値)'!AC12","v":0},0,0]
[null,"25","0:24～0:25",{"$f":"'入力シート(1分周期基準値)'!AD12","v":0},0,0]
[null,"26","0:25～0:26",{"$f":"'入力シート(1分周期基準値)'!AE12","v":0},0,0]
[null,"27","0:26～0:27",{"$f":"'入力シート(1分周期基準値)'!AF12","v":0},0,0]
[null,"28","0:27～0:28",{"$f":"'入力シート(1分周期基準値)'!AG12","v":0},0,0]
[null,"29","0:28～0:29",{"$f":"'入力シート(1分周期基準値)'!AH12","v":0},0,0]
[null,"30","0:29～0:30",{"$f":"'入力シート(1分周期基準値)'!AI12","v":0},0,0]
["02","01","0:30～0:31",{"$f":"'入力シート(1分周期基準値)'!F13","v":0},0,0]
[null,"02","0:31～0:32",{"$f":"'入力シート(1分周期基準値)'!G13","v":0},0,0]
[null,"03","0:32～0:33",{"$f":"'入力シート(1分周期基準値)'!H13","v":0},0,0]
[null,"04","0:33～0:34",{"$f":"'入力シート(1分周期基準値)'!I13","v":0},0,0]
[null,"05","0:34～0:35",{"$f":"'入力シート(1分周期基準値)'!J13","v":0},0,0]
[null,"06","0:35～0:36",{"$f":"'入力シート(1分周期基準値)'!K13","v":0},0,0]
[null,"07","0:36～0:37",{"$f":"'入力シート(1分周期基準値)'!L13","v":0},0,0]
[null,"08","0:37～0:38",{"$f":"'入力シート(1分周期基準値)'!M13","v":0},0,0]
[null,"09","0:38～0:39",{"$f":"'入力シート(1分周期基準値)'!N13","v":0},0,0]
[null,"10","0:39～0:40",{"$f":"'入力シート(1分周期基準値)'!O13","v":0},0,0]
[null,"11","0:40～0:41",{"$f":"'入力シート(1分周期基準値)'!P13","v":0},0,0]
[null,"12","0:41～0:42",{"$f":"'入力シート(1分周期基準値)'!Q13","v":0},0,0]
[null,"13","0:42～0:43",{"$f":"'入力シート(1分周期基準値)'!R13","v":0},0,0]
[null,"14","0:43～0:44",{"$f":"'入力シート(1分周期基準値)'!S13","v":0},0,0]
[null,"15","0:44～0:45",{"$f":"'入力シート(1分周期基準値)'!T13","v":0},0,0]
[null,"16","0:45～0:46",{"$f":"'入力シート(1分周期基準値)'!U13","v":0},0,0]
[null,"17","0:46～0:47",{"$f":"'入力シート(1分周期基準値)'!V13","v":0},0,0]
[null,"18","0:47～0:48",{"$f":"'入力シート(1分周期基準値)'!W13","v":0},0,0]
[null,"19","0:48～0:49",{"$f":"'入力シート(1分周期基準値)'!X13","v":0},0,0]
[null,"20","0:49～0:50",{"$f":"'入力シート(1分周期基準値)'!Y13","v":0},0,0]
[null,"21","0:50～0:51",{"$f":"'入力シート(1分周期基準値)'!Z13","v":0},0,0]
[null,"22","0:51～0:52",{"$f":"'入力シート(1分周期基準値)'!AA13","v":0},0,0]
[null,"23","0:52～0:53",{"$f":"'入力シート(1分周期基準値)'!AB13","v":0},0,0]
[null,"24","0:53～0:54",{"$f":"'入力シート(1分周期基準値)'!AC13","v":0},0,0]
[null,"25","0:54～0:55",{"$f":"'入力シート(1分周期基準値)'!AD13","v":0},0,0]
[null,"26","0:55～0:56",{"$f":"'入力シート(1分周期基準値)'!AE13","v":0},0,0]
[null,"27","0:56～0:57",{"$f":"'入力シート(1分周期基準値)'!AF13","v":0},0,0]
[null,"28","0:57～0:58",{"$f":"'入力シート(1分周期基準値)'!AG13","v":0},0,0]
[null,"29","0:58～0:59",{"$f":"'入力シート(1分周期基準値)'!AH13","v":0},0,0]
[null,"30","0:59～1:00",{"$f":"'入力シート(1分周期基準値)'!AI13","v":0},0,0]
["03","01","1:00～1:01",{"$f":"'入力シート(1分周期基準値)'!F14","v":0},0,0]
[null,"02","1:01～1:02",{"$f":"'入力シート(1分周期基準値)'!G14","v":0},0,0]
[null,"03","1:02～1:03",{"$f":"'入力シート(1分周期基準値)'!H14","v":0},0,0]
[null,"04","1:03～1:04",{"$f":"'入力シート(1分周期基準値)'!I14","v":0},0,0]
[null,"05","1:04～1:05",{"$f":"'入力シート(1分周期基準値)'!J14","v":0},{"$f":"F85-D85","v":0},{"$f":"IFERROR(ROUND(AVERAGE(G85:BN85),0),0)","v":0}]
[null,"06","1:05～1:06",{"$f":"'入力シート(1分周期基準値)'!K14","v":0},0,0]
[null,"07","1:06～1:07",{"$f":"'入力シート(1分周期基準値)'!L14","v":0},0,0]
[null,"08","1:07～1:08",{"$f":"'入力シート(1分周期基準値)'!M14","v":0},0,0]
[null,"09","1:08～1:09",{"$f":"'入力シート(1分周期基準値)'!N14","v":0},0,0]
[null,"10","1:09～1:10",{"$f":"'入力シート(1分周期基準値)'!O14","v":0},0,0]
[null,"11","1:10～1:11",{"$f":"'入力シート(1分周期基準値)'!P14","v":0},0,0]
[null,"12","1:11～1:12",{"$f":"'入力シート(1分周期基準値)'!Q14","v":0},0,0]
[null,"13","1:12～1:13",{"$f":"'入力シート(1分周期基準値)'!R14","v":0},0,0]
[null,"14","1:13～1:14",{"$f":"'入力シート(1分周期基準値)'!S14","v":0},0,0]
[null,"15","1:14～1:15",{"$f":"'入力シート(1分周期基準値)'!T14","v":0},0,0]
[null,"16","1:15～1:16",{"$f":"'入力シート(1分周期基準値)'!U14","v":0},0,0]
[null,"17","1:16～1:17",{"$f":"'入力シート(1分周期基準値)'!V14","v":0},0,0]
[null,"18","1:17～1:18",{"$f":"'入力シート(1分周期基準値)'!W14","v":0},0,0]
[null,"19","1:18～1:19",{"$f":"'入力シート(1分周期基準値)'!X14","v":0},0,0]
[null,"20","1:19～1:20",{"$f":"'入力シート(1分周期基準値)'!Y14","v":0},0,0]
[null,"21","1:20～1:21",{"$f":"'入力シート(1分周期基準値)'!Z14","v":0},0,0]
[null,"22","1:21～1:22",{"$f":"'入力シート(1分周期基準値)'!AA14","v":0},0,0]
[null,"23","1:22～1:23",{"$f":"'入力シート(1分周期基準値)'!AB14","v":0},0,0]
[null,"24","1:23～1:24",{"$f":"'入力シート(1分周期基準値)'!AC14","v":0},0,0]
[null,"25","1:24～1:25",{"$f":"'入力シート(1分周期基準値)'!AD14","v":0},0,0]
[null,"26","1:25～1:26",{"$f":"'入力シート(1分周期基準値)'!AE14","v":0},0,0]
[null,"27","1:26～1:27",{"$f":"'入力シート(1分周期基準値)'!AF14","v":0},0,0]
[null,"28","1:27～1:28",{"$f":"'入力シート(1分周期基準値)'!AG14","v":0},0,0]
[null,"29","1:28～1:29",{"$f":"'入力シート(1分周期基準値)'!AH14","v":0},0,0]
[null,"30","1:29～1:30",{"$f":"'入力シート(1分周期基準値)'!AI14","v":0},0,0]
["04","01","1:30～1:31",{"$f":"'入力シート(1分周期基準値)'!F15","v":0},0,0]
[null,"02","1:31～1:32",{"$f":"'入力シート(1分周期基準値)'!G15","v":0},0,0]
[null,"03","1:32～1:33",{"$f":"'入力シート(1分周期基準値)'!H15","v":0},0,0]
[null,"04","1:33～1:34",{"$f":"'入力シート(1分周期基準値)'!I15","v":0},0,0]
[null,"05","1:34～1:35",{"$f":"'入力シート(1分周期基準値)'!J15","v":0},0,0]
[null,"06","1:35～1:36",{"$f":"'入力シート(1分周期基準値)'!K15","v":0},0,0]
[null,"07","1:36～1:37",{"$f":"'入力シート(1分周期基準値)'!L15","v":0},0,0]
[null,"08","1:37～1:38",{"$f":"'入力シート(1分周期基準値)'!M15","v":0},0,0]
[null,"09","1:38～1:39",{"$f":"'入力シート(1分周期基準値)'!N15","v":0},0,0]
[null,"10","1:39～1:40",{"$f":"'入力シート(1分周期基準値)'!O15","v":0},0,0]
[null,"11","1:40～1:41",{"$f":"'入力シート(1分周期基準値)'!P15","v":0},0,0]
[null,"12","1:41～1:42",{"$f":"'入力シート(1分周期基準値)'!Q15","v":0},0,0]
[null,"13","1:42～1:43",{"$f":"'入力シート(1分周期基準値)'!R15","v":0},0,0]
[null,"14","1:43～1:44",{"$f":"'入力シート(1分周期基準値)'!S15","v":0},0,0]
[null,"15","1:44～1:45",{"$f":"'入力シート(1分周期基準値)'!T15","v":0},0,0]
[null,"16","1:45～1:46",{"$f":"'入力シート(1分周期基準値)'!U15","v":0},0,0]
[null,"17","1:46～1:47",{"$f":"'入力シート(1分周期基準値)'!V15","v":0},0,0]
[null,"18","1:47～1:48",{"$f":"'入力シート(1分周期基準値)'!W15","v":0},0,0]
[null,"19","1:48～1:49",{"$f":"'入力シート(1分周期基準値)'!X15","v":0},0,0]
[null,"20","1:49～1:50",{"$f":"'入力シート(1分周期基準値)'!Y15","v":0},0,0]
[null,"21","1:50～1:51",{"$f":"'入力シート(1分周期基準値)'!Z15","v":0},0,0]
[null,"22","1:51～1:52",{"$f":"'入力シート(1分周期基準値)'!AA15","v":0},0,0]
[null,"23","1:52～1:53",{"$f":"'入力シート(1分周期基準値)'!AB15","v":0},0,0]
[null,"24","1:53～1:54",{"$f":"'入力シート(1分周期基準値)'!AC15","v":0},0,0]
[null,"25","1:54～1:55",{"$f":"'入力シート(1分周期基準値)'!AD15","v":0},0,0]
[null,"26","1:55～1:56",{"$f":"'入力シート(1分周期基準値)'!AE15","v":0},0,0]
[null,"27","1:56～1:57",{"$f":"'入力シート(1分周期基準値)'!AF15","v":0},0,0]
[null,"28","1:57～1:58",{"$f":"'入力シート(1分周期基準値)'!AG15","v":0},0,0]
[null,"29","1:58～1:59",{"$f":"'入力シート(1分周期基準値)'!AH15","v":0},0,0]
[null,"30","1:59～2:00",{"$f":"'入力シート(1分周期基準値)'!AI15","v":0},0,0]
["05","01","2:00～2:01",{"$f":"'入力シート(1分周期基準値)'!F16","v":0},0,0]
[null,"02","2:01～2:02",{"$f":"'入力シート(1分周期基準値)'!G16","v":0},0,0]
[null,"03","2:02～2:03",{"$f":"'入力シート(1分周期基準値)'!H16","v":0},0,0]
[null,"04","2:03～2:04",{"$f":"'入力シート(1分周期基準値)'!I16","v":0},0,0]
[null,"05","2:04～2:05",{"$f":"'入力シート(1分周期基準値)'!J16","v":0},0,0]
[null,"06","2:05～2:06",{"$f":"'入力シート(1分周期基準値)'!K16","v":0},0,0]
[null,"07","2:06～2:07",{"$f":"'入力シート(1分周期基準値)'!L16","v":0},0,0]
[null,"08","2:07～2:08",{"$f":"'入力シート(1分周期基準値)'!M16","v":0},0,0]
[null,"09","2:08～2:09",{"$f":"'入力シート(1分周期基準値)'!N16","v":0},{"$f":"F149-D149","v":0},{"$f":"IFERROR(ROUND(AVERAGE(G149:BN149),0),0)","v":0}]
[null,"10","2:09～2:10",{"$f":"'入力シート(1分周期基準値)'!O16","v":0},0,0]
[null,"11","2:10～2:11",{"$f":"'入力シート(1分周期基準値)'!P16","v":0},0,0]
[null,"12","2:11～2:12",{"$f":"'入力シート(1分周期基準値)'!Q16","v":0},0,0]
[null,"13","2:12～2:13",{"$f":"'入力シート(1分周期基準値)'!R16","v":0},0,0]
[null,"14","2:13～2:14",{"$f":"'入力シート(1分周期基準値)'!S16","v":0},0,0]
[null,"15","2:14～2:15",{"$f":"'入力シート(1分周期基準値)'!T16","v":0},0,0]
[null,"16","2:15～2:16",{"$f":"'入力シート(1分周期基準値)'!U16","v":0},0,0]
[null,"17","2:16～2:17",{"$f":"'入力シート(1分周期基準値)'!V16","v":0},0,0]
[null,"18","2:17～2:18",{"$f":"'入力シート(1分周期基準値)'!W16","v":0},0,0]
[null,"19","2:18～2:19",{"$f":"'入力シート(1分周期基準値)'!X16","v":0},0,0]
[null,"20","2:19～2:20",{"$f":"'入力シート(1分周期基準値)'!Y16","v":0},0,0]
[null,"21","2:20～2:21",{"$f":"'入力シート(1分周期基準値)'!Z16","v":0},0,0]
[null,"22","2:21～2:22",{"$f":"'入力シート(1分周期基準値)'!AA16","v":0},0,0]
[null,"23","2:22～2:23",{"$f":"'入力シート(1分周期基準値)'!AB16","v":0},0,0]
[null,"24","2:23～2:24",{"$f":"'入力シート(1分周期基準値)'!AC16","v":0},0,0]
[null,"25","2:24～2:25",{"$f":"'入力シート(1分周期基準値)'!AD16","v":0},0,0]
[null,"26","2:25～2:26",{"$f":"'入力シート(1分周期基準値)'!AE16","v":0},0,0]
[null,"27","2:26～2:27",{"$f":"'入力シート(1分周期基準値)'!AF16","v":0},0,0]
[null,"28","2:27～2:28",{"$f":"'入力シート(1分周期基準値)'!AG16","v":0},0,0]
[null,"29","2:28～2:29",{"$f":"'入力シート(1分周期基準値)'!AH16","v":0},0,0]
[null,"30","2:29～2:30",{"$f":"'入力シート(1分周期基準値)'!AI16","v":0},0,0]
["06","01","2:30～2:31",{"$f":"'入力シート(1分周期基準値)'!F17","v":0},0,0]
[null,"02","2:31～2:32",{"$f":"'入力シート(1分周期基準値)'!G17","v":0},0,0]
[null,"03","2:32～2:33",{"$f":"'入力シート(1分周期基準値)'!H17","v":0},0,0]
[null,"04","2:33～2:34",{"$f":"'入力シート(1分周期基準値)'!I17","v":0},0,0]
[null,"05","2:34～2:35",{"$f":"'入力シート(1分周期基準値)'!J17","v":0},0,0]
[null,"06","2:35～2:36",{"$f":"'入力シート(1分周期基準値)'!K17","v":0},0,0]
[null,"07","2:36～2:37",{"$f":"'入力シート(1分周期基準値)'!L17","v":0},0,0]
[null,"08","2:37～2:38",{"$f":"'入力シート(1分周期基準値)'!M17","v":0},0,0]
[null,"09","2:38～2:39",{"$f":"'入力シート(1分周期基準値)'!N17","v":0},0,0]
[null,"10","2:39～2:40",{"$f":"'入力シート(1分周期基準値)'!O17","v":0},0,0]
[null,"11","2:40～2:41",{"$f":"'入力シート(1分周期基準値)'!P17","v":0},0,0]
[null,"12","2:41～2:42",{"$f":"'入力シート(1分周期基準値)'!Q17","v":0},0,0]
[null,"13","2:42～2:43",{"$f":"'入力シート(1分周期基準値)'!R17","v":0},0,0]
[null,"14","2:43～2:44",{"$f":"'入力シート(1分周期基準値)'!S17","v":0},0,0]
[null,"15","2:44～2:45",{"$f":"'入力シート(1分周期基準値)'!T17","v":0},0,0]
[null,"16","2:45～2:46",{"$f":"'入力シート(1分周期基準値)'!U17","v":0},0,0]
[null,"17","2:46～2:47",{"$f":"'入力シート(1分周期基準値)'!V17","v":0},0,0]
[null,"18","2:47～2:48",{"$f":"'入力シート(1分周期基準値)'!W17","v":0},0,0]
[null,"19","2:48～2:49",{"$f":"'入力シート(1分周期基準値)'!X17","v":0},0,0]
[null,"20","2:49～2:50",{"$f":"'入力シート(1分周期基準値)'!Y17","v":0},0,0]
[null,"21","2:50～2:51",{"$f":"'入力シート(1分周期基準値)'!Z17","v":0},0,0]
[null,"22","2:51～2:52",{"$f":"'入力シート(1分周期基準値)'!AA17","v":0},0,0]
[null,"23","2:52～2:53",{"$f":"'入力シート(1分周期基準値)'!AB17","v":0},0,0]
[null,"24","2:53～2:54",{"$f":"'入力シート(1分周期基準値)'!AC17","v":0},0,0]
[null,"25","2:54～2:55",{"$f":"'入力シート(1分周期基準値)'!AD17","v":0},0,0]
[null,"26","2:55～2:56",{"$f":"'入力シート(1分周期基準値)'!AE17","v":0},0,0]
[null,"27","2:56～2:57",{"$f":"'入力シート(1分周期基準値)'!AF17","v":0},0,0]
[null,"28","2:57～2:58",{"$f":"'入力シート(1分周期基準値)'!AG17","v":0},0,0]
[null,"29","2:58～2:59",{"$f":"'入力シート(1分周期基準値)'!AH17","v":0},0,0]
[null,"30","2:59～3:00",{"$f":"'入力シート(1分周期基準値)'!AI17","v":0},0,0]
["07","01","3:00～3:01",{"$f":"'入力シート(1分周期基準値)'!F18","v":0},0,0]
[null,"02","3:01～3:02",{"$f":"'入力シート(1分周期基準値)'!G18","v":0},0,0]
[null,"03","3:02～3:03",{"$f":"'入力シート(1分周期基準値)'!H18","v":0},0,0]
[null,"04","3:03～3:04",{"$f":"'入力シート(1分周期基準値)'!I18","v":0},0,0]
[null,"05","3:04～3:05",{"$f":"'入力シート(1分周期基準値)'!J18","v":0},0,0]
[null,"06","3:05～3:06",{"$f":"'入力シート(1分周期基準値)'!K18","v":0},0,0]
[null,"07","3:06～3:07",{"$f":"'入力シート(1分周期基準値)'!L18","v":0},0,0]
[null,"08","3:07～3:08",{"$f":"'入力シート(1分周期基準値)'!M18","v":0},0,0]
[null,"09","3:08～3:09",{"$f":"'入力シート(1分周期基準値)'!N18","v":0},0,0]
[null,"10","3:09～3:10",{"$f":"'入力シート(1分周期基準値)'!O18","v":0},0,0]
[null,"11","3:10～3:11",{"$f":"'入力シート(1分周期基準値)'!P18","v":0},0,0]
[null,"12","3:11～3:12",{"$f":"'入力シート(1分周期基準値)'!Q18","v":0},0,0]
[null,"13","3:12～3:13",{"$f":"'入力シート(1分周期基準値)'!R18","v":0},{"$f":"F213-D213","v":0},{"$f":"IFERROR(ROUND(AVERAGE(G213:BN213),0),0)","v":0}]
[null,"14","3:13～3:14",{"$f":"'入力シート(1分周期基準値)'!S18","v":0},0,0]
[null,"15","3:14～3:15",{"$f":"'入力シート(1分周期基準値)'!T18","v":0},0,0]
[null,"16","3:15～3:16",{"$f":"'入力シート(1分周期基準値)'!U18","v":0},0,0]
[null,"17","3:16～3:17",{"$f":"'入力シート(1分周期基準値)'!V18","v":0},0,0]
[null,"18","3:17～3:18",{"$f":"'入力シート(1分周期基準値)'!W18","v":0},0,0]
[null,"19","3:18～3:19",{"$f":"'入力シート(1分周期基準値)'!X18","v":0},0,0]
[null,"20","3:19～3:20",{"$f":"'入力シート(1分周期基準値)'!Y18","v":0},0,0]
[null,"21","3:20～3:21",{"$f":"'入力シート(1分周期基準値)'!Z18","v":0},0,0]
[null,"22","3:21～3:22",{"$f":"'入力シート(1分周期基準値)'!AA18","v":0},0,0]
[null,"23","3:22～3:23",{"$f":"'入力シート(1分周期基準値)'!AB18","v":0},0,0]
[null,"24","3:23～3:24",{"$f":"'入力シート(1分周期基準値)'!AC18","v":0},0,0]
[null,"25","3:24～3:25",{"$f":"'入力シート(1分周期基準値)'!AD18","v":0},0,0]
[null,"26","3:25～3:26",{"$f":"'入力シート(1分周期基準値)'!AE18","v":0},0,0]
[null,"27","3:26～3:27",{"$f":"'入力シート(1分周期基準値)'!AF18","v":0},0,0]
[null,"28","3:27～3:28",{"$f":"'入力シート(1分周期基準値)'!AG18","v":0},0,0]
[null,"29","3:28～3:29",{"$f":"'入力シート(1分周期基準値)'!AH18","v":0},0,0]
[null,"30","3:29～3:30",{"$f":"'入力シート(1分周期基準値)'!AI18","v":0},0,0]
["08","01","3:30～3:31",{"$f":"'入力シート(1分周期基準値)'!F19","v":0},0,0]
[null,"02","3:31～3:32",{"$f":"'入力シート(1分周期基準値)'!G19","v":0},0,0]
[null,"03","3:32～3:33",{"$f":"'入力シート(1分周期基準値)'!H19","v":0},0,0]
[null,"04","3:33～3:34",{"$f":"'入力シート(1分周期基準値)'!I19","v":0},0,0]
[null,"05","3:34～3:35",{"$f":"'入力シート(1分周期基準値)'!J19","v":0},0,0]
[null,"06","3:35～3:36",{"$f":"'入力シート(1分周期基準値)'!K19","v":0},0,0]
[null,"07","3:36～3:37",{"$f":"'入力シート(1分周期基準値)'!L19","v":0},0,0]
[null,"08","3:37～3:38",{"$f":"'入力シート(1分周期基準値)'!M19","v":0},0,0]
[null,"09","3:38～3:39",{"$f":"'入力シート(1分周期基準値)'!N19","v":0},0,0]
[null,"10","3:39～3:40",{"$f":"'入力シート(1分周期基準値)'!O19","v":0},0,0]
[null,"11","3:40～3:41",{"$f":"'入力シート(1分周期基準値)'!P19","v":0},0,0]
[null,"12","3:41～3:42",{"$f":"'入力シート(1分周期基準値)'!Q19","v":0},0,0]
[null,"13","3:42～3:43",{"$f":"'入力シート(1分周期基準値)'!R19","v":0},0,0]
[null,"14","3:43～3:44",{"$f":"'入力シート(1分周期基準値)'!S19","v":0},0,0]
[null,"15","3:44～3:45",{"$f":"'入力シート(1分周期基準値)'!T19","v":0},0,0]
[null,"16","3:45～3:46",{"$f":"'入力シート(1分周期基準値)'!U19","v":0},0,0]
[null,"17","3:46～3:47",{"$f":"'入力シート(1分周期基準値)'!V19","v":0},0,0]
[null,"18","3:47～3:48",{"$f":"'入力シート(1分周期基準値)'!W19","v":0},0,0]
[null,"19","3:48～3:49",{"$f":"'入力シート(1分周期基準値)'!X19","v":0},0,0]
[null,"20","3:49～3:50",{"$f":"'入力シート(1分周期基準値)'!Y19","v":0},0,0]
[null,"21","3:50～3:51",{"$f":"'入力シート(1分周期基準値)'!Z19","v":0},0,0]
[null,"22","3:51～3:52",{"$f":"'入力シート(1分周期基準値)'!AA19","v":0},0,0]
[null,"23","3:52～3:53",{"$f":"'入力シート(1分周期基準値)'!AB19","v":0},0,0]
[null,"24","3:53～3:54",{"$f":"'入力シート(1分周期基準値)'!AC19","v":0},0,0]
[null,"25","3:54～3:55",{"$f":"'入力シート(1分周期基準値)'!AD19","v":0},0,0]
[null,"26","3:55～3:56",{"$f":"'入力シート(1分周期基準値)'!AE19","v":0},0,0]
[null,"27","3:56～3:57",{"$f":"'入力シート(1分周期基準値)'!AF19","v":0},0,0]
[null,"28","3:57～3:58",{"$f":"'入力シート(1分周期基準値)'!AG19","v":0},0,0]
[null,"29","3:58～3:59",{"$f":"'入力シート(1分周期基準値)'!AH19","v":0},0,0]
[null,"30","3:59～4:00",{"$f":"'入力シート(1分周期基準値)'!AI19","v":0},0,0]
["09","01","4:00～4:01",{"$f":"'入力シート(1分周期基準値)'!F20","v":0},0,0]
[null,"02","4:01～4:02",{"$f":"'入力シート(1分周期基準値)'!G20","v":0},0,0]
[null,"03","4:02～4:03",{"$f":"'入力シート(1分周期基準値)'!H20","v":0},0,0]
[null,"04","4:03～4:04",{"$f":"'入力シート(1分周期基準値)'!I20","v":0},0,0]
[null,"05","4:04～4:05",{"$f":"'入力シート(1分周期基準値)'!J20","v":0},0,0]
[null,"06","4:05～4:06",{"$f":"'入力シート(1分周期基準値)'!K20","v":0},0,0]
[null,"07","4:06～4:07",{"$f":"'入力シート(1分周期基準値)'!L20","v":0},0,0]
[null,"08","4:07～4:08",{"$f":"'入力シート(1分周期基準値)'!M20","v":0},0,0]
[null,"09","4:08～4:09",{"$f":"'入力シート(1分周期基準値)'!N20","v":0},0,0]
[null,"10","4:09～4:10",{"$f":"'入力シート(1分周期基準値)'!O20","v":0},0,0]
[null,"11","4:10～4:11",{"$f":"'入力シート(1分周期基準値)'!P20","v":0},0,0]
[null,"12","4:11～4:12",{"$f":"'入力シート(1分周期基準値)'!Q20","v":0},0,0]
[null,"13","4:12～4:13",{"$f":"'入力シート(1分周期基準値)'!R20","v":0},0,0]
[null,"14","4:13～4:14",{"$f":"'入力シート(1分周期基準値)'!S20","v":0},0,0]
[null,"15","4:14～4:15",{"$f":"'入力シート(1分周期基準値)'!T20","v":0},0,0]
[null,"16","4:15～4:16",{"$f":"'入力シート(1分周期基準値)'!U20","v":0},0,0]
[null,"17","4:16～4:17",{"$f":"'入力シート(1分周期基準値)'!V20","v":0},{"$f":"F277-D277","v":0},{"$f":"IFERROR(ROUND(AVERAGE(G277:BN277),0),0)","v":0}]
[null,"18","4:17～4:18",{"$f":"'入力シート(1分周期基準値)'!W20","v":0},0,0]
[null,"19","4:18～4:19",{"$f":"'入力シート(1分周期基準値)'!X20","v":0},0,0]
[null,"20","4:19～4:20",{"$f":"'入力シート(1分周期基準値)'!Y20","v":0},0,0]
[null,"21","4:20～4:21",{"$f":"'入力シート(1分周期基準値)'!Z20","v":0},0,0]
[null,"22","4:21～4:22",{"$f":"'入力シート(1分周期基準値)'!AA20","v":0},0,0]
[null,"23","4:22～4:23",{"$f":"'入力シート(1分周期基準値)'!AB20","v":0},0,0]
[null,"24","4:23～4:24",{"$f":"'入力シート(1分周期基準値)'!AC20","v":0},0,0]
[null,"25","4:24～4:25",{"$f":"'入力シート(1分周期基準値)'!AD20","v":0},0,0]
[null,"26","4:25～4:26",{"$f":"'入力シート(1分周期基準値)'!AE20","v":0},0,0]
[null,"27","4:26～4:27",{"$f":"'入力シート(1分周期基準値)'!AF20","v":0},0,0]
[null,"28","4:27～4:28",{"$f":"'入力シート(1分周期基準値)'!AG20","v":0},0,0]
[null,"29","4:28～4:29",{"$f":"'入力シート(1分周期基準値)'!AH20","v":0},0,0]
[null,"30","4:29～4:30",{"$f":"'入力シート(1分周期基準値)'!AI20","v":0},0,0]
["10","01","4:30～4:31",{"$f":"'入力シート(1分周期基準値)'!F21","v":0},0,0]
[null,"02","4:31～4:32",{"$f":"'入力シート(1分周期基準値)'!G21","v":0},0,0]
[null,"03","4:32～4:33",{"$f":"'入力シート(1分周期基準値)'!H21","v":0},0,0]
[null,"04","4:33～4:34",{"$f":"'入力シート(1分周期基準値)'!I21","v":0},0,0]
[null,"05","4:34～4:35",{"$f":"'入力シート(1分周期基準値)'!J21","v":0},0,0]
[null,"06","4:35～4:36",{"$f":"'入力シート(1分周期基準値)'!K21","v":0},0,0]
[null,"07","4:36～4:37",{"$f":"'入力シート(1分周期基準値)'!L21","v":0},0,0]
[null,"08","4:37～4:38",{"$f":"'入力シート(1分周期基準値)'!M21","v":0},0,0]
[null,"09","4:38～4:39",{"$f":"'入力シート(1分周期基準値)'!N21","v":0},0,0]
[null,"10","4:39～4:40",{"$f":"'入力シート(1分周期基準値)'!O21","v":0},0,0]
[null,"11","4:40～4:41",{"$f":"'入力シート(1分周期基準値)'!P21","v":0},0,0]
[null,"12","4:41～4:42",{"$f":"'入力シート(1分周期基準値)'!Q21","v":0},0,0]
[null,"13","4:42～4:43",{"$f":"'入力シート(1分周期基準値)'!R21","v":0},0,0]
[null,"14","4:43～4:44",{"$f":"'入力シート(1分周期基準値)'!S21","v":0},0,0]
[null,"15","4:44～4:45",{"$f":"'入力シート(1分周期基準値)'!T21","v":0},0,0]
[null,"16","4:45～4:46",{"$f":"'入力シート(1分周期基準値)'!U21","v":0},0,0]
[null,"17","4:46～4:47",{"$f":"'入力シート(1分周期基準値)'!V21","v":0},0,0]
[null,"18","4:47～4:48",{"$f":"'入力シート(1分周期基準値)'!W21","v":0},0,0]
[null,"19","4:48～4:49",{"$f":"'入力シート(1分周期基準値)'!X21","v":0},0,0]
[null,"20","4:49～4:50",{"$f":"'入力シート(1分周期基準値)'!Y21","v":0},0,0]
[null,"21","4:50～4:51",{"$f":"'入力シート(1分周期基準値)'!Z21","v":0},0,0]
[null,"22","4:51～4:52",{"$f":"'入力シート(1分周期基準値)'!AA21","v":0},0,0]
[null,"23","4:52～4:53",{"$f":"'入力シート(1分周期基準値)'!AB21","v":0},0,0]
[null,"24","4:53～4:54",{"$f":"'入力シート(1分周期基準値)'!AC21","v":0},0,0]
[null,"25","4:54～4:55",{"$f":"'入力シート(1分周期基準値)'!AD21","v":0},0,0]
[null,"26","4:55～4:56",{"$f":"'入力シート(1分周期基準値)'!AE21","v":0},0,0]
[null,"27","4:56～4:57",{"$f":"'入力シート(1分周期基準値)'!AF21","v":0},0,0]
[null,"28","4:57～4:58",{"$f":"'入力シート(1分周期基準値)'!AG21","v":0},0,0]
[null,"29","4:58～4:59",{"$f":"'入力シート(1分周期基準値)'!AH21","v":0},0,0]
[null,"30","4:59～5:00",{"$f":"'入力シート(1分周期基準値)'!AI21","v":0},0,0]
["11","01","5:00～5:01",{"$f":"'入力シート(1分周期基準値)'!F22","v":0},0,0]
[null,"02","5:01～5:02",{"$f":"'入力シート(1分周期基準値)'!G22","v":0},0,0]
[null,"03","5:02～5:03",{"$f":"'入力シート(1分周期基準値)'!H22","v":0},0,0]
[null,"04","5:03～5:04",{"$f":"'入力シート(1分周期基準値)'!I22","v":0},0,0]
[null,"05","5:04～5:05",{"$f":"'入力シート(1分周期基準値)'!J22","v":0},0,0]
[null,"06","5:05～5:06",{"$f":"'入力シート(1分周期基準値)'!K22","v":0},0,0]
[null,"07","5:06～5:07",{"$f":"'入力シート(1分周期基準値)'!L22","v":0},0,0]
[null,"08","5:07～5:08",{"$f":"'入力シート(1分周期基準値)'!M22","v":0},0,0]
[null,"09","5:08～5:09",{"$f":"'入力シート(1分周期基準値)'!N22","v":0},0,0]
[null,"10","5:09～5:10",{"$f":"'入力シート(1分周期基準値)'!O22","v":0},0,0]
[null,"11","5:10～5:11",{"$f":"'入力シート(1分周期基準値)'!P22","v":0},0,0]
[null,"12","5:11～5:12",{"$f":"'入力シート(1分周期基準値)'!Q22","v":0},0,0]
[null,"13","5:12～5:13",{"$f":"'入力シート(1分周期基準値)'!R22","v":0},0,0]
[null,"14","5:13～5:14",{"$f":"'入力シート(1分周期基準値)'!S22","v":0},0,0]
[null,"15","5:14～5:15",{"$f":"'入力シート(1分周期基準値)'!T22","v":0},0,0]
[null,"16","5:15～5:16",{"$f":"'入力シート(1分周期基準値)'!U22","v":0},0,0]
[null,"17","5:16～5:17",{"$f":"'入力シート(1分周期基準値)'!V22","v":0},0,0]
[null,"18","5:17～5:18",{"$f":"'入力シート(1分周期基準値)'!W22","v":0},0,0]
[null,"19","5:18～5:19",{"$f":"'入力シート(1分周期基準値)'!X22","v":0},0,0]
[null,"20","5:19～5:20",{"$f":"'入力シート(1分周期基準値)'!Y22","v":0},0,0]
[null,"21","5:20～5:21",{"$f":"'入力シート(1分周期基準値)'!Z22","v":0},{"$f":"F341-D341","v":0},{"$f":"IFERROR(ROUND(AVERAGE(G341:BN341),0),0)","v":0}]
[null,"22","5:21～5:22",{"$f":"'入力シート(1分周期基準値)'!AA22","v":0},0,0]
[null,"23","5:22～5:23",{"$f":"'入力シート(1分周期基準値)'!AB22","v":0},0,0]
[null,"24","5:23～5:24",{"$f":"'入力シート(1分周期基準値)'!AC22","v":0},0,0]
[null,"25","5:24～5:25",{"$f":"'入力シート(1分周期基準値)'!AD22","v":0},0,0]
[null,"26","5:25～5:26",{"$f":"'入力シート(1分周期基準値)'!AE22","v":0},0,0]
[null,"27","5:26～5:27",{"$f":"'入力シート(1分周期基準値)'!AF22","v":0},0,0]
[null,"28","5:27～5:28",{"$f":"'入力シート(1分周期基準値)'!AG22","v":0},0,0]
[null,"29","5:28～5:29",{"$f":"'入力シート(1分周期基準値)'!AH22","v":0},0,0]
[null,"30","5:29～5:30",{"$f":"'入力シート(1分周期基準値)'!AI22","v":0},0,0]
["12","01","5:30～5:31",{"$f":"'入力シート(1分周期基準値)'!F23","v":0},0,0]
[null,"02","5:31～5:32",{"$f":"'入力シート(1分周期基準値)'!G23","v":0},0,0]
[null,"03","5:32～5:33",{"$f":"'入力シート(1分周期基準値)'!H23","v":0},0,0]
[null,"04","5:33～5:34",{"$f":"'入力シート(1分周期基準値)'!I23","v":0},0,0]
[null,"05","5:34～5:35",{"$f":"'入力シート(1分周期基準値)'!J23","v":0},0,0]
[null,"06","5:35～5:36",{"$f":"'入力シート(1分周期基準値)'!K23","v":0},0,0]
[null,"07","5:36～5:37",{"$f":"'入力シート(1分周期基準値)'!L23","v":0},0,0]
[null,"08","5:37～5:38",{"$f":"'入力シート(1分周期基準値)'!M23","v":0},0,0]
[null,"09","5:38～5:39",{"$f":"'入力シート(1分周期基準値)'!N23","v":0},0,0]
[null,"10","5:39～5:40",{"$f":"'入力シート(1分周期基準値)'!O23","v":0},0,0]
[null,"11","5:40～5:41",{"$f":"'入力シート(1分周期基準値)'!P23","v":0},0,0]
[null,"12","5:41～5:42",{"$f":"'入力シート(1分周期基準値)'!Q23","v":0},0,0]
[null,"13","5:42～5:43",{"$f":"'入力シート(1分周期基準値)'!R23","v":0},0,0]
[null,"14","5:43～5:44",{"$f":"'入力シート(1分周期基準値)'!S23","v":0},0,0]
[null,"15","5:44～5:45",{"$f":"'入力シート(1分周期基準値)'!T23","v":0},0,0]
[null,"16","5:45～5:46",{"$f":"'入力シート(1分周期基準値)'!U23","v":0},0,0]
[null,"17","5:46～5:47",{"$f":"'入力シート(1分周期基準値)'!V23","v":0},0,0]
[null,"18","5:47～5:48",{"$f":"'入力シート(1分周期基準値)'!W23","v":0},0,0]
[null,"19","5:48～5:49",{"$f":"'入力シート(1分周期基準値)'!X23","v":0},0,0]
[null,"20","5:49～5:50",{"$f":"'入力シート(1分周期基準値)'!Y23","v":0},0,0]
[null,"21","5:50～5:51",{"$f":"'入力シート(1分周期基準値)'!Z23","v":0},0,0]
[null,"22","5:51～5:52",{"$f":"'入力シート(1分周期基準値)'!AA23","v":0},0,0]
[null,"23","5:52～5:53",{"$f":"'入力シート(1分周期基準値)'!AB23","v":0},0,0]
[null,"24","5:53～5:54",{"$f":"'入力シート(1分周期基準値)'!AC23","v":0},0,0]
[null,"25","5:54～5:55",{"$f":"'入力シート(1分周期基準値)'!AD23","v":0},0,0]
[null,"26","5:55～5:56",{"$f":"'入力シート(1分周期基準値)'!AE23","v":0},0,0]
[null,"27","5:56～5:57",{"$f":"'入力シート(1分周期基準値)'!AF23","v":0},0,0]
[null,"28","5:57～5:58",{"$f":"'入力シート(1分周期基準値)'!AG23","v":0},0,0]
[null,"29","5:58～5:59",{"$f":"'入力シート(1分周期基準値)'!AH23","v":0},0,0]
[null,"30","5:59～6:00",{"$f":"'入力シート(1分周期基準値)'!AI23","v":0},0,0]
["13","01","6:00～6:01",{"$f":"'入力シート(1分周期基準値)'!F24","v":0},0,0]
[null,"02","6:01～6:02",{"$f":"'入力シート(1分周期基準値)'!G24","v":0},0,0]
[null,"03","6:02～6:03",{"$f":"'入力シート(1分周期基準値)'!H24","v":0},0,0]
[null,"04","6:03～6:04",{"$f":"'入力シート(1分周期基準値)'!I24","v":0},0,0]
[null,"05","6:04～6:05",{"$f":"'入力シート(1分周期基準値)'!J24","v":0},0,0]
[null,"06","6:05～6:06",{"$f":"'入力シート(1分周期基準値)'!K24","v":0},0,0]
[null,"07","6:06～6:07",{"$f":"'入力シート(1分周期基準値)'!L24","v":0},0,0]
[null,"08","6:07～6:08",{"$f":"'入力シート(1分周期基準値)'!M24","v":0},0,0]
[null,"09","6:08～6:09",{"$f":"'入力シート(1分周期基準値)'!N24","v":0},0,0]
[null,"10","6:09～6:10",{"$f":"'入力シート(1分周期基準値)'!O24","v":0},0,0]
[null,"11","6:10～6:11",{"$f":"'入力シート(1分周期基準値)'!P24","v":0},0,0]
[null,"12","6:11～6:12",{"$f":"'入力シート(1分周期基準値)'!Q24","v":0},0,0]
[null,"13","6:12～6:13",{"$f":"'入力シート(1分周期基準値)'!R24","v":0},0,0]
[null,"14","6:13～6:14",{"$f":"'入力シート(1分周期基準値)'!S24","v":0},0,0]
[null,"15","6:14～6:15",{"$f":"'入力シート(1分周期基準値)'!T24","v":0},0,0]
[null,"16","6:15～6:16",{"$f":"'入力シート(1分周期基準値)'!U24","v":0},0,0]
[null,"17","6:16～6:17",{"$f":"'入力シート(1分周期基準値)'!V24","v":0},0,0]
[null,"18","6:17～6:18",{"$f":"'入力シート(1分周期基準値)'!W24","v":0},0,0]
[null,"19","6:18～6:19",{"$f":"'入力シート(1分周期基準値)'!X24","v":0},0,0]
[null,"20","6:19～6:20",{"$f":"'入力シート(1分周期基準値)'!Y24","v":0},0,0]
[null,"21","6:20～6:21",{"$f":"'入力シート(1分周期基準値)'!Z24","v":0},0,0]
[null,"22","6:21～6:22",{"$f":"'入力シート(1分周期基準値)'!AA24","v":0},0,0]
[null,"23","6:22～6:23",{"$f":"'入力シート(1分周期基準値)'!AB24","v":0},0,0]
[null,"24","6:23～6:24",{"$f":"'入力シート(1分周期基準値)'!AC24","v":0},0,0]
[null,"25","6:24～6:25",{"$f":"'入力シート(1分周期基準値)'!AD24","v":0},{"$f":"F405-D405","v":0},{"$f":"IFERROR(ROUND(AVERAGE(G405:BN405),0),0)","v":0}]
[null,"26","6:25～6:26",{"$f":"'入力シート(1分周期基準値)'!AE24","v":0},0,0]
[null,"27","6:26～6:27",{"$f":"'入力シート(1分周期基準値)'!AF24","v":0},0,0]
[null,"28","6:27～6:28",{"$f":"'入力シート(1分周期基準値)'!AG24","v":0},0,0]
[null,"29","6:28～6:29",{"$f":"'入力シート(1分周期基準値)'!AH24","v":0},0,0]
[null,"30","6:29～6:30",{"$f":"'入力シート(1分周期基準値)'!AI24","v":0},0,0]
["14","01","6:30～6:31",{"$f":"'入力シート(1分周期基準値)'!F25","v":0},0,0]
[null,"02","6:31～6:32",{"$f":"'入力シート(1分周期基準値)'!G25","v":0},0,0]
[null,"03","6:32～6:33",{"$f":"'入力シート(1分周期基準値)'!H25","v":0},0,0]
[null,"04","6:33～6:34",{"$f":"'入力シート(1分周期基準値)'!I25","v":0},0,0]
[null,"05","6:34～6:35",{"$f":"'入力シート(1分周期基準値)'!J25","v":0},0,0]
[null,"06","6:35～6:36",{"$f":"'入力シート(1分周期基準値)'!K25","v":0},0,0]
[null,"07","6:36～6:37",{"$f":"'入力シート(1分周期基準値)'!L25","v":0},0,0]
[null,"08","6:37～6:38",{"$f":"'入力シート(1分周期基準値)'!M25","v":0},0,0]
[null,"09","6:38～6:39",{"$f":"'入力シート(1分周期基準値)'!N25","v":0},0,0]
[null,"10","6:39～6:40",{"$f":"'入力シート(1分周期基準値)'!O25","v":0},0,0]
[null,"11","6:40～6:41",{"$f":"'入力シート(1分周期基準値)'!P25","v":0},0,0]
[null,"12","6:41～6:42",{"$f":"'入力シート(1分周期基準値)'!Q25","v":0},0,0]
[null,"13","6:42～6:43",{"$f":"'入力シート(1分周期基準値)'!R25","v":0},0,0]
[null,"14","6:43～6:44",{"$f":"'入力シート(1分周期基準値)'!S25","v":0},0,0]
[null,"15","6:44～6:45",{"$f":"'入力シート(1分周期基準値)'!T25","v":0},0,0]
[null,"16","6:45～6:46",{"$f":"'入力シート(1分周期基準値)'!U25","v":0},0,0]
[null,"17","6:46～6:47",{"$f":"'入力シート(1分周期基準値)'!V25","v":0},0,0]
[null,"18","6:47～6:48",{"$f":"'入力シート(1分周期基準値)'!W25","v":0},0,0]
[null,"19","6:48～6:49",{"$f":"'入力シート(1分周期基準値)'!X25","v":0},0,0]
[null,"20","6:49～6:50",{"$f":"'入力シート(1分周期基準値)'!Y25","v":0},0,0]
[null,"21","6:50～6:51",{"$f":"'入力シート(1分周期基準値)'!Z25","v":0},0,0]
[null,"22","6:51～6:52",{"$f":"'入力シート(1分周期基準値)'!AA25","v":0},0,0]
[null,"23","6:52～6:53",{"$f":"'入力シート(1分周期基準値)'!AB25","v":0},0,0]
[null,"24","6:53～6:54",{"$f":"'入力シート(1分周期基準値)'!AC25","v":0},0,0]
[null,"25","6:54～6:55",{"$f":"'入力シート(1分周期基準値)'!AD25","v":0},0,0]
[null,"26","6:55～6:56",{"$f":"'入力シート(1分周期基準値)'!AE25","v":0},0,0]
[null,"27","6:56～6:57",{"$f":"'入力シート(1分周期基準値)'!AF25","v":0},0,0]
[null,"28","6:57～6:58",{"$f":"'入力シート(1分周期基準値)'!AG25","v":0},0,0]
[null,"29","6:58～6:59",{"$f":"'入力シート(1分周期基準値)'!AH25","v":0},0,0]
[null,"30","6:59～7:00",{"$f":"'入力シート(1分周期基準値)'!AI25","v":0},0,0]
["15","01","7:00～7:01",{"$f":"'入力シート(1分周期基準値)'!F26","v":0},0,0]
[null,"02","7:01～7:02",{"$f":"'入力シート(1分周期基準値)'!G26","v":0},0,0]
[null,"03","7:02～7:03",{"$f":"'入力シート(1分周期基準値)'!H26","v":0},0,0]
[null,"04","7:03～7:04",{"$f":"'入力シート(1分周期基準値)'!I26","v":0},0,0]
[null,"05","7:04～7:05",{"$f":"'入力シート(1分周期基準値)'!J26","v":0},0,0]
[null,"06","7:05～7:06",{"$f":"'入力シート(1分周期基準値)'!K26","v":0},0,0]
[null,"07","7:06～7:07",{"$f":"'入力シート(1分周期基準値)'!L26","v":0},0,0]
[null,"08","7:07～7:08",{"$f":"'入力シート(1分周期基準値)'!M26","v":0},0,0]
[null,"09","7:08～7:09",{"$f":"'入力シート(1分周期基準値)'!N26","v":0},0,0]
[null,"10","7:09～7:10",{"$f":"'入力シート(1分周期基準値)'!O26","v":0},0,0]
[null,"11","7:10～7:11",{"$f":"'入力シート(1分周期基準値)'!P26","v":0},0,0]
[null,"12","7:11～7:12",{"$f":"'入力シート(1分周期基準値)'!Q26","v":0},0,0]
[null,"13","7:12～7:13",{"$f":"'入力シート(1分周期基準値)'!R26","v":0},0,0]
[null,"14","7:13～7:14",{"$f":"'入力シート(1分周期基準値)'!S26","v":0},0,0]
[null,"15","7:14～7:15",{"$f":"'入力シート(1分周期基準値)'!T26","v":0},0,0]
[null,"16","7:15～7:16",{"$f":"'入力シート(1分周期基準値)'!U26","v":0},0,0]
[null,"17","7:16～7:17",{"$f":"'入力シート(1分周期基準値)'!V26","v":0},0,0]
[null,"18","7:17～7:18",{"$f":"'入力シート(1分周期基準値)'!W26","v":0},0,0]
[null,"19","7:18～7:19",{"$f":"'入力シート(1分周期基準値)'!X26","v":0},0,0]
[null,"20","7:19～7:20",{"$f":"'入力シート(1分周期基準値)'!Y26","v":0},0,0]
[null,"21","7:20～7:21",{"$f":"'入力シート(1分周期基準値)'!Z26","v":0},0,0]
[null,"22","7:21～7:22",{"$f":"'入力シート(1分周期基準値)'!AA26","v":0},0,0]
[null,"23","7:22～7:23",{"$f":"'入力シート(1分周期基準値)'!AB26","v":0},0,0]
[null,"24","7:23～7:24",{"$f":"'入力シート(1分周期基準値)'!AC26","v":0},0,0]
[null,"25","7:24～7:25",{"$f":"'入力シート(1分周期基準値)'!AD26","v":0},0,0]
[null,"26","7:25～7:26",{"$f":"'入力シート(1分周期基準値)'!AE26","v":0},0,0]
[null,"27","7:26～7:27",{"$f":"'入力シート(1分周期基準値)'!AF26","v":0},0,0]
[null,"28","7:27～7:28",{"$f":"'入力シート(1分周期基準値)'!AG26","v":0},0,0]
[null,"29","7:28～7:29",{"$f":"'入力シート(1分周期基準値)'!AH26","v":0},{"$f":"F469-D469","v":0},{"$f":"IFERROR(ROUND(AVERAGE(G469:BN469),0),0)","v":0}]
[null,"30","7:29～7:30",{"$f":"'入力シート(1分周期基準値)'!AI26","v":0},0,0]
["16","01","7:30～7:31",{"$f":"'入力シート(1分周期基準値)'!F27","v":0},0,0]
[null,"02","7:31～7:32",{"$f":"'入力シート(1分周期基準値)'!G27","v":0},0,0]
[null,"03","7:32～7:33",{"$f":"'入力シート(1分周期基準値)'!H27","v":0},0,0]
[null,"04","7:33～7:34",{"$f":"'入力シート(1分周期基準値)'!I27","v":0},0,0]
[null,"05","7:34～7:35",{"$f":"'入力シート(1分周期基準値)'!J27","v":0},0,0]
[null,"06","7:35～7:36",{"$f":"'入力シート(1分周期基準値)'!K27","v":0},0,0]
[null,"07","7:36～7:37",{"$f":"'入力シート(1分周期基準値)'!L27","v":0},0,0]
[null,"08","7:37～7:38",{"$f":"'入力シート(1分周期基準値)'!M27","v":0},0,0]
[null,"09","7:38～7:39",{"$f":"'入力シート(1分周期基準値)'!N27","v":0},0,0]
[null,"10","7:39～7:40",{"$f":"'入力シート(1分周期基準値)'!O27","v":0},0,0]
[null,"11","7:40～7:41",{"$f":"'入力シート(1分周期基準値)'!P27","v":0},0,0]
[null,"12","7:41～7:42",{"$f":"'入力シート(1分周期基準値)'!Q27","v":0},0,0]
[null,"13","7:42～7:43",{"$f":"'入力シート(1分周期基準値)'!R27","v":0},0,0]
[null,"14","7:43～7:44",{"$f":"'入力シート(1分周期基準値)'!S27","v":0},0,0]
[null,"15","7:44～7:45",{"$f":"'入力シート(1分周期基準値)'!T27","v":0},0,0]
[null,"16","7:45～7:46",{"$f":"'入力シート(1分周期基準値)'!U27","v":0},0,0]
[null,"17","7:46～7:47",{"$f":"'入力シート(1分周期基準値)'!V27","v":0},0,0]
[null,"18","7:47～7:48",{"$f":"'入力シート(1分周期基準値)'!W27","v":0},0,0]
[null,"19","7:48～7:49",{"$f":"'入力シート(1分周期基準値)'!X27","v":0},0,0]
[null,"20","7:49～7:50",{"$f":"'入力シート(1分周期基準値)'!Y27","v":0},0,0]
[null,"21","7:50～7:51",{"$f":"'入力シート(1分周期基準値)'!Z27","v":0},0,0]
[null,"22","7:51～7:52",{"$f":"'入力シート(1分周期基準値)'!AA27","v":0},0,0]
[null,"23","7:52～7:53",{"$f":"'入力シート(1分周期基準値)'!AB27","v":0},0,0]
[null,"24","7:53～7:54",{"$f":"'入力シート(1分周期基準値)'!AC27","v":0},0,0]
[null,"25","7:54～7:55",{"$f":"'入力シート(1分周期基準値)'!AD27","v":0},0,0]
[null,"26","7:55～7:56",{"$f":"'入力シート(1分周期基準値)'!AE27","v":0},0,0]
[null,"27","7:56～7:57",{"$f":"'入力シート(1分周期基準値)'!AF27","v":0},0,0]
[null,"28","7:57～7:58",{"$f":"'入力シート(1分周期基準値)'!AG27","v":0},0,0]
[null,"29","7:58～7:59",{"$f":"'入力シート(1分周期基準値)'!AH27","v":0},0,0]
[null,"30","7:59～8:00",{"$f":"'入力シート(1分周期基準値)'!AI27","v":0},0,0]
["17","01","8:00～8:01",{"$f":"'入力シート(1分周期基準値)'!F28","v":0},0,0]
[null,"02","8:01～8:02",{"$f":"'入力シート(1分周期基準値)'!G28","v":0},0,0]
[null,"03","8:02～8:03",{"$f":"'入力シート(1分周期基準値)'!H28","v":0},0,0]
[null,"04","8:03～8:04",{"$f":"'入力シート(1分周期基準値)'!I28","v":0},0,0]
[null,"05","8:04～8:05",{"$f":"'入力シート(1分周期基準値)'!J28","v":0},0,0]
[null,"06","8:05～8:06",{"$f":"'入力シート(1分周期基準値)'!K28","v":0},0,0]
[null,"07","8:06～8:07",{"$f":"'入力シート(1分周期基準値)'!L28","v":0},0,0]
[null,"08","8:07～8:08",{"$f":"'入力シート(1分周期基準値)'!M28","v":0},0,0]
[null,"09","8:08～8:09",{"$f":"'入力シート(1分周期基準値)'!N28","v":0},0,0]
[null,"10","8:09～8:10",{"$f":"'入力シート(1分周期基準値)'!O28","v":0},0,0]
[null,"11","8:10～8:11",{"$f":"'入力シート(1分周期基準値)'!P28","v":0},0,0]
[null,"12","8:11～8:12",{"$f":"'入力シート(1分周期基準値)'!Q28","v":0},0,0]
[null,"13","8:12～8:13",{"$f":"'入力シート(1分周期基準値)'!R28","v":0},0,0]
[null,"14","8:13～8:14",{"$f":"'入力シート(1分周期基準値)'!S28","v":0},0,0]
[null,"15","8:14～8:15",{"$f":"'入力シート(1分周期基準値)'!T28","v":0},0,0]
[null,"16","8:15～8:16",{"$f":"'入力シート(1分周期基準値)'!U28","v":0},0,0]
[null,"17","8:16～8:17",{"$f":"'入力シート(1分周期基準値)'!V28","v":0},0,0]
[null,"18","8:17～8:18",{"$f":"'入力シート(1分周期基準値)'!W28","v":0},0,0]
[null,"19","8:18～8:19",{"$f":"'入力シート(1分周期基準値)'!X28","v":0},0,0]
[null,"20","8:19～8:20",{"$f":"'入力シート(1分周期基準値)'!Y28","v":0},0,0]
[null,"21","8:20～8:21",{"$f":"'入力シート(1分周期基準値)'!Z28","v":0},0,0]
[null,"22","8:21～8:22",{"$f":"'入力シート(1分周期基準値)'!AA28","v":0},0,0]
[null,"23","8:22～8:23",{"$f":"'入力シート(1分周期基準値)'!AB28","v":0},0,0]
[null,"24","8:23～8:24",{"$f":"'入力シート(1分周期基準値)'!AC28","v":0},0,0]
[null,"25","8:24～8:25",{"$f":"'入力シート(1分周期基準値)'!AD28","v":0},0,0]
[null,"26","8:25～8:26",{"$f":"'入力シート(1分周期基準値)'!AE28","v":0},0,0]
[null,"27","8:26～8:27",{"$f":"'入力シート(1分周期基準値)'!AF28","v":0},0,0]
[null,"28","8:27～8:28",{"$f":"'入力シート(1分周期基準値)'!AG28","v":0},0,0]
[null,"29","8:28～8:29",{"$f":"'入力シート(1分周期基準値)'!AH28","v":0},0,0]
[null,"30","8:29～8:30",{"$f":"'入力シート(1分周期基準値)'!AI28","v":0},0,0]
["18","01","8:30～8:31",{"$f":"'入力シート(1分周期基準値)'!F29","v":0},0,0]
[null,"02","8:31～8:32",{"$f":"'入力シート(1分周期基準値)'!G29","v":0},0,0]
[null,"03","8:32～8:33",{"$f":"'入力シート(1分周期基準値)'!H29","v":0},{"$f":"F533-D533","v":0},{"$f":"IFERROR(ROUND(AVERAGE(G533:BN533),0),0)","v":0}]
[null,"04","8:33～8:34",{"$f":"'入力シート(1分周期基準値)'!I29","v":0},0,0]
[null,"05","8:34～8:35",{"$f":"'入力シート(1分周期基準値)'!J29","v":0},0,0]
[null,"06","8:35～8:36",{"$f":"'入力シート(1分周期基準値)'!K29","v":0},0,0]
[null,"07","8:36～8:37",{"$f":"'入力シート(1分周期基準値)'!L29","v":0},0,0]
[null,"08","8:37～8:38",{"$f":"'入力シート(1分周期基準値)'!M29","v":0},0,0]
[null,"09","8:38～8:39",{"$f":"'入力シート(1分周期基準値)'!N29","v":0},0,0]
[null,"10","8:39～8:40",{"$f":"'入力シート(1分周期基準値)'!O29","v":0},0,0]
[null,"11","8:40～8:41",{"$f":"'入力シート(1分周期基準値)'!P29","v":0},0,0]
[null,"12","8:41～8:42",{"$f":"'入力シート(1分周期基準値)'!Q29","v":0},0,0]
[null,"13","8:42～8:43",{"$f":"'入力シート(1分周期基準値)'!R29","v":0},0,0]
[null,"14","8:43～8:44",{"$f":"'入力シート(1分周期基準値)'!S29","v":0},0,0]
[null,"15","8:44～8:45",{"$f":"'入力シート(1分周期基準値)'!T29","v":0},0,0]
[null,"16","8:45～8:46",{"$f":"'入力シート(1分周期基準値)'!U29","v":0},0,0]
[null,"17","8:46～8:47",{"$f":"'入力シート(1分周期基準値)'!V29","v":0},0,0]
[null,"18","8:47～8:48",{"$f":"'入力シート(1分周期基準値)'!W29","v":0},0,0]
[null,"19","8:48～8:49",{"$f":"'入力シート(1分周期基準値)'!X29","v":0},0,0]
[null,"20","8:49～8:50",{"$f":"'入力シート(1分周期基準値)'!Y29","v":0},0,0]
[null,"21","8:50～8:51",{"$f":"'入力シート(1分周期基準値)'!Z29","v":0},0,0]
[null,"22","8:51～8:52",{"$f":"'入力シート(1分周期基準値)'!AA29","v":0},0,0]
[null,"23","8:52～8:53",{"$f":"'入力シート(1分周期基準値)'!AB29","v":0},0,0]
[null,"24","8:53～8:54",{"$f":"'入力シート(1分周期基準値)'!AC29","v":0},0,0]
[null,"25","8:54～8:55",{"$f":"'入力シート(1分周期基準値)'!AD29","v":0},0,0]
[null,"26","8:55～8:56",{"$f":"'入力シート(1分周期基準値)'!AE29","v":0},0,0]
[null,"27","8:56～8:57",{"$f":"'入力シート(1分周期基準値)'!AF29","v":0},0,0]
[null,"28","8:57～8:58",{"$f":"'入力シート(1分周期基準値)'!AG29","v":0},0,0]
[null,"29","8:58～8:59",{"$f":"'入力シート(1分周期基準値)'!AH29","v":0},0,0]
[null,"30","8:59～9:00",{"$f":"'入力シート(1分周期基準値)'!AI29","v":0},0,0]
["19","01","9:00～9:01",{"$f":"'入力シート(1分周期基準値)'!F30","v":0},0,0]
[null,"02","9:01～9:02",{"$f":"'入力シート(1分周期基準値)'!G30","v":0},0,0]
[null,"03","9:02～9:03",{"$f":"'入力シート(1分周期基準値)'!H30","v":0},0,0]
[null,"04","9:03～9:04",{"$f":"'入力シート(1分周期基準値)'!I30","v":0},0,0]
[null,"05","9:04～9:05",{"$f":"'入力シート(1分周期基準値)'!J30","v":0},0,0]
[null,"06","9:05～9:06",{"$f":"'入力シート(1分周期基準値)'!K30","v":0},0,0]
[null,"07","9:06～9:07",{"$f":"'入力シート(1分周期基準値)'!L30","v":0},0,0]
[null,"08","9:07～9:08",{"$f":"'入力シート(1分周期基準値)'!M30","v":0},0,0]
[null,"09","9:08～9:09",{"$f":"'入力シート(1分周期基準値)'!N30","v":0},0,0]
[null,"10","9:09～9:10",{"$f":"'入力シート(1分周期基準値)'!O30","v":0},0,0]
[null,"11","9:10～9:11",{"$f":"'入力シート(1分周期基準値)'!P30","v":0},0,0]
[null,"12","9:11～9:12",{"$f":"'入力シート(1分周期基準値)'!Q30","v":0},0,0]
[null,"13","9:12～9:13",{"$f":"'入力シート(1分周期基準値)'!R30","v":0},0,0]
[null,"14","9:13～9:14",{"$f":"'入力シート(1分周期基準値)'!S30","v":0},0,0]
[null,"15","9:14～9:15",{"$f":"'入力シート(1分周期基準値)'!T30","v":0},0,0]
[null,"16","9:15～9:16",{"$f":"'入力シート(1分周期基準値)'!U30","v":0},0,0]
[null,"17","9:16～9:17",{"$f":"'入力シート(1分周期基準値)'!V30","v":0},0,0]
[null,"18","9:17～9:18",{"$f":"'入力シート(1分周期基準値)'!W30","v":0},0,0]
[null,"19","9:18～9:19",{"$f":"'入力シート(1分周期基準値)'!X30","v":0},0,0]
[null,"20","9:19～9:20",{"$f":"'入力シート(1分周期基準値)'!Y30","v":0},0,0]
[null,"21","9:20～9:21",{"$f":"'入力シート(1分周期基準値)'!Z30","v":0},0,0]
[null,"22","9:21～9:22",{"$f":"'入力シート(1分周期基準値)'!AA30","v":0},0,0]
[null,"23","9:22～9:23",{"$f":"'入力シート(1分周期基準値)'!AB30","v":0},0,0]
[null,"24","9:23～9:24",{"$f":"'入力シート(1分周期基準値)'!AC30","v":0},0,0]
[null,"25","9:24～9:25",{"$f":"'入力シート(1分周期基準値)'!AD30","v":0},0,0]
[null,"26","9:25～9:26",{"$f":"'入力シート(1分周期基準値)'!AE30","v":0},0,0]
[null,"27","9:26～9:27",{"$f":"'入力シート(1分周期基準値)'!AF30","v":0},0,0]
[null,"28","9:27～9:28",{"$f":"'入力シート(1分周期基準値)'!AG30","v":0},0,0]
[null,"29","9:28～9:29",{"$f":"'入力シート(1分周期基準値)'!AH30","v":0},0,0]
[null,"30","9:29～9:30",{"$f":"'入力シート(1分周期基準値)'!AI30","v":0},0,0]
["20","01","9:30～9:31",{"$f":"'入力シート(1分周期基準値)'!F31","v":0},0,0]
[null,"02","9:31～9:32",{"$f":"'入力シート(1分周期基準値)'!G31","v":0},0,0]
[null,"03","9:32～9:33",{"$f":"'入力シート(1分周期基準値)'!H31","v":0},0,0]
[null,"04","9:33～9:34",{"$f":"'入力シート(1分周期基準値)'!I31","v":0},0,0]
[null,"05","9:34～9:35",{"$f":"'入力シート(1分周期基準値)'!J31","v":0},0,0]
[null,"06","9:35～9:36",{"$f":"'入力シート(1分周期基準値)'!K31","v":0},0,0]
[null,"07","9:36～9:37",{"$f":"'入力シート(1分周期基準値)'!L31","v":0},{"$f":"F597-D597","v":0},{"$f":"IFERROR(ROUND(AVERAGE(G597:BN597),0),0)","v":0}]
[null,"08","9:37～9:38",{"$f":"'入力シート(1分周期基準値)'!M31","v":0},0,0]
[null,"09","9:38～9:39",{"$f":"'入力シート(1分周期基準値)'!N31","v":0},0,0]
[null,"10","9:39～9:40",{"$f":"'入力シート(1分周期基準値)'!O31","v":0},0,0]
[null,"11","9:40～9:41",{"$f":"'入力シート(1分周期基準値)'!P31","v":0},0,0]
[null,"12","9:41～9:42",{"$f":"'入力シート(1分周期基準値)'!Q31","v":0},0,0]
[null,"13","9:42～9:43",{"$f":"'入力シート(1分周期基準値)'!R31","v":0},0,0]
[null,"14","9:43～9:44",{"$f":"'入力シート(1分周期基準値)'!S31","v":0},0,0]
[null,"15","9:44～9:45",{"$f":"'入力シート(1分周期基準値)'!T31","v":0},0,0]
[null,"16","9:45～9:46",{"$f":"'入力シート(1分周期基準値)'!U31","v":0},0,0]
[null,"17","9:46～9:47",{"$f":"'入力シート(1分周期基準値)'!V31","v":0},0,0]
[null,"18","9:47～9:48",{"$f":"'入力シート(1分周期基準値)'!W31","v":0},0,0]
[null,"19","9:48～9:49",{"$f":"'入力シート(1分周期基準値)'!X31","v":0},0,0]
[null,"20","9:49～9:50",{"$f":"'入力シート(1分周期基準値)'!Y31","v":0},0,0]
[null,"21","9:50～9:51",{"$f":"'入力シート(1分周期基準値)'!Z31","v":0},0,0]
[null,"22","9:51～9:52",{"$f":"'入力シート(1分周期基準値)'!AA31","v":0},0,0]
[null,"23","9:52～9:53",{"$f":"'入力シート(1分周期基準値)'!AB31","v":0},0,0]
[null,"24","9:53～9:54",{"$f":"'入力シート(1分周期基準値)'!AC31","v":0},0,0]
[null,"25","9:54～9:55",{"$f":"'入力シート(1分周期基準値)'!AD31","v":0},0,0]
[null,"26","9:55～9:56",{"$f":"'入力シート(1分周期基準値)'!AE31","v":0},0,0]
[null,"27","9:56～9:57",{"$f":"'入力シート(1分周期基準値)'!AF31","v":0},0,0]
[null,"28","9:57～9:58",{"$f":"'入力シート(1分周期基準値)'!AG31","v":0},0,0]
[null,"29","9:58～9:59",{"$f":"'入力シート(1分周期基準値)'!AH31","v":0},0,0]
[null,"30","9:59～10:00",{"$f":"'入力シート(1分周期基準値)'!AI31","v":0},0,0]
["21","01","10:00～10:01",{"$f":"'入力シート(1分周期基準値)'!F32","v":0},0,0]
[null,"02","10:01～10:02",{"$f":"'入力シート(1分周期基準値)'!G32","v":0},0,0]
[null,"03","10:02～10:03",{"$f":"'入力シート(1分周期基準値)'!H32","v":0},0,0]
[null,"04","10:03～10:04",{"$f":"'入力シート(1分周期基準値)'!I32","v":0},0,0]
[null,"05","10:04～10:05",{"$f":"'入力シート(1分周期基準値)'!J32","v":0},0,0]
[null,"06","10:05～10:06",{"$f":"'入力シート(1分周期基準値)'!K32","v":0},0,0]
[null,"07","10:06～10:07",{"$f":"'入力シート(1分周期基準値)'!L32","v":0},0,0]
[null,"08","10:07～10:08",{"$f":"'入力シート(1分周期基準値)'!M32","v":0},0,0]
[null,"09","10:08～10:09",{"$f":"'入力シート(1分周期基準値)'!N32","v":0},0,0]
[null,"10","10:09～10:10",{"$f":"'入力シート(1分周期基準値)'!O32","v":0},0,0]
[null,"11","10:10～10:11",{"$f":"'入力シート(1分周期基準値)'!P32","v":0},0,0]
[null,"12","10:11～10:12",{"$f":"'入力シート(1分周期基準値)'!Q32","v":0},0,0]
[null,"13","10:12～10:13",{"$f":"'入力シート(1分周期基準値)'!R32","v":0},0,0]
[null,"14","10:13～10:14",{"$f":"'入力シート(1分周期基準値)'!S32","v":0},0,0]
[null,"15","10:14～10:15",{"$f":"'入力シート(1分周期基準値)'!T32","v":0},0,0]
[null,"16","10:15～10:16",{"$f":"'入力シート(1分周期基準値)'!U32","v":0},0,0]
[null,"17","10:16～10:17",{"$f":"'入力シート(1分周期基準値)'!V32","v":0},0,0]
[null,"18","10:17～10:18",{"$f":"'入力シート(1分周期基準値)'!W32","v":0},0,0]
[null,"19","10:18～10:19",{"$f":"'入力シート(1分周期基準値)'!X32","v":0},0,0]
[null,"20","10:19～10:20",{"$f":"'入力シート(1分周期基準値)'!Y32","v":0},0,0]
[null,"21","10:20～10:21",{"$f":"'入力シート(1分周期基準値)'!Z32","v":0},0,0]
[null,"22","10:21～10:22",{"$f":"'入力シート(1分周期基準値)'!AA32","v":0},0,0]
[null,"23","10:22～10:23",{"$f":"'入力シート(1分周期基準値)'!AB32","v":0},0,0]
[null,"24","10:23～10:24",{"$f":"'入力シート(1分周期基準値)'!AC32","v":0},0,0]
[null,"25","10:24～10:25",{"$f":"'入力シート(1分周期基準値)'!AD32","v":0},0,0]
[null,"26","10:25～10:26",{"$f":"'入力シート(1分周期基準値)'!AE32","v":0},0,0]
[null,"27","10:26～10:27",{"$f":"'入力シート(1分周期基準値)'!AF32","v":0},0,0]
[null,"28","10:27～10:28",{"$f":"'入力シート(1分周期基準値)'!AG32","v":0},0,0]
[null,"29","10:28～10:29",{"$f":"'入力シート(1分周期基準値)'!AH32","v":0},0,0]
[null,"30","10:29～10:30",{"$f":"'入力シート(1分周期基準値)'!AI32","v":0},0,0]
["22","01","10:30～10:31",{"$f":"'入力シート(1分周期基準値)'!F33","v":0},0,0]
[null,"02","10:31～10:32",{"$f":"'入力シート(1分周期基準値)'!G33","v":0},0,0]
[null,"03","10:32～10:33",{"$f":"'入力シート(1分周期基準値)'!H33","v":0},0,0]
[null,"04","10:33～10:34",{"$f":"'入力シート(1分周期基準値)'!I33","v":0},0,0]
[null,"05","10:34～10:35",{"$f":"'入力シート(1分周期基準値)'!J33","v":0},0,0]
[null,"06","10:35～10:36",{"$f":"'入力シート(1分周期基準値)'!K33","v":0},0,0]
[null,"07","10:36～10:37",{"$f":"'入力シート(1分周期基準値)'!L33","v":0},0,0]
[null,"08","10:37～10:38",{"$f":"'入力シート(1分周期基準値)'!M33","v":0},0,0]
[null,"09","10:38～10:39",{"$f":"'入力シート(1分周期基準値)'!N33","v":0},0,0]
[null,"10","10:39～10:40",{"$f":"'入力シート(1分周期基準値)'!O33","v":0},0,0]
[null,"11","10:40～10:41",{"$f":"'入力シート(1分周期基準値)'!P33","v":0},{"$f":"F661-D661","v":0},{"$f":"IFERROR(ROUND(AVERAGE(G661:BN661),0),0)","v":0}]
[null,"12","10:41～10:42",{"$f":"'入力シート(1分周期基準値)'!Q33","v":0},0,0]
[null,"13","10:42～10:43",{"$f":"'入力シート(1分周期基準値)'!R33","v":0},0,0]
[null,"14","10:43～10:44",{"$f":"'入力シート(1分周期基準値)'!S33","v":0},0,0]
[null,"15","10:44～10:45",{"$f":"'入力シート(1分周期基準値)'!T33","v":0},0,0]
[null,"16","10:45～10:46",{"$f":"'入力シート(1分周期基準値)'!U33","v":0},0,0]
[null,"17","10:46～10:47",{"$f":"'入力シート(1分周期基準値)'!V33","v":0},0,0]
[null,"18","10:47～10:48",{"$f":"'入力シート(1分周期基準値)'!W33","v":0},0,0]
[null,"19","10:48～10:49",{"$f":"'入力シート(1分周期基準値)'!X33","v":0},0,0]
[null,"20","10:49～10:50",{"$f":"'入力シート(1分周期基準値)'!Y33","v":0},0,0]
[null,"21","10:50～10:51",{"$f":"'入力シート(1分周期基準値)'!Z33","v":0},0,0]
[null,"22","10:51～10:52",{"$f":"'入力シート(1分周期基準値)'!AA33","v":0},0,0]
[null,"23","10:52～10:53",{"$f":"'入力シート(1分周期基準値)'!AB33","v":0},0,0]
[null,"24","10:53～10:54",{"$f":"'入力シート(1分周期基準値)'!AC33","v":0},0,0]
[null,"25","10:54～10:55",{"$f":"'入力シート(1分周期基準値)'!AD33","v":0},0,0]
[null,"26","10:55～10:56",{"$f":"'入力シート(1分周期基準値)'!AE33","v":0},0,0]
[null,"27","10:56～10:57",{"$f":"'入力シート(1分周期基準値)'!AF33","v":0},0,0]
[null,"28","10:57～10:58",{"$f":"'入力シート(1分周期基準値)'!AG33","v":0},0,0]
[null,"29","10:58～10:59",{"$f":"'入力シート(1分周期基準値)'!AH33","v":0},0,0]
[null,"30","10:59～11:00",{"$f":"'入力シート(1分周期基準値)'!AI33","v":0},0,0]
["23","01","11:00～11:01",{"$f":"'入力シート(1分周期基準値)'!F34","v":0},0,0]
[null,"02","11:01～11:02",{"$f":"'入力シート(1分周期基準値)'!G34","v":0},0,0]
[null,"03","11:02～11:03",{"$f":"'入力シート(1分周期基準値)'!H34","v":0},0,0]
[null,"04","11:03～11:04",{"$f":"'入力シート(1分周期基準値)'!I34","v":0},0,0]
[null,"05","11:04～11:05",{"$f":"'入力シート(1分周期基準値)'!J34","v":0},0,0]
[null,"06","11:05～11:06",{"$f":"'入力シート(1分周期基準値)'!K34","v":0},0,0]
[null,"07","11:06～11:07",{"$f":"'入力シート(1分周期基準値)'!L34","v":0},0,0]
[null,"08","11:07～11:08",{"$f":"'入力シート(1分周期基準値)'!M34","v":0},0,0]
[null,"09","11:08～11:09",{"$f":"'入力シート(1分周期基準値)'!N34","v":0},0,0]
[null,"10","11:09～11:10",{"$f":"'入力シート(1分周期基準値)'!O34","v":0},0,0]
[null,"11","11:10～11:11",{"$f":"'入力シート(1分周期基準値)'!P34","v":0},0,0]
[null,"12","11:11～11:12",{"$f":"'入力シート(1分周期基準値)'!Q34","v":0},0,0]
[null,"13","11:12～11:13",{"$f":"'入力シート(1分周期基準値)'!R34","v":0},0,0]
[null,"14","11:13～11:14",{"$f":"'入力シート(1分周期基準値)'!S34","v":0},0,0]
[null,"15","11:14～11:15",{"$f":"'入力シート(1分周期基準値)'!T34","v":0},0,0]
[null,"16","11:15～11:16",{"$f":"'入力シート(1分周期基準値)'!U34","v":0},0,0]
[null,"17","11:16～11:17",{"$f":"'入力シート(1分周期基準値)'!V34","v":0},0,0]
[null,"18","11:17～11:18",{"$f":"'入力シート(1分周期基準値)'!W34","v":0},0,0]
[null,"19","11:18～11:19",{"$f":"'入力シート(1分周期基準値)'!X34","v":0},0,0]
[null,"20","11:19～11:20",{"$f":"'入力シート(1分周期基準値)'!Y34","v":0},0,0]
[null,"21","11:20～11:21",{"$f":"'入力シート(1分周期基準値)'!Z34","v":0},0,0]
[null,"22","11:21～11:22",{"$f":"'入力シート(1分周期基準値)'!AA34","v":0},0,0]
[null,"23","11:22～11:23",{"$f":"'入力シート(1分周期基準値)'!AB34","v":0},0,0]
[null,"24","11:23～11:24",{"$f":"'入力シート(1分周期基準値)'!AC34","v":0},0,0]
[null,"25","11:24～11:25",{"$f":"'入力シート(1分周期基準値)'!AD34","v":0},0,0]
[null,"26","11:25～11:26",{"$f":"'入力シート(1分周期基準値)'!AE34","v":0},0,0]
[null,"27","11:26～11:27",{"$f":"'入力シート(1分周期基準値)'!AF34","v":0},0,0]
[null,"28","11:27～11:28",{"$f":"'入力シート(1分周期基準値)'!AG34","v":0},0,0]
[null,"29","11:28～11:29",{"$f":"'入力シート(1分周期基準値)'!AH34","v":0},0,0]
[null,"30","11:29～11:30",{"$f":"'入力シート(1分周期基準値)'!AI34","v":0},0,0]
["24","01","11:30～11:31",{"$f":"'入力シート(1分周期基準値)'!F35","v":0},0,0]
[null,"02","11:31～11:32",{"$f":"'入力シート(1分周期基準値)'!G35","v":0},0,0]
[null,"03","11:32～11:33",{"$f":"'入力シート(1分周期基準値)'!H35","v":0},0,0]
[null,"04","11:33～11:34",{"$f":"'入力シート(1分周期基準値)'!I35","v":0},0,0]
[null,"05","11:34～11:35",{"$f":"'入力シート(1分周期基準値)'!J35","v":0},0,0]
[null,"06","11:35～11:36",{"$f":"'入力シート(1分周期基準値)'!K35","v":0},0,0]
[null,"07","11:36～11:37",{"$f":"'入力シート(1分周期基準値)'!L35","v":0},0,0]
[null,"08","11:37～11:38",{"$f":"'入力シート(1分周期基準値)'!M35","v":0},0,0]
[null,"09","11:38～11:39",{"$f":"'入力シート(1分周期基準値)'!N35","v":0},0,0]
[null,"10","11:39～11:40",{"$f":"'入力シート(1分周期基準値)'!O35","v":0},0,0]
[null,"11","11:40～11:41",{"$f":"'入力シート(1分周期基準値)'!P35","v":0},0,0]
[null,"12","11:41～11:42",{"$f":"'入力シート(1分周期基準値)'!Q35","v":0},0,0]
[null,"13","11:42～11:43",{"$f":"'入力シート(1分周期基準値)'!R35","v":0},0,0]
[null,"14","11:43～11:44",{"$f":"'入力シート(1分周期基準値)'!S35","v":0},0,0]
[null,"15","11:44～11:45",{"$f":"'入力シート(1分周期基準値)'!T35","v":0},{"$f":"F725-D725","v":0},{"$f":"IFERROR(ROUND(AVERAGE(G725:BN725),0),0)","v":0}]
[null,"16","11:45～11:46",{"$f":"'入力シート(1分周期基準値)'!U35","v":0},0,0]
[null,"17","11:46～11:47",{"$f":"'入力シート(1分周期基準値)'!V35","v":0},0,0]
[null,"18","11:47～11:48",{"$f":"'入力シート(1分周期基準値)'!W35","v":0},0,0]
[null,"19","11:48～11:49",{"$f":"'入力シート(1分周期基準値)'!X35","v":0},0,0]
[null,"20","11:49～11:50",{"$f":"'入力シート(1分周期基準値)'!Y35","v":0},0,0]
[null,"21","11:50～11:51",{"$f":"'入力シート(1分周期基準値)'!Z35","v":0},0,0]
[null,"22","11:51～11:52",{"$f":"'入力シート(1分周期基準値)'!AA35","v":0},0,0]
[null,"23","11:52～11:53",{"$f":"'入力シート(1分周期基準値)'!AB35","v":0},0,0]
[null,"24","11:53～11:54",{"$f":"'入力シート(1分周期基準値)'!AC35","v":0},0,0]
[null,"25","11:54～11:55",{"$f":"'入力シート(1分周期基準値)'!AD35","v":0},0,0]
[null,"26","11:55～11:56",{"$f":"'入力シート(1分周期基準値)'!AE35","v":0},0,0]
[null,"27","11:56～11:57",{"$f":"'入力シート(1分周期基準値)'!AF35","v":0},0,0]
[null,"28","11:57～11:58",{"$f":"'入力シート(1分周期基準値)'!AG35","v":0},0,0]
[null,"29","11:58～11:59",{"$f":"'入力シート(1分周期基準値)'!AH35","v":0},0,0]
[null,"30","11:59～12:00",{"$f":"'入力シート(1分周期基準値)'!AI35","v":0},0,0]
["25","01","12:00～12:01",{"$f":"'入力シート(1分周期基準値)'!F36","v":0},0,0]
[null,"02","12:01～12:02",{"$f":"'入力シート(1分周期基準値)'!G36","v":0},0,0]
[null,"03","12:02～12:03",{"$f":"'入力シート(1分周期基準値)'!H36","v":0},0,0]
[null,"04","12:03～12:04",{"$f":"'入力シート(1分周期基準値)'!I36","v":0},0,0]
[null,"05","12:04～12:05",{"$f":"'入力シート(1分周期基準値)'!J36","v":0},0,0]
[null,"06","12:05～12:06",{"$f":"'入力シート(1分周期基準値)'!K36","v":0},0,0]
[null,"07","12:06～12:07",{"$f":"'入力シート(1分周期基準値)'!L36","v":0},0,0]
[null,"08","12:07～12:08",{"$f":"'入力シート(1分周期基準値)'!M36","v":0},0,0]
[null,"09","12:08～12:09",{"$f":"'入力シート(1分周期基準値)'!N36","v":0},0,0]
[null,"10","12:09～12:10",{"$f":"'入力シート(1分周期基準値)'!O36","v":0},0,0]
[null,"11","12:10～12:11",{"$f":"'入力シート(1分周期基準値)'!P36","v":0},0,0]
[null,"12","12:11～12:12",{"$f":"'入力シート(1分周期基準値)'!Q36","v":0},0,0]
[null,"13","12:12～12:13",{"$f":"'入力シート(1分周期基準値)'!R36","v":0},0,0]
[null,"14","12:13～12:14",{"$f":"'入力シート(1分周期基準値)'!S36","v":0},0,0]
[null,"15","12:14～12:15",{"$f":"'入力シート(1分周期基準値)'!T36","v":0},0,0]
[null,"16","12:15～12:16",{"$f":"'入力シート(1分周期基準値)'!U36","v":0},0,0]
[null,"17","12:16～12:17",{"$f":"'入力シート(1分周期基準値)'!V36","v":0},0,0]
[null,"18","12:17～12:18",{"$f":"'入力シート(1分周期基準値)'!W36","v":0},0,0]
[null,"19","12:18～12:19",{"$f":"'入力シート(1分周期基準値)'!X36","v":0},0,0]
[null,"20","12:19～12:20",{"$f":"'入力シート(1分周期基準値)'!Y36","v":0},0,0]
[null,"21","12:20～12:21",{"$f":"'入力シート(1分周期基準値)'!Z36","v":0},0,0]
[null,"22","12:21～12:22",{"$f":"'入力シート(1分周期基準値)'!AA36","v":0},0,0]
[null,"23","12:22～12:23",{"$f":"'入力シート(1分周期基準値)'!AB36","v":0},0,0]
[null,"24","12:23～12:24",{"$f":"'入力シート(1分周期基準値)'!AC36","v":0},0,0]
[null,"25","12:24～12:25",{"$f":"'入力シート(1分周期基準値)'!AD36","v":0},0,0]
[null,"26","12:25～12:26",{"$f":"'入力シート(1分周期基準値)'!AE36","v":0},0,0]
[null,"27","12:26～12:27",{"$f":"'入力シート(1分周期基準値)'!AF36","v":0},0,0]
[null,"28","12:27～12:28",{"$f":"'入力シート(1分周期基準値)'!AG36","v":0},0,0]
[null,"29","12:28～12:29",{"$f":"'入力シート(1分周期基準値)'!AH36","v":0},0,0]
[null,"30","12:29～12:30",{"$f":"'入力シート(1分周期基準値)'!AI36","v":0},0,0]
["26","01","12:30～12:31",{"$f":"'入力シート(1分周期基準値)'!F37","v":0},0,0]
[null,"02","12:31～12:32",{"$f":"'入力シート(1分周期基準値)'!G37","v":0},0,0]
[null,"03","12:32～12:33",{"$f":"'入力シート(1分周期基準値)'!H37","v":0},0,0]
[null,"04","12:33～12:34",{"$f":"'入力シート(1分周期基準値)'!I37","v":0},0,0]
[null,"05","12:34～12:35",{"$f":"'入力シート(1分周期基準値)'!J37","v":0},0,0]
[null,"06","12:35～12:36",{"$f":"'入力シート(1分周期基準値)'!K37","v":0},0,0]
[null,"07","12:36～12:37",{"$f":"'入力シート(1分周期基準値)'!L37","v":0},0,0]
[null,"08","12:37～12:38",{"$f":"'入力シート(1分周期基準値)'!M37","v":0},0,0]
[null,"09","12:38～12:39",{"$f":"'入力シート(1分周期基準値)'!N37","v":0},0,0]
[null,"10","12:39～12:40",{"$f":"'入力シート(1分周期基準値)'!O37","v":0},0,0]
[null,"11","12:40～12:41",{"$f":"'入力シート(1分周期基準値)'!P37","v":0},0,0]
[null,"12","12:41～12:42",{"$f":"'入力シート(1分周期基準値)'!Q37","v":0},0,0]
[null,"13","12:42～12:43",{"$f":"'入力シート(1分周期基準値)'!R37","v":0},0,0]
[null,"14","12:43～12:44",{"$f":"'入力シート(1分周期基準値)'!S37","v":0},0,0]
[null,"15","12:44～12:45",{"$f":"'入力シート(1分周期基準値)'!T37","v":0},0,0]
[null,"16","12:45～12:46",{"$f":"'入力シート(1分周期基準値)'!U37","v":0},0,0]
[null,"17","12:46～12:47",{"$f":"'入力シート(1分周期基準値)'!V37","v":0},0,0]
[null,"18","12:47～12:48",{"$f":"'入力シート(1分周期基準値)'!W37","v":0},0,0]
[null,"19","12:48～12:49",{"$f":"'入力シート(1分周期基準値)'!X37","v":0},{"$f":"F789-D789","v":0},{"$f":"IFERROR(ROUND(AVERAGE(G789:BN789),0),0)","v":0}]
[null,"20","12:49～12:50",{"$f":"'入力シート(1分周期基準値)'!Y37","v":0},0,0]
[null,"21","12:50～12:51",{"$f":"'入力シート(1分周期基準値)'!Z37","v":0},0,0]
[null,"22","12:51～12:52",{"$f":"'入力シート(1分周期基準値)'!AA37","v":0},0,0]
[null,"23","12:52～12:53",{"$f":"'入力シート(1分周期基準値)'!AB37","v":0},0,0]
[null,"24","12:53～12:54",{"$f":"'入力シート(1分周期基準値)'!AC37","v":0},0,0]
[null,"25","12:54～12:55",{"$f":"'入力シート(1分周期基準値)'!AD37","v":0},0,0]
[null,"26","12:55～12:56",{"$f":"'入力シート(1分周期基準値)'!AE37","v":0},0,0]
[null,"27","12:56～12:57",{"$f":"'入力シート(1分周期基準値)'!AF37","v":0},0,0]
[null,"28","12:57～12:58",{"$f":"'入力シート(1分周期基準値)'!AG37","v":0},0,0]
[null,"29","12:58～12:59",{"$f":"'入力シート(1分周期基準値)'!AH37","v":0},0,0]
[null,"30","12:59～13:00",{"$f":"'入力シート(1分周期基準値)'!AI37","v":0},0,0]
["27","01","13:00～13:01",{"$f":"'入力シート(1分周期基準値)'!F38","v":0},0,0]
[null,"02","13:01～13:02",{"$f":"'入力シート(1分周期基準値)'!G38","v":0},0,0]
[null,"03","13:02～13:03",{"$f":"'入力シート(1分周期基準値)'!H38","v":0},0,0]
[null,"04","13:03～13:04",{"$f":"'入力シート(1分周期基準値)'!I38","v":0},0,0]
[null,"05","13:04～13:05",{"$f":"'入力シート(1分周期基準値)'!J38","v":0},0,0]
[null,"06","13:05～13:06",{"$f":"'入力シート(1分周期基準値)'!K38","v":0},0,0]
[null,"07","13:06～13:07",{"$f":"'入力シート(1分周期基準値)'!L38","v":0},0,0]
[null,"08","13:07～13:08",{"$f":"'入力シート(1分周期基準値)'!M38","v":0},0,0]
[null,"09","13:08～13:09",{"$f":"'入力シート(1分周期基準値)'!N38","v":0},0,0]
[null,"10","13:09～13:10",{"$f":"'入力シート(1分周期基準値)'!O38","v":0},0,0]
[null,"11","13:10～13:11",{"$f":"'入力シート(1分周期基準値)'!P38","v":0},0,0]
[null,"12","13:11～13:12",{"$f":"'入力シート(1分周期基準値)'!Q38","v":0},0,0]
[null,"13","13:12～13:13",{"$f":"'入力シート(1分周期基準値)'!R38","v":0},0,0]
[null,"14","13:13～13:14",{"$f":"'入力シート(1分周期基準値)'!S38","v":0},0,0]
[null,"15","13:14～13:15",{"$f":"'入力シート(1分周期基準値)'!T38","v":0},0,0]
[null,"16","13:15～13:16",{"$f":"'入力シート(1分周期基準値)'!U38","v":0},0,0]
[null,"17","13:16～13:17",{"$f":"'入力シート(1分周期基準値)'!V38","v":0},0,0]
[null,"18","13:17～13:18",{"$f":"'入力シート(1分周期基準値)'!W38","v":0},0,0]
[null,"19","13:18～13:19",{"$f":"'入力シート(1分周期基準値)'!X38","v":0},0,0]
[null,"20","13:19～13:20",{"$f":"'入力シート(1分周期基準値)'!Y38","v":0},0,0]
[null,"21","13:20～13:21",{"$f":"'入力シート(1分周期基準値)'!Z38","v":0},0,0]
[null,"22","13:21～13:22",{"$f":"'入力シート(1分周期基準値)'!AA38","v":0},0,0]
[null,"23","13:22～13:23",{"$f":"'入力シート(1分周期基準値)'!AB38","v":0},0,0]
[null,"24","13:23～13:24",{"$f":"'入力シート(1分周期基準値)'!AC38","v":0},0,0]
[null,"25","13:24～13:25",{"$f":"'入力シート(1分周期基準値)'!AD38","v":0},0,0]
[null,"26","13:25～13:26",{"$f":"'入力シート(1分周期基準値)'!AE38","v":0},0,0]
[null,"27","13:26～13:27",{"$f":"'入力シート(1分周期基準値)'!AF38","v":0},0,0]
[null,"28","13:27～13:28",{"$f":"'入力シート(1分周期基準値)'!AG38","v":0},0,0]
[null,"29","13:28～13:29",{"$f":"'入力シート(1分周期基準値)'!AH38","v":0},0,0]
[null,"30","13:29～13:30",{"$f":"'入力シート(1分周期基準値)'!AI38","v":0},0,0]
["28","01","13:30～13:31",{"$f":"'入力シート(1分周期基準値)'!F39","v":0},0,0]
[null,"02","13:31～13:32",{"$f":"'入力シート(1分周期基準値)'!G39","v":0},0,0]
[null,"03","13:32～13:33",{"$f":"'入力シート(1分周期基準値)'!H39","v":0},0,0]
[null,"04","13:33～13:34",{"$f":"'入力シート(1分周期基準値)'!I39","v":0},0,0]
[null,"05","13:34～13:35",{"$f":"'入力シート(1分周期基準値)'!J39","v":0},0,0]
[null,"06","13:35～13:36",{"$f":"'入力シート(1分周期基準値)'!K39","v":0},0,0]
[null,"07","13:36～13:37",{"$f":"'入力シート(1分周期基準値)'!L39","v":0},0,0]
[null,"08","13:37～13:38",{"$f":"'入力シート(1分周期基準値)'!M39","v":0},0,0]
[null,"09","13:38～13:39",{"$f":"'入力シート(1分周期基準値)'!N39","v":0},0,0]
[null,"10","13:39～13:40",{"$f":"'入力シート(1分周期基準値)'!O39","v":0},0,0]
[null,"11","13:40～13:41",{"$f":"'入力シート(1分周期基準値)'!P39","v":0},0,0]
[null,"12","13:41～13:42",{"$f":"'入力シート(1分周期基準値)'!Q39","v":0},0,0]
[null,"13","13:42～13:43",{"$f":"'入力シート(1分周期基準値)'!R39","v":0},0,0]
[null,"14","13:43～13:44",{"$f":"'入力シート(1分周期基準値)'!S39","v":0},0,0]
[null,"15","13:44～13:45",{"$f":"'入力シート(1分周期基準値)'!T39","v":0},0,0]
[null,"16","13:45～13:46",{"$f":"'入力シート(1分周期基準値)'!U39","v":0},0,0]
[null,"17","13:46～13:47",{"$f":"'入力シート(1分周期基準値)'!V39","v":0},0,0]
[null,"18","13:47～13:48",{"$f":"'入力シート(1分周期基準値)'!W39","v":0},0,0]
[null,"19","13:48～13:49",{"$f":"'入力シート(1分周期基準値)'!X39","v":0},0,0]
[null,"20","13:49～13:50",{"$f":"'入力シート(1分周期基準値)'!Y39","v":0},0,0]
[null,"21","13:50～13:51",{"$f":"'入力シート(1分周期基準値)'!Z39","v":0},0,0]
[null,"22","13:51～13:52",{"$f":"'入力シート(1分周期基準値)'!AA39","v":0},0,0]
[null,"23","13:52～13:53",{"$f":"'入力シート(1分周期基準値)'!AB39","v":0},{"$f":"F853-D853","v":0},{"$f":"IFERROR(ROUND(AVERAGE(G853:BN853),0),0)","v":0}]
[null,"24","13:53～13:54",{"$f":"'入力シート(1分周期基準値)'!AC39","v":0},0,0]
[null,"25","13:54～13:55",{"$f":"'入力シート(1分周期基準値)'!AD39","v":0},0,0]
[null,"26","13:55～13:56",{"$f":"'入力シート(1分周期基準値)'!AE39","v":0},0,0]
[null,"27","13:56～13:57",{"$f":"'入力シート(1分周期基準値)'!AF39","v":0},0,0]
[null,"28","13:57～13:58",{"$f":"'入力シート(1分周期基準値)'!AG39","v":0},0,0]
[null,"29","13:58～13:59",{"$f":"'入力シート(1分周期基準値)'!AH39","v":0},0,0]
[null,"30","13:59～14:00",{"$f":"'入力シート(1分周期基準値)'!AI39","v":0},0,0]
["29","01","14:00～14:01",{"$f":"'入力シート(1分周期基準値)'!F40","v":0},0,0]
[null,"02","14:01～14:02",{"$f":"'入力シート(1分周期基準値)'!G40","v":0},0,0]
[null,"03","14:02～14:03",{"$f":"'入力シート(1分周期基準値)'!H40","v":0},0,0]
[null,"04","14:03～14:04",{"$f":"'入力シート(1分周期基準値)'!I40","v":0},0,0]
[null,"05","14:04～14:05",{"$f":"'入力シート(1分周期基準値)'!J40","v":0},0,0]
[null,"06","14:05～14:06",{"$f":"'入力シート(1分周期基準値)'!K40","v":0},0,0]
[null,"07","14:06～14:07",{"$f":"'入力シート(1分周期基準値)'!L40","v":0},0,0]
[null,"08","14:07～14:08",{"$f":"'入力シート(1分周期基準値)'!M40","v":0},0,0]
[null,"09","14:08～14:09",{"$f":"'入力シート(1分周期基準値)'!N40","v":0},0,0]
[null,"10","14:09～14:10",{"$f":"'入力シート(1分周期基準値)'!O40","v":0},0,0]
[null,"11","14:10～14:11",{"$f":"'入力シート(1分周期基準値)'!P40","v":0},0,0]
[null,"12","14:11～14:12",{"$f":"'入力シート(1分周期基準値)'!Q40","v":0},0,0]
[null,"13","14:12～14:13",{"$f":"'入力シート(1分周期基準値)'!R40","v":0},0,0]
[null,"14","14:13～14:14",{"$f":"'入力シート(1分周期基準値)'!S40","v":0},0,0]
[null,"15","14:14～14:15",{"$f":"'入力シート(1分周期基準値)'!T40","v":0},0,0]
[null,"16","14:15～14:16",{"$f":"'入力シート(1分周期基準値)'!U40","v":0},0,0]
[null,"17","14:16～14:17",{"$f":"'入力シート(1分周期基準値)'!V40","v":0},0,0]
[null,"18","14:17～14:18",{"$f":"'入力シート(1分周期基準値)'!W40","v":0},0,0]
[null,"19","14:18～14:19",{"$f":"'入力シート(1分周期基準値)'!X40","v":0},0,0]
[null,"20","14:19～14:20",{"$f":"'入力シート(1分周期基準値)'!Y40","v":0},0,0]
[null,"21","14:20～14:21",{"$f":"'入力シート(1分周期基準値)'!Z40","v":0},0,0]
[null,"22","14:21～14:22",{"$f":"'入力シート(1分周期基準値)'!AA40","v":0},0,0]
[null,"23","14:22～14:23",{"$f":"'入力シート(1分周期基準値)'!AB40","v":0},0,0]
[null,"24","14:23～14:24",{"$f":"'入力シート(1分周期基準値)'!AC40","v":0},0,0]
[null,"25","14:24～14:25",{"$f":"'入力シート(1分周期基準値)'!AD40","v":0},0,0]
[null,"26","14:25～14:26",{"$f":"'入力シート(1分周期基準値)'!AE40","v":0},0,0]
[null,"27","14:26～14:27",{"$f":"'入力シート(1分周期基準値)'!AF40","v":0},0,0]
[null,"28","14:27～14:28",{"$f":"'入力シート(1分周期基準値)'!AG40","v":0},0,0]
[null,"29","14:28～14:29",{"$f":"'入力シート(1分周期基準値)'!AH40","v":0},0,0]
[null,"30","14:29～14:30",{"$f":"'入力シート(1分周期基準値)'!AI40","v":0},0,0]
["30","01","14:30～14:31",{"$f":"'入力シート(1分周期基準値)'!F41","v":0},0,0]
[null,"02","14:31～14:32",{"$f":"'入力シート(1分周期基準値)'!G41","v":0},0,0]
[null,"03","14:32～14:33",{"$f":"'入力シート(1分周期基準値)'!H41","v":0},0,0]
[null,"04","14:33～14:34",{"$f":"'入力シート(1分周期基準値)'!I41","v":0},0,0]
[null,"05","14:34～14:35",{"$f":"'入力シート(1分周期基準値)'!J41","v":0},0,0]
[null,"06","14:35～14:36",{"$f":"'入力シート(1分周期基準値)'!K41","v":0},0,0]
[null,"07","14:36～14:37",{"$f":"'入力シート(1分周期基準値)'!L41","v":0},0,0]
[null,"08","14:37～14:38",{"$f":"'入力シート(1分周期基準値)'!M41","v":0},0,0]
[null,"09","14:38～14:39",{"$f":"'入力シート(1分周期基準値)'!N41","v":0},0,0]
[null,"10","14:39～14:40",{"$f":"'入力シート(1分周期基準値)'!O41","v":0},0,0]
[null,"11","14:40～14:41",{"$f":"'入力シート(1分周期基準値)'!P41","v":0},0,0]
[null,"12","14:41～14:42",{"$f":"'入力シート(1分周期基準値)'!Q41","v":0},0,0]
[null,"13","14:42～14:43",{"$f":"'入力シート(1分周期基準値)'!R41","v":0},0,0]
[null,"14","14:43～14:44",{"$f":"'入力シート(1分周期基準値)'!S41","v":0},0,0]
[null,"15","14:44～14:45",{"$f":"'入力シート(1分周期基準値)'!T41","v":0},0,0]
[null,"16","14:45～14:46",{"$f":"'入力シート(1分周期基準値)'!U41","v":0},0,0]
[null,"17","14:46～14:47",{"$f":"'入力シート(1分周期基準値)'!V41","v":0},0,0]
[null,"18","14:47～14:48",{"$f":"'入力シート(1分周期基準値)'!W41","v":0},0,0]
[null,"19","14:48～14:49",{"$f":"'入力シート(1分周期基準値)'!X41","v":0},0,0]
[null,"20","14:49～14:50",{"$f":"'入力シート(1分周期基準値)'!Y41","v":0},0,0]
[null,"21","14:50～14:51",{"$f":"'入力シート(1分周期基準値)'!Z41","v":0},0,0]
[null,"22","14:51～14:52",{"$f":"'入力シート(1分周期基準値)'!AA41","v":0},0,0]
[null,"23","14:52～14:53",{"$f":"'入力シート(1分周期基準値)'!AB41","v":0},0,0]
[null,"24","14:53～14:54",{"$f":"'入力シート(1分周期基準値)'!AC41","v":0},0,0]
[null,"25","14:54～14:55",{"$f":"'入力シート(1分周期基準値)'!AD41","v":0},0,0]
[null,"26","14:55～14:56",{"$f":"'入力シート(1分周期基準値)'!AE41","v":0},0,0]
[null,"27","14:56～14:57",{"$f":"'入力シート(1分周期基準値)'!AF41","v":0},{"$f":"F917-D917","v":0},{"$f":"IFERROR(ROUND(AVERAGE(G917:BN917),0),0)","v":0}]
[null,"28","14:57～14:58",{"$f":"'入力シート(1分周期基準値)'!AG41","v":0},0,0]
[null,"29","14:58～14:59",{"$f":"'入力シート(1分周期基準値)'!AH41","v":0},0,0]
[null,"30","14:59～15:00",{"$f":"'入力シート(1分周期基準値)'!AI41","v":0},0,0]
["31","01","15:00～15:01",{"$f":"'入力シート(1分周期基準値)'!F42","v":0},0,0]
[null,"02","15:01～15:02",{"$f":"'入力シート(1分周期基準値)'!G42","v":0},0,0]
[null,"03","15:02～15:03",{"$f":"'入力シート(1分周期基準値)'!H42","v":0},0,0]
[null,"04","15:03～15:04",{"$f":"'入力シート(1分周期基準値)'!I42","v":0},0,0]
[null,"05","15:04～15:05",{"$f":"'入力シート(1分周期基準値)'!J42","v":0},0,0]
[null,"06","15:05～15:06",{"$f":"'入力シート(1分周期基準値)'!K42","v":0},0,0]
[null,"07","15:06～15:07",{"$f":"'入力シート(1分周期基準値)'!L42","v":0},0,0]
[null,"08","15:07～15:08",{"$f":"'入力シート(1分周期基準値)'!M42","v":0},0,0]
[null,"09","15:08～15:09",{"$f":"'入力シート(1分周期基準値)'!N42","v":0},0,0]
[null,"10","15:09～15:10",{"$f":"'入力シート(1分周期基準値)'!O42","v":0},0,0]
[null,"11","15:10～15:11",{"$f":"'入力シート(1分周期基準値)'!P42","v":0},0,0]
[null,"12","15:11～15:12",{"$f":"'入力シート(1分周期基準値)'!Q42","v":0},0,0]
[null,"13","15:12～15:13",{"$f":"'入力シート(1分周期基準値)'!R42","v":0},0,0]
[null,"14","15:13～15:14",{"$f":"'入力シート(1分周期基準値)'!S42","v":0},0,0]
[null,"15","15:14～15:15",{"$f":"'入力シート(1分周期基準値)'!T42","v":0},0,0]
[null,"16","15:15～15:16",{"$f":"'入力シート(1分周期基準値)'!U42","v":0},0,0]
[null,"17","15:16～15:17",{"$f":"'入力シート(1分周期基準値)'!V42","v":0},0,0]
[null,"18","15:17～15:18",{"$f":"'入力シート(1分周期基準値)'!W42","v":0},0,0]
[null,"19","15:18～15:19",{"$f":"'入力シート(1分周期基準値)'!X42","v":0},0,0]
[null,"20","15:19～15:20",{"$f":"'入力シート(1分周期基準値)'!Y42","v":0},0,0]
[null,"21","15:20～15:21",{"$f":"'入力シート(1分周期基準値)'!Z42","v":0},0,0]
[null,"22","15:21～15:22",{"$f":"'入力シート(1分周期基準値)'!AA42","v":0},0,0]
[null,"23","15:22～15:23",{"$f":"'入力シート(1分周期基準値)'!AB42","v":0},0,0]
[null,"24","15:23～15:24",{"$f":"'入力シート(1分周期基準値)'!AC42","v":0},0,0]
[null,"25","15:24～15:25",{"$f":"'入力シート(1分周期基準値)'!AD42","v":0},0,0]
[null,"26","15:25～15:26",{"$f":"'入力シート(1分周期基準値)'!AE42","v":0},0,0]
[null,"27","15:26～15:27",{"$f":"'入力シート(1分周期基準値)'!AF42","v":0},0,0]
[null,"28","15:27～15:28",{"$f":"'入力シート(1分周期基準値)'!AG42","v":0},0,0]
[null,"29","15:28～15:29",{"$f":"'入力シート(1分周期基準値)'!AH42","v":0},0,0]
[null,"30","15:29～15:30",{"$f":"'入力シート(1分周期基準値)'!AI42","v":0},0,0]
["32","01","15:30～15:31",{"$f":"'入力シート(1分周期基準値)'!F43","v":0},0,0]
[null,"02","15:31～15:32",{"$f":"'入力シート(1分周期基準値)'!G43","v":0},0,0]
[null,"03","15:32～15:33",{"$f":"'入力シート(1分周期基準値)'!H43","v":0},0,0]
[null,"04","15:33～15:34",{"$f":"'入力シート(1分周期基準値)'!I43","v":0},0,0]
[null,"05","15:34～15:35",{"$f":"'入力シート(1分周期基準値)'!J43","v":0},0,0]
[null,"06","15:35～15:36",{"$f":"'入力シート(1分周期基準値)'!K43","v":0},0,0]
[null,"07","15:36～15:37",{"$f":"'入力シート(1分周期基準値)'!L43","v":0},0,0]
[null,"08","15:37～15:38",{"$f":"'入力シート(1分周期基準値)'!M43","v":0},0,0]
[null,"09","15:38～15:39",{"$f":"'入力シート(1分周期基準値)'!N43","v":0},0,0]
[null,"10","15:39～15:40",{"$f":"'入力シート(1分周期基準値)'!O43","v":0},0,0]
[null,"11","15:40～15:41",{"$f":"'入力シート(1分周期基準値)'!P43","v":0},0,0]
[null,"12","15:41～15:42",{"$f":"'入力シート(1分周期基準値)'!Q43","v":0},0,0]
[null,"13","15:42～15:43",{"$f":"'入力シート(1分周期基準値)'!R43","v":0},0,0]
[null,"14","15:43～15:44",{"$f":"'入力シート(1分周期基準値)'!S43","v":0},0,0]
[null,"15","15:44～15:45",{"$f":"'入力シート(1分周期基準値)'!T43","v":0},0,0]
[null,"16","15:45～15:46",{"$f":"'入力シート(1分周期基準値)'!U43","v":0},0,0]
[null,"17","15:46～15:47",{"$f":"'入力シート(1分周期基準値)'!V43","v":0},0,0]
[null,"18","15:47～15:48",{"$f":"'入力シート(1分周期基準値)'!W43","v":0},0,0]
[null,"19","15:48～15:49",{"$f":"'入力シート(1分周期基準値)'!X43","v":0},0,0]
[null,"20","15:49～15:50",{"$f":"'入力シート(1分周期基準値)'!Y43","v":0},0,0]
[null,"21","15:50～15:51",{"$f":"'入力シート(1分周期基準値)'!Z43","v":0},0,0]
[null,"22","15:51～15:52",{"$f":"'入力シート(1分周期基準値)'!AA43","v":0},0,0]
[null,"23","15:52～15:53",{"$f":"'入力シート(1分周期基準値)'!AB43","v":0},0,0]
[null,"24","15:53～15:54",{"$f":"'入力シート(1分周期基準値)'!AC43","v":0},0,0]
[null,"25","15:54～15:55",{"$f":"'入力シート(1分周期基準値)'!AD43","v":0},0,0]
[null,"26","15:55～15:56",{"$f":"'入力シート(1分周期基準値)'!AE43","v":0},0,0]
[null,"27","15:56～15:57",{"$f":"'入力シート(1分周期基準値)'!AF43","v":0},0,0]
[null,"28","15:57～15:58",{"$f":"'入力シート(1分周期基準値)'!AG43","v":0},0,0]
[null,"29","15:58～15:59",{"$f":"'入力シート(1分周期基準値)'!AH43","v":0},0,0]
[null,"30","15:59～16:00",{"$f":"'入力シート(1分周期基準値)'!AI43","v":0},0,0]
["33","01","16:00～16:01",{"$f":"'入力シート(1分周期基準値)'!F44","v":0},{"$f":"F981-D981","v":0},{"$f":"IFERROR(ROUND(AVERAGE(G981:BN981),0),0)","v":0}]
[null,"02","16:01～16:02",{"$f":"'入力シート(1分周期基準値)'!G44","v":0},0,0]
[null,"03","16:02～16:03",{"$f":"'入力シート(1分周期基準値)'!H44","v":0},0,0]
[null,"04","16:03～16:04",{"$f":"'入力シート(1分周期基準値)'!I44","v":0},0,0]
[null,"05","16:04～16:05",{"$f":"'入力シート(1分周期基準値)'!J44","v":0},0,0]
[null,"06","16:05～16:06",{"$f":"'入力シート(1分周期基準値)'!K44","v":0},0,0]
[null,"07","16:06～16:07",{"$f":"'入力シート(1分周期基準値)'!L44","v":0},0,0]
[null,"08","16:07～16:08",{"$f":"'入力シート(1分周期基準値)'!M44","v":0},0,0]
[null,"09","16:08～16:09",{"$f":"'入力シート(1分周期基準値)'!N44","v":0},0,0]
[null,"10","16:09～16:10",{"$f":"'入力シート(1分周期基準値)'!O44","v":0},0,0]
[null,"11","16:10～16:11",{"$f":"'入力シート(1分周期基準値)'!P44","v":0},0,0]
[null,"12","16:11～16:12",{"$f":"'入力シート(1分周期基準値)'!Q44","v":0},0,0]
[null,"13","16:12～16:13",{"$f":"'入力シート(1分周期基準値)'!R44","v":0},0,0]
[null,"14","16:13～16:14",{"$f":"'入力シート(1分周期基準値)'!S44","v":0},0,0]
[null,"15","16:14～16:15",{"$f":"'入力シート(1分周期基準値)'!T44","v":0},0,0]
[null,"16","16:15～16:16",{"$f":"'入力シート(1分周期基準値)'!U44","v":0},0,0]
[null,"17","16:16～16:17",{"$f":"'入力シート(1分周期基準値)'!V44","v":0},0,0]
[null,"18","16:17～16:18",{"$f":"'入力シート(1分周期基準値)'!W44","v":0},0,0]
[null,"19","16:18～16:19",{"$f":"'入力シート(1分周期基準値)'!X44","v":0},0,0]
[null,"20","16:19～16:20",{"$f":"'入力シート(1分周期基準値)'!Y44","v":0},0,0]
[null,"21","16:20～16:21",{"$f":"'入力シート(1分周期基準値)'!Z44","v":0},0,0]
[null,"22","16:21～16:22",{"$f":"'入力シート(1分周期基準値)'!AA44","v":0},0,0]
[null,"23","16:22～16:23",{"$f":"'入力シート(1分周期基準値)'!AB44","v":0},0,0]
[null,"24","16:23～16:24",{"$f":"'入力シート(1分周期基準値)'!AC44","v":0},0,0]
[null,"25","16:24～16:25",{"$f":"'入力シート(1分周期基準値)'!AD44","v":0},0,0]
[null,"26","16:25～16:26",{"$f":"'入力シート(1分周期基準値)'!AE44","v":0},0,0]
[null,"27","16:26～16:27",{"$f":"'入力シート(1分周期基準値)'!AF44","v":0},0,0]
[null,"28","16:27～16:28",{"$f":"'入力シート(1分周期基準値)'!AG44","v":0},0,0]
[null,"29","16:28～16:29",{"$f":"'入力シート(1分周期基準値)'!AH44","v":0},0,0]
[null,"30","16:29～16:30",{"$f":"'入力シート(1分周期基準値)'!AI44","v":0},0,0]
["34","01","16:30～16:31",{"$f":"'入力シート(1分周期基準値)'!F45","v":0},0,0]
[null,"02","16:31～16:32",{"$f":"'入力シート(1分周期基準値)'!G45","v":0},0,0]
[null,"03","16:32～16:33",{"$f":"'入力シート(1分周期基準値)'!H45","v":0},0,0]
[null,"04","16:33～16:34",{"$f":"'入力シート(1分周期基準値)'!I45","v":0},0,0]
[null,"05","16:34～16:35",{"$f":"'入力シート(1分周期基準値)'!J45","v":0},0,0]
[null,"06","16:35～16:36",{"$f":"'入力シート(1分周期基準値)'!K45","v":0},0,0]
[null,"07","16:36～16:37",{"$f":"'入力シート(1分周期基準値)'!L45","v":0},0,0]
[null,"08","16:37～16:38",{"$f":"'入力シート(1分周期基準値)'!M45","v":0},0,0]
[null,"09","16:38～16:39",{"$f":"'入力シート(1分周期基準値)'!N45","v":0},0,0]
[null,"10","16:39～16:40",{"$f":"'入力シート(1分周期基準値)'!O45","v":0},0,0]
[null,"11","16:40～16:41",{"$f":"'入力シート(1分周期基準値)'!P45","v":0},0,0]
[null,"12","16:41～16:42",{"$f":"'入力シート(1分周期基準値)'!Q45","v":0},0,0]
[null,"13","16:42～16:43",{"$f":"'入力シート(1分周期基準値)'!R45","v":0},0,0]
[null,"14","16:43～16:44",{"$f":"'入力シート(1分周期基準値)'!S45","v":0},0,0]
[null,"15","16:44～16:45",{"$f":"'入力シート(1分周期基準値)'!T45","v":0},0,0]
[null,"16","16:45～16:46",{"$f":"'入力シート(1分周期基準値)'!U45","v":0},0,0]
[null,"17","16:46～16:47",{"$f":"'入力シート(1分周期基準値)'!V45","v":0},0,0]
[null,"18","16:47～16:48",{"$f":"'入力シート(1分周期基準値)'!W45","v":0},0,0]
[null,"19","16:48～16:49",{"$f":"'入力シート(1分周期基準値)'!X45","v":0},0,0]
[null,"20","16:49～16:50",{"$f":"'入力シート(1分周期基準値)'!Y45","v":0},0,0]
[null,"21","16:50～16:51",{"$f":"'入力シート(1分周期基準値)'!Z45","v":0},0,0]
[null,"22","16:51～16:52",{"$f":"'入力シート(1分周期基準値)'!AA45","v":0},0,0]
[null,"23","16:52～16:53",{"$f":"'入力シート(1分周期基準値)'!AB45","v":0},0,0]
[null,"24","16:53～16:54",{"$f":"'入力シート(1分周期基準値)'!AC45","v":0},0,0]
[null,"25","16:54～16:55",{"$f":"'入力シート(1分周期基準値)'!AD45","v":0},0,0]
[null,"26","16:55～16:56",{"$f":"'入力シート(1分周期基準値)'!AE45","v":0},0,0]
[null,"27","16:56～16:57",{"$f":"'入力シート(1分周期基準値)'!AF45","v":0},0,0]
[null,"28","16:57～16:58",{"$f":"'入力シート(1分周期基準値)'!AG45","v":0},0,0]
[null,"29","16:58～16:59",{"$f":"'入力シート(1分周期基準値)'!AH45","v":0},0,0]
[null,"30","16:59～17:00",{"$f":"'入力シート(1分周期基準値)'!AI45","v":0},0,0]
["35","01","17:00～17:01",{"$f":"'入力シート(1分周期基準値)'!F46","v":0},0,0]
[null,"02","17:01～17:02",{"$f":"'入力シート(1分周期基準値)'!G46","v":0},0,0]
[null,"03","17:02～17:03",{"$f":"'入力シート(1分周期基準値)'!H46","v":0},0,0]
[null,"04","17:03～17:04",{"$f":"'入力シート(1分周期基準値)'!I46","v":0},0,0]
[null,"05","17:04～17:05",{"$f":"'入力シート(1分周期基準値)'!J46","v":0},{"$f":"F1045-D1045","v":0},{"$f":"IFERROR(ROUND(AVERAGE(G1045:BN1045),0),0)","v":0}]
[null,"06","17:05～17:06",{"$f":"'入力シート(1分周期基準値)'!K46","v":0},0,0]
[null,"07","17:06～17:07",{"$f":"'入力シート(1分周期基準値)'!L46","v":0},0,0]
[null,"08","17:07～17:08",{"$f":"'入力シート(1分周期基準値)'!M46","v":0},0,0]
[null,"09","17:08～17:09",{"$f":"'入力シート(1分周期基準値)'!N46","v":0},0,0]
[null,"10","17:09～17:10",{"$f":"'入力シート(1分周期基準値)'!O46","v":0},0,0]
[null,"11","17:10～17:11",{"$f":"'入力シート(1分周期基準値)'!P46","v":0},0,0]
[null,"12","17:11～17:12",{"$f":"'入力シート(1分周期基準値)'!Q46","v":0},0,0]
[null,"13","17:12～17:13",{"$f":"'入力シート(1分周期基準値)'!R46","v":0},0,0]
[null,"14","17:13～17:14",{"$f":"'入力シート(1分周期基準値)'!S46","v":0},0,0]
[null,"15","17:14～17:15",{"$f":"'入力シート(1分周期基準値)'!T46","v":0},0,0]
[null,"16","17:15～17:16",{"$f":"'入力シート(1分周期基準値)'!U46","v":0},0,0]
[null,"17","17:16～17:17",{"$f":"'入力シート(1分周期基準値)'!V46","v":0},0,0]
[null,"18","17:17～17:18",{"$f":"'入力シート(1分周期基準値)'!W46","v":0},0,0]
[null,"19","17:18～17:19",{"$f":"'入力シート(1分周期基準値)'!X46","v":0},0,0]
[null,"20","17:19～17:20",{"$f":"'入力シート(1分周期基準値)'!Y46","v":0},0,0]
[null,"21","17:20～17:21",{"$f":"'入力シート(1分周期基準値)'!Z46","v":0},0,0]
[null,"22","17:21～17:22",{"$f":"'入力シート(1分周期基準値)'!AA46","v":0},0,0]
[null,"23","17:22～17:23",{"$f":"'入力シート(1分周期基準値)'!AB46","v":0},0,0]
[null,"24","17:23～17:24",{"$f":"'入力シート(1分周期基準値)'!AC46","v":0},0,0]
[null,"25","17:24～17:25",{"$f":"'入力シート(1分周期基準値)'!AD46","v":0},0,0]
[null,"26","17:25～17:26",{"$f":"'入力シート(1分周期基準値)'!AE46","v":0},0,0]
[null,"27","17:26～17:27",{"$f":"'入力シート(1分周期基準値)'!AF46","v":0},0,0]
[null,"28","17:27～17:28",{"$f":"'入力シート(1分周期基準値)'!AG46","v":0},0,0]
[null,"29","17:28～17:29",{"$f":"'入力シート(1分周期基準値)'!AH46","v":0},0,0]
[null,"30","17:29～17:30",{"$f":"'入力シート(1分周期基準値)'!AI46","v":0},0,0]
["36","01","17:30～17:31",{"$f":"'入力シート(1分周期基準値)'!F47","v":0},0,0]
[null,"02","17:31～17:32",{"$f":"'入力シート(1分周期基準値)'!G47","v":0},0,0]
[null,"03","17:32～17:33",{"$f":"'入力シート(1分周期基準値)'!H47","v":0},0,0]
[null,"04","17:33～17:34",{"$f":"'入力シート(1分周期基準値)'!I47","v":0},0,0]
[null,"05","17:34～17:35",{"$f":"'入力シート(1分周期基準値)'!J47","v":0},0,0]
[null,"06","17:35～17:36",{"$f":"'入力シート(1分周期基準値)'!K47","v":0},0,0]
[null,"07","17:36～17:37",{"$f":"'入力シート(1分周期基準値)'!L47","v":0},0,0]
[null,"08","17:37～17:38",{"$f":"'入力シート(1分周期基準値)'!M47","v":0},0,0]
[null,"09","17:38～17:39",{"$f":"'入力シート(1分周期基準値)'!N47","v":0},0,0]
[null,"10","17:39～17:40",{"$f":"'入力シート(1分周期基準値)'!O47","v":0},0,0]
[null,"11","17:40～17:41",{"$f":"'入力シート(1分周期基準値)'!P47","v":0},0,0]
[null,"12","17:41～17:42",{"$f":"'入力シート(1分周期基準値)'!Q47","v":0},0,0]
[null,"13","17:42～17:43",{"$f":"'入力シート(1分周期基準値)'!R47","v":0},0,0]
[null,"14","17:43～17:44",{"$f":"'入力シート(1分周期基準値)'!S47","v":0},0,0]
[null,"15","17:44～17:45",{"$f":"'入力シート(1分周期基準値)'!T47","v":0},0,0]
[null,"16","17:45～17:46",{"$f":"'入力シート(1分周期基準値)'!U47","v":0},0,0]
[null,"17","17:46～17:47",{"$f":"'入力シート(1分周期基準値)'!V47","v":0},0,0]
[null,"18","17:47～17:48",{"$f":"'入力シート(1分周期基準値)'!W47","v":0},0,0]
[null,"19","17:48～17:49",{"$f":"'入力シート(1分周期基準値)'!X47","v":0},0,0]
[null,"20","17:49～17:50",{"$f":"'入力シート(1分周期基準値)'!Y47","v":0},0,0]
[null,"21","17:50～17:51",{"$f":"'入力シート(1分周期基準値)'!Z47","v":0},0,0]
[null,"22","17:51～17:52",{"$f":"'入力シート(1分周期基準値)'!AA47","v":0},0,0]
[null,"23","17:52～17:53",{"$f":"'入力シート(1分周期基準値)'!AB47","v":0},0,0]
[null,"24","17:53～17:54",{"$f":"'入力シート(1分周期基準値)'!AC47","v":0},0,0]
[null,"25","17:54～17:55",{"$f":"'入力シート(1分周期基準値)'!AD47","v":0},0,0]
[null,"26","17:55～17:56",{"$f":"'入力シート(1分周期基準値)'!AE47","v":0},0,0]
[null,"27","17:56～17:57",{"$f":"'入力シート(1分周期基準値)'!AF47","v":0},0,0]
[null,"28","17:57～17:58",{"$f":"'入力シート(1分周期基準値)'!AG47","v":0},0,0]
[null,"29","17:58～17:59",{"$f":"'入力シート(1分周期基準値)'!AH47","v":0},0,0]
[null,"30","17:59～18:00",{"$f":"'入力シート(1分周期基準値)'!AI47","v":0},0,0]
["37","01","18:00～18:01",{"$f":"'入力シート(1分周期基準値)'!F48","v":0},0,0]
[null,"02","18:01～18:02",{"$f":"'入力シート(1分周期基準値)'!G48","v":0},0,0]
[null,"03","18:02～18:03",{"$f":"'入力シート(1分周期基準値)'!H48","v":0},0,0]
[null,"04","18:03～18:04",{"$f":"'入力シート(1分周期基準値)'!I48","v":0},0,0]
[null,"05","18:04～18:05",{"$f":"'入力シート(1分周期基準値)'!J48","v":0},0,0]
[null,"06","18:05～18:06",{"$f":"'入力シート(1分周期基準値)'!K48","v":0},0,0]
[null,"07","18:06～18:07",{"$f":"'入力シート(1分周期基準値)'!L48","v":0},0,0]
[null,"08","18:07～18:08",{"$f":"'入力シート(1分周期基準値)'!M48","v":0},0,0]
[null,"09","18:08～18:09",{"$f":"'入力シート(1分周期基準値)'!N48","v":0},{"$f":"F1109-D1109","v":0},{"$f":"IFERROR(ROUND(AVERAGE(G1109:BN1109),0),0)","v":0}]
[null,"10","18:09～18:10",{"$f":"'入力シート(1分周期基準値)'!O48","v":0},0,0]
[null,"11","18:10～18:11",{"$f":"'入力シート(1分周期基準値)'!P48","v":0},0,0]
[null,"12","18:11～18:12",{"$f":"'入力シート(1分周期基準値)'!Q48","v":0},0,0]
[null,"13","18:12～18:13",{"$f":"'入力シート(1分周期基準値)'!R48","v":0},0,0]
[null,"14","18:13～18:14",{"$f":"'入力シート(1分周期基準値)'!S48","v":0},0,0]
[null,"15","18:14～18:15",{"$f":"'入力シート(1分周期基準値)'!T48","v":0},0,0]
[null,"16","18:15～18:16",{"$f":"'入力シート(1分周期基準値)'!U48","v":0},0,0]
[null,"17","18:16～18:17",{"$f":"'入力シート(1分周期基準値)'!V48","v":0},0,0]
[null,"18","18:17～18:18",{"$f":"'入力シート(1分周期基準値)'!W48","v":0},0,0]
[null,"19","18:18～18:19",{"$f":"'入力シート(1分周期基準値)'!X48","v":0},0,0]
[null,"20","18:19～18:20",{"$f":"'入力シート(1分周期基準値)'!Y48","v":0},0,0]
[null,"21","18:20～18:21",{"$f":"'入力シート(1分周期基準値)'!Z48","v":0},0,0]
[null,"22","18:21～18:22",{"$f":"'入力シート(1分周期基準値)'!AA48","v":0},0,0]
[null,"23","18:22～18:23",{"$f":"'入力シート(1分周期基準値)'!AB48","v":0},0,0]
[null,"24","18:23～18:24",{"$f":"'入力シート(1分周期基準値)'!AC48","v":0},0,0]
[null,"25","18:24～18:25",{"$f":"'入力シート(1分周期基準値)'!AD48","v":0},0,0]
[null,"26","18:25～18:26",{"$f":"'入力シート(1分周期基準値)'!AE48","v":0},0,0]
[null,"27","18:26～18:27",{"$f":"'入力シート(1分周期基準値)'!AF48","v":0},0,0]
[null,"28","18:27～18:28",{"$f":"'入力シート(1分周期基準値)'!AG48","v":0},0,0]
[null,"29","18:28～18:29",{"$f":"'入力シート(1分周期基準値)'!AH48","v":0},0,0]
[null,"30","18:29～18:30",{"$f":"'入力シート(1分周期基準値)'!AI48","v":0},0,0]
["38","01","18:30～18:31",{"$f":"'入力シート(1分周期基準値)'!F49","v":0},0,0]
[null,"02","18:31～18:32",{"$f":"'入力シート(1分周期基準値)'!G49","v":0},0,0]
[null,"03","18:32～18:33",{"$f":"'入力シート(1分周期基準値)'!H49","v":0},0,0]
[null,"04","18:33～18:34",{"$f":"'入力シート(1分周期基準値)'!I49","v":0},0,0]
[null,"05","18:34～18:35",{"$f":"'入力シート(1分周期基準値)'!J49","v":0},0,0]
[null,"06","18:35～18:36",{"$f":"'入力シート(1分周期基準値)'!K49","v":0},0,0]
[null,"07","18:36～18:37",{"$f":"'入力シート(1分周期基準値)'!L49","v":0},0,0]
[null,"08","18:37～18:38",{"$f":"'入力シート(1分周期基準値)'!M49","v":0},0,0]
[null,"09","18:38～18:39",{"$f":"'入力シート(1分周期基準値)'!N49","v":0},0,0]
[null,"10","18:39～18:40",{"$f":"'入力シート(1分周期基準値)'!O49","v":0},0,0]
[null,"11","18:40～18:41",{"$f":"'入力シート(1分周期基準値)'!P49","v":0},0,0]
[null,"12","18:41～18:42",{"$f":"'入力シート(1分周期基準値)'!Q49","v":0},0,0]
[null,"13","18:42～18:43",{"$f":"'入力シート(1分周期基準値)'!R49","v":0},0,0]
[null,"14","18:43～18:44",{"$f":"'入力シート(1分周期基準値)'!S49","v":0},0,0]
[null,"15","18:44～18:45",{"$f":"'入力シート(1分周期基準値)'!T49","v":0},0,0]
[null,"16","18:45～18:46",{"$f":"'入力シート(1分周期基準値)'!U49","v":0},0,0]
[null,"17","18:46～18:47",{"$f":"'入力シート(1分周期基準値)'!V49","v":0},0,0]
[null,"18","18:47～18:48",{"$f":"'入力シート(1分周期基準値)'!W49","v":0},0,0]
[null,"19","18:48～18:49",{"$f":"'入力シート(1分周期基準値)'!X49","v":0},0,0]
[null,"20","18:49～18:50",{"$f":"'入力シート(1分周期基準値)'!Y49","v":0},0,0]
[null,"21","18:50～18:51",{"$f":"'入力シート(1分周期基準値)'!Z49","v":0},0,0]
[null,"22","18:51～18:52",{"$f":"'入力シート(1分周期基準値)'!AA49","v":0},0,0]
[null,"23","18:52～18:53",{"$f":"'入力シート(1分周期基準値)'!AB49","v":0},0,0]
[null,"24","18:53～18:54",{"$f":"'入力シート(1分周期基準値)'!AC49","v":0},0,0]
[null,"25","18:54～18:55",{"$f":"'入力シート(1分周期基準値)'!AD49","v":0},0,0]
[null,"26","18:55～18:56",{"$f":"'入力シート(1分周期基準値)'!AE49","v":0},0,0]
[null,"27","18:56～18:57",{"$f":"'入力シート(1分周期基準値)'!AF49","v":0},0,0]
[null,"28","18:57～18:58",{"$f":"'入力シート(1分周期基準値)'!AG49","v":0},0,0]
[null,"29","18:58～18:59",{"$f":"'入力シート(1分周期基準値)'!AH49","v":0},0,0]
[null,"30","18:59～19:00",{"$f":"'入力シート(1分周期基準値)'!AI49","v":0},0,0]
["39","01","19:00～19:01",{"$f":"'入力シート(1分周期基準値)'!F50","v":0},0,0]
[null,"02","19:01～19:02",{"$f":"'入力シート(1分周期基準値)'!G50","v":0},0,0]
[null,"03","19:02～19:03",{"$f":"'入力シート(1分周期基準値)'!H50","v":0},0,0]
[null,"04","19:03～19:04",{"$f":"'入力シート(1分周期基準値)'!I50","v":0},0,0]
[null,"05","19:04～19:05",{"$f":"'入力シート(1分周期基準値)'!J50","v":0},0,0]
[null,"06","19:05～19:06",{"$f":"'入力シート(1分周期基準値)'!K50","v":0},0,0]
[null,"07","19:06～19:07",{"$f":"'入力シート(1分周期基準値)'!L50","v":0},0,0]
[null,"08","19:07～19:08",{"$f":"'入力シート(1分周期基準値)'!M50","v":0},0,0]
[null,"09","19:08～19:09",{"$f":"'入力シート(1分周期基準値)'!N50","v":0},0,0]
[null,"10","19:09～19:10",{"$f":"'入力シート(1分周期基準値)'!O50","v":0},0,0]
[null,"11","19:10～19:11",{"$f":"'入力シート(1分周期基準値)'!P50","v":0},0,0]
[null,"12","19:11～19:12",{"$f":"'入力シート(1分周期基準値)'!Q50","v":0},0,0]
[null,"13","19:12～19:13",{"$f":"'入力シート(1分周期基準値)'!R50","v":0},{"$f":"F1173-D1173","v":0},{"$f":"IFERROR(ROUND(AVERAGE(G1173:BN1173),0),0)","v":0}]
[null,"14","19:13～19:14",{"$f":"'入力シート(1分周期基準値)'!S50","v":0},0,0]
[null,"15","19:14～19:15",{"$f":"'入力シート(1分周期基準値)'!T50","v":0},0,0]
[null,"16","19:15～19:16",{"$f":"'入力シート(1分周期基準値)'!U50","v":0},0,0]
[null,"17","19:16～19:17",{"$f":"'入力シート(1分周期基準値)'!V50","v":0},0,0]
[null,"18","19:17～19:18",{"$f":"'入力シート(1分周期基準値)'!W50","v":0},0,0]
[null,"19","19:18～19:19",{"$f":"'入力シート(1分周期基準値)'!X50","v":0},0,0]
[null,"20","19:19～19:20",{"$f":"'入力シート(1分周期基準値)'!Y50","v":0},0,0]
[null,"21","19:20～19:21",{"$f":"'入力シート(1分周期基準値)'!Z50","v":0},0,0]
[null,"22","19:21～19:22",{"$f":"'入力シート(1分周期基準値)'!AA50","v":0},0,0]
[null,"23","19:22～19:23",{"$f":"'入力シート(1分周期基準値)'!AB50","v":0},0,0]
[null,"24","19:23～19:24",{"$f":"'入力シート(1分周期基準値)'!AC50","v":0},0,0]
[null,"25","19:24～19:25",{"$f":"'入力シート(1分周期基準値)'!AD50","v":0},0,0]
[null,"26","19:25～19:26",{"$f":"'入力シート(1分周期基準値)'!AE50","v":0},0,0]
[null,"27","19:26～19:27",{"$f":"'入力シート(1分周期基準値)'!AF50","v":0},0,0]
[null,"28","19:27～19:28",{"$f":"'入力シート(1分周期基準値)'!AG50","v":0},0,0]
[null,"29","19:28～19:29",{"$f":"'入力シート(1分周期基準値)'!AH50","v":0},0,0]
[null,"30","19:29～19:30",{"$f":"'入力シート(1分周期基準値)'!AI50","v":0},0,0]
["40","01","19:30～19:31",{"$f":"'入力シート(1分周期基準値)'!F51","v":0},0,0]
[null,"02","19:31～19:32",{"$f":"'入力シート(1分周期基準値)'!G51","v":0},0,0]
[null,"03","19:32～19:33",{"$f":"'入力シート(1分周期基準値)'!H51","v":0},0,0]
[null,"04","19:33～19:34",{"$f":"'入力シート(1分周期基準値)'!I51","v":0},0,0]
[null,"05","19:34～19:35",{"$f":"'入力シート(1分周期基準値)'!J51","v":0},0,0]
[null,"06","19:35～19:36",{"$f":"'入力シート(1分周期基準値)'!K51","v":0},0,0]
[null,"07","19:36～19:37",{"$f":"'入力シート(1分周期基準値)'!L51","v":0},0,0]
[null,"08","19:37～19:38",{"$f":"'入力シート(1分周期基準値)'!M51","v":0},0,0]
[null,"09","19:38～19:39",{"$f":"'入力シート(1分周期基準値)'!N51","v":0},0,0]
[null,"10","19:39～19:40",{"$f":"'入力シート(1分周期基準値)'!O51","v":0},0,0]
[null,"11","19:40～19:41",{"$f":"'入力シート(1分周期基準値)'!P51","v":0},0,0]
[null,"12","19:41～19:42",{"$f":"'入力シート(1分周期基準値)'!Q51","v":0},0,0]
[null,"13","19:42～19:43",{"$f":"'入力シート(1分周期基準値)'!R51","v":0},0,0]
[null,"14","19:43～19:44",{"$f":"'入力シート(1分周期基準値)'!S51","v":0},0,0]
[null,"15","19:44～19:45",{"$f":"'入力シート(1分周期基準値)'!T51","v":0},0,0]
[null,"16","19:45～19:46",{"$f":"'入力シート(1分周期基準値)'!U51","v":0},0,0]
[null,"17","19:46～19:47",{"$f":"'入力シート(1分周期基準値)'!V51","v":0},0,0]
[null,"18","19:47～19:48",{"$f":"'入力シート(1分周期基準値)'!W51","v":0},0,0]
[null,"19","19:48～19:49",{"$f":"'入力シート(1分周期基準値)'!X51","v":0},0,0]
[null,"20","19:49～19:50",{"$f":"'入力シート(1分周期基準値)'!Y51","v":0},0,0]
[null,"21","19:50～19:51",{"$f":"'入力シート(1分周期基準値)'!Z51","v":0},0,0]
[null,"22","19:51～19:52",{"$f":"'入力シート(1分周期基準値)'!AA51","v":0},0,0]
[null,"23","19:52～19:53",{"$f":"'入力シート(1分周期基準値)'!AB51","v":0},0,0]
[null,"24","19:53～19:54",{"$f":"'入力シート(1分周期基準値)'!AC51","v":0},0,0]
[null,"25","19:54～19:55",{"$f":"'入力シート(1分周期基準値)'!AD51","v":0},0,0]
[null,"26","19:55～19:56",{"$f":"'入力シート(1分周期基準値)'!AE51","v":0},0,0]
[null,"27","19:56～19:57",{"$f":"'入力シート(1分周期基準値)'!AF51","v":0},0,0]
[null,"28","19:57～19:58",{"$f":"'入力シート(1分周期基準値)'!AG51","v":0},0,0]
[null,"29","19:58～19:59",{"$f":"'入力シート(1分周期基準値)'!AH51","v":0},0,0]
[null,"30","19:59～20:00",{"$f":"'入力シート(1分周期基準値)'!AI51","v":0},0,0]
["41","01","20:00～20:01",{"$f":"'入力シート(1分周期基準値)'!F52","v":0},0,0]
[null,"02","20:01～20:02",{"$f":"'入力シート(1分周期基準値)'!G52","v":0},0,0]
[null,"03","20:02～20:03",{"$f":"'入力シート(1分周期基準値)'!H52","v":0},0,0]
[null,"04","20:03～20:04",{"$f":"'入力シート(1分周期基準値)'!I52","v":0},0,0]
[null,"05","20:04～20:05",{"$f":"'入力シート(1分周期基準値)'!J52","v":0},0,0]
[null,"06","20:05～20:06",{"$f":"'入力シート(1分周期基準値)'!K52","v":0},0,0]
[null,"07","20:06～20:07",{"$f":"'入力シート(1分周期基準値)'!L52","v":0},0,0]
[null,"08","20:07～20:08",{"$f":"'入力シート(1分周期基準値)'!M52","v":0},0,0]
[null,"09","20:08～20:09",{"$f":"'入力シート(1分周期基準値)'!N52","v":0},0,0]
[null,"10","20:09～20:10",{"$f":"'入力シート(1分周期基準値)'!O52","v":0},0,0]
[null,"11","20:10～20:11",{"$f":"'入力シート(1分周期基準値)'!P52","v":0},0,0]
[null,"12","20:11～20:12",{"$f":"'入力シート(1分周期基準値)'!Q52","v":0},0,0]
[null,"13","20:12～20:13",{"$f":"'入力シート(1分周期基準値)'!R52","v":0},0,0]
[null,"14","20:13～20:14",{"$f":"'入力シート(1分周期基準値)'!S52","v":0},0,0]
[null,"15","20:14～20:15",{"$f":"'入力シート(1分周期基準値)'!T52","v":0},0,0]
[null,"16","20:15～20:16",{"$f":"'入力シート(1分周期基準値)'!U52","v":0},0,0]
[null,"17","20:16～20:17",{"$f":"'入力シート(1分周期基準値)'!V52","v":0},{"$f":"F1237-D1237","v":0},{"$f":"IFERROR(ROUND(AVERAGE(G1237:BN1237),0),0)","v":0}]
[null,"18","20:17～20:18",{"$f":"'入力シート(1分周期基準値)'!W52","v":0},0,0]
[null,"19","20:18～20:19",{"$f":"'入力シート(1分周期基準値)'!X52","v":0},0,0]
[null,"20","20:19～20:20",{"$f":"'入力シート(1分周期基準値)'!Y52","v":0},0,0]
[null,"21","20:20～20:21",{"$f":"'入力シート(1分周期基準値)'!Z52","v":0},0,0]
[null,"22","20:21～20:22",{"$f":"'入力シート(1分周期基準値)'!AA52","v":0},0,0]
[null,"23","20:22～20:23",{"$f":"'入力シート(1分周期基準値)'!AB52","v":0},0,0]
[null,"24","20:23～20:24",{"$f":"'入力シート(1分周期基準値)'!AC52","v":0},0,0]
[null,"25","20:24～20:25",{"$f":"'入力シート(1分周期基準値)'!AD52","v":0},0,0]
[null,"26","20:25～20:26",{"$f":"'入力シート(1分周期基準値)'!AE52","v":0},0,0]
[null,"27","20:26～20:27",{"$f":"'入力シート(1分周期基準値)'!AF52","v":0},0,0]
[null,"28","20:27～20:28",{"$f":"'入力シート(1分周期基準値)'!AG52","v":0},0,0]
[null,"29","20:28～20:29",{"$f":"'入力シート(1分周期基準値)'!AH52","v":0},0,0]
[null,"30","20:29～20:30",{"$f":"'入力シート(1分周期基準値)'!AI52","v":0},0,0]
["42","01","20:30～20:31",{"$f":"'入力シート(1分周期基準値)'!F53","v":0},0,0]
[null,"02","20:31～20:32",{"$f":"'入力シート(1分周期基準値)'!G53","v":0},0,0]
[null,"03","20:32～20:33",{"$f":"'入力シート(1分周期基準値)'!H53","v":0},0,0]
[null,"04","20:33～20:34",{"$f":"'入力シート(1分周期基準値)'!I53","v":0},0,0]
[null,"05","20:34～20:35",{"$f":"'入力シート(1分周期基準値)'!J53","v":0},0,0]
[null,"06","20:35～20:36",{"$f":"'入力シート(1分周期基準値)'!K53","v":0},0,0]
[null,"07","20:36～20:37",{"$f":"'入力シート(1分周期基準値)'!L53","v":0},0,0]
[null,"08","20:37～20:38",{"$f":"'入力シート(1分周期基準値)'!M53","v":0},0,0]
[null,"09","20:38～20:39",{"$f":"'入力シート(1分周期基準値)'!N53","v":0},0,0]
[null,"10","20:39～20:40",{"$f":"'入力シート(1分周期基準値)'!O53","v":0},0,0]
[null,"11","20:40～20:41",{"$f":"'入力シート(1分周期基準値)'!P53","v":0},0,0]
[null,"12","20:41～20:42",{"$f":"'入力シート(1分周期基準値)'!Q53","v":0},0,0]
[null,"13","20:42～20:43",{"$f":"'入力シート(1分周期基準値)'!R53","v":0},0,0]
[null,"14","20:43～20:44",{"$f":"'入力シート(1分周期基準値)'!S53","v":0},0,0]
[null,"15","20:44～20:45",{"$f":"'入力シート(1分周期基準値)'!T53","v":0},0,0]
[null,"16","20:45～20:46",{"$f":"'入力シート(1分周期基準値)'!U53","v":0},0,0]
[null,"17","20:46～20:47",{"$f":"'入力シート(1分周期基準値)'!V53","v":0},0,0]
[null,"18","20:47～20:48",{"$f":"'入力シート(1分周期基準値)'!W53","v":0},0,0]
[null,"19","20:48～20:49",{"$f":"'入力シート(1分周期基準値)'!X53","v":0},0,0]
[null,"20","20:49～20:50",{"$f":"'入力シート(1分周期基準値)'!Y53","v":0},0,0]
[null,"21","20:50～20:51",{"$f":"'入力シート(1分周期基準値)'!Z53","v":0},0,0]
[null,"22","20:51～20:52",{"$f":"'入力シート(1分周期基準値)'!AA53","v":0},0,0]
[null,"23","20:52～20:53",{"$f":"'入力シート(1分周期基準値)'!AB53","v":0},0,0]
[null,"24","20:53～20:54",{"$f":"'入力シート(1分周期基準値)'!AC53","v":0},0,0]
[null,"25","20:54～20:55",{"$f":"'入力シート(1分周期基準値)'!AD53","v":0},0,0]
[null,"26","20:55～20:56",{"$f":"'入力シート(1分周期基準値)'!AE53","v":0},0,0]
[null,"27","20:56～20:57",{"$f":"'入力シート(1分周期基準値)'!AF53","v":0},0,0]
[null,"28","20:57～20:58",{"$f":"'入力シート(1分周期基準値)'!AG53","v":0},0,0]
[null,"29","20:58～20:59",{"$f":"'入力シート(1分周期基準値)'!AH53","v":0},0,0]
[null,"30","20:59～21:00",{"$f":"'入力シート(1分周期基準値)'!AI53","v":0},0,0]
["43","01","21:00～21:01",{"$f":"'入力シート(1分周期基準値)'!F54","v":0},0,0]
[null,"02","21:01～21:02",{"$f":"'入力シート(1分周期基準値)'!G54","v":0},0,0]
[null,"03","21:02～21:03",{"$f":"'入力シート(1分周期基準値)'!H54","v":0},0,0]
[null,"04","21:03～21:04",{"$f":"'入力シート(1分周期基準値)'!I54","v":0},0,0]
[null,"05","21:04～21:05",{"$f":"'入力シート(1分周期基準値)'!J54","v":0},0,0]
[null,"06","21:05～21:06",{"$f":"'入力シート(1分周期基準値)'!K54","v":0},0,0]
[null,"07","21:06～21:07",{"$f":"'入力シート(1分周期基準値)'!L54","v":0},0,0]
[null,"08","21:07～21:08",{"$f":"'入力シート(1分周期基準値)'!M54","v":0},0,0]
[null,"09","21:08～21:09",{"$f":"'入力シート(1分周期基準値)'!N54","v":0},0,0]
[null,"10","21:09～21:10",{"$f":"'入力シート(1分周期基準値)'!O54","v":0},0,0]
[null,"11","21:10～21:11",{"$f":"'入力シート(1分周期基準値)'!P54","v":0},0,0]
[null,"12","21:11～21:12",{"$f":"'入力シート(1分周期基準値)'!Q54","v":0},0,0]
[null,"13","21:12～21:13",{"$f":"'入力シート(1分周期基準値)'!R54","v":0},0,0]
[null,"14","21:13～21:14",{"$f":"'入力シート(1分周期基準値)'!S54","v":0},0,0]
[null,"15","21:14～21:15",{"$f":"'入力シート(1分周期基準値)'!T54","v":0},0,0]
[null,"16","21:15～21:16",{"$f":"'入力シート(1分周期基準値)'!U54","v":0},0,0]
[null,"17","21:16～21:17",{"$f":"'入力シート(1分周期基準値)'!V54","v":0},0,0]
[null,"18","21:17～21:18",{"$f":"'入力シート(1分周期基準値)'!W54","v":0},0,0]
[null,"19","21:18～21:19",{"$f":"'入力シート(1分周期基準値)'!X54","v":0},0,0]
[null,"20","21:19～21:20",{"$f":"'入力シート(1分周期基準値)'!Y54","v":0},0,0]
[null,"21","21:20～21:21",{"$f":"'入力シート(1分周期基準値)'!Z54","v":0},{"$f":"F1301-D1301","v":0},{"$f":"IFERROR(ROUND(AVERAGE(G1301:BN1301),0),0)","v":0}]
[null,"22","21:21～21:22",{"$f":"'入力シート(1分周期基準値)'!AA54","v":0},0,0]
[null,"23","21:22～21:23",{"$f":"'入力シート(1分周期基準値)'!AB54","v":0},0,0]
[null,"24","21:23～21:24",{"$f":"'入力シート(1分周期基準値)'!AC54","v":0},0,0]
[null,"25","21:24～21:25",{"$f":"'入力シート(1分周期基準値)'!AD54","v":0},0,0]
[null,"26","21:25～21:26",{"$f":"'入力シート(1分周期基準値)'!AE54","v":0},0,0]
[null,"27","21:26～21:27",{"$f":"'入力シート(1分周期基準値)'!AF54","v":0},0,0]
[null,"28","21:27～21:28",{"$f":"'入力シート(1分周期基準値)'!AG54","v":0},0,0]
[null,"29","21:28～21:29",{"$f":"'入力シート(1分周期基準値)'!AH54","v":0},0,0]
[null,"30","21:29～21:30",{"$f":"'入力シート(1分周期基準値)'!AI54","v":0},0,0]
["44","01","21:30～21:31",{"$f":"'入力シート(1分周期基準値)'!F55","v":0},0,0]
[null,"02","21:31～21:32",{"$f":"'入力シート(1分周期基準値)'!G55","v":0},0,0]
[null,"03","21:32～21:33",{"$f":"'入力シート(1分周期基準値)'!H55","v":0},0,0]
[null,"04","21:33～21:34",{"$f":"'入力シート(1分周期基準値)'!I55","v":0},0,0]
[null,"05","21:34～21:35",{"$f":"'入力シート(1分周期基準値)'!J55","v":0},0,0]
[null,"06","21:35～21:36",{"$f":"'入力シート(1分周期基準値)'!K55","v":0},0,0]
[null,"07","21:36～21:37",{"$f":"'入力シート(1分周期基準値)'!L55","v":0},0,0]
[null,"08","21:37～21:38",{"$f":"'入力シート(1分周期基準値)'!M55","v":0},0,0]
[null,"09","21:38～21:39",{"$f":"'入力シート(1分周期基準値)'!N55","v":0},0,0]
[null,"10","21:39～21:40",{"$f":"'入力シート(1分周期基準値)'!O55","v":0},0,0]
[null,"11","21:40～21:41",{"$f":"'入力シート(1分周期基準値)'!P55","v":0},0,0]
[null,"12","21:41～21:42",{"$f":"'入力シート(1分周期基準値)'!Q55","v":0},0,0]
[null,"13","21:42～21:43",{"$f":"'入力シート(1分周期基準値)'!R55","v":0},0,0]
[null,"14","21:43～21:44",{"$f":"'入力シート(1分周期基準値)'!S55","v":0},0,0]
[null,"15","21:44～21:45",{"$f":"'入力シート(1分周期基準値)'!T55","v":0},0,0]
[null,"16","21:45～21:46",{"$f":"'入力シート(1分周期基準値)'!U55","v":0},0,0]
[null,"17","21:46～21:47",{"$f":"'入力シート(1分周期基準値)'!V55","v":0},0,0]
[null,"18","21:47～21:48",{"$f":"'入力シート(1分周期基準値)'!W55","v":0},0,0]
[null,"19","21:48～21:49",{"$f":"'入力シート(1分周期基準値)'!X55","v":0},0,0]
[null,"20","21:49～21:50",{"$f":"'入力シート(1分周期基準値)'!Y55","v":0},0,0]
[null,"21","21:50～21:51",{"$f":"'入力シート(1分周期基準値)'!Z55","v":0},0,0]
[null,"22","21:51～21:52",{"$f":"'入力シート(1分周期基準値)'!AA55","v":0},0,0]
[null,"23","21:52～21:53",{"$f":"'入力シート(1分周期基準値)'!AB55","v":0},0,0]
[null,"24","21:53～21:54",{"$f":"'入力シート(1分周期基準値)'!AC55","v":0},0,0]
[null,"25","21:54～21:55",{"$f":"'入力シート(1分周期基準値)'!AD55","v":0},0,0]
[null,"26","21:55～21:56",{"$f":"'入力シート(1分周期基準値)'!AE55","v":0},0,0]
[null,"27","21:56～21:57",{"$f":"'入力シート(1分周期基準値)'!AF55","v":0},0,0]
[null,"28","21:57～21:58",{"$f":"'入力シート(1分周期基準値)'!AG55","v":0},0,0]
[null,"29","21:58～21:59",{"$f":"'入力シート(1分周期基準値)'!AH55","v":0},0,0]
[null,"30","21:59～22:00",{"$f":"'入力シート(1分周期基準値)'!AI55","v":0},0,0]
["45","01","22:00～22:01",{"$f":"'入力シート(1分周期基準値)'!F56","v":0},0,0]
[null,"02","22:01～22:02",{"$f":"'入力シート(1分周期基準値)'!G56","v":0},0,0]
[null,"03","22:02～22:03",{"$f":"'入力シート(1分周期基準値)'!H56","v":0},0,0]
[null,"04","22:03～22:04",{"$f":"'入力シート(1分周期基準値)'!I56","v":0},0,0]
[null,"05","22:04～22:05",{"$f":"'入力シート(1分周期基準値)'!J56","v":0},0,0]
[null,"06","22:05～22:06",{"$f":"'入力シート(1分周期基準値)'!K56","v":0},0,0]
[null,"07","22:06～22:07",{"$f":"'入力シート(1分周期基準値)'!L56","v":0},0,0]
[null,"08","22:07～22:08",{"$f":"'入力シート(1分周期基準値)'!M56","v":0},0,0]
[null,"09","22:08～22:09",{"$f":"'入力シート(1分周期基準値)'!N56","v":0},0,0]
[null,"10","22:09～22:10",{"$f":"'入力シート(1分周期基準値)'!O56","v":0},0,0]
[null,"11","22:10～22:11",{"$f":"'入力シート(1分周期基準値)'!P56","v":0},0,0]
[null,"12","22:11～22:12",{"$f":"'入力シート(1分周期基準値)'!Q56","v":0},0,0]
[null,"13","22:12～22:13",{"$f":"'入力シート(1分周期基準値)'!R56","v":0},0,0]
[null,"14","22:13～22:14",{"$f":"'入力シート(1分周期基準値)'!S56","v":0},0,0]
[null,"15","22:14～22:15",{"$f":"'入力シート(1分周期基準値)'!T56","v":0},0,0]
[null,"16","22:15～22:16",{"$f":"'入力シート(1分周期基準値)'!U56","v":0},0,0]
[null,"17","22:16～22:17",{"$f":"'入力シート(1分周期基準値)'!V56","v":0},0,0]
[null,"18","22:17～22:18",{"$f":"'入力シート(1分周期基準値)'!W56","v":0},0,0]
[null,"19","22:18～22:19",{"$f":"'入力シート(1分周期基準値)'!X56","v":0},0,0]
[null,"20","22:19～22:20",{"$f":"'入力シート(1分周期基準値)'!Y56","v":0},0,0]
[null,"21","22:20～22:21",{"$f":"'入力シート(1分周期基準値)'!Z56","v":0},0,0]
[null,"22","22:21～22:22",{"$f":"'入力シート(1分周期基準値)'!AA56","v":0},0,0]
[null,"23","22:22～22:23",{"$f":"'入力シート(1分周期基準値)'!AB56","v":0},0,0]
[null,"24","22:23～22:24",{"$f":"'入力シート(1分周期基準値)'!AC56","v":0},0,0]
[null,"25","22:24～22:25",{"$f":"'入力シート(1分周期基準値)'!AD56","v":0},{"$f":"F1365-D1365","v":0},{"$f":"IFERROR(ROUND(AVERAGE(G1365:BN1365),0),0)","v":0}]
[null,"26","22:25～22:26",{"$f":"'入力シート(1分周期基準値)'!AE56","v":0},0,0]
[null,"27","22:26～22:27",{"$f":"'入力シート(1分周期基準値)'!AF56","v":0},0,0]
[null,"28","22:27～22:28",{"$f":"'入力シート(1分周期基準値)'!AG56","v":0},0,0]
[null,"29","22:28～22:29",{"$f":"'入力シート(1分周期基準値)'!AH56","v":0},0,0]
[null,"30","22:29～22:30",{"$f":"'入力シート(1分周期基準値)'!AI56","v":0},0,0]
["46","01","22:30～22:31",{"$f":"'入力シート(1分周期基準値)'!F57","v":0},0,0]
[null,"02","22:31～22:32",{"$f":"'入力シート(1分周期基準値)'!G57","v":0},0,0]
[null,"03","22:32～22:33",{"$f":"'入力シート(1分周期基準値)'!H57","v":0},0,0]
[null,"04","22:33～22:34",{"$f":"'入力シート(1分周期基準値)'!I57","v":0},0,0]
[null,"05","22:34～22:35",{"$f":"'入力シート(1分周期基準値)'!J57","v":0},0,0]
[null,"06","22:35～22:36",{"$f":"'入力シート(1分周期基準値)'!K57","v":0},0,0]
[null,"07","22:36～22:37",{"$f":"'入力シート(1分周期基準値)'!L57","v":0},0,0]
[null,"08","22:37～22:38",{"$f":"'入力シート(1分周期基準値)'!M57","v":0},0,0]
[null,"09","22:38～22:39",{"$f":"'入力シート(1分周期基準値)'!N57","v":0},0,0]
[null,"10","22:39～22:40",{"$f":"'入力シート(1分周期基準値)'!O57","v":0},0,0]
[null,"11","22:40～22:41",{"$f":"'入力シート(1分周期基準値)'!P57","v":0},0,0]
[null,"12","22:41～22:42",{"$f":"'入力シート(1分周期基準値)'!Q57","v":0},0,0]
[null,"13","22:42～22:43",{"$f":"'入力シート(1分周期基準値)'!R57","v":0},0,0]
[null,"14","22:43～22:44",{"$f":"'入力シート(1分周期基準値)'!S57","v":0},0,0]
[null,"15","22:44～22:45",{"$f":"'入力シート(1分周期基準値)'!T57","v":0},0,0]
[null,"16","22:45～22:46",{"$f":"'入力シート(1分周期基準値)'!U57","v":0},0,0]
[null,"17","22:46～22:47",{"$f":"'入力シート(1分周期基準値)'!V57","v":0},0,0]
[null,"18","22:47～22:48",{"$f":"'入力シート(1分周期基準値)'!W57","v":0},0,0]
[null,"19","22:48～22:49",{"$f":"'入力シート(1分周期基準値)'!X57","v":0},0,0]
[null,"20","22:49～22:50",{"$f":"'入力シート(1分周期基準値)'!Y57","v":0},0,0]
[null,"21","22:50～22:51",{"$f":"'入力シート(1分周期基準値)'!Z57","v":0},0,0]
[null,"22","22:51～22:52",{"$f":"'入力シート(1分周期基準値)'!AA57","v":0},0,0]
[null,"23","22:52～22:53",{"$f":"'入力シート(1分周期基準値)'!AB57","v":0},0,0]
[null,"24","22:53～22:54",{"$f":"'入力シート(1分周期基準値)'!AC57","v":0},0,0]
[null,"25","22:54～22:55",{"$f":"'入力シート(1分周期基準値)'!AD57","v":0},0,0]
[null,"26","22:55～22:56",{"$f":"'入力シート(1分周期基準値)'!AE57","v":0},0,0]
[null,"27","22:56～22:57",{"$f":"'入力シート(1分周期基準値)'!AF57","v":0},0,0]
[null,"28","22:57～22:58",{"$f":"'入力シート(1分周期基準値)'!AG57","v":0},0,0]
[null,"29","22:58～22:59",{"$f":"'入力シート(1分周期基準値)'!AH57","v":0},0,0]
[null,"30","22:59～23:00",{"$f":"'入力シート(1分周期基準値)'!AI57","v":0},0,0]
["47","01","23:00～23:01",{"$f":"'入力シート(1分周期基準値)'!F58","v":0},0,0]
[null,"02","23:01～23:02",{"$f":"'入力シート(1分周期基準値)'!G58","v":0},0,0]
[null,"03","23:02～23:03",{"$f":"'入力シート(1分周期基準値)'!H58","v":0},0,0]
[null,"04","23:03～23:04",{"$f":"'入力シート(1分周期基準値)'!I58","v":0},0,0]
[null,"05","23:04～23:05",{"$f":"'入力シート(1分周期基準値)'!J58","v":0},0,0]
[null,"06","23:05～23:06",{"$f":"'入力シート(1分周期基準値)'!K58","v":0},0,0]
[null,"07","23:06～23:07",{"$f":"'入力シート(1分周期基準値)'!L58","v":0},0,0]
[null,"08","23:07～23:08",{"$f":"'入力シート(1分周期基準値)'!M58","v":0},0,0]
[null,"09","23:08～23:09",{"$f":"'入力シート(1分周期基準値)'!N58","v":0},0,0]
[null,"10","23:09～23:10",{"$f":"'入力シート(1分周期基準値)'!O58","v":0},0,0]
[null,"11","23:10～23:11",{"$f":"'入力シート(1分周期基準値)'!P58","v":0},0,0]
[null,"12","23:11～23:12",{"$f":"'入力シート(1分周期基準値)'!Q58","v":0},0,0]
[null,"13","23:12～23:13",{"$f":"'入力シート(1分周期基準値)'!R58","v":0},0,0]
[null,"14","23:13～23:14",{"$f":"'入力シート(1分周期基準値)'!S58","v":0},0,0]
[null,"15","23:14～23:15",{"$f":"'入力シート(1分周期基準値)'!T58","v":0},0,0]
[null,"16","23:15～23:16",{"$f":"'入力シート(1分周期基準値)'!U58","v":0},0,0]
[null,"17","23:16～23:17",{"$f":"'入力シート(1分周期基準値)'!V58","v":0},0,0]
[null,"18","23:17～23:18",{"$f":"'入力シート(1分周期基準値)'!W58","v":0},0,0]
[null,"19","23:18～23:19",{"$f":"'入力シート(1分周期基準値)'!X58","v":0},0,0]
[null,"20","23:19～23:20",{"$f":"'入力シート(1分周期基準値)'!Y58","v":0},0,0]
[null,"21","23:20～23:21",{"$f":"'入力シート(1分周期基準値)'!Z58","v":0},0,0]
[null,"22","23:21～23:22",{"$f":"'入力シート(1分周期基準値)'!AA58","v":0},0,0]
[null,"23","23:22～23:23",{"$f":"'入力シート(1分周期基準値)'!AB58","v":0},0,0]
[null,"24","23:23～23:24",{"$f":"'入力シート(1分周期基準値)'!AC58","v":0},0,0]
[null,"25","23:24～23:25",{"$f":"'入力シート(1分周期基準値)'!AD58","v":0},0,0]
[null,"26","23:25～23:26",{"$f":"'入力シート(1分周期基準値)'!AE58","v":0},0,0]
[null,"27","23:26～23:27",{"$f":"'入力シート(1分周期基準値)'!AF58","v":0},0,0]
[null,"28","23:27～23:28",{"$f":"'入力シート(1分周期基準値)'!AG58","v":0},0,0]
[null,"29","23:28～23:29",{"$f":"'入力シート(1分周期基準値)'!AH58","v":0},{"$f":"F1429-D1429","v":0},{"$f":"IFERROR(ROUND(AVERAGE(G1429:BN1429),0),0)","v":0}]
[null,"30","23:29～23:30",{"$f":"'入力シート(1分周期基準値)'!AI58","v":0},0,0]
["48","01","23:30～23:31",{"$f":"'入力シート(1分周期基準値)'!F59","v":0},0,0]
[null,"02","23:31～23:32",{"$f":"'入力シート(1分周期基準値)'!G59","v":0},0,0]
[null,"03","23:32～23:33",{"$f":"'入力シート(1分周期基準値)'!H59","v":0},0,0]
[null,"04","23:33～23:34",{"$f":"'入力シート(1分周期基準値)'!I59","v":0},0,0]
[null,"05","23:34～23:35",{"$f":"'入力シート(1分周期基準値)'!J59","v":0},0,0]
[null,"06","23:35～23:36",{"$f":"'入力シート(1分周期基準値)'!K59","v":0},0,0]
[null,"07","23:36～23:37",{"$f":"'入力シート(1分周期基準値)'!L59","v":0},0,0]
[null,"08","23:37～23:38",{"$f":"'入力シート(1分周期基準値)'!M59","v":0},0,0]
[null,"09","23:38～23:39",{"$f":"'入力シート(1分周期基準値)'!N59","v":0},0,0]
[null,"10","23:39～23:40",{"$f":"'入力シート(1分周期基準値)'!O59","v":0},0,0]
[null,"11","23:40～23:41",{"$f":"'入力シート(1分周期基準値)'!P59","v":0},0,0]
[null,"12","23:41～23:42",{"$f":"'入力シート(1分周期基準値)'!Q59","v":0},0,0]
[null,"13","23:42～23:43",{"$f":"'入力シート(1分周期基準値)'!R59","v":0},0,0]
[null,"14","23:43～23:44",{"$f":"'入力シート(1分周期基準値)'!S59","v":0},0,0]
[null,"15","23:44～23:45",{"$f":"'入力シート(1分周期基準値)'!T59","v":0},0,0]
[null,"16","23:45～23:46",{"$f":"'入力シート(1分周期基準値)'!U59","v":0},0,0]
[null,"17","23:46～23:47",{"$f":"'入力シート(1分周期基準値)'!V59","v":0},0,0]
[null,"18","23:47～23:48",{"$f":"'入力シート(1分周期基準値)'!W59","v":0},0,0]
[null,"19","23:48～23:49",{"$f":"'入力シート(1分周期基準値)'!X59","v":0},0,0]
[null,"20","23:49～23:50",{"$f":"'入力シート(1分周期基準値)'!Y59","v":0},0,0]
[null,"21","23:50～23:51",{"$f":"'入力シート(1分周期基準値)'!Z59","v":0},0,0]
[null,"22","23:51～23:52",{"$f":"'入力シート(1分周期基準値)'!AA59","v":0},0,0]
[null,"23","23:52～23:53",{"$f":"'入力シート(1分周期基準値)'!AB59","v":0},0,0]
[null,"24","23:53～23:54",{"$f":"'入力シート(1分周期基準値)'!AC59","v":0},0,0]
[null,"25","23:54～23:55",{"$f":"'入力シート(1分周期基準値)'!AD59","v":0},0,0]
[null,"26","23:55～23:56",{"$f":"'入力シート(1分周期基準値)'!AE59","v":0},0,0]
[null,"27","23:56～23:57",{"$f":"'入力シート(1分周期基準値)'!AF59","v":0},0,0]
[null,"28","23:57～23:58",{"$f":"'入力シート(1分周期基準値)'!AG59","v":0},0,0]
[null,"29","23:58～23:59",{"$f":"'入力シート(1分周期基準値)'!AH59","v":0},0,0]
[null,"30","23:59～24:00",{"$f":"'入力シート(1分周期基準値)'!AI59","v":0},0,0]

{"sheet":"入力シート(1秒周期基準値)","index":6,"n_rows":1460,"n_cols":66,"rows_kept":1460,"cut":false,"hidden":true,"merged":[[1430,0,1459,0],[1100,0,1129,0],[1130,0,1159,0],[1160,0,1189,0],[1190,0,1219,0],[1220,0,1249,0],[1250,0,1279,0],[1280,0,1309,0],[1310,0,1339,0],[1340,0,1369,0],[1370,0,1399,0],[1400,0,1429,0],[1070,0,1099,0],[740,0,769,0],[770,0,799,0],[800,0,829,0],[830,0,859,0],[860,0,889,0],[890,0,919,0],[920,0,949,0],[950,0,979,0],[980,0,1009,0],[1010,0,1039,0],[1040,0,1069,0],[710,0,739,0],[380,0,409,0],[410,0,439,0],[440,0,469,0],[470,0,499,0],[500,0,529,0],[530,0,559,0],[560,0,589,0],[590,0,619,0],[620,0,649,0],[650,0,679,0],[680,0,709,0],[350,0,379,0],[20,0,49,0],[50,0,79,0],[80,0,109,0],[110,0,139,0],[140,0,169,0],[170,0,199,0],[200,0,229,0],[230,0,259,0],[260,0,289,0],[290,0,319,0],[320,0,349,0],[15,3,16,3],[15,4,16,4],[15,6,16,65],[17,4,18,4],[17,6,17,65],[18,6,18,65]]}
["1秒基準値電力"]
[]
[]
[]
[]
[]
[]
[]
[]
[]
[]
[]
[]
[]
[null,null,null,"（※）機器点1分基準値電力と1秒基準値電力の差が±1の範囲内であれば、丸め誤差として許容します。"]
[null,null,null,"機器点1分\n基準値電力","1分基準値電力と\n基準値電力の整合性",null,"基準値電力"]
[]
[null,null,null,"機器点1分","1分平均基準値電力－\n機器点1分基準値電力","1分平均","1秒基準値電力(kW)"]
[null,null,null,"基準値電力",null,"基準値電力","セカンドスロット"]
["時刻コード","タイムスロット","時間帯","(kW)","不整合電力量(kW)","(kW)","01","02","03","04","05","06","07","08","09","10","11","12","13","14","15","16","17","18","19","20","21","22","23","24","25","26","27","28","29","30","31","32","33","34","35","36","37","38","39","40","41","42","43","44","45","46","47","48","49","50","51","52","53","54","55","56","57","58","59","60"]
["01","01","0:00～0:01",{"$f":"'入力シート(1分周期基準値)'!F12","v":0},{"$f":"F21-D21","v":0},{"$f":"IFERROR(ROUND(AVERAGE(G21:BN21),0),0)","v":0}]
[null,"02","0:01～0:02",{"$f":"'入力シート(1分周期基準値)'!G12","v":0},0,0]
[null,"03","0:02～0:03",{"$f":"'入力シート(1分周期基準値)'!H12","v":0},0,0]
[null,"04","0:03～0:04",{"$f":"'入力シート(1分周期基準値)'!I12","v":0},0,0]
[null,"05","0:04～0:05",{"$f":"'入力シート(1分周期基準値)'!J12","v":0},0,0]
[null,"06","0:05～0:06",{"$f":"'入力シート(1分周期基準値)'!K12","v":0},0,0]
[null,"07","0:06～0:07",{"$f":"'入力シート(1分周期基準値)'!L12","v":0},0,0]
[null,"08","0:07～0:08",{"$f":"'入力シート(1分周期基準値)'!M12","v":0},0,0]
[null,"09","0:08～0:09",{"$f":"'入力シート(1分周期基準値)'!N12","v":0},0,0]
[null,"10","0:09～0:10",{"$f":"'入力シート(1分周期基準値)'!O12","v":0},0,0]
[null,"11","0:10～0:11",{"$f":"'入力シート(1分周期基準値)'!P12","v":0},0,0]
[null,"12","0:11～0:12",{"$f":"'入力シート(1分周期基準値)'!Q12","v":0},0,0]
[null,"13","0:12～0:13",{"$f":"'入力シート(1分周期基準値)'!R12","v":0},0,0]
[null,"14","0:13～0:14",{"$f":"'入力シート(1分周期基準値)'!S12","v":0},0,0]
[null,"15","0:14～0:15",{"$f":"'入力シート(1分周期基準値)'!T12","v":0},0,0]
[null,"16","0:15～0:16",{"$f":"'入力シート(1分周期基準値)'!U12","v":0},0,0]
[null,"17","0:16～0:17",{"$f":"'入力シート(1分周期基準値)'!V12","v":0},0,0]
[null,"18","0:17～0:18",{"$f":"'入力シート(1分周期基準値)'!W12","v":0},0,0]
[null,"19","0:18～0:19",{"$f":"'入力シート(1分周期基準値)'!X12","v":0},0,0]
[null,"20","0:19～0:20",{"$f":"'入力シート(1分周期基準値)'!Y12","v":0},0,0]
[null,"21","0:20～0:21",{"$f":"'入力シート(1分周期基準値)'!Z12","v":0},0,0]
[null,"22","0:21～0:22",{"$f":"'入力シート(1分周期基準値)'!AA12","v":0},0,0]
[null,"23","0:22～0:23",{"$f":"'入力シート(1分周期基準値)'!AB12","v":0},0,0]
[null,"24","0:23～0:24",{"$f":"'入力シート(1分周期基準値)'!AC12","v":0},0,0]
[null,"25","0:24～0:25",{"$f":"'入力シート(1分周期基準値)'!AD12","v":0},0,0]
[null,"26","0:25～0:26",{"$f":"'入力シート(1分周期基準値)'!AE12","v":0},0,0]
[null,"27","0:26～0:27",{"$f":"'入力シート(1分周期基準値)'!AF12","v":0},0,0]
[null,"28","0:27～0:28",{"$f":"'入力シート(1分周期基準値)'!AG12","v":0},0,0]
[null,"29","0:28～0:29",{"$f":"'入力シート(1分周期基準値)'!AH12","v":0},0,0]
[null,"30","0:29～0:30",{"$f":"'入力シート(1分周期基準値)'!AI12","v":0},0,0]
["02","01","0:30～0:31",{"$f":"'入力シート(1分周期基準値)'!F13","v":0},0,0]
[null,"02","0:31～0:32",{"$f":"'入力シート(1分周期基準値)'!G13","v":0},0,0]
[null,"03","0:32～0:33",{"$f":"'入力シート(1分周期基準値)'!H13","v":0},0,0]
[null,"04","0:33～0:34",{"$f":"'入力シート(1分周期基準値)'!I13","v":0},0,0]
[null,"05","0:34～0:35",{"$f":"'入力シート(1分周期基準値)'!J13","v":0},0,0]
[null,"06","0:35～0:36",{"$f":"'入力シート(1分周期基準値)'!K13","v":0},0,0]
[null,"07","0:36～0:37",{"$f":"'入力シート(1分周期基準値)'!L13","v":0},0,0]
[null,"08","0:37～0:38",{"$f":"'入力シート(1分周期基準値)'!M13","v":0},0,0]
[null,"09","0:38～0:39",{"$f":"'入力シート(1分周期基準値)'!N13","v":0},0,0]
[null,"10","0:39～0:40",{"$f":"'入力シート(1分周期基準値)'!O13","v":0},0,0]
[null,"11","0:40～0:41",{"$f":"'入力シート(1分周期基準値)'!P13","v":0},0,0]
[null,"12","0:41～0:42",{"$f":"'入力シート(1分周期基準値)'!Q13","v":0},0,0]
[null,"13","0:42～0:43",{"$f":"'入力シート(1分周期基準値)'!R13","v":0},0,0]
[null,"14","0:43～0:44",{"$f":"'入力シート(1分周期基準値)'!S13","v":0},0,0]
[null,"15","0:44～0:45",{"$f":"'入力シート(1分周期基準値)'!T13","v":0},0,0]
[null,"16","0:45～0:46",{"$f":"'入力シート(1分周期基準値)'!U13","v":0},0,0]
[null,"17","0:46～0:47",{"$f":"'入力シート(1分周期基準値)'!V13","v":0},0,0]
[null,"18","0:47～0:48",{"$f":"'入力シート(1分周期基準値)'!W13","v":0},0,0]
[null,"19","0:48～0:49",{"$f":"'入力シート(1分周期基準値)'!X13","v":0},0,0]
[null,"20","0:49～0:50",{"$f":"'入力シート(1分周期基準値)'!Y13","v":0},0,0]
[null,"21","0:50～0:51",{"$f":"'入力シート(1分周期基準値)'!Z13","v":0},0,0]
[null,"22","0:51～0:52",{"$f":"'入力シート(1分周期基準値)'!AA13","v":0},0,0]
[null,"23","0:52～0:53",{"$f":"'入力シート(1分周期基準値)'!AB13","v":0},0,0]
[null,"24","0:53～0:54",{"$f":"'入力シート(1分周期基準値)'!AC13","v":0},0,0]
[null,"25","0:54～0:55",{"$f":"'入力シート(1分周期基準値)'!AD13","v":0},0,0]
[null,"26","0:55～0:56",{"$f":"'入力シート(1分周期基準値)'!AE13","v":0},0,0]
[null,"27","0:56～0:57",{"$f":"'入力シート(1分周期基準値)'!AF13","v":0},0,0]
[null,"28","0:57～0:58",{"$f":"'入力シート(1分周期基準値)'!AG13","v":0},0,0]
[null,"29","0:58～0:59",{"$f":"'入力シート(1分周期基準値)'!AH13","v":0},0,0]
[null,"30","0:59～1:00",{"$f":"'入力シート(1分周期基準値)'!AI13","v":0},0,0]
["03","01","1:00～1:01",{"$f":"'入力シート(1分周期基準値)'!F14","v":0},0,0]
[null,"02","1:01～1:02",{"$f":"'入力シート(1分周期基準値)'!G14","v":0},0,0]
[null,"03","1:02～1:03",{"$f":"'入力シート(1分周期基準値)'!H14","v":0},0,0]
[null,"04","1:03～1:04",{"$f":"'入力シート(1分周期基準値)'!I14","v":0},0,0]
[null,"05","1:04～1:05",{"$f":"'入力シート(1分周期基準値)'!J14","v":0},{"$f":"F85-D85","v":0},{"$f":"IFERROR(ROUND(AVERAGE(G85:BN85),0),0)","v":0}]
[null,"06","1:05～1:06",{"$f":"'入力シート(1分周期基準値)'!K14","v":0},0,0]
[null,"07","1:06～1:07",{"$f":"'入力シート(1分周期基準値)'!L14","v":0},0,0]
[null,"08","1:07～1:08",{"$f":"'入力シート(1分周期基準値)'!M14","v":0},0,0]
[null,"09","1:08～1:09",{"$f":"'入力シート(1分周期基準値)'!N14","v":0},0,0]
[null,"10","1:09～1:10",{"$f":"'入力シート(1分周期基準値)'!O14","v":0},0,0]
[null,"11","1:10～1:11",{"$f":"'入力シート(1分周期基準値)'!P14","v":0},0,0]
[null,"12","1:11～1:12",{"$f":"'入力シート(1分周期基準値)'!Q14","v":0},0,0]
[null,"13","1:12～1:13",{"$f":"'入力シート(1分周期基準値)'!R14","v":0},0,0]
[null,"14","1:13～1:14",{"$f":"'入力シート(1分周期基準値)'!S14","v":0},0,0]
[null,"15","1:14～1:15",{"$f":"'入力シート(1分周期基準値)'!T14","v":0},0,0]
[null,"16","1:15～1:16",{"$f":"'入力シート(1分周期基準値)'!U14","v":0},0,0]
[null,"17","1:16～1:17",{"$f":"'入力シート(1分周期基準値)'!V14","v":0},0,0]
[null,"18","1:17～1:18",{"$f":"'入力シート(1分周期基準値)'!W14","v":0},0,0]
[null,"19","1:18～1:19",{"$f":"'入力シート(1分周期基準値)'!X14","v":0},0,0]
[null,"20","1:19～1:20",{"$f":"'入力シート(1分周期基準値)'!Y14","v":0},0,0]
[null,"21","1:20～1:21",{"$f":"'入力シート(1分周期基準値)'!Z14","v":0},0,0]
[null,"22","1:21～1:22",{"$f":"'入力シート(1分周期基準値)'!AA14","v":0},0,0]
[null,"23","1:22～1:23",{"$f":"'入力シート(1分周期基準値)'!AB14","v":0},0,0]
[null,"24","1:23～1:24",{"$f":"'入力シート(1分周期基準値)'!AC14","v":0},0,0]
[null,"25","1:24～1:25",{"$f":"'入力シート(1分周期基準値)'!AD14","v":0},0,0]
[null,"26","1:25～1:26",{"$f":"'入力シート(1分周期基準値)'!AE14","v":0},0,0]
[null,"27","1:26～1:27",{"$f":"'入力シート(1分周期基準値)'!AF14","v":0},0,0]
[null,"28","1:27～1:28",{"$f":"'入力シート(1分周期基準値)'!AG14","v":0},0,0]
[null,"29","1:28～1:29",{"$f":"'入力シート(1分周期基準値)'!AH14","v":0},0,0]
[null,"30","1:29～1:30",{"$f":"'入力シート(1分周期基準値)'!AI14","v":0},0,0]
["04","01","1:30～1:31",{"$f":"'入力シート(1分周期基準値)'!F15","v":0},0,0]
[null,"02","1:31～1:32",{"$f":"'入力シート(1分周期基準値)'!G15","v":0},0,0]
[null,"03","1:32～1:33",{"$f":"'入力シート(1分周期基準値)'!H15","v":0},0,0]
[null,"04","1:33～1:34",{"$f":"'入力シート(1分周期基準値)'!I15","v":0},0,0]
[null,"05","1:34～1:35",{"$f":"'入力シート(1分周期基準値)'!J15","v":0},0,0]
[null,"06","1:35～1:36",{"$f":"'入力シート(1分周期基準値)'!K15","v":0},0,0]
[null,"07","1:36～1:37",{"$f":"'入力シート(1分周期基準値)'!L15","v":0},0,0]
[null,"08","1:37～1:38",{"$f":"'入力シート(1分周期基準値)'!M15","v":0},0,0]
[null,"09","1:38～1:39",{"$f":"'入力シート(1分周期基準値)'!N15","v":0},0,0]
[null,"10","1:39～1:40",{"$f":"'入力シート(1分周期基準値)'!O15","v":0},0,0]
[null,"11","1:40～1:41",{"$f":"'入力シート(1分周期基準値)'!P15","v":0},0,0]
[null,"12","1:41～1:42",{"$f":"'入力シート(1分周期基準値)'!Q15","v":0},0,0]
[null,"13","1:42～1:43",{"$f":"'入力シート(1分周期基準値)'!R15","v":0},0,0]
[null,"14","1:43～1:44",{"$f":"'入力シート(1分周期基準値)'!S15","v":0},0,0]
[null,"15","1:44～1:45",{"$f":"'入力シート(1分周期基準値)'!T15","v":0},0,0]
[null,"16","1:45～1:46",{"$f":"'入力シート(1分周期基準値)'!U15","v":0},0,0]
[null,"17","1:46～1:47",{"$f":"'入力シート(1分周期基準値)'!V15","v":0},0,0]
[null,"18","1:47～1:48",{"$f":"'入力シート(1分周期基準値)'!W15","v":0},0,0]
[null,"19","1:48～1:49",{"$f":"'入力シート(1分周期基準値)'!X15","v":0},0,0]
[null,"20","1:49～1:50",{"$f":"'入力シート(1分周期基準値)'!Y15","v":0},0,0]
[null,"21","1:50～1:51",{"$f":"'入力シート(1分周期基準値)'!Z15","v":0},0,0]
[null,"22","1:51～1:52",{"$f":"'入力シート(1分周期基準値)'!AA15","v":0},0,0]
[null,"23","1:52～1:53",{"$f":"'入力シート(1分周期基準値)'!AB15","v":0},0,0]
[null,"24","1:53～1:54",{"$f":"'入力シート(1分周期基準値)'!AC15","v":0},0,0]
[null,"25","1:54～1:55",{"$f":"'入力シート(1分周期基準値)'!AD15","v":0},0,0]
[null,"26","1:55～1:56",{"$f":"'入力シート(1分周期基準値)'!AE15","v":0},0,0]
[null,"27","1:56～1:57",{"$f":"'入力シート(1分周期基準値)'!AF15","v":0},0,0]
[null,"28","1:57～1:58",{"$f":"'入力シート(1分周期基準値)'!AG15","v":0},0,0]
[null,"29","1:58～1:59",{"$f":"'入力シート(1分周期基準値)'!AH15","v":0},0,0]
[null,"30","1:59～2:00",{"$f":"'入力シート(1分周期基準値)'!AI15","v":0},0,0]
["05","01","2:00～2:01",{"$f":"'入力シート(1分周期基準値)'!F16","v":0},0,0]
[null,"02","2:01～2:02",{"$f":"'入力シート(1分周期基準値)'!G16","v":0},0,0]
[null,"03","2:02～2:03",{"$f":"'入力シート(1分周期基準値)'!H16","v":0},0,0]
[null,"04","2:03～2:04",{"$f":"'入力シート(1分周期基準値)'!I16","v":0},0,0]
[null,"05","2:04～2:05",{"$f":"'入力シート(1分周期基準値)'!J16","v":0},0,0]
[null,"06","2:05～2:06",{"$f":"'入力シート(1分周期基準値)'!K16","v":0},0,0]
[null,"07","2:06～2:07",{"$f":"'入力シート(1分周期基準値)'!L16","v":0},0,0]
[null,"08","2:07～2:08",{"$f":"'入力シート(1分周期基準値)'!M16","v":0},0,0]
[null,"09","2:08～2:09",{"$f":"'入力シート(1分周期基準値)'!N16","v":0},{"$f":"F149-D149","v":0},{"$f":"IFERROR(ROUND(AVERAGE(G149:BN149),0),0)","v":0}]
[null,"10","2:09～2:10",{"$f":"'入力シート(1分周期基準値)'!O16","v":0},0,0]
[null,"11","2:10～2:11",{"$f":"'入力シート(1分周期基準値)'!P16","v":0},0,0]
[null,"12","2:11～2:12",{"$f":"'入力シート(1分周期基準値)'!Q16","v":0},0,0]
[null,"13","2:12～2:13",{"$f":"'入力シート(1分周期基準値)'!R16","v":0},0,0]
[null,"14","2:13～2:14",{"$f":"'入力シート(1分周期基準値)'!S16","v":0},0,0]
[null,"15","2:14～2:15",{"$f":"'入力シート(1分周期基準値)'!T16","v":0},0,0]
[null,"16","2:15～2:16",{"$f":"'入力シート(1分周期基準値)'!U16","v":0},0,0]
[null,"17","2:16～2:17",{"$f":"'入力シート(1分周期基準値)'!V16","v":0},0,0]
[null,"18","2:17～2:18",{"$f":"'入力シート(1分周期基準値)'!W16","v":0},0,0]
[null,"19","2:18～2:19",{"$f":"'入力シート(1分周期基準値)'!X16","v":0},0,0]
[null,"20","2:19～2:20",{"$f":"'入力シート(1分周期基準値)'!Y16","v":0},0,0]
[null,"21","2:20～2:21",{"$f":"'入力シート(1分周期基準値)'!Z16","v":0},0,0]
[null,"22","2:21～2:22",{"$f":"'入力シート(1分周期基準値)'!AA16","v":0},0,0]
[null,"23","2:22～2:23",{"$f":"'入力シート(1分周期基準値)'!AB16","v":0},0,0]
[null,"24","2:23～2:24",{"$f":"'入力シート(1分周期基準値)'!AC16","v":0},0,0]
[null,"25","2:24～2:25",{"$f":"'入力シート(1分周期基準値)'!AD16","v":0},0,0]
[null,"26","2:25～2:26",{"$f":"'入力シート(1分周期基準値)'!AE16","v":0},0,0]
[null,"27","2:26～2:27",{"$f":"'入力シート(1分周期基準値)'!AF16","v":0},0,0]
[null,"28","2:27～2:28",{"$f":"'入力シート(1分周期基準値)'!AG16","v":0},0,0]
[null,"29","2:28～2:29",{"$f":"'入力シート(1分周期基準値)'!AH16","v":0},0,0]
[null,"30","2:29～2:30",{"$f":"'入力シート(1分周期基準値)'!AI16","v":0},0,0]
["06","01","2:30～2:31",{"$f":"'入力シート(1分周期基準値)'!F17","v":0},0,0]
[null,"02","2:31～2:32",{"$f":"'入力シート(1分周期基準値)'!G17","v":0},0,0]
[null,"03","2:32～2:33",{"$f":"'入力シート(1分周期基準値)'!H17","v":0},0,0]
[null,"04","2:33～2:34",{"$f":"'入力シート(1分周期基準値)'!I17","v":0},0,0]
[null,"05","2:34～2:35",{"$f":"'入力シート(1分周期基準値)'!J17","v":0},0,0]
[null,"06","2:35～2:36",{"$f":"'入力シート(1分周期基準値)'!K17","v":0},0,0]
[null,"07","2:36～2:37",{"$f":"'入力シート(1分周期基準値)'!L17","v":0},0,0]
[null,"08","2:37～2:38",{"$f":"'入力シート(1分周期基準値)'!M17","v":0},0,0]
[null,"09","2:38～2:39",{"$f":"'入力シート(1分周期基準値)'!N17","v":0},0,0]
[null,"10","2:39～2:40",{"$f":"'入力シート(1分周期基準値)'!O17","v":0},0,0]
[null,"11","2:40～2:41",{"$f":"'入力シート(1分周期基準値)'!P17","v":0},0,0]
[null,"12","2:41～2:42",{"$f":"'入力シート(1分周期基準値)'!Q17","v":0},0,0]
[null,"13","2:42～2:43",{"$f":"'入力シート(1分周期基準値)'!R17","v":0},0,0]
[null,"14","2:43～2:44",{"$f":"'入力シート(1分周期基準値)'!S17","v":0},0,0]
[null,"15","2:44～2:45",{"$f":"'入力シート(1分周期基準値)'!T17","v":0},0,0]
[null,"16","2:45～2:46",{"$f":"'入力シート(1分周期基準値)'!U17","v":0},0,0]
[null,"17","2:46～2:47",{"$f":"'入力シート(1分周期基準値)'!V17","v":0},0,0]
[null,"18","2:47～2:48",{"$f":"'入力シート(1分周期基準値)'!W17","v":0},0,0]
[null,"19","2:48～2:49",{"$f":"'入力シート(1分周期基準値)'!X17","v":0},0,0]
[null,"20","2:49～2:50",{"$f":"'入力シート(1分周期基準値)'!Y17","v":0},0,0]
[null,"21","2:50～2:51",{"$f":"'入力シート(1分周期基準値)'!Z17","v":0},0,0]
[null,"22","2:51～2:52",{"$f":"'入力シート(1分周期基準値)'!AA17","v":0},0,0]
[null,"23","2:52～2:53",{"$f":"'入力シート(1分周期基準値)'!AB17","v":0},0,0]
[null,"24","2:53～2:54",{"$f":"'入力シート(1分周期基準値)'!AC17","v":0},0,0]
[null,"25","2:54～2:55",{"$f":"'入力シート(1分周期基準値)'!AD17","v":0},0,0]
[null,"26","2:55～2:56",{"$f":"'入力シート(1分周期基準値)'!AE17","v":0},0,0]
[null,"27","2:56～2:57",{"$f":"'入力シート(1分周期基準値)'!AF17","v":0},0,0]
[null,"28","2:57～2:58",{"$f":"'入力シート(1分周期基準値)'!AG17","v":0},0,0]
[null,"29","2:58～2:59",{"$f":"'入力シート(1分周期基準値)'!AH17","v":0},0,0]
[null,"30","2:59～3:00",{"$f":"'入力シート(1分周期基準値)'!AI17","v":0},0,0]
["07","01","3:00～3:01",{"$f":"'入力シート(1分周期基準値)'!F18","v":0},0,0]
[null,"02","3:01～3:02",{"$f":"'入力シート(1分周期基準値)'!G18","v":0},{"$f":"F202-D202","v":0},{"$f":"IFERROR(ROUND(AVERAGE(G202:BN202),0),0)","v":0}]
[null,"03","3:02～3:03",{"$f":"'入力シート(1分周期基準値)'!H18","v":0},{"$f":"F203-D203","v":0},{"$f":"IFERROR(ROUND(AVERAGE(G203:BN203),0),0)","v":0}]
[null,"04","3:03～3:04",{"$f":"'入力シート(1分周期基準値)'!I18","v":0},0,0]
[null,"05","3:04～3:05",{"$f":"'入力シート(1分周期基準値)'!J18","v":0},0,0]
[null,"06","3:05～3:06",{"$f":"'入力シート(1分周期基準値)'!K18","v":0},0,0]
[null,"07","3:06～3:07",{"$f":"'入力シート(1分周期基準値)'!L18","v":0},0,0]
[null,"08","3:07～3:08",{"$f":"'入力シート(1分周期基準値)'!M18","v":0},0,0]
[null,"09","3:08～3:09",{"$f":"'入力シート(1分周期基準値)'!N18","v":0},0,0]
[null,"10","3:09～3:10",{"$f":"'入力シート(1分周期基準値)'!O18","v":0},0,0]
[null,"11","3:10～3:11",{"$f":"'入力シート(1分周期基準値)'!P18","v":0},0,0]
[null,"12","3:11～3:12",{"$f":"'入力シート(1分周期基準値)'!Q18","v":0},0,0]
[null,"13","3:12～3:13",{"$f":"'入力シート(1分周期基準値)'!R18","v":0},0,0]
[null,"14","3:13～3:14",{"$f":"'入力シート(1分周期基準値)'!S18","v":0},0,0]
[null,"15","3:14～3:15",{"$f":"'入力シート(1分周期基準値)'!T18","v":0},0,0]
[null,"16","3:15～3:16",{"$f":"'入力シート(1分周期基準値)'!U18","v":0},0,0]
[null,"17","3:16～3:17",{"$f":"'入力シート(1分周期基準値)'!V18","v":0},0,0]
[null,"18","3:17～3:18",{"$f":"'入力シート(1分周期基準値)'!W18","v":0},0,0]
[null,"19","3:18～3:19",{"$f":"'入力シート(1分周期基準値)'!X18","v":0},0,0]
[null,"20","3:19～3:20",{"$f":"'入力シート(1分周期基準値)'!Y18","v":0},0,0]
[null,"21","3:20～3:21",{"$f":"'入力シート(1分周期基準値)'!Z18","v":0},0,0]
[null,"22","3:21～3:22",{"$f":"'入力シート(1分周期基準値)'!AA18","v":0},0,0]
[null,"23","3:22～3:23",{"$f":"'入力シート(1分周期基準値)'!AB18","v":0},0,0]
[null,"24","3:23～3:24",{"$f":"'入力シート(1分周期基準値)'!AC18","v":0},0,0]
[null,"25","3:24～3:25",{"$f":"'入力シート(1分周期基準値)'!AD18","v":0},0,0]
[null,"26","3:25～3:26",{"$f":"'入力シート(1分周期基準値)'!AE18","v":0},0,0]
[null,"27","3:26～3:27",{"$f":"'入力シート(1分周期基準値)'!AF18","v":0},0,0]
[null,"28","3:27～3:28",{"$f":"'入力シート(1分周期基準値)'!AG18","v":0},0,0]
[null,"29","3:28～3:29",{"$f":"'入力シート(1分周期基準値)'!AH18","v":0},0,0]
[null,"30","3:29～3:30",{"$f":"'入力シート(1分周期基準値)'!AI18","v":0},0,0]
["08","01","3:30～3:31",{"$f":"'入力シート(1分周期基準値)'!F19","v":0},0,0]
[null,"02","3:31～3:32",{"$f":"'入力シート(1分周期基準値)'!G19","v":0},0,0]
[null,"03","3:32～3:33",{"$f":"'入力シート(1分周期基準値)'!H19","v":0},0,0]
[null,"04","3:33～3:34",{"$f":"'入力シート(1分周期基準値)'!I19","v":0},0,0]
[null,"05","3:34～3:35",{"$f":"'入力シート(1分周期基準値)'!J19","v":0},0,0]
[null,"06","3:35～3:36",{"$f":"'入力シート(1分周期基準値)'!K19","v":0},0,0]
[null,"07","3:36～3:37",{"$f":"'入力シート(1分周期基準値)'!L19","v":0},0,0]
[null,"08","3:37～3:38",{"$f":"'入力シート(1分周期基準値)'!M19","v":0},0,0]
[null,"09","3:38～3:39",{"$f":"'入力シート(1分周期基準値)'!N19","v":0},0,0]
[null,"10","3:39～3:40",{"$f":"'入力シート(1分周期基準値)'!O19","v":0},0,0]
[null,"11","3:40～3:41",{"$f":"'入力シート(1分周期基準値)'!P19","v":0},0,0]
[null,"12","3:41～3:42",{"$f":"'入力シート(1分周期基準値)'!Q19","v":0},0,0]
[null,"13","3:42～3:43",{"$f":"'入力シート(1分周期基準値)'!R19","v":0},0,0]
[null,"14","3:43～3:44",{"$f":"'入力シート(1分周期基準値)'!S19","v":0},0,0]
[null,"15","3:44～3:45",{"$f":"'入力シート(1分周期基準値)'!T19","v":0},0,0]
[null,"16","3:45～3:46",{"$f":"'入力シート(1分周期基準値)'!U19","v":0},0,0]
[null,"17","3:46～3:47",{"$f":"'入力シート(1分周期基準値)'!V19","v":0},0,0]
[null,"18","3:47～3:48",{"$f":"'入力シート(1分周期基準値)'!W19","v":0},0,0]
[null,"19","3:48～3:49",{"$f":"'入力シート(1分周期基準値)'!X19","v":0},0,0]
[null,"20","3:49～3:50",{"$f":"'入力シート(1分周期基準値)'!Y19","v":0},0,0]
[null,"21","3:50～3:51",{"$f":"'入力シート(1分周期基準値)'!Z19","v":0},0,0]
[null,"22","3:51～3:52",{"$f":"'入力シート(1分周期基準値)'!AA19","v":0},0,0]
[null,"23","3:52～3:53",{"$f":"'入力シート(1分周期基準値)'!AB19","v":0},0,0]
[null,"24","3:53～3:54",{"$f":"'入力シート(1分周期基準値)'!AC19","v":0},0,0]
[null,"25","3:54～3:55",{"$f":"'入力シート(1分周期基準値)'!AD19","v":0},0,0]
[null,"26","3:55～3:56",{"$f":"'入力シート(1分周期基準値)'!AE19","v":0},0,0]
[null,"27","3:56～3:57",{"$f":"'入力シート(1分周期基準値)'!AF19","v":0},0,0]
[null,"28","3:57～3:58",{"$f":"'入力シート(1分周期基準値)'!AG19","v":0},0,0]
[null,"29","3:58～3:59",{"$f":"'入力シート(1分周期基準値)'!AH19","v":0},0,0]
[null,"30","3:59～4:00",{"$f":"'入力シート(1分周期基準値)'!AI19","v":0},0,0]
["09","01","4:00～4:01",{"$f":"'入力シート(1分周期基準値)'!F20","v":0},0,0]
[null,"02","4:01～4:02",{"$f":"'入力シート(1分周期基準値)'!G20","v":0},0,0]
[null,"03","4:02～4:03",{"$f":"'入力シート(1分周期基準値)'!H20","v":0},0,0]
[null,"04","4:03～4:04",{"$f":"'入力シート(1分周期基準値)'!I20","v":0},0,0]
[null,"05","4:04～4:05",{"$f":"'入力シート(1分周期基準値)'!J20","v":0},0,0]
[null,"06","4:05～4:06",{"$f":"'入力シート(1分周期基準値)'!K20","v":0},0,0]
[null,"07","4:06～4:07",{"$f":"'入力シート(1分周期基準値)'!L20","v":0},{"$f":"F267-D267","v":0},{"$f":"IFERROR(ROUND(AVERAGE(G267:BN267),0),0)","v":0}]
[null,"08","4:07～4:08",{"$f":"'入力シート(1分周期基準値)'!M20","v":0},0,0]
[null,"09","4:08～4:09",{"$f":"'入力シート(1分周期基準値)'!N20","v":0},0,0]
[null,"10","4:09～4:10",{"$f":"'入力シート(1分周期基準値)'!O20","v":0},0,0]
[null,"11","4:10～4:11",{"$f":"'入力シート(1分周期基準値)'!P20","v":0},0,0]
[null,"12","4:11～4:12",{"$f":"'入力シート(1分周期基準値)'!Q20","v":0},0,0]
[null,"13","4:12～4:13",{"$f":"'入力シート(1分周期基準値)'!R20","v":0},0,0]
[null,"14","4:13～4:14",{"$f":"'入力シート(1分周期基準値)'!S20","v":0},0,0]
[null,"15","4:14～4:15",{"$f":"'入力シート(1分周期基準値)'!T20","v":0},0,0]
[null,"16","4:15～4:16",{"$f":"'入力シート(1分周期基準値)'!U20","v":0},0,0]
[null,"17","4:16～4:17",{"$f":"'入力シート(1分周期基準値)'!V20","v":0},0,0]
[null,"18","4:17～4:18",{"$f":"'入力シート(1分周期基準値)'!W20","v":0},0,0]
[null,"19","4:18～4:19",{"$f":"'入力シート(1分周期基準値)'!X20","v":0},0,0]
[null,"20","4:19～4:20",{"$f":"'入力シート(1分周期基準値)'!Y20","v":0},0,0]
[null,"21","4:20～4:21",{"$f":"'入力シート(1分周期基準値)'!Z20","v":0},0,0]
[null,"22","4:21～4:22",{"$f":"'入力シート(1分周期基準値)'!AA20","v":0},0,0]
[null,"23","4:22～4:23",{"$f":"'入力シート(1分周期基準値)'!AB20","v":0},0,0]
[null,"24","4:23～4:24",{"$f":"'入力シート(1分周期基準値)'!AC20","v":0},0,0]
[null,"25","4:24～4:25",{"$f":"'入力シート(1分周期基準値)'!AD20","v":0},0,0]
[null,"26","4:25～4:26",{"$f":"'入力シート(1分周期基準値)'!AE20","v":0},0,0]
[null,"27","4:26～4:27",{"$f":"'入力シート(1分周期基準値)'!AF20","v":0},0,0]
[null,"28","4:27～4:28",{"$f":"'入力シート(1分周期基準値)'!AG20","v":0},0,0]
[null,"29","4:28～4:29",{"$f":"'入力シート(1分周期基準値)'!AH20","v":0},0,0]
[null,"30","4:29～4:30",{"$f":"'入力シート(1分周期基準値)'!AI20","v":0},0,0]
["10","01","4:30～4:31",{"$f":"'入力シート(1分周期基準値)'!F21","v":0},0,0]
[null,"02","4:31～4:32",{"$f":"'入力シート(1分周期基準値)'!G21","v":0},0,0]
[null,"03","4:32～4:33",{"$f":"'入力シート(1分周期基準値)'!H21","v":0},0,0]
[null,"04","4:33～4:34",{"$f":"'入力シート(1分周期基準値)'!I21","v":0},0,0]
[null,"05","4:34～4:35",{"$f":"'入力シート(1分周期基準値)'!J21","v":0},0,0]
[null,"06","4:35～4:36",{"$f":"'入力シート(1分周期基準値)'!K21","v":0},0,0]
[null,"07","4:36～4:37",{"$f":"'入力シート(1分周期基準値)'!L21","v":0},0,0]
[null,"08","4:37～4:38",{"$f":"'入力シート(1分周期基準値)'!M21","v":0},0,0]
[null,"09","4:38～4:39",{"$f":"'入力シート(1分周期基準値)'!N21","v":0},0,0]
[null,"10","4:39～4:40",{"$f":"'入力シート(1分周期基準値)'!O21","v":0},0,0]
[null,"11","4:40～4:41",{"$f":"'入力シート(1分周期基準値)'!P21","v":0},0,0]
[null,"12","4:41～4:42",{"$f":"'入力シート(1分周期基準値)'!Q21","v":0},0,0]
[null,"13","4:42～4:43",{"$f":"'入力シート(1分周期基準値)'!R21","v":0},0,0]
[null,"14","4:43～4:44",{"$f":"'入力シート(1分周期基準値)'!S21","v":0},0,0]
[null,"15","4:44～4:45",{"$f":"'入力シート(1分周期基準値)'!T21","v":0},0,0]
[null,"16","4:45～4:46",{"$f":"'入力シート(1分周期基準値)'!U21","v":0},0,0]
[null,"17","4:46～4:47",{"$f":"'入力シート(1分周期基準値)'!V21","v":0},0,0]
[null,"18","4:47～4:48",{"$f":"'入力シート(1分周期基準値)'!W21","v":0},0,0]
[null,"19","4:48～4:49",{"$f":"'入力シート(1分周期基準値)'!X21","v":0},0,0]
[null,"20","4:49～4:50",{"$f":"'入力シート(1分周期基準値)'!Y21","v":0},0,0]
[null,"21","4:50～4:51",{"$f":"'入力シート(1分周期基準値)'!Z21","v":0},0,0]
[null,"22","4:51～4:52",{"$f":"'入力シート(1分周期基準値)'!AA21","v":0},0,0]
[null,"23","4:52～4:53",{"$f":"'入力シート(1分周期基準値)'!AB21","v":0},0,0]
[null,"24","4:53～4:54",{"$f":"'入力シート(1分周期基準値)'!AC21","v":0},0,0]
[null,"25","4:54～4:55",{"$f":"'入力シート(1分周期基準値)'!AD21","v":0},0,0]
[null,"26","4:55～4:56",{"$f":"'入力シート(1分周期基準値)'!AE21","v":0},0,0]
[null,"27","4:56～4:57",{"$f":"'入力シート(1分周期基準値)'!AF21","v":0},0,0]
[null,"28","4:57～4:58",{"$f":"'入力シート(1分周期基準値)'!AG21","v":0},0,0]
[null,"29","4:58～4:59",{"$f":"'入力シート(1分周期基準値)'!AH21","v":0},0,0]
[null,"30","4:59～5:00",{"$f":"'入力シート(1分周期基準値)'!AI21","v":0},0,0]
["11","01","5:00～5:01",{"$f":"'入力シート(1分周期基準値)'!F22","v":0},0,0]
[null,"02","5:01～5:02",{"$f":"'入力シート(1分周期基準値)'!G22","v":0},0,0]
[null,"03","5:02～5:03",{"$f":"'入力シート(1分周期基準値)'!H22","v":0},0,0]
[null,"04","5:03～5:04",{"$f":"'入力シート(1分周期基準値)'!I22","v":0},0,0]
[null,"05","5:04～5:05",{"$f":"'入力シート(1分周期基準値)'!J22","v":0},0,0]
[null,"06","5:05～5:06",{"$f":"'入力シート(1分周期基準値)'!K22","v":0},0,0]
[null,"07","5:06～5:07",{"$f":"'入力シート(1分周期基準値)'!L22","v":0},0,0]
[null,"08","5:07～5:08",{"$f":"'入力シート(1分周期基準値)'!M22","v":0},0,0]
[null,"09","5:08～5:09",{"$f":"'入力シート(1分周期基準値)'!N22","v":0},0,0]
[null,"10","5:09～5:10",{"$f":"'入力シート(1分周期基準値)'!O22","v":0},0,0]
[null,"11","5:10～5:11",{"$f":"'入力シート(1分周期基準値)'!P22","v":0},{"$f":"F331-D331","v":0},{"$f":"IFERROR(ROUND(AVERAGE(G331:BN331),0),0)","v":0}]
[null,"12","5:11～5:12",{"$f":"'入力シート(1分周期基準値)'!Q22","v":0},0,0]
[null,"13","5:12～5:13",{"$f":"'入力シート(1分周期基準値)'!R22","v":0},0,0]
[null,"14","5:13～5:14",{"$f":"'入力シート(1分周期基準値)'!S22","v":0},0,0]
[null,"15","5:14～5:15",{"$f":"'入力シート(1分周期基準値)'!T22","v":0},0,0]
[null,"16","5:15～5:16",{"$f":"'入力シート(1分周期基準値)'!U22","v":0},0,0]
[null,"17","5:16～5:17",{"$f":"'入力シート(1分周期基準値)'!V22","v":0},0,0]
[null,"18","5:17～5:18",{"$f":"'入力シート(1分周期基準値)'!W22","v":0},0,0]
[null,"19","5:18～5:19",{"$f":"'入力シート(1分周期基準値)'!X22","v":0},0,0]
[null,"20","5:19～5:20",{"$f":"'入力シート(1分周期基準値)'!Y22","v":0},0,0]
[null,"21","5:20～5:21",{"$f":"'入力シート(1分周期基準値)'!Z22","v":0},0,0]
[null,"22","5:21～5:22",{"$f":"'入力シート(1分周期基準値)'!AA22","v":0},0,0]
[null,"23","5:22～5:23",{"$f":"'入力シート(1分周期基準値)'!AB22","v":0},0,0]
[null,"24","5:23～5:24",{"$f":"'入力シート(1分周期基準値)'!AC22","v":0},0,0]
[null,"25","5:24～5:25",{"$f":"'入力シート(1分周期基準値)'!AD22","v":0},0,0]
[null,"26","5:25～5:26",{"$f":"'入力シート(1分周期基準値)'!AE22","v":0},0,0]
[null,"27","5:26～5:27",{"$f":"'入力シート(1分周期基準値)'!AF22","v":0},0,0]
[null,"28","5:27～5:28",{"$f":"'入力シート(1分周期基準値)'!AG22","v":0},0,0]
[null,"29","5:28～5:29",{"$f":"'入力シート(1分周期基準値)'!AH22","v":0},0,0]
[null,"30","5:29～5:30",{"$f":"'入力シート(1分周期基準値)'!AI22","v":0},0,0]
["12","01","5:30～5:31",{"$f":"'入力シート(1分周期基準値)'!F23","v":0},0,0]
[null,"02","5:31～5:32",{"$f":"'入力シート(1分周期基準値)'!G23","v":0},0,0]
[null,"03","5:32～5:33",{"$f":"'入力シート(1分周期基準値)'!H23","v":0},0,0]
[null,"04","5:33～5:34",{"$f":"'入力シート(1分周期基準値)'!I23","v":0},0,0]
[null,"05","5:34～5:35",{"$f":"'入力シート(1分周期基準値)'!J23","v":0},0,0]
[null,"06","5:35～5:36",{"$f":"'入力シート(1分周期基準値)'!K23","v":0},0,0]
[null,"07","5:36～5:37",{"$f":"'入力シート(1分周期基準値)'!L23","v":0},0,0]
[null,"08","5:37～5:38",{"$f":"'入力シート(1分周期基準値)'!M23","v":0},0,0]
[null,"09","5:38～5:39",{"$f":"'入力シート(1分周期基準値)'!N23","v":0},0,0]
[null,"10","5:39～5:40",{"$f":"'入力シート(1分周期基準値)'!O23","v":0},0,0]
[null,"11","5:40～5:41",{"$f":"'入力シート(1分周期基準値)'!P23","v":0},0,0]
[null,"12","5:41～5:42",{"$f":"'入力シート(1分周期基準値)'!Q23","v":0},0,0]
[null,"13","5:42～5:43",{"$f":"'入力シート(1分周期基準値)'!R23","v":0},0,0]
[null,"14","5:43～5:44",{"$f":"'入力シート(1分周期基準値)'!S23","v":0},0,0]
[null,"15","5:44～5:45",{"$f":"'入力シート(1分周期基準値)'!T23","v":0},0,0]
[null,"16","5:45～5:46",{"$f":"'入力シート(1分周期基準値)'!U23","v":0},0,0]
[null,"17","5:46～5:47",{"$f":"'入力シート(1分周期基準値)'!V23","v":0},0,0]
[null,"18","5:47～5:48",{"$f":"'入力シート(1分周期基準値)'!W23","v":0},0,0]
[null,"19","5:48～5:49",{"$f":"'入力シート(1分周期基準値)'!X23","v":0},0,0]
[null,"20","5:49～5:50",{"$f":"'入力シート(1分周期基準値)'!Y23","v":0},0,0]
[null,"21","5:50～5:51",{"$f":"'入力シート(1分周期基準値)'!Z23","v":0},0,0]
[null,"22","5:51～5:52",{"$f":"'入力シート(1分周期基準値)'!AA23","v":0},0,0]
[null,"23","5:52～5:53",{"$f":"'入力シート(1分周期基準値)'!AB23","v":0},0,0]
[null,"24","5:53～5:54",{"$f":"'入力シート(1分周期基準値)'!AC23","v":0},0,0]
[null,"25","5:54～5:55",{"$f":"'入力シート(1分周期基準値)'!AD23","v":0},0,0]
[null,"26","5:55～5:56",{"$f":"'入力シート(1分周期基準値)'!AE23","v":0},0,0]
[null,"27","5:56～5:57",{"$f":"'入力シート(1分周期基準値)'!AF23","v":0},0,0]
[null,"28","5:57～5:58",{"$f":"'入力シート(1分周期基準値)'!AG23","v":0},0,0]
[null,"29","5:58～5:59",{"$f":"'入力シート(1分周期基準値)'!AH23","v":0},0,0]
[null,"30","5:59～6:00",{"$f":"'入力シート(1分周期基準値)'!AI23","v":0},0,0]
["13","01","6:00～6:01",{"$f":"'入力シート(1分周期基準値)'!F24","v":0},0,0]
[null,"02","6:01～6:02",{"$f":"'入力シート(1分周期基準値)'!G24","v":0},0,0]
[null,"03","6:02～6:03",{"$f":"'入力シート(1分周期基準値)'!H24","v":0},0,0]
[null,"04","6:03～6:04",{"$f":"'入力シート(1分周期基準値)'!I24","v":0},0,0]
[null,"05","6:04～6:05",{"$f":"'入力シート(1分周期基準値)'!J24","v":0},0,0]
[null,"06","6:05～6:06",{"$f":"'入力シート(1分周期基準値)'!K24","v":0},0,0]
[null,"07","6:06～6:07",{"$f":"'入力シート(1分周期基準値)'!L24","v":0},0,0]
[null,"08","6:07～6:08",{"$f":"'入力シート(1分周期基準値)'!M24","v":0},0,0]
[null,"09","6:08～6:09",{"$f":"'入力シート(1分周期基準値)'!N24","v":0},0,0]
[null,"10","6:09～6:10",{"$f":"'入力シート(1分周期基準値)'!O24","v":0},0,0]
[null,"11","6:10～6:11",{"$f":"'入力シート(1分周期基準値)'!P24","v":0},0,0]
[null,"12","6:11～6:12",{"$f":"'入力シート(1分周期基準値)'!Q24","v":0},0,0]
[null,"13","6:12～6:13",{"$f":"'入力シート(1分周期基準値)'!R24","v":0},0,0]
[null,"14","6:13～6:14",{"$f":"'入力シート(1分周期基準値)'!S24","v":0},0,0]
[null,"15","6:14～6:15",{"$f":"'入力シート(1分周期基準値)'!T24","v":0},{"$f":"F395-D395","v":0},{"$f":"IFERROR(ROUND(AVERAGE(G395:BN395),0),0)","v":0}]
[null,"16","6:15～6:16",{"$f":"'入力シート(1分周期基準値)'!U24","v":0},0,0]
[null,"17","6:16～6:17",{"$f":"'入力シート(1分周期基準値)'!V24","v":0},0,0]
[null,"18","6:17～6:18",{"$f":"'入力シート(1分周期基準値)'!W24","v":0},0,0]
[null,"19","6:18～6:19",{"$f":"'入力シート(1分周期基準値)'!X24","v":0},0,0]
[null,"20","6:19～6:20",{"$f":"'入力シート(1分周期基準値)'!Y24","v":0},0,0]
[null,"21","6:20～6:21",{"$f":"'入力シート(1分周期基準値)'!Z24","v":0},0,0]
[null,"22","6:21～6:22",{"$f":"'入力シート(1分周期基準値)'!AA24","v":0},0,0]
[null,"23","6:22～6:23",{"$f":"'入力シート(1分周期基準値)'!AB24","v":0},0,0]
[null,"24","6:23～6:24",{"$f":"'入力シート(1分周期基準値)'!AC24","v":0},0,0]
[null,"25","6:24～6:25",{"$f":"'入力シート(1分周期基準値)'!AD24","v":0},0,0]
[null,"26","6:25～6:26",{"$f":"'入力シート(1分周期基準値)'!AE24","v":0},0,0]
[null,"27","6:26～6:27",{"$f":"'入力シート(1分周期基準値)'!AF24","v":0},0,0]
[null,"28","6:27～6:28",{"$f":"'入力シート(1分周期基準値)'!AG24","v":0},0,0]
[null,"29","6:28～6:29",{"$f":"'入力シート(1分周期基準値)'!AH24","v":0},0,0]
[null,"30","6:29～6:30",{"$f":"'入力シート(1分周期基準値)'!AI24","v":0},0,0]
["14","01","6:30～6:31",{"$f":"'入力シート(1分周期基準値)'!F25","v":0},0,0]
[null,"02","6:31～6:32",{"$f":"'入力シート(1分周期基準値)'!G25","v":0},0,0]
[null,"03","6:32～6:33",{"$f":"'入力シート(1分周期基準値)'!H25","v":0},0,0]
[null,"04","6:33～6:34",{"$f":"'入力シート(1分周期基準値)'!I25","v":0},0,0]
[null,"05","6:34～6:35",{"$f":"'入力シート(1分周期基準値)'!J25","v":0},0,0]
[null,"06","6:35～6:36",{"$f":"'入力シート(1分周期基準値)'!K25","v":0},0,0]
[null,"07","6:36～6:37",{"$f":"'入力シート(1分周期基準値)'!L25","v":0},0,0]
[null,"08","6:37～6:38",{"$f":"'入力シート(1分周期基準値)'!M25","v":0},0,0]
[null,"09","6:38～6:39",{"$f":"'入力シート(1分周期基準値)'!N25","v":0},0,0]
[null,"10","6:39～6:40",{"$f":"'入力シート(1分周期基準値)'!O25","v":0},0,0]
[null,"11","6:40～6:41",{"$f":"'入力シート(1分周期基準値)'!P25","v":0},0,0]
[null,"12","6:41～6:42",{"$f":"'入力シート(1分周期基準値)'!Q25","v":0},0,0]
[null,"13","6:42～6:43",{"$f":"'入力シート(1分周期基準値)'!R25","v":0},0,0]
[null,"14","6:43～6:44",{"$f":"'入力シート(1分周期基準値)'!S25","v":0},0,0]
[null,"15","6:44～6:45",{"$f":"'入力シート(1分周期基準値)'!T25","v":0},0,0]
[null,"16","6:45～6:46",{"$f":"'入力シート(1分周期基準値)'!U25","v":0},0,0]
[null,"17","6:46～6:47",{"$f":"'入力シート(1分周期基準値)'!V25","v":0},0,0]
[null,"18","6:47～6:48",{"$f":"'入力シート(1分周期基準値)'!W25","v":0},0,0]
[null,"19","6:48～6:49",{"$f":"'入力シート(1分周期基準値)'!X25","v":0},0,0]
[null,"20","6:49～6:50",{"$f":"'入力シート(1分周期基準値)'!Y25","v":0},0,0]
[null,"21","6:50～6:51",{"$f":"'入力シート(1分周期基準値)'!Z25","v":0},0,0]
[null,"22","6:51～6:52",{"$f":"'入力シート(1分周期基準値)'!AA25","v":0},0,0]
[null,"23","6:52～6:53",{"$f":"'入力シート(1分周期基準値)'!AB25","v":0},0,0]
[null,"24","6:53～6:54",{"$f":"'入力シート(1分周期基準値)'!AC25","v":0},0,0]
[null,"25","6:54～6:55",{"$f":"'入力シート(1分周期基準値)'!AD25","v":0},0,0]
[null,"26","6:55～6:56",{"$f":"'入力シート(1分周期基準値)'!AE25","v":0},0,0]
[null,"27","6:56～6:57",{"$f":"'入力シート(1分周期基準値)'!AF25","v":0},0,0]
[null,"28","6:57～6:58",{"$f":"'入力シート(1分周期基準値)'!AG25","v":0},0,0]
[null,"29","6:58～6:59",{"$f":"'入力シート(1分周期基準値)'!AH25","v":0},0,0]
[null,"30","6:59～7:00",{"$f":"'入力シート(1分周期基準値)'!AI25","v":0},0,0]
["15","01","7:00～7:01",{"$f":"'入力シート(1分周期基準値)'!F26","v":0},0,0]
[null,"02","7:01～7:02",{"$f":"'入力シート(1分周期基準値)'!G26","v":0},0,0]
[null,"03","7:02～7:03",{"$f":"'入力シート(1分周期基準値)'!H26","v":0},0,0]
[null,"04","7:03～7:04",{"$f":"'入力シート(1分周期基準値)'!I26","v":0},0,0]
[null,"05","7:04～7:05",{"$f":"'入力シート(1分周期基準値)'!J26","v":0},0,0]
[null,"06","7:05～7:06",{"$f":"'入力シート(1分周期基準値)'!K26","v":0},0,0]
[null,"07","7:06～7:07",{"$f":"'入力シート(1分周期基準値)'!L26","v":0},0,0]
[null,"08","7:07～7:08",{"$f":"'入力シート(1分周期基準値)'!M26","v":0},0,0]
[null,"09","7:08～7:09",{"$f":"'入力シート(1分周期基準値)'!N26","v":0},0,0]
[null,"10","7:09～7:10",{"$f":"'入力シート(1分周期基準値)'!O26","v":0},0,0]
[null,"11","7:10～7:11",{"$f":"'入力シート(1分周期基準値)'!P26","v":0},0,0]
[null,"12","7:11～7:12",{"$f":"'入力シート(1分周期基準値)'!Q26","v":0},0,0]
[null,"13","7:12～7:13",{"$f":"'入力シート(1分周期基準値)'!R26","v":0},0,0]
[null,"14","7:13～7:14",{"$f":"'入力シート(1分周期基準値)'!S26","v":0},0,0]
[null,"15","7:14～7:15",{"$f":"'入力シート(1分周期基準値)'!T26","v":0},0,0]
[null,"16","7:15～7:16",{"$f":"'入力シート(1分周期基準値)'!U26","v":0},0,0]
[null,"17","7:16～7:17",{"$f":"'入力シート(1分周期基準値)'!V26","v":0},0,0]
[null,"18","7:17～7:18",{"$f":"'入力シート(1分周期基準値)'!W26","v":0},0,0]
[null,"19","7:18～7:19",{"$f":"'入力シート(1分周期基準値)'!X26","v":0},{"$f":"F459-D459","v":0},{"$f":"IFERROR(ROUND(AVERAGE(G459:BN459),0),0)","v":0}]
[null,"20","7:19～7:20",{"$f":"'入力シート(1分周期基準値)'!Y26","v":0},0,0]
[null,"21","7:20～7:21",{"$f":"'入力シート(1分周期基準値)'!Z26","v":0},0,0]
[null,"22","7:21～7:22",{"$f":"'入力シート(1分周期基準値)'!AA26","v":0},0,0]
[null,"23","7:22～7:23",{"$f":"'入力シート(1分周期基準値)'!AB26","v":0},0,0]
[null,"24","7:23～7:24",{"$f":"'入力シート(1分周期基準値)'!AC26","v":0},0,0]
[null,"25","7:24～7:25",{"$f":"'入力シート(1分周期基準値)'!AD26","v":0},0,0]
[null,"26","7:25～7:26",{"$f":"'入力シート(1分周期基準値)'!AE26","v":0},0,0]
[null,"27","7:26～7:27",{"$f":"'入力シート(1分周期基準値)'!AF26","v":0},0,0]
[null,"28","7:27～7:28",{"$f":"'入力シート(1分周期基準値)'!AG26","v":0},0,0]
[null,"29","7:28～7:29",{"$f":"'入力シート(1分周期基準値)'!AH26","v":0},0,0]
[null,"30","7:29～7:30",{"$f":"'入力シート(1分周期基準値)'!AI26","v":0},0,0]
["16","01","7:30～7:31",{"$f":"'入力シート(1分周期基準値)'!F27","v":0},0,0]
[null,"02","7:31～7:32",{"$f":"'入力シート(1分周期基準値)'!G27","v":0},0,0]
[null,"03","7:32～7:33",{"$f":"'入力シート(1分周期基準値)'!H27","v":0},0,0]
[null,"04","7:33～7:34",{"$f":"'入力シート(1分周期基準値)'!I27","v":0},0,0]
[null,"05","7:34～7:35",{"$f":"'入力シート(1分周期基準値)'!J27","v":0},0,0]
[null,"06","7:35～7:36",{"$f":"'入力シート(1分周期基準値)'!K27","v":0},0,0]
[null,"07","7:36～7:37",{"$f":"'入力シート(1分周期基準値)'!L27","v":0},0,0]
[null,"08","7:37～7:38",{"$f":"'入力シート(1分周期基準値)'!M27","v":0},0,0]
[null,"09","7:38～7:39",{"$f":"'入力シート(1分周期基準値)'!N27","v":0},0,0]
[null,"10","7:39～7:40",{"$f":"'入力シート(1分周期基準値)'!O27","v":0},0,0]
[null,"11","7:40～7:41",{"$f":"'入力シート(1分周期基準値)'!P27","v":0},0,0]
[null,"12","7:41～7:42",{"$f":"'入力シート(1分周期基準値)'!Q27","v":0},0,0]
[null,"13","7:42～7:43",{"$f":"'入力シート(1分周期基準値)'!R27","v":0},0,0]
[null,"14","7:43～7:44",{"$f":"'入力シート(1分周期基準値)'!S27","v":0},0,0]
[null,"15","7:44～7:45",{"$f":"'入力シート(1分周期基準値)'!T27","v":0},0,0]
[null,"16","7:45～7:46",{"$f":"'入力シート(1分周期基準値)'!U27","v":0},0,0]
[null,"17","7:46～7:47",{"$f":"'入力シート(1分周期基準値)'!V27","v":0},0,0]
[null,"18","7:47～7:48",{"$f":"'入力シート(1分周期基準値)'!W27","v":0},0,0]
[null,"19","7:48～7:49",{"$f":"'入力シート(1分周期基準値)'!X27","v":0},0,0]
[null,"20","7:49～7:50",{"$f":"'入力シート(1分周期基準値)'!Y27","v":0},0,0]
[null,"21","7:50～7:51",{"$f":"'入力シート(1分周期基準値)'!Z27","v":0},0,0]
[null,"22","7:51～7:52",{"$f":"'入力シート(1分周期基準値)'!AA27","v":0},0,0]
[null,"23","7:52～7:53",{"$f":"'入力シート(1分周期基準値)'!AB27","v":0},0,0]
[null,"24","7:53～7:54",{"$f":"'入力シート(1分周期基準値)'!AC27","v":0},0,0]
[null,"25","7:54～7:55",{"$f":"'入力シート(1分周期基準値)'!AD27","v":0},0,0]
[null,"26","7:55～7:56",{"$f":"'入力シート(1分周期基準値)'!AE27","v":0},0,0]
[null,"27","7:56～7:57",{"$f":"'入力シート(1分周期基準値)'!AF27","v":0},0,0]
[null,"28","7:57～7:58",{"$f":"'入力シート(1分周期基準値)'!AG27","v":0},0,0]
[null,"29","7:58～7:59",{"$f":"'入力シート(1分周期基準値)'!AH27","v":0},0,0]
[null,"30","7:59～8:00",{"$f":"'入力シート(1分周期基準値)'!AI27","v":0},0,0]
["17","01","8:00～8:01",{"$f":"'入力シート(1分周期基準値)'!F28","v":0},0,0]
[null,"02","8:01～8:02",{"$f":"'入力シート(1分周期基準値)'!G28","v":0},0,0]
[null,"03","8:02～8:03",{"$f":"'入力シート(1分周期基準値)'!H28","v":0},0,0]
[null,"04","8:03～8:04",{"$f":"'入力シート(1分周期基準値)'!I28","v":0},0,0]
[null,"05","8:04～8:05",{"$f":"'入力シート(1分周期基準値)'!J28","v":0},0,0]
[null,"06","8:05～8:06",{"$f":"'入力シート(1分周期基準値)'!K28","v":0},0,0]
[null,"07","8:06～8:07",{"$f":"'入力シート(1分周期基準値)'!L28","v":0},0,0]
[null,"08","8:07～8:08",{"$f":"'入力シート(1分周期基準値)'!M28","v":0},0,0]
[null,"09","8:08～8:09",{"$f":"'入力シート(1分周期基準値)'!N28","v":0},0,0]
[null,"10","8:09～8:10",{"$f":"'入力シート(1分周期基準値)'!O28","v":0},0,0]
[null,"11","8:10～8:11",{"$f":"'入力シート(1分周期基準値)'!P28","v":0},0,0]
[null,"12","8:11～8:12",{"$f":"'入力シート(1分周期基準値)'!Q28","v":0},0,0]
[null,"13","8:12～8:13",{"$f":"'入力シート(1分周期基準値)'!R28","v":0},0,0]
[null,"14","8:13～8:14",{"$f":"'入力シート(1分周期基準値)'!S28","v":0},0,0]
[null,"15","8:14～8:15",{"$f":"'入力シート(1分周期基準値)'!T28","v":0},0,0]
[null,"16","8:15～8:16",{"$f":"'入力シート(1分周期基準値)'!U28","v":0},0,0]
[null,"17","8:16～8:17",{"$f":"'入力シート(1分周期基準値)'!V28","v":0},0,0]
[null,"18","8:17～8:18",{"$f":"'入力シート(1分周期基準値)'!W28","v":0},0,0]
[null,"19","8:18～8:19",{"$f":"'入力シート(1分周期基準値)'!X28","v":0},0,0]
[null,"20","8:19～8:20",{"$f":"'入力シート(1分周期基準値)'!Y28","v":0},0,0]
[null,"21","8:20～8:21",{"$f":"'入力シート(1分周期基準値)'!Z28","v":0},0,0]
[null,"22","8:21～8:22",{"$f":"'入力シート(1分周期基準値)'!AA28","v":0},0,0]
[null,"23","8:22～8:23",{"$f":"'入力シート(1分周期基準値)'!AB28","v":0},{"$f":"F523-D523","v":0},{"$f":"IFERROR(ROUND(AVERAGE(G523:BN523),0),0)","v":0}]
[null,"24","8:23～8:24",{"$f":"'入力シート(1分周期基準値)'!AC28","v":0},0,0]
[null,"25","8:24～8:25",{"$f":"'入力シート(1分周期基準値)'!AD28","v":0},0,0]
[null,"26","8:25～8:26",{"$f":"'入力シート(1分周期基準値)'!AE28","v":0},0,0]
[null,"27","8:26～8:27",{"$f":"'入力シート(1分周期基準値)'!AF28","v":0},0,0]
[null,"28","8:27～8:28",{"$f":"'入力シート(1分周期基準値)'!AG28","v":0},0,0]
[null,"29","8:28～8:29",{"$f":"'入力シート(1分周期基準値)'!AH28","v":0},0,0]
[null,"30","8:29～8:30",{"$f":"'入力シート(1分周期基準値)'!AI28","v":0},0,0]
["18","01","8:30～8:31",{"$f":"'入力シート(1分周期基準値)'!F29","v":0},0,0]
[null,"02","8:31～8:32",{"$f":"'入力シート(1分周期基準値)'!G29","v":0},0,0]
[null,"03","8:32～8:33",{"$f":"'入力シート(1分周期基準値)'!H29","v":0},0,0]
[null,"04","8:33～8:34",{"$f":"'入力シート(1分周期基準値)'!I29","v":0},0,0]
[null,"05","8:34～8:35",{"$f":"'入力シート(1分周期基準値)'!J29","v":0},0,0]
[null,"06","8:35～8:36",{"$f":"'入力シート(1分周期基準値)'!K29","v":0},0,0]
[null,"07","8:36～8:37",{"$f":"'入力シート(1分周期基準値)'!L29","v":0},0,0]
[null,"08","8:37～8:38",{"$f":"'入力シート(1分周期基準値)'!M29","v":0},0,0]
[null,"09","8:38～8:39",{"$f":"'入力シート(1分周期基準値)'!N29","v":0},0,0]
[null,"10","8:39～8:40",{"$f":"'入力シート(1分周期基準値)'!O29","v":0},0,0]
[null,"11","8:40～8:41",{"$f":"'入力シート(1分周期基準値)'!P29","v":0},0,0]
[null,"12","8:41～8:42",{"$f":"'入力シート(1分周期基準値)'!Q29","v":0},0,0]
[null,"13","8:42～8:43",{"$f":"'入力シート(1分周期基準値)'!R29","v":0},0,0]
[null,"14","8:43～8:44",{"$f":"'入力シート(1分周期基準値)'!S29","v":0},0,0]
[null,"15","8:44～8:45",{"$f":"'入力シート(1分周期基準値)'!T29","v":0},0,0]
[null,"16","8:45～8:46",{"$f":"'入力シート(1分周期基準値)'!U29","v":0},0,0]
[null,"17","8:46～8:47",{"$f":"'入力シート(1分周期基準値)'!V29","v":0},0,0]
[null,"18","8:47～8:48",{"$f":"'入力シート(1分周期基準値)'!W29","v":0},0,0]
[null,"19","8:48～8:49",{"$f":"'入力シート(1分周期基準値)'!X29","v":0},0,0]
[null,"20","8:49～8:50",{"$f":"'入力シート(1分周期基準値)'!Y29","v":0},0,0]
[null,"21","8:50～8:51",{"$f":"'入力シート(1分周期基準値)'!Z29","v":0},0,0]
[null,"22","8:51～8:52",{"$f":"'入力シート(1分周期基準値)'!AA29","v":0},0,0]
[null,"23","8:52～8:53",{"$f":"'入力シート(1分周期基準値)'!AB29","v":0},0,0]
[null,"24","8:53～8:54",{"$f":"'入力シート(1分周期基準値)'!AC29","v":0},0,0]
[null,"25","8:54～8:55",{"$f":"'入力シート(1分周期基準値)'!AD29","v":0},0,0]
[null,"26","8:55～8:56",{"$f":"'入力シート(1分周期基準値)'!AE29","v":0},0,0]
[null,"27","8:56～8:57",{"$f":"'入力シート(1分周期基準値)'!AF29","v":0},0,0]
[null,"28","8:57～8:58",{"$f":"'入力シート(1分周期基準値)'!AG29","v":0},0,0]
[null,"29","8:58～8:59",{"$f":"'入力シート(1分周期基準値)'!AH29","v":0},0,0]
[null,"30","8:59～9:00",{"$f":"'入力シート(1分周期基準値)'!AI29","v":0},0,0]
["19","01","9:00～9:01",{"$f":"'入力シート(1分周期基準値)'!F30","v":0},0,0]
[null,"02","9:01～9:02",{"$f":"'入力シート(1分周期基準値)'!G30","v":0},0,0]
[null,"03","9:02～9:03",{"$f":"'入力シート(1分周期基準値)'!H30","v":0},0,0]
[null,"04","9:03～9:04",{"$f":"'入力シート(1分周期基準値)'!I30","v":0},0,0]
[null,"05","9:04～9:05",{"$f":"'入力シート(1分周期基準値)'!J30","v":0},0,0]
[null,"06","9:05～9:06",{"$f":"'入力シート(1分周期基準値)'!K30","v":0},0,0]
[null,"07","9:06～9:07",{"$f":"'入力シート(1分周期基準値)'!L30","v":0},0,0]
[null,"08","9:07～9:08",{"$f":"'入力シート(1分周期基準値)'!M30","v":0},0,0]
[null,"09","9:08～9:09",{"$f":"'入力シート(1分周期基準値)'!N30","v":0},0,0]
[null,"10","9:09～9:10",{"$f":"'入力シート(1分周期基準値)'!O30","v":0},0,0]
[null,"11","9:10～9:11",{"$f":"'入力シート(1分周期基準値)'!P30","v":0},0,0]
[null,"12","9:11～9:12",{"$f":"'入力シート(1分周期基準値)'!Q30","v":0},0,0]
[null,"13","9:12～9:13",{"$f":"'入力シート(1分周期基準値)'!R30","v":0},0,0]
[null,"14","9:13～9:14",{"$f":"'入力シート(1分周期基準値)'!S30","v":0},0,0]
[null,"15","9:14～9:15",{"$f":"'入力シート(1分周期基準値)'!T30","v":0},0,0]
[null,"16","9:15～9:16",{"$f":"'入力シート(1分周期基準値)'!U30","v":0},0,0]
[null,"17","9:16～9:17",{"$f":"'入力シート(1分周期基準値)'!V30","v":0},0,0]
[null,"18","9:17～9:18",{"$f":"'入力シート(1分周期基準値)'!W30","v":0},0,0]
[null,"19","9:18～9:19",{"$f":"'入力シート(1分周期基準値)'!X30","v":0},0,0]
[null,"20","9:19～9:20",{"$f":"'入力シート(1分周期基準値)'!Y30","v":0},0,0]
[null,"21","9:20～9:21",{"$f":"'入力シート(1分周期基準値)'!Z30","v":0},0,0]
[null,"22","9:21～9:22",{"$f":"'入力シート(1分周期基準値)'!AA30","v":0},0,0]
[null,"23","9:22～9:23",{"$f":"'入力シート(1分周期基準値)'!AB30","v":0},0,0]
[null,"24","9:23～9:24",{"$f":"'入力シート(1分周期基準値)'!AC30","v":0},0,0]
[null,"25","9:24～9:25",{"$f":"'入力シート(1分周期基準値)'!AD30","v":0},0,0]
[null,"26","9:25～9:26",{"$f":"'入力シート(1分周期基準値)'!AE30","v":0},0,0]
[null,"27","9:26～9:27",{"$f":"'入力シート(1分周期基準値)'!AF30","v":0},{"$f":"F587-D587","v":0},{"$f":"IFERROR(ROUND(AVERAGE(G587:BN587),0),0)","v":0}]
[null,"28","9:27～9:28",{"$f":"'入力シート(1分周期基準値)'!AG30","v":0},0,0]
[null,"29","9:28～9:29",{"$f":"'入力シート(1分周期基準値)'!AH30","v":0},0,0]
[null,"30","9:29～9:30",{"$f":"'入力シート(1分周期基準値)'!AI30","v":0},0,0]
["20","01","9:30～9:31",{"$f":"'入力シート(1分周期基準値)'!F31","v":0},0,0]
[null,"02","9:31～9:32",{"$f":"'入力シート(1分周期基準値)'!G31","v":0},0,0]
[null,"03","9:32～9:33",{"$f":"'入力シート(1分周期基準値)'!H31","v":0},0,0]
[null,"04","9:33～9:34",{"$f":"'入力シート(1分周期基準値)'!I31","v":0},0,0]
[null,"05","9:34～9:35",{"$f":"'入力シート(1分周期基準値)'!J31","v":0},0,0]
[null,"06","9:35～9:36",{"$f":"'入力シート(1分周期基準値)'!K31","v":0},0,0]
[null,"07","9:36～9:37",{"$f":"'入力シート(1分周期基準値)'!L31","v":0},0,0]
[null,"08","9:37～9:38",{"$f":"'入力シート(1分周期基準値)'!M31","v":0},0,0]
[null,"09","9:38～9:39",{"$f":"'入力シート(1分周期基準値)'!N31","v":0},0,0]
[null,"10","9:39～9:40",{"$f":"'入力シート(1分周期基準値)'!O31","v":0},0,0]
[null,"11","9:40～9:41",{"$f":"'入力シート(1分周期基準値)'!P31","v":0},0,0]
[null,"12","9:41～9:42",{"$f":"'入力シート(1分周期基準値)'!Q31","v":0},0,0]
[null,"13","9:42～9:43",{"$f":"'入力シート(1分周期基準値)'!R31","v":0},0,0]
[null,"14","9:43～9:44",{"$f":"'入力シート(1分周期基準値)'!S31","v":0},0,0]
[null,"15","9:44～9:45",{"$f":"'入力シート(1分周期基準値)'!T31","v":0},0,0]
[null,"16","9:45～9:46",{"$f":"'入力シート(1分周期基準値)'!U31","v":0},0,0]
[null,"17","9:46～9:47",{"$f":"'入力シート(1分周期基準値)'!V31","v":0},0,0]
[null,"18","9:47～9:48",{"$f":"'入力シート(1分周期基準値)'!W31","v":0},0,0]
[null,"19","9:48～9:49",{"$f":"'入力シート(1分周期基準値)'!X31","v":0},0,0]
[null,"20","9:49～9:50",{"$f":"'入力シート(1分周期基準値)'!Y31","v":0},0,0]
[null,"21","9:50～9:51",{"$f":"'入力シート(1分周期基準値)'!Z31","v":0},0,0]
[null,"22","9:51～9:52",{"$f":"'入力シート(1分周期基準値)'!AA31","v":0},0,0]
[null,"23","9:52～9:53",{"$f":"'入力シート(1分周期基準値)'!AB31","v":0},0,0]
[null,"24","9:53～9:54",{"$f":"'入力シート(1分周期基準値)'!AC31","v":0},0,0]
[null,"25","9:54～9:55",{"$f":"'入力シート(1分周期基準値)'!AD31","v":0},0,0]
[null,"26","9:55～9:56",{"$f":"'入力シート(1分周期基準値)'!AE31","v":0},0,0]
[null,"27","9:56～9:57",{"$f":"'入力シート(1分周期基準値)'!AF31","v":0},0,0]
[null,"28","9:57～9:58",{"$f":"'入力シート(1分周期基準値)'!AG31","v":0},0,0]
[null,"29","9:58～9:59",{"$f":"'入力シート(1分周期基準値)'!AH31","v":0},0,0]
[null,"30","9:59～10:00",{"$f":"'入力シート(1分周期基準値)'!AI31","v":0},0,0]
["21","01","10:00～10:01",{"$f":"'入力シート(1分周期基準値)'!F32","v":0},0,0]
[null,"02","10:01～10:02",{"$f":"'入力シート(1分周期基準値)'!G32","v":0},0,0]
[null,"03","10:02～10:03",{"$f":"'入力シート(1分周期基準値)'!H32","v":0},0,0]
[null,"04","10:03～10:04",{"$f":"'入力シート(1分周期基準値)'!I32","v":0},0,0]
[null,"05","10:04～10:05",{"$f":"'入力シート(1分周期基準値)'!J32","v":0},0,0]
[null,"06","10:05～10:06",{"$f":"'入力シート(1分周期基準値)'!K32","v":0},0,0]
[null,"07","10:06～10:07",{"$f":"'入力シート(1分周期基準値)'!L32","v":0},0,0]
[null,"08","10:07～10:08",{"$f":"'入力シート(1分周期基準値)'!M32","v":0},0,0]
[null,"09","10:08～10:09",{"$f":"'入力シート(1分周期基準値)'!N32","v":0},0,0]
[null,"10","10:09～10:10",{"$f":"'入力シート(1分周期基準値)'!O32","v":0},0,0]
[null,"11","10:10～10:11",{"$f":"'入力シート(1分周期基準値)'!P32","v":0},0,0]
[null,"12","10:11～10:12",{"$f":"'入力シート(1分周期基準値)'!Q32","v":0},0,0]
[null,"13","10:12～10:13",{"$f":"'入力シート(1分周期基準値)'!R32","v":0},0,0]
[null,"14","10:13～10:14",{"$f":"'入力シート(1分周期基準値)'!S32","v":0},0,0]
[null,"15","10:14～10:15",{"$f":"'入力シート(1分周期基準値)'!T32","v":0},0,0]
[null,"16","10:15～10:16",{"$f":"'入力シート(1分周期基準値)'!U32","v":0},0,0]
[null,"17","10:16～10:17",{"$f":"'入力シート(1分周期基準値)'!V32","v":0},0,0]
[null,"18","10:17～10:18",{"$f":"'入力シート(1分周期基準値)'!W32","v":0},0,0]
[null,"19","10:18～10:19",{"$f":"'入力シート(1分周期基準値)'!X32","v":0},0,0]
[null,"20","10:19～10:20",{"$f":"'入力シート(1分周期基準値)'!Y32","v":0},0,0]
[null,"21","10:20～10:21",{"$f":"'入力シート(1分周期基準値)'!Z32","v":0},0,0]
[null,"22","10:21～10:22",{"$f":"'入力シート(1分周期基準値)'!AA32","v":0},0,0]
[null,"23","10:22～10:23",{"$f":"'入力シート(1分周期基準値)'!AB32","v":0},0,0]
[null,"24","10:23～10:24",{"$f":"'入力シート(1分周期基準値)'!AC32","v":0},0,0]
[null,"25","10:24～10:25",{"$f":"'入力シート(1分周期基準値)'!AD32","v":0},0,0]
[null,"26","10:25～10:26",{"$f":"'入力シート(1分周期基準値)'!AE32","v":0},0,0]
[null,"27","10:26～10:27",{"$f":"'入力シート(1分周期基準値)'!AF32","v":0},0,0]
[null,"28","10:27～10:28",{"$f":"'入力シート(1分周期基準値)'!AG32","v":0},0,0]
[null,"29","10:28～10:29",{"$f":"'入力シート(1分周期基準値)'!AH32","v":0},0,0]
[null,"30","10:29～10:30",{"$f":"'入力シート(1分周期基準値)'!AI32","v":0},0,0]
["22","01","10:30～10:31",{"$f":"'入力シート(1分周期基準値)'!F33","v":0},{"$f":"F651-D651","v":0},{"$f":"IFERROR(ROUND(AVERAGE(G651:BN651),0),0)","v":0}]
[null,"02","10:31～10:32",{"$f":"'入力シート(1分周期基準値)'!G33","v":0},0,0]
[null,"03","10:32～10:33",{"$f":"'入力シート(1分周期基準値)'!H33","v":0},0,0]
[null,"04","10:33～10:34",{"$f":"'入力シート(1分周期基準値)'!I33","v":0},0,0]
[null,"05","10:34～10:35",{"$f":"'入力シート(1分周期基準値)'!J33","v":0},0,0]
[null,"06","10:35～10:36",{"$f":"'入力シート(1分周期基準値)'!K33","v":0},0,0]
[null,"07","10:36～10:37",{"$f":"'入力シート(1分周期基準値)'!L33","v":0},0,0]
[null,"08","10:37～10:38",{"$f":"'入力シート(1分周期基準値)'!M33","v":0},0,0]
[null,"09","10:38～10:39",{"$f":"'入力シート(1分周期基準値)'!N33","v":0},0,0]
[null,"10","10:39～10:40",{"$f":"'入力シート(1分周期基準値)'!O33","v":0},0,0]
[null,"11","10:40～10:41",{"$f":"'入力シート(1分周期基準値)'!P33","v":0},0,0]
[null,"12","10:41～10:42",{"$f":"'入力シート(1分周期基準値)'!Q33","v":0},0,0]
[null,"13","10:42～10:43",{"$f":"'入力シート(1分周期基準値)'!R33","v":0},0,0]
[null,"14","10:43～10:44",{"$f":"'入力シート(1分周期基準値)'!S33","v":0},0,0]
[null,"15","10:44～10:45",{"$f":"'入力シート(1分周期基準値)'!T33","v":0},0,0]
[null,"16","10:45～10:46",{"$f":"'入力シート(1分周期基準値)'!U33","v":0},0,0]
[null,"17","10:46～10:47",{"$f":"'入力シート(1分周期基準値)'!V33","v":0},0,0]
[null,"18","10:47～10:48",{"$f":"'入力シート(1分周期基準値)'!W33","v":0},0,0]
[null,"19","10:48～10:49",{"$f":"'入力シート(1分周期基準値)'!X33","v":0},0,0]
[null,"20","10:49～10:50",{"$f":"'入力シート(1分周期基準値)'!Y33","v":0},0,0]
[null,"21","10:50～10:51",{"$f":"'入力シート(1分周期基準値)'!Z33","v":0},0,0]
[null,"22","10:51～10:52",{"$f":"'入力シート(1分周期基準値)'!AA33","v":0},0,0]
[null,"23","10:52～10:53",{"$f":"'入力シート(1分周期基準値)'!AB33","v":0},0,0]
[null,"24","10:53～10:54",{"$f":"'入力シート(1分周期基準値)'!AC33","v":0},0,0]
[null,"25","10:54～10:55",{"$f":"'入力シート(1分周期基準値)'!AD33","v":0},0,0]
[null,"26","10:55～10:56",{"$f":"'入力シート(1分周期基準値)'!AE33","v":0},0,0]
[null,"27","10:56～10:57",{"$f":"'入力シート(1分周期基準値)'!AF33","v":0},0,0]
[null,"28","10:57～10:58",{"$f":"'入力シート(1分周期基準値)'!AG33","v":0},0,0]
[null,"29","10:58～10:59",{"$f":"'入力シート(1分周期基準値)'!AH33","v":0},0,0]
[null,"30","10:59～11:00",{"$f":"'入力シート(1分周期基準値)'!AI33","v":0},0,0]
["23","01","11:00～11:01",{"$f":"'入力シート(1分周期基準値)'!F34","v":0},0,0]
[null,"02","11:01～11:02",{"$f":"'入力シート(1分周期基準値)'!G34","v":0},0,0]
[null,"03","11:02～11:03",{"$f":"'入力シート(1分周期基準値)'!H34","v":0},0,0]
[null,"04","11:03～11:04",{"$f":"'入力シート(1分周期基準値)'!I34","v":0},0,0]
[null,"05","11:04～11:05",{"$f":"'入力シート(1分周期基準値)'!J34","v":0},0,0]
[null,"06","11:05～11:06",{"$f":"'入力シート(1分周期基準値)'!K34","v":0},0,0]
[null,"07","11:06～11:07",{"$f":"'入力シート(1分周期基準値)'!L34","v":0},0,0]
[null,"08","11:07～11:08",{"$f":"'入力シート(1分周期基準値)'!M34","v":0},0,0]
[null,"09","11:08～11:09",{"$f":"'入力シート(1分周期基準値)'!N34","v":0},0,0]
[null,"10","11:09～11:10",{"$f":"'入力シート(1分周期基準値)'!O34","v":0},0,0]
[null,"11","11:10～11:11",{"$f":"'入力シート(1分周期基準値)'!P34","v":0},0,0]
[null,"12","11:11～11:12",{"$f":"'入力シート(1分周期基準値)'!Q34","v":0},0,0]
[null,"13","11:12～11:13",{"$f":"'入力シート(1分周期基準値)'!R34","v":0},0,0]
[null,"14","11:13～11:14",{"$f":"'入力シート(1分周期基準値)'!S34","v":0},0,0]
[null,"15","11:14～11:15",{"$f":"'入力シート(1分周期基準値)'!T34","v":0},0,0]
[null,"16","11:15～11:16",{"$f":"'入力シート(1分周期基準値)'!U34","v":0},0,0]
[null,"17","11:16～11:17",{"$f":"'入力シート(1分周期基準値)'!V34","v":0},0,0]
[null,"18","11:17～11:18",{"$f":"'入力シート(1分周期基準値)'!W34","v":0},0,0]
[null,"19","11:18～11:19",{"$f":"'入力シート(1分周期基準値)'!X34","v":0},0,0]
[null,"20","11:19～11:20",{"$f":"'入力シート(1分周期基準値)'!Y34","v":0},0,0]
[null,"21","11:20～11:21",{"$f":"'入力シート(1分周期基準値)'!Z34","v":0},0,0]
[null,"22","11:21～11:22",{"$f":"'入力シート(1分周期基準値)'!AA34","v":0},0,0]
[null,"23","11:22～11:23",{"$f":"'入力シート(1分周期基準値)'!AB34","v":0},0,0]
[null,"24","11:23～11:24",{"$f":"'入力シート(1分周期基準値)'!AC34","v":0},0,0]
[null,"25","11:24～11:25",{"$f":"'入力シート(1分周期基準値)'!AD34","v":0},0,0]
[null,"26","11:25～11:26",{"$f":"'入力シート(1分周期基準値)'!AE34","v":0},0,0]
[null,"27","11:26～11:27",{"$f":"'入力シート(1分周期基準値)'!AF34","v":0},0,0]
[null,"28","11:27～11:28",{"$f":"'入力シート(1分周期基準値)'!AG34","v":0},0,0]
[null,"29","11:28～11:29",{"$f":"'入力シート(1分周期基準値)'!AH34","v":0},0,0]
[null,"30","11:29～11:30",{"$f":"'入力シート(1分周期基準値)'!AI34","v":0},0,0]
["24","01","11:30～11:31",{"$f":"'入力シート(1分周期基準値)'!F35","v":0},0,0]
[null,"02","11:31～11:32",{"$f":"'入力シート(1分周期基準値)'!G35","v":0},0,0]
[null,"03","11:32～11:33",{"$f":"'入力シート(1分周期基準値)'!H35","v":0},0,0]
[null,"04","11:33～11:34",{"$f":"'入力シート(1分周期基準値)'!I35","v":0},0,0]
[null,"05","11:34～11:35",{"$f":"'入力シート(1分周期基準値)'!J35","v":0},{"$f":"F715-D715","v":0},{"$f":"IFERROR(ROUND(AVERAGE(G715:BN715),0),0)","v":0}]
[null,"06","11:35～11:36",{"$f":"'入力シート(1分周期基準値)'!K35","v":0},0,0]
[null,"07","11:36～11:37",{"$f":"'入力シート(1分周期基準値)'!L35","v":0},0,0]
[null,"08","11:37～11:38",{"$f":"'入力シート(1分周期基準値)'!M35","v":0},0,0]
[null,"09","11:38～11:39",{"$f":"'入力シート(1分周期基準値)'!N35","v":0},0,0]
[null,"10","11:39～11:40",{"$f":"'入力シート(1分周期基準値)'!O35","v":0},0,0]
[null,"11","11:40～11:41",{"$f":"'入力シート(1分周期基準値)'!P35","v":0},0,0]
[null,"12","11:41～11:42",{"$f":"'入力シート(1分周期基準値)'!Q35","v":0},0,0]
[null,"13","11:42～11:43",{"$f":"'入力シート(1分周期基準値)'!R35","v":0},0,0]
[null,"14","11:43～11:44",{"$f":"'入力シート(1分周期基準値)'!S35","v":0},0,0]
[null,"15","11:44～11:45",{"$f":"'入力シート(1分周期基準値)'!T35","v":0},0,0]
[null,"16","11:45～11:46",{"$f":"'入力シート(1分周期基準値)'!U35","v":0},0,0]
[null,"17","11:46～11:47",{"$f":"'入力シート(1分周期基準値)'!V35","v":0},0,0]
[null,"18","11:47～11:48",{"$f":"'入力シート(1分周期基準値)'!W35","v":0},0,0]
[null,"19","11:48～11:49",{"$f":"'入力シート(1分周期基準値)'!X35","v":0},0,0]
[null,"20","11:49～11:50",{"$f":"'入力シート(1分周期基準値)'!Y35","v":0},0,0]
[null,"21","11:50～11:51",{"$f":"'入力シート(1分周期基準値)'!Z35","v":0},0,0]
[null,"22","11:51～11:52",{"$f":"'入力シート(1分周期基準値)'!AA35","v":0},0,0]
[null,"23","11:52～11:53",{"$f":"'入力シート(1分周期基準値)'!AB35","v":0},0,0]
[null,"24","11:53～11:54",{"$f":"'入力シート(1分周期基準値)'!AC35","v":0},0,0]
[null,"25","11:54～11:55",{"$f":"'入力シート(1分周期基準値)'!AD35","v":0},0,0]
[null,"26","11:55～11:56",{"$f":"'入力シート(1分周期基準値)'!AE35","v":0},0,0]
[null,"27","11:56～11:57",{"$f":"'入力シート(1分周期基準値)'!AF35","v":0},0,0]
[null,"28","11:57～11:58",{"$f":"'入力シート(1分周期基準値)'!AG35","v":0},0,0]
[null,"29","11:58～11:59",{"$f":"'入力シート(1分周期基準値)'!AH35","v":0},0,0]
[null,"30","11:59～12:00",{"$f":"'入力シート(1分周期基準値)'!AI35","v":0},0,0]
["25","01","12:00～12:01",{"$f":"'入力シート(1分周期基準値)'!F36","v":0},0,0]
[null,"02","12:01～12:02",{"$f":"'入力シート(1分周期基準値)'!G36","v":0},0,0]
[null,"03","12:02～12:03",{"$f":"'入力シート(1分周期基準値)'!H36","v":0},0,0]
[null,"04","12:03～12:04",{"$f":"'入力シート(1分周期基準値)'!I36","v":0},0,0]
[null,"05","12:04～12:05",{"$f":"'入力シート(1分周期基準値)'!J36","v":0},0,0]
[null,"06","12:05～12:06",{"$f":"'入力シート(1分周期基準値)'!K36","v":0},0,0]
[null,"07","12:06～12:07",{"$f":"'入力シート(1分周期基準値)'!L36","v":0},0,0]
[null,"08","12:07～12:08",{"$f":"'入力シート(1分周期基準値)'!M36","v":0},0,0]
[null,"09","12:08～12:09",{"$f":"'入力シート(1分周期基準値)'!N36","v":0},0,0]
[null,"10","12:09～12:10",{"$f":"'入力シート(1分周期基準値)'!O36","v":0},0,0]
[null,"11","12:10～12:11",{"$f":"'入力シート(1分周期基準値)'!P36","v":0},0,0]
[null,"12","12:11～12:12",{"$f":"'入力シート(1分周期基準値)'!Q36","v":0},0,0]
[null,"13","12:12～12:13",{"$f":"'入力シート(1分周期基準値)'!R36","v":0},0,0]
[null,"14","12:13～12:14",{"$f":"'入力シート(1分周期基準値)'!S36","v":0},0,0]
[null,"15","12:14～12:15",{"$f":"'入力シート(1分周期基準値)'!T36","v":0},0,0]
[null,"16","12:15～12:16",{"$f":"'入力シート(1分周期基準値)'!U36","v":0},0,0]
[null,"17","12:16～12:17",{"$f":"'入力シート(1分周期基準値)'!V36","v":0},0,0]
[null,"18","12:17～12:18",{"$f":"'入力シート(1分周期基準値)'!W36","v":0},0,0]
[null,"19","12:18～12:19",{"$f":"'入力シート(1分周期基準値)'!X36","v":0},0,0]
[null,"20","12:19～12:20",{"$f":"'入力シート(1分周期基準値)'!Y36","v":0},0,0]
[null,"21","12:20～12:21",{"$f":"'入力シート(1分周期基準値)'!Z36","v":0},0,0]
[null,"22","12:21～12:22",{"$f":"'入力シート(1分周期基準値)'!AA36","v":0},0,0]
[null,"23","12:22～12:23",{"$f":"'入力シート(1分周期基準値)'!AB36","v":0},0,0]
[null,"24","12:23～12:24",{"$f":"'入力シート(1分周期基準値)'!AC36","v":0},0,0]
[null,"25","12:24～12:25",{"$f":"'入力シート(1分周期基準値)'!AD36","v":0},0,0]
[null,"26","12:25～12:26",{"$f":"'入力シート(1分周期基準値)'!AE36","v":0},0,0]
[null,"27","12:26～12:27",{"$f":"'入力シート(1分周期基準値)'!AF36","v":0},0,0]
[null,"28","12:27～12:28",{"$f":"'入力シート(1分周期基準値)'!AG36","v":0},0,0]
[null,"29","12:28～12:29",{"$f":"'入力シート(1分周期基準値)'!AH36","v":0},0,0]
[null,"30","12:29～12:30",{"$f":"'入力シート(1分周期基準値)'!AI36","v":0},0,0]
["26","01","12:30～12:31",{"$f":"'入力シート(1分周期基準値)'!F37","v":0},0,0]
[null,"02","12:31～12:32",{"$f":"'入力シート(1分周期基準値)'!G37","v":0},0,0]
[null,"03","12:32～12:33",{"$f":"'入力シート(1分周期基準値)'!H37","v":0},0,0]
[null,"04","12:33～12:34",{"$f":"'入力シート(1分周期基準値)'!I37","v":0},0,0]
[null,"05","12:34～12:35",{"$f":"'入力シート(1分周期基準値)'!J37","v":0},0,0]
[null,"06","12:35～12:36",{"$f":"'入力シート(1分周期基準値)'!K37","v":0},0,0]
[null,"07","12:36～12:37",{"$f":"'入力シート(1分周期基準値)'!L37","v":0},0,0]
[null,"08","12:37～12:38",{"$f":"'入力シート(1分周期基準値)'!M37","v":0},0,0]
[null,"09","12:38～12:39",{"$f":"'入力シート(1分周期基準値)'!N37","v":0},{"$f":"F779-D779","v":0},{"$f":"IFERROR(ROUND(AVERAGE(G779:BN779),0),0)","v":0}]
[null,"10","12:39～12:40",{"$f":"'入力シート(1分周期基準値)'!O37","v":0},0,0]
[null,"11","12:40～12:41",{"$f":"'入力シート(1分周期基準値)'!P37","v":0},0,0]
[null,"12","12:41～12:42",{"$f":"'入力シート(1分周期基準値)'!Q37","v":0},0,0]
[null,"13","12:42～12:43",{"$f":"'入力シート(1分周期基準値)'!R37","v":0},0,0]
[null,"14","12:43～12:44",{"$f":"'入力シート(1分周期基準値)'!S37","v":0},0,0]
[null,"15","12:44～12:45",{"$f":"'入力シート(1分周期基準値)'!T37","v":0},0,0]
[null,"16","12:45～12:46",{"$f":"'入力シート(1分周期基準値)'!U37","v":0},0,0]
[null,"17","12:46～12:47",{"$f":"'入力シート(1分周期基準値)'!V37","v":0},0,0]
[null,"18","12:47～12:48",{"$f":"'入力シート(1分周期基準値)'!W37","v":0},0,0]
[null,"19","12:48～12:49",{"$f":"'入力シート(1分周期基準値)'!X37","v":0},0,0]
[null,"20","12:49～12:50",{"$f":"'入力シート(1分周期基準値)'!Y37","v":0},0,0]
[null,"21","12:50～12:51",{"$f":"'入力シート(1分周期基準値)'!Z37","v":0},0,0]
[null,"22","12:51～12:52",{"$f":"'入力シート(1分周期基準値)'!AA37","v":0},0,0]
[null,"23","12:52～12:53",{"$f":"'入力シート(1分周期基準値)'!AB37","v":0},0,0]
[null,"24","12:53～12:54",{"$f":"'入力シート(1分周期基準値)'!AC37","v":0},0,0]
[null,"25","12:54～12:55",{"$f":"'入力シート(1分周期基準値)'!AD37","v":0},0,0]
[null,"26","12:55～12:56",{"$f":"'入力シート(1分周期基準値)'!AE37","v":0},0,0]
[null,"27","12:56～12:57",{"$f":"'入力シート(1分周期基準値)'!AF37","v":0},0,0]
[null,"28","12:57～12:58",{"$f":"'入力シート(1分周期基準値)'!AG37","v":0},0,0]
[null,"29","12:58～12:59",{"$f":"'入力シート(1分周期基準値)'!AH37","v":0},0,0]
[null,"30","12:59～13:00",{"$f":"'入力シート(1分周期基準値)'!AI37","v":0},0,0]
["27","01","13:00～13:01",{"$f":"'入力シート(1分周期基準値)'!F38","v":0},0,0]
[null,"02","13:01～13:02",{"$f":"'入力シート(1分周期基準値)'!G38","v":0},0,0]
[null,"03","13:02～13:03",{"$f":"'入力シート(1分周期基準値)'!H38","v":0},0,0]
[null,"04","13:03～13:04",{"$f":"'入力シート(1分周期基準値)'!I38","v":0},0,0]
[null,"05","13:04～13:05",{"$f":"'入力シート(1分周期基準値)'!J38","v":0},0,0]
[null,"06","13:05～13:06",{"$f":"'入力シート(1分周期基準値)'!K38","v":0},0,0]
[null,"07","13:06～13:07",{"$f":"'入力シート(1分周期基準値)'!L38","v":0},0,0]
[null,"08","13:07～13:08",{"$f":"'入力シート(1分周期基準値)'!M38","v":0},0,0]
[null,"09","13:08～13:09",{"$f":"'入力シート(1分周期基準値)'!N38","v":0},0,0]
[null,"10","13:09～13:10",{"$f":"'入力シート(1分周期基準値)'!O38","v":0},0,0]
[null,"11","13:10～13:11",{"$f":"'入力シート(1分周期基準値)'!P38","v":0},0,0]
[null,"12","13:11～13:12",{"$f":"'入力シート(1分周期基準値)'!Q38","v":0},0,0]
[null,"13","13:12～13:13",{"$f":"'入力シート(1分周期基準値)'!R38","v":0},0,0]
[null,"14","13:13～13:14",{"$f":"'入力シート(1分周期基準値)'!S38","v":0},0,0]
[null,"15","13:14～13:15",{"$f":"'入力シート(1分周期基準値)'!T38","v":0},0,0]
[null,"16","13:15～13:16",{"$f":"'入力シート(1分周期基準値)'!U38","v":0},0,0]
[null,"17","13:16～13:17",{"$f":"'入力シート(1分周期基準値)'!V38","v":0},0,0]
[null,"18","13:17～13:18",{"$f":"'入力シート(1分周期基準値)'!W38","v":0},0,0]
[null,"19","13:18～13:19",{"$f":"'入力シート(1分周期基準値)'!X38","v":0},0,0]
[null,"20","13:19～13:20",{"$f":"'入力シート(1分周期基準値)'!Y38","v":0},0,0]
[null,"21","13:20～13:21",{"$f":"'入力シート(1分周期基準値)'!Z38","v":0},0,0]
[null,"22","13:21～13:22",{"$f":"'入力シート(1分周期基準値)'!AA38","v":0},0,0]
[null,"23","13:22～13:23",{"$f":"'入力シート(1分周期基準値)'!AB38","v":0},0,0]
[null,"24","13:23～13:24",{"$f":"'入力シート(1分周期基準値)'!AC38","v":0},0,0]
[null,"25","13:24～13:25",{"$f":"'入力シート(1分周期基準値)'!AD38","v":0},0,0]
[null,"26","13:25～13:26",{"$f":"'入力シート(1分周期基準値)'!AE38","v":0},0,0]
[null,"27","13:26～13:27",{"$f":"'入力シート(1分周期基準値)'!AF38","v":0},0,0]
[null,"28","13:27～13:28",{"$f":"'入力シート(1分周期基準値)'!AG38","v":0},0,0]
[null,"29","13:28～13:29",{"$f":"'入力シート(1分周期基準値)'!AH38","v":0},0,0]
[null,"30","13:29～13:30",{"$f":"'入力シート(1分周期基準値)'!AI38","v":0},0,0]
["28","01","13:30～13:31",{"$f":"'入力シート(1分周期基準値)'!F39","v":0},0,0]
[null,"02","13:31～13:32",{"$f":"'入力シート(1分周期基準値)'!G39","v":0},0,0]
[null,"03","13:32～13:33",{"$f":"'入力シート(1分周期基準値)'!H39","v":0},0,0]
[null,"04","13:33～13:34",{"$f":"'入力シート(1分周期基準値)'!I39","v":0},0,0]
[null,"05","13:34～13:35",{"$f":"'入力シート(1分周期基準値)'!J39","v":0},0,0]
[null,"06","13:35～13:36",{"$f":"'入力シート(1分周期基準値)'!K39","v":0},0,0]
[null,"07","13:36～13:37",{"$f":"'入力シート(1分周期基準値)'!L39","v":0},0,0]
[null,"08","13:37～13:38",{"$f":"'入力シート(1分周期基準値)'!M39","v":0},0,0]
[null,"09","13:38～13:39",{"$f":"'入力シート(1分周期基準値)'!N39","v":0},0,0]
[null,"10","13:39～13:40",{"$f":"'入力シート(1分周期基準値)'!O39","v":0},0,0]
[null,"11","13:40～13:41",{"$f":"'入力シート(1分周期基準値)'!P39","v":0},0,0]
[null,"12","13:41～13:42",{"$f":"'入力シート(1分周期基準値)'!Q39","v":0},0,0]
[null,"13","13:42～13:43",{"$f":"'入力シート(1分周期基準値)'!R39","v":0},{"$f":"F843-D843","v":0},{"$f":"IFERROR(ROUND(AVERAGE(G843:BN843),0),0)","v":0}]
[null,"14","13:43～13:44",{"$f":"'入力シート(1分周期基準値)'!S39","v":0},0,0]
[null,"15","13:44～13:45",{"$f":"'入力シート(1分周期基準値)'!T39","v":0},0,0]
[null,"16","13:45～13:46",{"$f":"'入力シート(1分周期基準値)'!U39","v":0},0,0]
[null,"17","13:46～13:47",{"$f":"'入力シート(1分周期基準値)'!V39","v":0},0,0]
[null,"18","13:47～13:48",{"$f":"'入力シート(1分周期基準値)'!W39","v":0},0,0]
[null,"19","13:48～13:49",{"$f":"'入力シート(1分周期基準値)'!X39","v":0},0,0]
[null,"20","13:49～13:50",{"$f":"'入力シート(1分周期基準値)'!Y39","v":0},0,0]
[null,"21","13:50～13:51",{"$f":"'入力シート(1分周期基準値)'!Z39","v":0},0,0]
[null,"22","13:51～13:52",{"$f":"'入力シート(1分周期基準値)'!AA39","v":0},0,0]
[null,"23","13:52～13:53",{"$f":"'入力シート(1分周期基準値)'!AB39","v":0},0,0]
[null,"24","13:53～13:54",{"$f":"'入力シート(1分周期基準値)'!AC39","v":0},0,0]
[null,"25","13:54～13:55",{"$f":"'入力シート(1分周期基準値)'!AD39","v":0},0,0]
[null,"26","13:55～13:56",{"$f":"'入力シート(1分周期基準値)'!AE39","v":0},0,0]
[null,"27","13:56～13:57",{"$f":"'入力シート(1分周期基準値)'!AF39","v":0},0,0]
[null,"28","13:57～13:58",{"$f":"'入力シート(1分周期基準値)'!AG39","v":0},0,0]
[null,"29","13:58～13:59",{"$f":"'入力シート(1分周期基準値)'!AH39","v":0},0,0]
[null,"30","13:59～14:00",{"$f":"'入力シート(1分周期基準値)'!AI39","v":0},0,0]
["29","01","14:00～14:01",{"$f":"'入力シート(1分周期基準値)'!F40","v":0},0,0]
[null,"02","14:01～14:02",{"$f":"'入力シート(1分周期基準値)'!G40","v":0},0,0]
[null,"03","14:02～14:03",{"$f":"'入力シート(1分周期基準値)'!H40","v":0},0,0]
[null,"04","14:03～14:04",{"$f":"'入力シート(1分周期基準値)'!I40","v":0},0,0]
[null,"05","14:04～14:05",{"$f":"'入力シート(1分周期基準値)'!J40","v":0},0,0]
[null,"06","14:05～14:06",{"$f":"'入力シート(1分周期基準値)'!K40","v":0},0,0]
[null,"07","14:06～14:07",{"$f":"'入力シート(1分周期基準値)'!L40","v":0},0,0]
[null,"08","14:07～14:08",{"$f":"'入力シート(1分周期基準値)'!M40","v":0},0,0]
[null,"09","14:08～14:09",{"$f":"'入力シート(1分周期基準値)'!N40","v":0},0,0]
[null,"10","14:09～14:10",{"$f":"'入力シート(1分周期基準値)'!O40","v":0},0,0]
[null,"11","14:10～14:11",{"$f":"'入力シート(1分周期基準値)'!P40","v":0},0,0]
[null,"12","14:11～14:12",{"$f":"'入力シート(1分周期基準値)'!Q40","v":0},0,0]
[null,"13","14:12～14:13",{"$f":"'入力シート(1分周期基準値)'!R40","v":0},0,0]
[null,"14","14:13～14:14",{"$f":"'入力シート(1分周期基準値)'!S40","v":0},0,0]
[null,"15","14:14～14:15",{"$f":"'入力シート(1分周期基準値)'!T40","v":0},0,0]
[null,"16","14:15～14:16",{"$f":"'入力シート(1分周期基準値)'!U40","v":0},0,0]
[null,"17","14:16～14:17",{"$f":"'入力シート(1分周期基準値)'!V40","v":0},0,0]
[null,"18","14:17～14:18",{"$f":"'入力シート(1分周期基準値)'!W40","v":0},0,0]
[null,"19","14:18～14:19",{"$f":"'入力シート(1分周期基準値)'!X40","v":0},0,0]
[null,"20","14:19～14:20",{"$f":"'入力シート(1分周期基準値)'!Y40","v":0},0,0]
[null,"21","14:20～14:21",{"$f":"'入力シート(1分周期基準値)'!Z40","v":0},0,0]
[null,"22","14:21～14:22",{"$f":"'入力シート(1分周期基準値)'!AA40","v":0},0,0]
[null,"23","14:22～14:23",{"$f":"'入力シート(1分周期基準値)'!AB40","v":0},0,0]
[null,"24","14:23～14:24",{"$f":"'入力シート(1分周期基準値)'!AC40","v":0},0,0]
[null,"25","14:24～14:25",{"$f":"'入力シート(1分周期基準値)'!AD40","v":0},0,0]
[null,"26","14:25～14:26",{"$f":"'入力シート(1分周期基準値)'!AE40","v":0},0,0]
[null,"27","14:26～14:27",{"$f":"'入力シート(1分周期基準値)'!AF40","v":0},0,0]
[null,"28","14:27～14:28",{"$f":"'入力シート(1分周期基準値)'!AG40","v":0},0,0]
[null,"29","14:28～14:29",{"$f":"'入力シート(1分周期基準値)'!AH40","v":0},0,0]
[null,"30","14:29～14:30",{"$f":"'入力シート(1分周期基準値)'!AI40","v":0},0,0]
["30","01","14:30～14:31",{"$f":"'入力シート(1分周期基準値)'!F41","v":0},0,0]
[null,"02","14:31～14:32",{"$f":"'入力シート(1分周期基準値)'!G41","v":0},0,0]
[null,"03","14:32～14:33",{"$f":"'入力シート(1分周期基準値)'!H41","v":0},0,0]
[null,"04","14:33～14:34",{"$f":"'入力シート(1分周期基準値)'!I41","v":0},0,0]
[null,"05","14:34～14:35",{"$f":"'入力シート(1分周期基準値)'!J41","v":0},0,0]
[null,"06","14:35～14:36",{"$f":"'入力シート(1分周期基準値)'!K41","v":0},0,0]
[null,"07","14:36～14:37",{"$f":"'入力シート(1分周期基準値)'!L41","v":0},0,0]
[null,"08","14:37～14:38",{"$f":"'入力シート(1分周期基準値)'!M41","v":0},0,0]
[null,"09","14:38～14:39",{"$f":"'入力シート(1分周期基準値)'!N41","v":0},0,0]
[null,"10","14:39～14:40",{"$f":"'入力シート(1分周期基準値)'!O41","v":0},0,0]
[null,"11","14:40～14:41",{"$f":"'入力シート(1分周期基準値)'!P41","v":0},0,0]
[null,"12","14:41～14:42",{"$f":"'入力シート(1分周期基準値)'!Q41","v":0},0,0]
[null,"13","14:42～14:43",{"$f":"'入力シート(1分周期基準値)'!R41","v":0},0,0]
[null,"14","14:43～14:44",{"$f":"'入力シート(1分周期基準値)'!S41","v":0},0,0]
[null,"15","14:44～14:45",{"$f":"'入力シート(1分周期基準値)'!T41","v":0},0,0]
[null,"16","14:45～14:46",{"$f":"'入力シート(1分周期基準値)'!U41","v":0},0,0]
[null,"17","14:46～14:47",{"$f":"'入力シート(1分周期基準値)'!V41","v":0},{"$f":"F907-D907","v":0},{"$f":"IFERROR(ROUND(AVERAGE(G907:BN907),0),0)","v":0}]
[null,"18","14:47～14:48",{"$f":"'入力シート(1分周期基準値)'!W41","v":0},0,0]
[null,"19","14:48～14:49",{"$f":"'入力シート(1分周期基準値)'!X41","v":0},0,0]
[null,"20","14:49～14:50",{"$f":"'入力シート(1分周期基準値)'!Y41","v":0},0,0]
[null,"21","14:50～14:51",{"$f":"'入力シート(1分周期基準値)'!Z41","v":0},0,0]
[null,"22","14:51～14:52",{"$f":"'入力シート(1分周期基準値)'!AA41","v":0},0,0]
[null,"23","14:52～14:53",{"$f":"'入力シート(1分周期基準値)'!AB41","v":0},0,0]
[null,"24","14:53～14:54",{"$f":"'入力シート(1分周期基準値)'!AC41","v":0},0,0]
[null,"25","14:54～14:55",{"$f":"'入力シート(1分周期基準値)'!AD41","v":0},0,0]
[null,"26","14:55～14:56",{"$f":"'入力シート(1分周期基準値)'!AE41","v":0},0,0]
[null,"27","14:56～14:57",{"$f":"'入力シート(1分周期基準値)'!AF41","v":0},0,0]
[null,"28","14:57～14:58",{"$f":"'入力シート(1分周期基準値)'!AG41","v":0},0,0]
[null,"29","14:58～14:59",{"$f":"'入力シート(1分周期基準値)'!AH41","v":0},0,0]
[null,"30","14:59～15:00",{"$f":"'入力シート(1分周期基準値)'!AI41","v":0},0,0]
["31","01","15:00～15:01",{"$f":"'入力シート(1分周期基準値)'!F42","v":0},0,0]
[null,"02","15:01～15:02",{"$f":"'入力シート(1分周期基準値)'!G42","v":0},0,0]
[null,"03","15:02～15:03",{"$f":"'入力シート(1分周期基準値)'!H42","v":0},0,0]
[null,"04","15:03～15:04",{"$f":"'入力シート(1分周期基準値)'!I42","v":0},0,0]
[null,"05","15:04～15:05",{"$f":"'入力シート(1分周期基準値)'!J42","v":0},0,0]
[null,"06","15:05～15:06",{"$f":"'入力シート(1分周期基準値)'!K42","v":0},0,0]
[null,"07","15:06～15:07",{"$f":"'入力シート(1分周期基準値)'!L42","v":0},0,0]
[null,"08","15:07～15:08",{"$f":"'入力シート(1分周期基準値)'!M42","v":0},0,0]
[null,"09","15:08～15:09",{"$f":"'入力シート(1分周期基準値)'!N42","v":0},0,0]
[null,"10","15:09～15:10",{"$f":"'入力シート(1分周期基準値)'!O42","v":0},0,0]
[null,"11","15:10～15:11",{"$f":"'入力シート(1分周期基準値)'!P42","v":0},0,0]
[null,"12","15:11～15:12",{"$f":"'入力シート(1分周期基準値)'!Q42","v":0},0,0]
[null,"13","15:12～15:13",{"$f":"'入力シート(1分周期基準値)'!R42","v":0},0,0]
[null,"14","15:13～15:14",{"$f":"'入力シート(1分周期基準値)'!S42","v":0},0,0]
[null,"15","15:14～15:15",{"$f":"'入力シート(1分周期基準値)'!T42","v":0},0,0]
[null,"16","15:15～15:16",{"$f":"'入力シート(1分周期基準値)'!U42","v":0},0,0]
[null,"17","15:16～15:17",{"$f":"'入力シート(1分周期基準値)'!V42","v":0},0,0]
[null,"18","15:17～15:18",{"$f":"'入力シート(1分周期基準値)'!W42","v":0},0,0]
[null,"19","15:18～15:19",{"$f":"'入力シート(1分周期基準値)'!X42","v":0},0,0]
[null,"20","15:19～15:20",{"$f":"'入力シート(1分周期基準値)'!Y42","v":0},0,0]
[null,"21","15:20～15:21",{"$f":"'入力シート(1分周期基準値)'!Z42","v":0},0,0]
[null,"22","15:21～15:22",{"$f":"'入力シート(1分周期基準値)'!AA42","v":0},0,0]
[null,"23","15:22～15:23",{"$f":"'入力シート(1分周期基準値)'!AB42","v":0},0,0]
[null,"24","15:23～15:24",{"$f":"'入力シート(1分周期基準値)'!AC42","v":0},0,0]
[null,"25","15:24～15:25",{"$f":"'入力シート(1分周期基準値)'!AD42","v":0},0,0]
[null,"26","15:25～15:26",{"$f":"'入力シート(1分周期基準値)'!AE42","v":0},0,0]
[null,"27","15:26～15:27",{"$f":"'入力シート(1分周期基準値)'!AF42","v":0},0,0]
[null,"28","15:27～15:28",{"$f":"'入力シート(1分周期基準値)'!AG42","v":0},0,0]
[null,"29","15:28～15:29",{"$f":"'入力シート(1分周期基準値)'!AH42","v":0},0,0]
[null,"30","15:29～15:30",{"$f":"'入力シート(1分周期基準値)'!AI42","v":0},0,0]
["32","01","15:30～15:31",{"$f":"'入力シート(1分周期基準値)'!F43","v":0},0,0]
[null,"02","15:31～15:32",{"$f":"'入力シート(1分周期基準値)'!G43","v":0},0,0]
[null,"03","15:32～15:33",{"$f":"'入力シート(1分周期基準値)'!H43","v":0},0,0]
[null,"04","15:33～15:34",{"$f":"'入力シート(1分周期基準値)'!I43","v":0},0,0]
[null,"05","15:34～15:35",{"$f":"'入力シート(1分周期基準値)'!J43","v":0},0,0]
[null,"06","15:35～15:36",{"$f":"'入力シート(1分周期基準値)'!K43","v":0},0,0]
[null,"07","15:36～15:37",{"$f":"'入力シート(1分周期基準値)'!L43","v":0},0,0]
[null,"08","15:37～15:38",{"$f":"'入力シート(1分周期基準値)'!M43","v":0},0,0]
[null,"09","15:38～15:39",{"$f":"'入力シート(1分周期基準値)'!N43","v":0},0,0]
[null,"10","15:39～15:40",{"$f":"'入力シート(1分周期基準値)'!O43","v":0},0,0]
[null,"11","15:40～15:41",{"$f":"'入力シート(1分周期基準値)'!P43","v":0},0,0]
[null,"12","15:41～15:42",{"$f":"'入力シート(1分周期基準値)'!Q43","v":0},0,0]
[null,"13","15:42～15:43",{"$f":"'入力シート(1分周期基準値)'!R43","v":0},0,0]
[null,"14","15:43～15:44",{"$f":"'入力シート(1分周期基準値)'!S43","v":0},0,0]
[null,"15","15:44～15:45",{"$f":"'入力シート(1分周期基準値)'!T43","v":0},0,0]
[null,"16","15:45～15:46",{"$f":"'入力シート(1分周期基準値)'!U43","v":0},0,0]
[null,"17","15:46～15:47",{"$f":"'入力シート(1分周期基準値)'!V43","v":0},0,0]
[null,"18","15:47～15:48",{"$f":"'入力シート(1分周期基準値)'!W43","v":0},0,0]
[null,"19","15:48～15:49",{"$f":"'入力シート(1分周期基準値)'!X43","v":0},0,0]
[null,"20","15:49～15:50",{"$f":"'入力シート(1分周期基準値)'!Y43","v":0},0,0]
[null,"21","15:50～15:51",{"$f":"'入力シート(1分周期基準値)'!Z43","v":0},{"$f":"F971-D971","v":0},{"$f":"IFERROR(ROUND(AVERAGE(G971:BN971),0),0)","v":0}]
[null,"22","15:51～15:52",{"$f":"'入力シート(1分周期基準値)'!AA43","v":0},0,0]
[null,"23","15:52～15:53",{"$f":"'入力シート(1分周期基準値)'!AB43","v":0},0,0]
[null,"24","15:53～15:54",{"$f":"'入力シート(1分周期基準値)'!AC43","v":0},0,0]
[null,"25","15:54～15:55",{"$f":"'入力シート(1分周期基準値)'!AD43","v":0},0,0]
[null,"26","15:55～15:56",{"$f":"'入力シート(1分周期基準値)'!AE43","v":0},0,0]
[null,"27","15:56～15:57",{"$f":"'入力シート(1分周期基準値)'!AF43","v":0},0,0]
[null,"28","15:57～15:58",{"$f":"'入力シート(1分周期基準値)'!AG43","v":0},0,0]
[null,"29","15:58～15:59",{"$f":"'入力シート(1分周期基準値)'!AH43","v":0},0,0]
[null,"30","15:59～16:00",{"$f":"'入力シート(1分周期基準値)'!AI43","v":0},0,0]
["33","01","16:00～16:01",{"$f":"'入力シート(1分周期基準値)'!F44","v":0},0,0]
[null,"02","16:01～16:02",{"$f":"'入力シート(1分周期基準値)'!G44","v":0},0,0]
[null,"03","16:02～16:03",{"$f":"'入力シート(1分周期基準値)'!H44","v":0},0,0]
[null,"04","16:03～16:04",{"$f":"'入力シート(1分周期基準値)'!I44","v":0},0,0]
[null,"05","16:04～16:05",{"$f":"'入力シート(1分周期基準値)'!J44","v":0},0,0]
[null,"06","16:05～16:06",{"$f":"'入力シート(1分周期基準値)'!K44","v":0},0,0]
[null,"07","16:06～16:07",{"$f":"'入力シート(1分周期基準値)'!L44","v":0},0,0]
[null,"08","16:07～16:08",{"$f":"'入力シート(1分周期基準値)'!M44","v":0},0,0]
[null,"09","16:08～16:09",{"$f":"'入力シート(1分周期基準値)'!N44","v":0},0,0]
[null,"10","16:09～16:10",{"$f":"'入力シート(1分周期基準値)'!O44","v":0},0,0]
[null,"11","16:10～16:11",{"$f":"'入力シート(1分周期基準値)'!P44","v":0},0,0]
[null,"12","16:11～16:12",{"$f":"'入力シート(1分周期基準値)'!Q44","v":0},0,0]
[null,"13","16:12～16:13",{"$f":"'入力シート(1分周期基準値)'!R44","v":0},0,0]
[null,"14","16:13～16:14",{"$f":"'入力シート(1分周期基準値)'!S44","v":0},0,0]
[null,"15","16:14～16:15",{"$f":"'入力シート(1分周期基準値)'!T44","v":0},0,0]
[null,"16","16:15～16:16",{"$f":"'入力シート(1分周期基準値)'!U44","v":0},0,0]
[null,"17","16:16～16:17",{"$f":"'入力シート(1分周期基準値)'!V44","v":0},0,0]
[null,"18","16:17～16:18",{"$f":"'入力シート(1分周期基準値)'!W44","v":0},0,0]
[null,"19","16:18～16:19",{"$f":"'入力シート(1分周期基準値)'!X44","v":0},0,0]
[null,"20","16:19～16:20",{"$f":"'入力シート(1分周期基準値)'!Y44","v":0},0,0]
[null,"21","16:20～16:21",{"$f":"'入力シート(1分周期基準値)'!Z44","v":0},0,0]
[null,"22","16:21～16:22",{"$f":"'入力シート(1分周期基準値)'!AA44","v":0},0,0]
[null,"23","16:22～16:23",{"$f":"'入力シート(1分周期基準値)'!AB44","v":0},0,0]
[null,"24","16:23～16:24",{"$f":"'入力シート(1分周期基準値)'!AC44","v":0},0,0]
[null,"25","16:24～16:25",{"$f":"'入力シート(1分周期基準値)'!AD44","v":0},0,0]
[null,"26","16:25～16:26",{"$f":"'入力シート(1分周期基準値)'!AE44","v":0},0,0]
[null,"27","16:26～16:27",{"$f":"'入力シート(1分周期基準値)'!AF44","v":0},0,0]
[null,"28","16:27～16:28",{"$f":"'入力シート(1分周期基準値)'!AG44","v":0},0,0]
[null,"29","16:28～16:29",{"$f":"'入力シート(1分周期基準値)'!AH44","v":0},0,0]
[null,"30","16:29～16:30",{"$f":"'入力シート(1分周期基準値)'!AI44","v":0},0,0]
["34","01","16:30～16:31",{"$f":"'入力シート(1分周期基準値)'!F45","v":0},0,0]
[null,"02","16:31～16:32",{"$f":"'入力シート(1分周期基準値)'!G45","v":0},0,0]
[null,"03","16:32～16:33",{"$f":"'入力シート(1分周期基準値)'!H45","v":0},0,0]
[null,"04","16:33～16:34",{"$f":"'入力シート(1分周期基準値)'!I45","v":0},0,0]
[null,"05","16:34～16:35",{"$f":"'入力シート(1分周期基準値)'!J45","v":0},0,0]
[null,"06","16:35～16:36",{"$f":"'入力シート(1分周期基準値)'!K45","v":0},0,0]
[null,"07","16:36～16:37",{"$f":"'入力シート(1分周期基準値)'!L45","v":0},0,0]
[null,"08","16:37～16:38",{"$f":"'入力シート(1分周期基準値)'!M45","v":0},0,0]
[null,"09","16:38～16:39",{"$f":"'入力シート(1分周期基準値)'!N45","v":0},0,0]
[null,"10","16:39～16:40",{"$f":"'入力シート(1分周期基準値)'!O45","v":0},0,0]
[null,"11","16:40～16:41",{"$f":"'入力シート(1分周期基準値)'!P45","v":0},0,0]
[null,"12","16:41～16:42",{"$f":"'入力シート(1分周期基準値)'!Q45","v":0},0,0]
[null,"13","16:42～16:43",{"$f":"'入力シート(1分周期基準値)'!R45","v":0},0,0]
[null,"14","16:43～16:44",{"$f":"'入力シート(1分周期基準値)'!S45","v":0},0,0]
[null,"15","16:44～16:45",{"$f":"'入力シート(1分周期基準値)'!T45","v":0},0,0]
[null,"16","16:45～16:46",{"$f":"'入力シート(1分周期基準値)'!U45","v":0},0,0]
[null,"17","16:46～16:47",{"$f":"'入力シート(1分周期基準値)'!V45","v":0},0,0]
[null,"18","16:47～16:48",{"$f":"'入力シート(1分周期基準値)'!W45","v":0},0,0]
[null,"19","16:48～16:49",{"$f":"'入力シート(1分周期基準値)'!X45","v":0},0,0]
[null,"20","16:49～16:50",{"$f":"'入力シート(1分周期基準値)'!Y45","v":0},0,0]
[null,"21","16:50～16:51",{"$f":"'入力シート(1分周期基準値)'!Z45","v":0},0,0]
[null,"22","16:51～16:52",{"$f":"'入力シート(1分周期基準値)'!AA45","v":0},0,0]
[null,"23","16:52～16:53",{"$f":"'入力シート(1分周期基準値)'!AB45","v":0},0,0]
[null,"24","16:53～16:54",{"$f":"'入力シート(1分周期基準値)'!AC45","v":0},0,0]
[null,"25","16:54～16:55",{"$f":"'入力シート(1分周期基準値)'!AD45","v":0},{"$f":"F1035-D1035","v":0},{"$f":"IFERROR(ROUND(AVERAGE(G1035:BN1035),0),0)","v":0}]
[null,"26","16:55～16:56",{"$f":"'入力シート(1分周期基準値)'!AE45","v":0},0,0]
[null,"27","16:56～16:57",{"$f":"'入力シート(1分周期基準値)'!AF45","v":0},0,0]
[null,"28","16:57～16:58",{"$f":"'入力シート(1分周期基準値)'!AG45","v":0},0,0]
[null,"29","16:58～16:59",{"$f":"'入力シート(1分周期基準値)'!AH45","v":0},0,0]
[null,"30","16:59～17:00",{"$f":"'入力シート(1分周期基準値)'!AI45","v":0},0,0]
["35","01","17:00～17:01",{"$f":"'入力シート(1分周期基準値)'!F46","v":0},0,0]
[null,"02","17:01～17:02",{"$f":"'入力シート(1分周期基準値)'!G46","v":0},0,0]
[null,"03","17:02～17:03",{"$f":"'入力シート(1分周期基準値)'!H46","v":0},0,0]
[null,"04","17:03～17:04",{"$f":"'入力シート(1分周期基準値)'!I46","v":0},0,0]
[null,"05","17:04～17:05",{"$f":"'入力シート(1分周期基準値)'!J46","v":0},0,0]
[null,"06","17:05～17:06",{"$f":"'入力シート(1分周期基準値)'!K46","v":0},0,0]
[null,"07","17:06～17:07",{"$f":"'入力シート(1分周期基準値)'!L46","v":0},0,0]
[null,"08","17:07～17:08",{"$f":"'入力シート(1分周期基準値)'!M46","v":0},0,0]
[null,"09","17:08～17:09",{"$f":"'入力シート(1分周期基準値)'!N46","v":0},0,0]
[null,"10","17:09～17:10",{"$f":"'入力シート(1分周期基準値)'!O46","v":0},0,0]
[null,"11","17:10～17:11",{"$f":"'入力シート(1分周期基準値)'!P46","v":0},0,0]
[null,"12","17:11～17:12",{"$f":"'入力シート(1分周期基準値)'!Q46","v":0},0,0]
[null,"13","17:12～17:13",{"$f":"'入力シート(1分周期基準値)'!R46","v":0},0,0]
[null,"14","17:13～17:14",{"$f":"'入力シート(1分周期基準値)'!S46","v":0},0,0]
[null,"15","17:14～17:15",{"$f":"'入力シート(1分周期基準値)'!T46","v":0},0,0]
[null,"16","17:15～17:16",{"$f":"'入力シート(1分周期基準値)'!U46","v":0},0,0]
[null,"17","17:16～17:17",{"$f":"'入力シート(1分周期基準値)'!V46","v":0},0,0]
[null,"18","17:17～17:18",{"$f":"'入力シート(1分周期基準値)'!W46","v":0},0,0]
[null,"19","17:18～17:19",{"$f":"'入力シート(1分周期基準値)'!X46","v":0},0,0]
[null,"20","17:19～17:20",{"$f":"'入力シート(1分周期基準値)'!Y46","v":0},0,0]
[null,"21","17:20～17:21",{"$f":"'入力シート(1分周期基準値)'!Z46","v":0},0,0]
[null,"22","17:21～17:22",{"$f":"'入力シート(1分周期基準値)'!AA46","v":0},0,0]
[null,"23","17:22～17:23",{"$f":"'入力シート(1分周期基準値)'!AB46","v":0},0,0]
[null,"24","17:23～17:24",{"$f":"'入力シート(1分周期基準値)'!AC46","v":0},0,0]
[null,"25","17:24～17:25",{"$f":"'入力シート(1分周期基準値)'!AD46","v":0},0,0]
[null,"26","17:25～17:26",{"$f":"'入力シート(1分周期基準値)'!AE46","v":0},0,0]
[null,"27","17:26～17:27",{"$f":"'入力シート(1分周期基準値)'!AF46","v":0},0,0]
[null,"28","17:27～17:28",{"$f":"'入力シート(1分周期基準値)'!AG46","v":0},0,0]
[null,"29","17:28～17:29",{"$f":"'入力シート(1分周期基準値)'!AH46","v":0},0,0]
[null,"30","17:29～17:30",{"$f":"'入力シート(1分周期基準値)'!AI46","v":0},0,0]
["36","01","17:30～17:31",{"$f":"'入力シート(1分周期基準値)'!F47","v":0},0,0]
[null,"02","17:31～17:32",{"$f":"'入力シート(1分周期基準値)'!G47","v":0},0,0]
[null,"03","17:32～17:33",{"$f":"'入力シート(1分周期基準値)'!H47","v":0},0,0]
[null,"04","17:33～17:34",{"$f":"'入力シート(1分周期基準値)'!I47","v":0},0,0]
[null,"05","17:34～17:35",{"$f":"'入力シート(1分周期基準値)'!J47","v":0},0,0]
[null,"06","17:35～17:36",{"$f":"'入力シート(1分周期基準値)'!K47","v":0},0,0]
[null,"07","17:36～17:37",{"$f":"'入力シート(1分周期基準値)'!L47","v":0},0,0]
[null,"08","17:37～17:38",{"$f":"'入力シート(1分周期基準値)'!M47","v":0},0,0]
[null,"09","17:38～17:39",{"$f":"'入力シート(1分周期基準値)'!N47","v":0},0,0]
[null,"10","17:39～17:40",{"$f":"'入力シート(1分周期基準値)'!O47","v":0},0,0]
[null,"11","17:40～17:41",{"$f":"'入力シート(1分周期基準値)'!P47","v":0},0,0]
[null,"12","17:41～17:42",{"$f":"'入力シート(1分周期基準値)'!Q47","v":0},0,0]
[null,"13","17:42～17:43",{"$f":"'入力シート(1分周期基準値)'!R47","v":0},0,0]
[null,"14","17:43～17:44",{"$f":"'入力シート(1分周期基準値)'!S47","v":0},0,0]
[null,"15","17:44～17:45",{"$f":"'入力シート(1分周期基準値)'!T47","v":0},0,0]
[null,"16","17:45～17:46",{"$f":"'入力シート(1分周期基準値)'!U47","v":0},0,0]
[null,"17","17:46～17:47",{"$f":"'入力シート(1分周期基準値)'!V47","v":0},0,0]
[null,"18","17:47～17:48",{"$f":"'入力シート(1分周期基準値)'!W47","v":0},0,0]
[null,"19","17:48～17:49",{"$f":"'入力シート(1分周期基準値)'!X47","v":0},0,0]
[null,"20","17:49～17:50",{"$f":"'入力シート(1分周期基準値)'!Y47","v":0},0,0]
[null,"21","17:50～17:51",{"$f":"'入力シート(1分周期基準値)'!Z47","v":0},0,0]
[null,"22","17:51～17:52",{"$f":"'入力シート(1分周期基準値)'!AA47","v":0},0,0]
[null,"23","17:52～17:53",{"$f":"'入力シート(1分周期基準値)'!AB47","v":0},0,0]
[null,"24","17:53～17:54",{"$f":"'入力シート(1分周期基準値)'!AC47","v":0},0,0]
[null,"25","17:54～17:55",{"$f":"'入力シート(1分周期基準値)'!AD47","v":0},0,0]
[null,"26","17:55～17:56",{"$f":"'入力シート(1分周期基準値)'!AE47","v":0},0,0]
[null,"27","17:56～17:57",{"$f":"'入力シート(1分周期基準値)'!AF47","v":0},0,0]
[null,"28","17:57～17:58",{"$f":"'入力シート(1分周期基準値)'!AG47","v":0},0,0]
[null,"29","17:58～17:59",{"$f":"'入力シート(1分周期基準値)'!AH47","v":0},{"$f":"F1099-D1099","v":0},{"$f":"IFERROR(ROUND(AVERAGE(G1099:BN1099),0),0)","v":0}]
[null,"30","17:59～18:00",{"$f":"'入力シート(1分周期基準値)'!AI47","v":0},0,0]
["37","01","18:00～18:01",{"$f":"'入力シート(1分周期基準値)'!F48","v":0},0,0]
[null,"02","18:01～18:02",{"$f":"'入力シート(1分周期基準値)'!G48","v":0},0,0]
[null,"03","18:02～18:03",{"$f":"'入力シート(1分周期基準値)'!H48","v":0},0,0]
[null,"04","18:03～18:04",{"$f":"'入力シート(1分周期基準値)'!I48","v":0},0,0]
[null,"05","18:04～18:05",{"$f":"'入力シート(1分周期基準値)'!J48","v":0},0,0]
[null,"06","18:05～18:06",{"$f":"'入力シート(1分周期基準値)'!K48","v":0},0,0]
[null,"07","18:06～18:07",{"$f":"'入力シート(1分周期基準値)'!L48","v":0},0,0]
[null,"08","18:07～18:08",{"$f":"'入力シート(1分周期基準値)'!M48","v":0},0,0]
[null,"09","18:08～18:09",{"$f":"'入力シート(1分周期基準値)'!N48","v":0},0,0]
[null,"10","18:09～18:10",{"$f":"'入力シート(1分周期基準値)'!O48","v":0},0,0]
[null,"11","18:10～18:11",{"$f":"'入力シート(1分周期基準値)'!P48","v":0},0,0]
[null,"12","18:11～18:12",{"$f":"'入力シート(1分周期基準値)'!Q48","v":0},0,0]
[null,"13","18:12～18:13",{"$f":"'入力シート(1分周期基準値)'!R48","v":0},0,0]
[null,"14","18:13～18:14",{"$f":"'入力シート(1分周期基準値)'!S48","v":0},0,0]
[null,"15","18:14～18:15",{"$f":"'入力シート(1分周期基準値)'!T48","v":0},0,0]
[null,"16","18:15～18:16",{"$f":"'入力シート(1分周期基準値)'!U48","v":0},0,0]
[null,"17","18:16～18:17",{"$f":"'入力シート(1分周期基準値)'!V48","v":0},0,0]
[null,"18","18:17～18:18",{"$f":"'入力シート(1分周期基準値)'!W48","v":0},0,0]
[null,"19","18:18～18:19",{"$f":"'入力シート(1分周期基準値)'!X48","v":0},0,0]
[null,"20","18:19～18:20",{"$f":"'入力シート(1分周期基準値)'!Y48","v":0},0,0]
[null,"21","18:20～18:21",{"$f":"'入力シート(1分周期基準値)'!Z48","v":0},0,0]
[null,"22","18:21～18:22",{"$f":"'入力シート(1分周期基準値)'!AA48","v":0},0,0]
[null,"23","18:22～18:23",{"$f":"'入力シート(1分周期基準値)'!AB48","v":0},0,0]
[null,"24","18:23～18:24",{"$f":"'入力シート(1分周期基準値)'!AC48","v":0},0,0]
[null,"25","18:24～18:25",{"$f":"'入力シート(1分周期基準値)'!AD48","v":0},0,0]
[null,"26","18:25～18:26",{"$f":"'入力シート(1分周期基準値)'!AE48","v":0},0,0]
[null,"27","18:26～18:27",{"$f":"'入力シート(1分周期基準値)'!AF48","v":0},0,0]
[null,"28","18:27～18:28",{"$f":"'入力シート(1分周期基準値)'!AG48","v":0},0,0]
[null,"29","18:28～18:29",{"$f":"'入力シート(1分周期基準値)'!AH48","v":0},0,0]
[null,"30","18:29～18:30",{"$f":"'入力シート(1分周期基準値)'!AI48","v":0},0,0]
["38","01","18:30～18:31",{"$f":"'入力シート(1分周期基準値)'!F49","v":0},0,0]
[null,"02","18:31～18:32",{"$f":"'入力シート(1分周期基準値)'!G49","v":0},0,0]
[null,"03","18:32～18:33",{"$f":"'入力シート(1分周期基準値)'!H49","v":0},0,0]
[null,"04","18:33～18:34",{"$f":"'入力シート(1分周期基準値)'!I49","v":0},0,0]
[null,"05","18:34～18:35",{"$f":"'入力シート(1分周期基準値)'!J49","v":0},0,0]
[null,"06","18:35～18:36",{"$f":"'入力シート(1分周期基準値)'!K49","v":0},0,0]
[null,"07","18:36～18:37",{"$f":"'入力シート(1分周期基準値)'!L49","v":0},0,0]
[null,"08","18:37～18:38",{"$f":"'入力シート(1分周期基準値)'!M49","v":0},0,0]
[null,"09","18:38～18:39",{"$f":"'入力シート(1分周期基準値)'!N49","v":0},0,0]
[null,"10","18:39～18:40",{"$f":"'入力シート(1分周期基準値)'!O49","v":0},0,0]
[null,"11","18:40～18:41",{"$f":"'入力シート(1分周期基準値)'!P49","v":0},0,0]
[null,"12","18:41～18:42",{"$f":"'入力シート(1分周期基準値)'!Q49","v":0},0,0]
[null,"13","18:42～18:43",{"$f":"'入力シート(1分周期基準値)'!R49","v":0},0,0]
[null,"14","18:43～18:44",{"$f":"'入力シート(1分周期基準値)'!S49","v":0},0,0]
[null,"15","18:44～18:45",{"$f":"'入力シート(1分周期基準値)'!T49","v":0},0,0]
[null,"16","18:45～18:46",{"$f":"'入力シート(1分周期基準値)'!U49","v":0},0,0]
[null,"17","18:46～18:47",{"$f":"'入力シート(1分周期基準値)'!V49","v":0},0,0]
[null,"18","18:47～18:48",{"$f":"'入力シート(1分周期基準値)'!W49","v":0},0,0]
[null,"19","18:48～18:49",{"$f":"'入力シート(1分周期基準値)'!X49","v":0},0,0]
[null,"20","18:49～18:50",{"$f":"'入力シート(1分周期基準値)'!Y49","v":0},0,0]
[null,"21","18:50～18:51",{"$f":"'入力シート(1分周期基準値)'!Z49","v":0},0,0]
[null,"22","18:51～18:52",{"$f":"'入力シート(1分周期基準値)'!AA49","v":0},0,0]
[null,"23","18:52～18:53",{"$f":"'入力シート(1分周期基準値)'!AB49","v":0},0,0]
[null,"24","18:53～18:54",{"$f":"'入力シート(1分周期基準値)'!AC49","v":0},0,0]
[null,"25","18:54～18:55",{"$f":"'入力シート(1分周期基準値)'!AD49","v":0},0,0]
[null,"26","18:55～18:56",{"$f":"'入力シート(1分周期基準値)'!AE49","v":0},0,0]
[null,"27","18:56～18:57",{"$f":"'入力シート(1分周期基準値)'!AF49","v":0},0,0]
[null,"28","18:57～18:58",{"$f":"'入力シート(1分周期基準値)'!AG49","v":0},0,0]
[null,"29","18:58～18:59",{"$f":"'入力シート(1分周期基準値)'!AH49","v":0},0,0]
[null,"30","18:59～19:00",{"$f":"'入力シート(1分周期基準値)'!AI49","v":0},0,0]
["39","01","19:00～19:01",{"$f":"'入力シート(1分周期基準値)'!F50","v":0},0,0]
[null,"02","19:01～19:02",{"$f":"'入力シート(1分周期基準値)'!G50","v":0},0,0]
[null,"03","19:02～19:03",{"$f":"'入力シート(1分周期基準値)'!H50","v":0},{"$f":"F1163-D1163","v":0},{"$f":"IFERROR(ROUND(AVERAGE(G1163:BN1163),0),0)","v":0}]
[null,"04","19:03～19:04",{"$f":"'入力シート(1分周期基準値)'!I50","v":0},0,0]
[null,"05","19:04～19:05",{"$f":"'入力シート(1分周期基準値)'!J50","v":0},0,0]
[null,"06","19:05～19:06",{"$f":"'入力シート(1分周期基準値)'!K50","v":0},0,0]
[null,"07","19:06～19:07",{"$f":"'入力シート(1分周期基準値)'!L50","v":0},0,0]
[null,"08","19:07～19:08",{"$f":"'入力シート(1分周期基準値)'!M50","v":0},0,0]
[null,"09","19:08～19:09",{"$f":"'入力シート(1分周期基準値)'!N50","v":0},0,0]
[null,"10","19:09～19:10",{"$f":"'入力シート(1分周期基準値)'!O50","v":0},0,0]
[null,"11","19:10～19:11",{"$f":"'入力シート(1分周期基準値)'!P50","v":0},0,0]
[null,"12","19:11～19:12",{"$f":"'入力シート(1分周期基準値)'!Q50","v":0},0,0]
[null,"13","19:12～19:13",{"$f":"'入力シート(1分周期基準値)'!R50","v":0},0,0]
[null,"14","19:13～19:14",{"$f":"'入力シート(1分周期基準値)'!S50","v":0},0,0]
[null,"15","19:14～19:15",{"$f":"'入力シート(1分周期基準値)'!T50","v":0},0,0]
[null,"16","19:15～19:16",{"$f":"'入力シート(1分周期基準値)'!U50","v":0},0,0]
[null,"17","19:16～19:17",{"$f":"'入力シート(1分周期基準値)'!V50","v":0},0,0]
[null,"18","19:17～19:18",{"$f":"'入力シート(1分周期基準値)'!W50","v":0},0,0]
[null,"19","19:18～19:19",{"$f":"'入力シート(1分周期基準値)'!X50","v":0},0,0]
[null,"20","19:19～19:20",{"$f":"'入力シート(1分周期基準値)'!Y50","v":0},0,0]
[null,"21","19:20～19:21",{"$f":"'入力シート(1分周期基準値)'!Z50","v":0},0,0]
[null,"22","19:21～19:22",{"$f":"'入力シート(1分周期基準値)'!AA50","v":0},0,0]
[null,"23","19:22～19:23",{"$f":"'入力シート(1分周期基準値)'!AB50","v":0},0,0]
[null,"24","19:23～19:24",{"$f":"'入力シート(1分周期基準値)'!AC50","v":0},0,0]
[null,"25","19:24～19:25",{"$f":"'入力シート(1分周期基準値)'!AD50","v":0},0,0]
[null,"26","19:25～19:26",{"$f":"'入力シート(1分周期基準値)'!AE50","v":0},0,0]
[null,"27","19:26～19:27",{"$f":"'入力シート(1分周期基準値)'!AF50","v":0},0,0]
[null,"28","19:27～19:28",{"$f":"'入力シート(1分周期基準値)'!AG50","v":0},0,0]
[null,"29","19:28～19:29",{"$f":"'入力シート(1分周期基準値)'!AH50","v":0},0,0]
[null,"30","19:29～19:30",{"$f":"'入力シート(1分周期基準値)'!AI50","v":0},0,0]
["40","01","19:30～19:31",{"$f":"'入力シート(1分周期基準値)'!F51","v":0},0,0]
[null,"02","19:31～19:32",{"$f":"'入力シート(1分周期基準値)'!G51","v":0},0,0]
[null,"03","19:32～19:33",{"$f":"'入力シート(1分周期基準値)'!H51","v":0},0,0]
[null,"04","19:33～19:34",{"$f":"'入力シート(1分周期基準値)'!I51","v":0},0,0]
[null,"05","19:34～19:35",{"$f":"'入力シート(1分周期基準値)'!J51","v":0},0,0]
[null,"06","19:35～19:36",{"$f":"'入力シート(1分周期基準値)'!K51","v":0},0,0]
[null,"07","19:36～19:37",{"$f":"'入力シート(1分周期基準値)'!L51","v":0},0,0]
[null,"08","19:37～19:38",{"$f":"'入力シート(1分周期基準値)'!M51","v":0},0,0]
[null,"09","19:38～19:39",{"$f":"'入力シート(1分周期基準値)'!N51","v":0},0,0]
[null,"10","19:39～19:40",{"$f":"'入力シート(1分周期基準値)'!O51","v":0},0,0]
[null,"11","19:40～19:41",{"$f":"'入力シート(1分周期基準値)'!P51","v":0},0,0]
[null,"12","19:41～19:42",{"$f":"'入力シート(1分周期基準値)'!Q51","v":0},0,0]
[null,"13","19:42～19:43",{"$f":"'入力シート(1分周期基準値)'!R51","v":0},0,0]
[null,"14","19:43～19:44",{"$f":"'入力シート(1分周期基準値)'!S51","v":0},0,0]
[null,"15","19:44～19:45",{"$f":"'入力シート(1分周期基準値)'!T51","v":0},0,0]
[null,"16","19:45～19:46",{"$f":"'入力シート(1分周期基準値)'!U51","v":0},0,0]
[null,"17","19:46～19:47",{"$f":"'入力シート(1分周期基準値)'!V51","v":0},0,0]
[null,"18","19:47～19:48",{"$f":"'入力シート(1分周期基準値)'!W51","v":0},0,0]
[null,"19","19:48～19:49",{"$f":"'入力シート(1分周期基準値)'!X51","v":0},0,0]
[null,"20","19:49～19:50",{"$f":"'入力シート(1分周期基準値)'!Y51","v":0},0,0]
[null,"21","19:50～19:51",{"$f":"'入力シート(1分周期基準値)'!Z51","v":0},0,0]
[null,"22","19:51～19:52",{"$f":"'入力シート(1分周期基準値)'!AA51","v":0},0,0]
[null,"23","19:52～19:53",{"$f":"'入力シート(1分周期基準値)'!AB51","v":0},0,0]
[null,"24","19:53～19:54",{"$f":"'入力シート(1分周期基準値)'!AC51","v":0},0,0]
[null,"25","19:54～19:55",{"$f":"'入力シート(1分周期基準値)'!AD51","v":0},0,0]
[null,"26","19:55～19:56",{"$f":"'入力シート(1分周期基準値)'!AE51","v":0},0,0]
[null,"27","19:56～19:57",{"$f":"'入力シート(1分周期基準値)'!AF51","v":0},0,0]
[null,"28","19:57～19:58",{"$f":"'入力シート(1分周期基準値)'!AG51","v":0},0,0]
[null,"29","19:58～19:59",{"$f":"'入力シート(1分周期基準値)'!AH51","v":0},0,0]
[null,"30","19:59～20:00",{"$f":"'入力シート(1分周期基準値)'!AI51","v":0},0,0]
["41","01","20:00～20:01",{"$f":"'入力シート(1分周期基準値)'!F52","v":0},0,0]
[null,"02","20:01～20:02",{"$f":"'入力シート(1分周期基準値)'!G52","v":0},0,0]
[null,"03","20:02～20:03",{"$f":"'入力シート(1分周期基準値)'!H52","v":0},0,0]
[null,"04","20:03～20:04",{"$f":"'入力シート(1分周期基準値)'!I52","v":0},0,0]
[null,"05","20:04～20:05",{"$f":"'入力シート(1分周期基準値)'!J52","v":0},0,0]
[null,"06","20:05～20:06",{"$f":"'入力シート(1分周期基準値)'!K52","v":0},0,0]
[null,"07","20:06～20:07",{"$f":"'入力シート(1分周期基準値)'!L52","v":0},{"$f":"F1227-D1227","v":0},{"$f":"IFERROR(ROUND(AVERAGE(G1227:BN1227),0),0)","v":0}]
[null,"08","20:07～20:08",{"$f":"'入力シート(1分周期基準値)'!M52","v":0},0,0]
[null,"09","20:08～20:09",{"$f":"'入力シート(1分周期基準値)'!N52","v":0},0,0]
[null,"10","20:09～20:10",{"$f":"'入力シート(1分周期基準値)'!O52","v":0},0,0]
[null,"11","20:10～20:11",{"$f":"'入力シート(1分周期基準値)'!P52","v":0},0,0]
[null,"12","20:11～20:12",{"$f":"'入力シート(1分周期基準値)'!Q52","v":0},0,0]
[null,"13","20:12～20:13",{"$f":"'入力シート(1分周期基準値)'!R52","v":0},0,0]
[null,"14","20:13～20:14",{"$f":"'入力シート(1分周期基準値)'!S52","v":0},0,0]
[null,"15","20:14～20:15",{"$f":"'入力シート(1分周期基準値)'!T52","v":0},0,0]
[null,"16","20:15～20:16",{"$f":"'入力シート(1分周期基準値)'!U52","v":0},0,0]
[null,"17","20:16～20:17",{"$f":"'入力シート(1分周期基準値)'!V52","v":0},0,0]
[null,"18","20:17～20:18",{"$f":"'入力シート(1分周期基準値)'!W52","v":0},0,0]
[null,"19","20:18～20:19",{"$f":"'入力シート(1分周期基準値)'!X52","v":0},0,0]
[null,"20","20:19～20:20",{"$f":"'入力シート(1分周期基準値)'!Y52","v":0},0,0]
[null,"21","20:20～20:21",{"$f":"'入力シート(1分周期基準値)'!Z52","v":0},0,0]
[null,"22","20:21～20:22",{"$f":"'入力シート(1分周期基準値)'!AA52","v":0},0,0]
[null,"23","20:22～20:23",{"$f":"'入力シート(1分周期基準値)'!AB52","v":0},0,0]
[null,"24","20:23～20:24",{"$f":"'入力シート(1分周期基準値)'!AC52","v":0},0,0]
[null,"25","20:24～20:25",{"$f":"'入力シート(1分周期基準値)'!AD52","v":0},0,0]
[null,"26","20:25～20:26",{"$f":"'入力シート(1分周期基準値)'!AE52","v":0},0,0]
[null,"27","20:26～20:27",{"$f":"'入力シート(1分周期基準値)'!AF52","v":0},0,0]
[null,"28","20:27～20:28",{"$f":"'入力シート(1分周期基準値)'!AG52","v":0},0,0]
[null,"29","20:28～20:29",{"$f":"'入力シート(1分周期基準値)'!AH52","v":0},0,0]
[null,"30","20:29～20:30",{"$f":"'入力シート(1分周期基準値)'!AI52","v":0},0,0]
["42","01","20:30～20:31",{"$f":"'入力シート(1分周期基準値)'!F53","v":0},0,0]
[null,"02","20:31～20:32",{"$f":"'入力シート(1分周期基準値)'!G53","v":0},0,0]
[null,"03","20:32～20:33",{"$f":"'入力シート(1分周期基準値)'!H53","v":0},0,0]
[null,"04","20:33～20:34",{"$f":"'入力シート(1分周期基準値)'!I53","v":0},0,0]
[null,"05","20:34～20:35",{"$f":"'入力シート(1分周期基準値)'!J53","v":0},0,0]
[null,"06","20:35～20:36",{"$f":"'入力シート(1分周期基準値)'!K53","v":0},0,0]
[null,"07","20:36～20:37",{"$f":"'入力シート(1分周期基準値)'!L53","v":0},0,0]
[null,"08","20:37～20:38",{"$f":"'入力シート(1分周期基準値)'!M53","v":0},0,0]
[null,"09","20:38～20:39",{"$f":"'入力シート(1分周期基準値)'!N53","v":0},0,0]
[null,"10","20:39～20:40",{"$f":"'入力シート(1分周期基準値)'!O53","v":0},0,0]
[null,"11","20:40～20:41",{"$f":"'入力シート(1分周期基準値)'!P53","v":0},0,0]
[null,"12","20:41～20:42",{"$f":"'入力シート(1分周期基準値)'!Q53","v":0},0,0]
[null,"13","20:42～20:43",{"$f":"'入力シート(1分周期基準値)'!R53","v":0},0,0]
[null,"14","20:43～20:44",{"$f":"'入力シート(1分周期基準値)'!S53","v":0},0,0]
[null,"15","20:44～20:45",{"$f":"'入力シート(1分周期基準値)'!T53","v":0},0,0]
[null,"16","20:45～20:46",{"$f":"'入力シート(1分周期基準値)'!U53","v":0},0,0]
[null,"17","20:46～20:47",{"$f":"'入力シート(1分周期基準値)'!V53","v":0},0,0]
[null,"18","20:47～20:48",{"$f":"'入力シート(1分周期基準値)'!W53","v":0},0,0]
[null,"19","20:48～20:49",{"$f":"'入力シート(1分周期基準値)'!X53","v":0},0,0]
[null,"20","20:49～20:50",{"$f":"'入力シート(1分周期基準値)'!Y53","v":0},0,0]
[null,"21","20:50～20:51",{"$f":"'入力シート(1分周期基準値)'!Z53","v":0},0,0]
[null,"22","20:51～20:52",{"$f":"'入力シート(1分周期基準値)'!AA53","v":0},0,0]
[null,"23","20:52～20:53",{"$f":"'入力シート(1分周期基準値)'!AB53","v":0},0,0]
[null,"24","20:53～20:54",{"$f":"'入力シート(1分周期基準値)'!AC53","v":0},0,0]
[null,"25","20:54～20:55",{"$f":"'入力シート(1分周期基準値)'!AD53","v":0},0,0]
[null,"26","20:55～20:56",{"$f":"'入力シート(1分周期基準値)'!AE53","v":0},0,0]
[null,"27","20:56～20:57",{"$f":"'入力シート(1分周期基準値)'!AF53","v":0},0,0]
[null,"28","20:57～20:58",{"$f":"'入力シート(1分周期基準値)'!AG53","v":0},0,0]
[null,"29","20:58～20:59",{"$f":"'入力シート(1分周期基準値)'!AH53","v":0},0,0]
[null,"30","20:59～21:00",{"$f":"'入力シート(1分周期基準値)'!AI53","v":0},0,0]
["43","01","21:00～21:01",{"$f":"'入力シート(1分周期基準値)'!F54","v":0},0,0]
[null,"02","21:01～21:02",{"$f":"'入力シート(1分周期基準値)'!G54","v":0},0,0]
[null,"03","21:02～21:03",{"$f":"'入力シート(1分周期基準値)'!H54","v":0},0,0]
[null,"04","21:03～21:04",{"$f":"'入力シート(1分周期基準値)'!I54","v":0},0,0]
[null,"05","21:04～21:05",{"$f":"'入力シート(1分周期基準値)'!J54","v":0},0,0]
[null,"06","21:05～21:06",{"$f":"'入力シート(1分周期基準値)'!K54","v":0},0,0]
[null,"07","21:06～21:07",{"$f":"'入力シート(1分周期基準値)'!L54","v":0},0,0]
[null,"08","21:07～21:08",{"$f":"'入力シート(1分周期基準値)'!M54","v":0},0,0]
[null,"09","21:08～21:09",{"$f":"'入力シート(1分周期基準値)'!N54","v":0},0,0]
[null,"10","21:09～21:10",{"$f":"'入力シート(1分周期基準値)'!O54","v":0},0,0]
[null,"11","21:10～21:11",{"$f":"'入力シート(1分周期基準値)'!P54","v":0},{"$f":"F1291-D1291","v":0},{"$f":"IFERROR(ROUND(AVERAGE(G1291:BN1291),0),0)","v":0}]
[null,"12","21:11～21:12",{"$f":"'入力シート(1分周期基準値)'!Q54","v":0},0,0]
[null,"13","21:12～21:13",{"$f":"'入力シート(1分周期基準値)'!R54","v":0},0,0]
[null,"14","21:13～21:14",{"$f":"'入力シート(1分周期基準値)'!S54","v":0},0,0]
[null,"15","21:14～21:15",{"$f":"'入力シート(1分周期基準値)'!T54","v":0},0,0]
[null,"16","21:15～21:16",{"$f":"'入力シート(1分周期基準値)'!U54","v":0},0,0]
[null,"17","21:16～21:17",{"$f":"'入力シート(1分周期基準値)'!V54","v":0},0,0]
[null,"18","21:17～21:18",{"$f":"'入力シート(1分周期基準値)'!W54","v":0},0,0]
[null,"19","21:18～21:19",{"$f":"'入力シート(1分周期基準値)'!X54","v":0},0,0]
[null,"20","21:19～21:20",{"$f":"'入力シート(1分周期基準値)'!Y54","v":0},0,0]
[null,"21","21:20～21:21",{"$f":"'入力シート(1分周期基準値)'!Z54","v":0},0,0]
[null,"22","21:21～21:22",{"$f":"'入力シート(1分周期基準値)'!AA54","v":0},0,0]
[null,"23","21:22～21:23",{"$f":"'入力シート(1分周期基準値)'!AB54","v":0},0,0]
[null,"24","21:23～21:24",{"$f":"'入力シート(1分周期基準値)'!AC54","v":0},0,0]
[null,"25","21:24～21:25",{"$f":"'入力シート(1分周期基準値)'!AD54","v":0},0,0]
[null,"26","21:25～21:26",{"$f":"'入力シート(1分周期基準値)'!AE54","v":0},0,0]
[null,"27","21:26～21:27",{"$f":"'入力シート(1分周期基準値)'!AF54","v":0},0,0]
[null,"28","21:27～21:28",{"$f":"'入力シート(1分周期基準値)'!AG54","v":0},0,0]
[null,"29","21:28～21:29",{"$f":"'入力シート(1分周期基準値)'!AH54","v":0},0,0]
[null,"30","21:29～21:30",{"$f":"'入力シート(1分周期基準値)'!AI54","v":0},0,0]
["44","01","21:30～21:31",{"$f":"'入力シート(1分周期基準値)'!F55","v":0},0,0]
[null,"02","21:31～21:32",{"$f":"'入力シート(1分周期基準値)'!G55","v":0},0,0]
[null,"03","21:32～21:33",{"$f":"'入力シート(1分周期基準値)'!H55","v":0},0,0]
[null,"04","21:33～21:34",{"$f":"'入力シート(1分周期基準値)'!I55","v":0},0,0]
[null,"05","21:34～21:35",{"$f":"'入力シート(1分周期基準値)'!J55","v":0},0,0]
[null,"06","21:35～21:36",{"$f":"'入力シート(1分周期基準値)'!K55","v":0},0,0]
[null,"07","21:36～21:37",{"$f":"'入力シート(1分周期基準値)'!L55","v":0},0,0]
[null,"08","21:37～21:38",{"$f":"'入力シート(1分周期基準値)'!M55","v":0},0,0]
[null,"09","21:38～21:39",{"$f":"'入力シート(1分周期基準値)'!N55","v":0},0,0]
[null,"10","21:39～21:40",{"$f":"'入力シート(1分周期基準値)'!O55","v":0},0,0]
[null,"11","21:40～21:41",{"$f":"'入力シート(1分周期基準値)'!P55","v":0},0,0]
[null,"12","21:41～21:42",{"$f":"'入力シート(1分周期基準値)'!Q55","v":0},0,0]
[null,"13","21:42～21:43",{"$f":"'入力シート(1分周期基準値)'!R55","v":0},0,0]
[null,"14","21:43～21:44",{"$f":"'入力シート(1分周期基準値)'!S55","v":0},0,0]
[null,"15","21:44～21:45",{"$f":"'入力シート(1分周期基準値)'!T55","v":0},0,0]
[null,"16","21:45～21:46",{"$f":"'入力シート(1分周期基準値)'!U55","v":0},0,0]
[null,"17","21:46～21:47",{"$f":"'入力シート(1分周期基準値)'!V55","v":0},0,0]
[null,"18","21:47～21:48",{"$f":"'入力シート(1分周期基準値)'!W55","v":0},0,0]
[null,"19","21:48～21:49",{"$f":"'入力シート(1分周期基準値)'!X55","v":0},0,0]
[null,"20","21:49～21:50",{"$f":"'入力シート(1分周期基準値)'!Y55","v":0},0,0]
[null,"21","21:50～21:51",{"$f":"'入力シート(1分周期基準値)'!Z55","v":0},0,0]
[null,"22","21:51～21:52",{"$f":"'入力シート(1分周期基準値)'!AA55","v":0},0,0]
[null,"23","21:52～21:53",{"$f":"'入力シート(1分周期基準値)'!AB55","v":0},0,0]
[null,"24","21:53～21:54",{"$f":"'入力シート(1分周期基準値)'!AC55","v":0},0,0]
[null,"25","21:54～21:55",{"$f":"'入力シート(1分周期基準値)'!AD55","v":0},0,0]
[null,"26","21:55～21:56",{"$f":"'入力シート(1分周期基準値)'!AE55","v":0},0,0]
[null,"27","21:56～21:57",{"$f":"'入力シート(1分周期基準値)'!AF55","v":0},0,0]
[null,"28","21:57～21:58",{"$f":"'入力シート(1分周期基準値)'!AG55","v":0},0,0]
[null,"29","21:58～21:59",{"$f":"'入力シート(1分周期基準値)'!AH55","v":0},0,0]
[null,"30","21:59～22:00",{"$f":"'入力シート(1分周期基準値)'!AI55","v":0},0,0]
["45","01","22:00～22:01",{"$f":"'入力シート(1分周期基準値)'!F56","v":0},0,0]
[null,"02","22:01～22:02",{"$f":"'入力シート(1分周期基準値)'!G56","v":0},0,0]
[null,"03","22:02～22:03",{"$f":"'入力シート(1分周期基準値)'!H56","v":0},0,0]
[null,"04","22:03～22:04",{"$f":"'入力シート(1分周期基準値)'!I56","v":0},0,0]
[null,"05","22:04～22:05",{"$f":"'入力シート(1分周期基準値)'!J56","v":0},0,0]
[null,"06","22:05～22:06",{"$f":"'入力シート(1分周期基準値)'!K56","v":0},0,0]
[null,"07","22:06～22:07",{"$f":"'入力シート(1分周期基準値)'!L56","v":0},0,0]
[null,"08","22:07～22:08",{"$f":"'入力シート(1分周期基準値)'!M56","v":0},0,0]
[null,"09","22:08～22:09",{"$f":"'入力シート(1分周期基準値)'!N56","v":0},0,0]
[null,"10","22:09～22:10",{"$f":"'入力シート(1分周期基準値)'!O56","v":0},0,0]
[null,"11","22:10～22:11",{"$f":"'入力シート(1分周期基準値)'!P56","v":0},0,0]
[null,"12","22:11～22:12",{"$f":"'入力シート(1分周期基準値)'!Q56","v":0},0,0]
[null,"13","22:12～22:13",{"$f":"'入力シート(1分周期基準値)'!R56","v":0},0,0]
[null,"14","22:13～22:14",{"$f":"'入力シート(1分周期基準値)'!S56","v":0},0,0]
[null,"15","22:14～22:15",{"$f":"'入力シート(1分周期基準値)'!T56","v":0},{"$f":"F1355-D1355","v":0},{"$f":"IFERROR(ROUND(AVERAGE(G1355:BN1355),0),0)","v":0}]
[null,"16","22:15～22:16",{"$f":"'入力シート(1分周期基準値)'!U56","v":0},0,0]
[null,"17","22:16～22:17",{"$f":"'入力シート(1分周期基準値)'!V56","v":0},0,0]
[null,"18","22:17～22:18",{"$f":"'入力シート(1分周期基準値)'!W56","v":0},0,0]
[null,"19","22:18～22:19",{"$f":"'入力シート(1分周期基準値)'!X56","v":0},0,0]
[null,"20","22:19～22:20",{"$f":"'入力シート(1分周期基準値)'!Y56","v":0},0,0]
[null,"21","22:20～22:21",{"$f":"'入力シート(1分周期基準値)'!Z56","v":0},0,0]
[null,"22","22:21～22:22",{"$f":"'入力シート(1分周期基準値)'!AA56","v":0},0,0]
[null,"23","22:22～22:23",{"$f":"'入力シート(1分周期基準値)'!AB56","v":0},0,0]
[null,"24","22:23～22:24",{"$f":"'入力シート(1分周期基準値)'!AC56","v":0},0,0]
[null,"25","22:24～22:25",{"$f":"'入力シート(1分周期基準値)'!AD56","v":0},0,0]
[null,"26","22:25～22:26",{"$f":"'入力シート(1分周期基準値)'!AE56","v":0},0,0]
[null,"27","22:26～22:27",{"$f":"'入力シート(1分周期基準値)'!AF56","v":0},0,0]
[null,"28","22:27～22:28",{"$f":"'入力シート(1分周期基準値)'!AG56","v":0},0,0]
[null,"29","22:28～22:29",{"$f":"'入力シート(1分周期基準値)'!AH56","v":0},0,0]
[null,"30","22:29～22:30",{"$f":"'入力シート(1分周期基準値)'!AI56","v":0},0,0]
["46","01","22:30～22:31",{"$f":"'入力シート(1分周期基準値)'!F57","v":0},0,0]
[null,"02","22:31～22:32",{"$f":"'入力シート(1分周期基準値)'!G57","v":0},0,0]
[null,"03","22:32～22:33",{"$f":"'入力シート(1分周期基準値)'!H57","v":0},0,0]
[null,"04","22:33～22:34",{"$f":"'入力シート(1分周期基準値)'!I57","v":0},0,0]
[null,"05","22:34～22:35",{"$f":"'入力シート(1分周期基準値)'!J57","v":0},0,0]
[null,"06","22:35～22:36",{"$f":"'入力シート(1分周期基準値)'!K57","v":0},0,0]
[null,"07","22:36～22:37",{"$f":"'入力シート(1分周期基準値)'!L57","v":0},0,0]
[null,"08","22:37～22:38",{"$f":"'入力シート(1分周期基準値)'!M57","v":0},0,0]
[null,"09","22:38～22:39",{"$f":"'入力シート(1分周期基準値)'!N57","v":0},0,0]
[null,"10","22:39～22:40",{"$f":"'入力シート(1分周期基準値)'!O57","v":0},0,0]
[null,"11","22:40～22:41",{"$f":"'入力シート(1分周期基準値)'!P57","v":0},0,0]
[null,"12","22:41～22:42",{"$f":"'入力シート(1分周期基準値)'!Q57","v":0},0,0]
[null,"13","22:42～22:43",{"$f":"'入力シート(1分周期基準値)'!R57","v":0},0,0]
[null,"14","22:43～22:44",{"$f":"'入力シート(1分周期基準値)'!S57","v":0},0,0]
[null,"15","22:44～22:45",{"$f":"'入力シート(1分周期基準値)'!T57","v":0},0,0]
[null,"16","22:45～22:46",{"$f":"'入力シート(1分周期基準値)'!U57","v":0},0,0]
[null,"17","22:46～22:47",{"$f":"'入力シート(1分周期基準値)'!V57","v":0},0,0]
[null,"18","22:47～22:48",{"$f":"'入力シート(1分周期基準値)'!W57","v":0},0,0]
[null,"19","22:48～22:49",{"$f":"'入力シート(1分周期基準値)'!X57","v":0},0,0]
[null,"20","22:49～22:50",{"$f":"'入力シート(1分周期基準値)'!Y57","v":0},0,0]
[null,"21","22:50～22:51",{"$f":"'入力シート(1分周期基準値)'!Z57","v":0},0,0]
[null,"22","22:51～22:52",{"$f":"'入力シート(1分周期基準値)'!AA57","v":0},0,0]
[null,"23","22:52～22:53",{"$f":"'入力シート(1分周期基準値)'!AB57","v":0},0,0]
[null,"24","22:53～22:54",{"$f":"'入力シート(1分周期基準値)'!AC57","v":0},0,0]
[null,"25","22:54～22:55",{"$f":"'入力シート(1分周期基準値)'!AD57","v":0},0,0]
[null,"26","22:55～22:56",{"$f":"'入力シート(1分周期基準値)'!AE57","v":0},0,0]
[null,"27","22:56～22:57",{"$f":"'入力シート(1分周期基準値)'!AF57","v":0},0,0]
[null,"28","22:57～22:58",{"$f":"'入力シート(1分周期基準値)'!AG57","v":0},0,0]
[null,"29","22:58～22:59",{"$f":"'入力シート(1分周期基準値)'!AH57","v":0},0,0]
[null,"30","22:59～23:00",{"$f":"'入力シート(1分周期基準値)'!AI57","v":0},0,0]
["47","01","23:00～23:01",{"$f":"'入力シート(1分周期基準値)'!F58","v":0},0,0]
[null,"02","23:01～23:02",{"$f":"'入力シート(1分周期基準値)'!G58","v":0},0,0]
[null,"03","23:02～23:03",{"$f":"'入力シート(1分周期基準値)'!H58","v":0},0,0]
[null,"04","23:03～23:04",{"$f":"'入力シート(1分周期基準値)'!I58","v":0},0,0]
[null,"05","23:04～23:05",{"$f":"'入力シート(1分周期基準値)'!J58","v":0},0,0]
[null,"06","23:05～23:06",{"$f":"'入力シート(1分周期基準値)'!K58","v":0},0,0]
[null,"07","23:06～23:07",{"$f":"'入力シート(1分周期基準値)'!L58","v":0},0,0]
[null,"08","23:07～23:08",{"$f":"'入力シート(1分周期基準値)'!M58","v":0},0,0]
[null,"09","23:08～23:09",{"$f":"'入力シート(1分周期基準値)'!N58","v":0},0,0]
[null,"10","23:09～23:10",{"$f":"'入力シート(1分周期基準値)'!O58","v":0},0,0]
[null,"11","23:10～23:11",{"$f":"'入力シート(1分周期基準値)'!P58","v":0},0,0]
[null,"12","23:11～23:12",{"$f":"'入力シート(1分周期基準値)'!Q58","v":0},0,0]
[null,"13","23:12～23:13",{"$f":"'入力シート(1分周期基準値)'!R58","v":0},0,0]
[null,"14","23:13～23:14",{"$f":"'入力シート(1分周期基準値)'!S58","v":0},0,0]
[null,"15","23:14～23:15",{"$f":"'入力シート(1分周期基準値)'!T58","v":0},0,0]
[null,"16","23:15～23:16",{"$f":"'入力シート(1分周期基準値)'!U58","v":0},0,0]
[null,"17","23:16～23:17",{"$f":"'入力シート(1分周期基準値)'!V58","v":0},0,0]
[null,"18","23:17～23:18",{"$f":"'入力シート(1分周期基準値)'!W58","v":0},0,0]
[null,"19","23:18～23:19",{"$f":"'入力シート(1分周期基準値)'!X58","v":0},{"$f":"F1419-D1419","v":0},{"$f":"IFERROR(ROUND(AVERAGE(G1419:BN1419),0),0)","v":0}]
[null,"20","23:19～23:20",{"$f":"'入力シート(1分周期基準値)'!Y58","v":0},0,0]
[null,"21","23:20～23:21",{"$f":"'入力シート(1分周期基準値)'!Z58","v":0},0,0]
[null,"22","23:21～23:22",{"$f":"'入力シート(1分周期基準値)'!AA58","v":0},0,0]
[null,"23","23:22～23:23",{"$f":"'入力シート(1分周期基準値)'!AB58","v":0},0,0]
[null,"24","23:23～23:24",{"$f":"'入力シート(1分周期基準値)'!AC58","v":0},0,0]
[null,"25","23:24～23:25",{"$f":"'入力シート(1分周期基準値)'!AD58","v":0},0,0]
[null,"26","23:25～23:26",{"$f":"'入力シート(1分周期基準値)'!AE58","v":0},0,0]
[null,"27","23:26～23:27",{"$f":"'入力シート(1分周期基準値)'!AF58","v":0},0,0]
[null,"28","23:27～23:28",{"$f":"'入力シート(1分周期基準値)'!AG58","v":0},0,0]
[null,"29","23:28～23:29",{"$f":"'入力シート(1分周期基準値)'!AH58","v":0},0,0]
[null,"30","23:29～23:30",{"$f":"'入力シート(1分周期基準値)'!AI58","v":0},0,0]
["48","01","23:30～23:31",{"$f":"'入力シート(1分周期基準値)'!F59","v":0},0,0]
[null,"02","23:31～23:32",{"$f":"'入力シート(1分周期基準値)'!G59","v":0},0,0]
[null,"03","23:32～23:33",{"$f":"'入力シート(1分周期基準値)'!H59","v":0},0,0]
[null,"04","23:33～23:34",{"$f":"'入力シート(1分周期基準値)'!I59","v":0},0,0]
[null,"05","23:34～23:35",{"$f":"'入力シート(1分周期基準値)'!J59","v":0},0,0]
[null,"06","23:35～23:36",{"$f":"'入力シート(1分周期基準値)'!K59","v":0},0,0]
[null,"07","23:36～23:37",{"$f":"'入力シート(1分周期基準値)'!L59","v":0},0,0]
[null,"08","23:37～23:38",{"$f":"'入力シート(1分周期基準値)'!M59","v":0},0,0]
[null,"09","23:38～23:39",{"$f":"'入力シート(1分周期基準値)'!N59","v":0},0,0]
[null,"10","23:39～23:40",{"$f":"'入力シート(1分周期基準値)'!O59","v":0},0,0]
[null,"11","23:40～23:41",{"$f":"'入力シート(1分周期基準値)'!P59","v":0},0,0]
[null,"12","23:41～23:42",{"$f":"'入力シート(1分周期基準値)'!Q59","v":0},0,0]
[null,"13","23:42～23:43",{"$f":"'入力シート(1分周期基準値)'!R59","v":0},0,0]
[null,"14","23:43～23:44",{"$f":"'入力シート(1分周期基準値)'!S59","v":0},0,0]
[null,"15","23:44～23:45",{"$f":"'入力シート(1分周期基準値)'!T59","v":0},0,0]
[null,"16","23:45～23:46",{"$f":"'入力シート(1分周期基準値)'!U59","v":0},0,0]
[null,"17","23:46～23:47",{"$f":"'入力シート(1分周期基準値)'!V59","v":0},0,0]
[null,"18","23:47～23:48",{"$f":"'入力シート(1分周期基準値)'!W59","v":0},0,0]
[null,"19","23:48～23:49",{"$f":"'入力シート(1分周期基準値)'!X59","v":0},0,0]
[null,"20","23:49～23:50",{"$f":"'入力シート(1分周期基準値)'!Y59","v":0},0,0]
[null,"21","23:50～23:51",{"$f":"'入力シート(1分周期基準値)'!Z59","v":0},0,0]
[null,"22","23:51～23:52",{"$f":"'入力シート(1分周期基準値)'!AA59","v":0},0,0]
[null,"23","23:52～23:53",{"$f":"'入力シート(1分周期基準値)'!AB59","v":0},0,0]
[null,"24","23:53～23:54",{"$f":"'入力シート(1分周期基準値)'!AC59","v":0},0,0]
[null,"25","23:54～23:55",{"$f":"'入力シート(1分周期基準値)'!AD59","v":0},0,0]
[null,"26","23:55～23:56",{"$f":"'入力シート(1分周期基準値)'!AE59","v":0},0,0]
[null,"27","23:56～23:57",{"$f":"'入力シート(1分周期基準値)'!AF59","v":0},0,0]
[null,"28","23:57～23:58",{"$f":"'入力シート(1分周期基準値)'!AG59","v":0},0,0]
[null,"29","23:58～23:59",{"$f":"'入力シート(1分周期基準値)'!AH59","v":0},0,0]
[null,"30","23:59～24:00",{"$f":"'入力シート(1分周期基準値)'!AI59","v":0},0,0]

{"sheet":"入力シート(1分周期発電計画)","index":7,"n_rows":59,"n_cols":35,"rows_kept":59,"cut":false,"hidden":true,"merged":[[6,2,7,2],[6,3,7,3],[6,4,7,34],[8,2,10,2],[8,3,9,3],[8,4,10,4],[8,5,8,34],[9,5,9,34]]}
["1分周期発電計画電力"]
[]
[]
[]
[]
[null,null,"(※)不整合電力量が±１の範囲内であれば、丸め誤差として許容します。"]
[null,null,"30分発電計画電力","30分発電計画電力と\n発電計画電力の整合性","発電計画電力"]
[]
[null,null,"30分発電計画電力\n(kWh)","30分平均発電計画電力\n－30分発電計画電力","30分平均発電計画電力(kWh)","機器点1分発電計画電力(kW)"]
[null,null,null,null,null,"タイムスロット"]
["#","時間帯",null,"不整合電力量(kWh)",null,"01","02","03","04","05","06","07","08","09","10","11","12","13","14","15","16","17","18","19","20","21","22","23","24","25","26","27","28","29","30"]
["01","0:00～0:30",0,{"$f":"E12-C12","v":0},{"$f":"IFERROR(ROUND(AVERAGE(F12:AI12)*0.5,0),0)","v":0}]
["02","0:30～1:00",0,{"$f":"E13-C13","v":0},0]
["03","1:00～1:30",0,0,0]
["04","1:30～2:00",0,0,0]
["05","2:00～2:30",0,0,0]
["06","2:30～3:00",0,0,0]
["07","3:00～3:30",0,0,0]
["08","3:30～4:00",0,0,0]
["09","4:00～4:30",0,0,0]
[10,"4:30～5:00",0,0,0]
[11,"5:00～5:30",0,0,0]
[12,"5:30～6:00",0,0,0]
[13,"6:00～6:30",0,0,0]
[14,"6:30～7:00",0,0,0]
[15,"7:00～7:30",0,0,0]
[16,"7:30～8:00",0,0,0]
[17,"8:00～8:30",0,0,0]
[18,"8:30～9:00",0,0,0]
[19,"9:00～9:30",0,0,0]
[20,"9:30～10:00",0,0,0]
[21,"10:00～10:30",0,0,0]
[22,"10:30～11:00",0,0,0]
[23,"11:00～11:30",0,0,0]
[24,"11:30～12:00",0,0,0]
[25,"12:00～12:30",0,0,0]
[26,"12:30～13:00",0,0,0]
[27,"13:00～13:30",0,0,0]
[28,"13:30～14:00",0,0,0]
[29,"14:00～14:30",0,0,0]
[30,"14:30～15:00",0,0,0]
[31,"15:00～15:30",0,0,0]
[32,"15:30～16:00",0,0,0]
[33,"16:00～16:30",0,0,0]
[34,"16:30～17:00",0,0,0]
[35,"17:00～17:30",0,0,0]
[36,"17:30～18:00",0,0,0]
[37,"18:00～18:30",0,0,0]
[38,"18:30～19:00",0,0,0]
[39,"19:00～19:30",0,0,0]
[40,"19:30～20:00",0,0,0]
[41,"20:00～20:30",0,0,0]
[42,"20:30～21:00",0,0,0]
[43,"21:00～21:30",0,0,0]
[44,"21:30～22:00",0,0,0]
[45,"22:00～22:30",0,0,0]
[46,"22:30～23:00",0,0,0]
[47,"23:00～23:30",0,0,0]
[48,"23:30～24:00",0,0,0]

{"sheet":"入力シート(属地周期発電計画)","index":8,"n_rows":1460,"n_cols":66,"rows_kept":1460,"cut":false,"hidden":true,"merged":[[1430,0,1459,0],[1100,0,1129,0],[1130,0,1159,0],[1160,0,1189,0],[1190,0,1219,0],[1220,0,1249,0],[1250,0,1279,0],[1280,0,1309,0],[1310,0,1339,0],[1340,0,1369,0],[1370,0,1399,0],[1400,0,1429,0],[1070,0,1099,0],[740,0,769,0],[770,0,799,0],[800,0,829,0],[830,0,859,0],[860,0,889,0],[890,0,919,0],[920,0,949,0],[950,0,979,0],[980,0,1009,0],[1010,0,1039,0],[1040,0,1069,0],[710,0,739,0],[380,0,409,0],[410,0,439,0],[440,0,469,0],[470,0,499,0],[500,0,529,0],[530,0,559,0],[560,0,589,0],[590,0,619,0],[620,0,649,0],[650,0,679,0],[680,0,709,0],[350,0,379,0],[20,0,49,0],[50,0,79,0],[80,0,109,0],[110,0,139,0],[140,0,169,0],[170,0,199,0],[200,0,229,0],[230,0,259,0],[260,0,289,0],[290,0,319,0],[320,0,349,0],[15,3,16,3],[15,4,16,4],[15,6,16,65],[17,4,18,4],[17,6,17,65],[18,6,18,65]]}
["属地周期発電計画電力"]
[]
[]
[]
[]
[]
[]
[]
[]
[]
[]
[]
[]
[]
[null,null,null,"（※）機器点1分発電計画電力と属地周期発電計画電力の差が±1の範囲内であれば、丸め誤差として許容します。"]
[null,null,null,"機j起点1分\n発電計画電力","1分発電計画電力と\n発電計画電力の整合性",null,"発電計画電力"]
[]
[null,null,null,"機器点1分発","1分平均発電計画電力\n－1分発電計画電力","1分平均発電","属地周期発電計画電力(kW)"]
[null,null,null,"電計画電力",null,"計画電力","タイムビート"]
["時刻コード","タイムスロット","時間帯","(kW)","不整合電力量(kW)","(kW)","01","02","03","04","05","06","07","08","09","10","11","12","13","14","15","16","17","18","19","20","21","22","23","24","25","26","27","28","29","30","31","32","33","34","35","36","37","38","39","40","41","42","43","44","45","46","47","48","49","50","51","52","53","54","55","56","57","58","59","60"]
["01","01","0:00～0:01",{"$f":"'入力シート(1分周期発電計画)'!F12","v":0},{"$f":"F21-D21","v":0},{"$f":"IFERROR(ROUND(AVERAGE(G21:BN21),0),0)","v":0}]
[null,"02","0:01～0:02",{"$f":"'入力シート(1分周期発電計画)'!G12","v":0},0,0]
[null,"03","0:02～0:03",{"$f":"'入力シート(1分周期発電計画)'!H12","v":0},0,0]
[null,"04","0:03～0:04",{"$f":"'入力シート(1分周期発電計画)'!I12","v":0},0,0]
[null,"05","0:04～0:05",{"$f":"'入力シート(1分周期発電計画)'!J12","v":0},0,0]
[null,"06","0:05～0:06",{"$f":"'入力シート(1分周期発電計画)'!K12","v":0},0,0]
[null,"07","0:06～0:07",{"$f":"'入力シート(1分周期発電計画)'!L12","v":0},0,0]
[null,"08","0:07～0:08",{"$f":"'入力シート(1分周期発電計画)'!M12","v":0},0,0]
[null,"09","0:08～0:09",{"$f":"'入力シート(1分周期発電計画)'!N12","v":0},0,0]
[null,"10","0:09～0:10",{"$f":"'入力シート(1分周期発電計画)'!O12","v":0},0,0]
[null,"11","0:10～0:11",{"$f":"'入力シート(1分周期発電計画)'!P12","v":0},0,0]
[null,"12","0:11～0:12",{"$f":"'入力シート(1分周期発電計画)'!Q12","v":0},0,0]
[null,"13","0:12～0:13",{"$f":"'入力シート(1分周期発電計画)'!R12","v":0},0,0]
[null,"14","0:13～0:14",{"$f":"'入力シート(1分周期発電計画)'!S12","v":0},0,0]
[null,"15","0:14～0:15",{"$f":"'入力シート(1分周期発電計画)'!T12","v":0},0,0]
[null,"16","0:15～0:16",{"$f":"'入力シート(1分周期発電計画)'!U12","v":0},0,0]
[null,"17","0:16～0:17",{"$f":"'入力シート(1分周期発電計画)'!V12","v":0},0,0]
[null,"18","0:17～0:18",{"$f":"'入力シート(1分周期発電計画)'!W12","v":0},0,0]
[null,"19","0:18～0:19",{"$f":"'入力シート(1分周期発電計画)'!X12","v":0},0,0]
[null,"20","0:19～0:20",{"$f":"'入力シート(1分周期発電計画)'!Y12","v":0},0,0]
[null,"21","0:20～0:21",{"$f":"'入力シート(1分周期発電計画)'!Z12","v":0},0,0]
[null,"22","0:21～0:22",{"$f":"'入力シート(1分周期発電計画)'!AA12","v":0},0,0]
[null,"23","0:22～0:23",{"$f":"'入力シート(1分周期発電計画)'!AB12","v":0},0,0]
[null,"24","0:23～0:24",{"$f":"'入力シート(1分周期発電計画)'!AC12","v":0},0,0]
[null,"25","0:24～0:25",{"$f":"'入力シート(1分周期発電計画)'!AD12","v":0},0,0]
[null,"26","0:25～0:26",{"$f":"'入力シート(1分周期発電計画)'!AE12","v":0},0,0]
[null,"27","0:26～0:27",{"$f":"'入力シート(1分周期発電計画)'!AF12","v":0},0,0]
[null,"28","0:27～0:28",{"$f":"'入力シート(1分周期発電計画)'!AG12","v":0},0,0]
[null,"29","0:28～0:29",{"$f":"'入力シート(1分周期発電計画)'!AH12","v":0},0,0]
[null,"30","0:29～0:30",{"$f":"'入力シート(1分周期発電計画)'!AI12","v":0},0,0]
["02","01","0:30～0:31",{"$f":"'入力シート(1分周期発電計画)'!F13","v":0},0,0]
[null,"02","0:31～0:32",{"$f":"'入力シート(1分周期発電計画)'!G13","v":0},0,0]
[null,"03","0:32～0:33",{"$f":"'入力シート(1分周期発電計画)'!H13","v":0},0,0]
[null,"04","0:33～0:34",{"$f":"'入力シート(1分周期発電計画)'!I13","v":0},0,0]
[null,"05","0:34～0:35",{"$f":"'入力シート(1分周期発電計画)'!J13","v":0},0,0]
[null,"06","0:35～0:36",{"$f":"'入力シート(1分周期発電計画)'!K13","v":0},0,0]
[null,"07","0:36～0:37",{"$f":"'入力シート(1分周期発電計画)'!L13","v":0},0,0]
[null,"08","0:37～0:38",{"$f":"'入力シート(1分周期発電計画)'!M13","v":0},0,0]
[null,"09","0:38～0:39",{"$f":"'入力シート(1分周期発電計画)'!N13","v":0},0,0]
[null,"10","0:39～0:40",{"$f":"'入力シート(1分周期発電計画)'!O13","v":0},0,0]
[null,"11","0:40～0:41",{"$f":"'入力シート(1分周期発電計画)'!P13","v":0},0,0]
[null,"12","0:41～0:42",{"$f":"'入力シート(1分周期発電計画)'!Q13","v":0},0,0]
[null,"13","0:42～0:43",{"$f":"'入力シート(1分周期発電計画)'!R13","v":0},0,0]
[null,"14","0:43～0:44",{"$f":"'入力シート(1分周期発電計画)'!S13","v":0},0,0]
[null,"15","0:44～0:45",{"$f":"'入力シート(1分周期発電計画)'!T13","v":0},0,0]
[null,"16","0:45～0:46",{"$f":"'入力シート(1分周期発電計画)'!U13","v":0},0,0]
[null,"17","0:46～0:47",{"$f":"'入力シート(1分周期発電計画)'!V13","v":0},0,0]
[null,"18","0:47～0:48",{"$f":"'入力シート(1分周期発電計画)'!W13","v":0},0,0]
[null,"19","0:48～0:49",{"$f":"'入力シート(1分周期発電計画)'!X13","v":0},0,0]
[null,"20","0:49～0:50",{"$f":"'入力シート(1分周期発電計画)'!Y13","v":0},0,0]
[null,"21","0:50～0:51",{"$f":"'入力シート(1分周期発電計画)'!Z13","v":0},0,0]
[null,"22","0:51～0:52",{"$f":"'入力シート(1分周期発電計画)'!AA13","v":0},0,0]
[null,"23","0:52～0:53",{"$f":"'入力シート(1分周期発電計画)'!AB13","v":0},0,0]
[null,"24","0:53～0:54",{"$f":"'入力シート(1分周期発電計画)'!AC13","v":0},0,0]
[null,"25","0:54～0:55",{"$f":"'入力シート(1分周期発電計画)'!AD13","v":0},0,0]
[null,"26","0:55～0:56",{"$f":"'入力シート(1分周期発電計画)'!AE13","v":0},0,0]
[null,"27","0:56～0:57",{"$f":"'入力シート(1分周期発電計画)'!AF13","v":0},0,0]
[null,"28","0:57～0:58",{"$f":"'入力シート(1分周期発電計画)'!AG13","v":0},0,0]
[null,"29","0:58～0:59",{"$f":"'入力シート(1分周期発電計画)'!AH13","v":0},0,0]
[null,"30","0:59～1:00",{"$f":"'入力シート(1分周期発電計画)'!AI13","v":0},0,0]
["03","01","1:00～1:01",{"$f":"'入力シート(1分周期発電計画)'!F14","v":0},0,0]
[null,"02","1:01～1:02",{"$f":"'入力シート(1分周期発電計画)'!G14","v":0},0,0]
[null,"03","1:02～1:03",{"$f":"'入力シート(1分周期発電計画)'!H14","v":0},0,0]
[null,"04","1:03～1:04",{"$f":"'入力シート(1分周期発電計画)'!I14","v":0},0,0]
[null,"05","1:04～1:05",{"$f":"'入力シート(1分周期発電計画)'!J14","v":0},{"$f":"F85-D85","v":0},{"$f":"IFERROR(ROUND(AVERAGE(G85:BN85),0),0)","v":0}]
[null,"06","1:05～1:06",{"$f":"'入力シート(1分周期発電計画)'!K14","v":0},0,0]
[null,"07","1:06～1:07",{"$f":"'入力シート(1分周期発電計画)'!L14","v":0},0,0]
[null,"08","1:07～1:08",{"$f":"'入力シート(1分周期発電計画)'!M14","v":0},0,0]
[null,"09","1:08～1:09",{"$f":"'入力シート(1分周期発電計画)'!N14","v":0},0,0]
[null,"10","1:09～1:10",{"$f":"'入力シート(1分周期発電計画)'!O14","v":0},0,0]
[null,"11","1:10～1:11",{"$f":"'入力シート(1分周期発電計画)'!P14","v":0},0,0]
[null,"12","1:11～1:12",{"$f":"'入力シート(1分周期発電計画)'!Q14","v":0},0,0]
[null,"13","1:12～1:13",{"$f":"'入力シート(1分周期発電計画)'!R14","v":0},0,0]
[null,"14","1:13～1:14",{"$f":"'入力シート(1分周期発電計画)'!S14","v":0},0,0]
[null,"15","1:14～1:15",{"$f":"'入力シート(1分周期発電計画)'!T14","v":0},0,0]
[null,"16","1:15～1:16",{"$f":"'入力シート(1分周期発電計画)'!U14","v":0},0,0]
[null,"17","1:16～1:17",{"$f":"'入力シート(1分周期発電計画)'!V14","v":0},0,0]
[null,"18","1:17～1:18",{"$f":"'入力シート(1分周期発電計画)'!W14","v":0},0,0]
[null,"19","1:18～1:19",{"$f":"'入力シート(1分周期発電計画)'!X14","v":0},0,0]
[null,"20","1:19～1:20",{"$f":"'入力シート(1分周期発電計画)'!Y14","v":0},0,0]
[null,"21","1:20～1:21",{"$f":"'入力シート(1分周期発電計画)'!Z14","v":0},0,0]
[null,"22","1:21～1:22",{"$f":"'入力シート(1分周期発電計画)'!AA14","v":0},0,0]
[null,"23","1:22～1:23",{"$f":"'入力シート(1分周期発電計画)'!AB14","v":0},0,0]
[null,"24","1:23～1:24",{"$f":"'入力シート(1分周期発電計画)'!AC14","v":0},0,0]
[null,"25","1:24～1:25",{"$f":"'入力シート(1分周期発電計画)'!AD14","v":0},0,0]
[null,"26","1:25～1:26",{"$f":"'入力シート(1分周期発電計画)'!AE14","v":0},0,0]
[null,"27","1:26～1:27",{"$f":"'入力シート(1分周期発電計画)'!AF14","v":0},0,0]
[null,"28","1:27～1:28",{"$f":"'入力シート(1分周期発電計画)'!AG14","v":0},0,0]
[null,"29","1:28～1:29",{"$f":"'入力シート(1分周期発電計画)'!AH14","v":0},0,0]
[null,"30","1:29～1:30",{"$f":"'入力シート(1分周期発電計画)'!AI14","v":0},0,0]
["04","01","1:30～1:31",{"$f":"'入力シート(1分周期発電計画)'!F15","v":0},0,0]
[null,"02","1:31～1:32",{"$f":"'入力シート(1分周期発電計画)'!G15","v":0},0,0]
[null,"03","1:32～1:33",{"$f":"'入力シート(1分周期発電計画)'!H15","v":0},0,0]
[null,"04","1:33～1:34",{"$f":"'入力シート(1分周期発電計画)'!I15","v":0},0,0]
[null,"05","1:34～1:35",{"$f":"'入力シート(1分周期発電計画)'!J15","v":0},0,0]
[null,"06","1:35～1:36",{"$f":"'入力シート(1分周期発電計画)'!K15","v":0},0,0]
[null,"07","1:36～1:37",{"$f":"'入力シート(1分周期発電計画)'!L15","v":0},0,0]
[null,"08","1:37～1:38",{"$f":"'入力シート(1分周期発電計画)'!M15","v":0},0,0]
[null,"09","1:38～1:39",{"$f":"'入力シート(1分周期発電計画)'!N15","v":0},0,0]
[null,"10","1:39～1:40",{"$f":"'入力シート(1分周期発電計画)'!O15","v":0},0,0]
[null,"11","1:40～1:41",{"$f":"'入力シート(1分周期発電計画)'!P15","v":0},0,0]
[null,"12","1:41～1:42",{"$f":"'入力シート(1分周期発電計画)'!Q15","v":0},0,0]
[null,"13","1:42～1:43",{"$f":"'入力シート(1分周期発電計画)'!R15","v":0},0,0]
[null,"14","1:43～1:44",{"$f":"'入力シート(1分周期発電計画)'!S15","v":0},0,0]
[null,"15","1:44～1:45",{"$f":"'入力シート(1分周期発電計画)'!T15","v":0},0,0]
[null,"16","1:45～1:46",{"$f":"'入力シート(1分周期発電計画)'!U15","v":0},0,0]
[null,"17","1:46～1:47",{"$f":"'入力シート(1分周期発電計画)'!V15","v":0},0,0]
[null,"18","1:47～1:48",{"$f":"'入力シート(1分周期発電計画)'!W15","v":0},0,0]
[null,"19","1:48～1:49",{"$f":"'入力シート(1分周期発電計画)'!X15","v":0},0,0]
[null,"20","1:49～1:50",{"$f":"'入力シート(1分周期発電計画)'!Y15","v":0},0,0]
[null,"21","1:50～1:51",{"$f":"'入力シート(1分周期発電計画)'!Z15","v":0},0,0]
[null,"22","1:51～1:52",{"$f":"'入力シート(1分周期発電計画)'!AA15","v":0},0,0]
[null,"23","1:52～1:53",{"$f":"'入力シート(1分周期発電計画)'!AB15","v":0},0,0]
[null,"24","1:53～1:54",{"$f":"'入力シート(1分周期発電計画)'!AC15","v":0},0,0]
[null,"25","1:54～1:55",{"$f":"'入力シート(1分周期発電計画)'!AD15","v":0},0,0]
[null,"26","1:55～1:56",{"$f":"'入力シート(1分周期発電計画)'!AE15","v":0},0,0]
[null,"27","1:56～1:57",{"$f":"'入力シート(1分周期発電計画)'!AF15","v":0},0,0]
[null,"28","1:57～1:58",{"$f":"'入力シート(1分周期発電計画)'!AG15","v":0},0,0]
[null,"29","1:58～1:59",{"$f":"'入力シート(1分周期発電計画)'!AH15","v":0},0,0]
[null,"30","1:59～2:00",{"$f":"'入力シート(1分周期発電計画)'!AI15","v":0},0,0]
["05","01","2:00～2:01",{"$f":"'入力シート(1分周期発電計画)'!F16","v":0},0,0]
[null,"02","2:01～2:02",{"$f":"'入力シート(1分周期発電計画)'!G16","v":0},0,0]
[null,"03","2:02～2:03",{"$f":"'入力シート(1分周期発電計画)'!H16","v":0},0,0]
[null,"04","2:03～2:04",{"$f":"'入力シート(1分周期発電計画)'!I16","v":0},0,0]
[null,"05","2:04～2:05",{"$f":"'入力シート(1分周期発電計画)'!J16","v":0},0,0]
[null,"06","2:05～2:06",{"$f":"'入力シート(1分周期発電計画)'!K16","v":0},0,0]
[null,"07","2:06～2:07",{"$f":"'入力シート(1分周期発電計画)'!L16","v":0},0,0]
[null,"08","2:07～2:08",{"$f":"'入力シート(1分周期発電計画)'!M16","v":0},0,0]
[null,"09","2:08～2:09",{"$f":"'入力シート(1分周期発電計画)'!N16","v":0},{"$f":"F149-D149","v":0},{"$f":"IFERROR(ROUND(AVERAGE(G149:BN149),0),0)","v":0}]
[null,"10","2:09～2:10",{"$f":"'入力シート(1分周期発電計画)'!O16","v":0},0,0]
[null,"11","2:10～2:11",{"$f":"'入力シート(1分周期発電計画)'!P16","v":0},0,0]
[null,"12","2:11～2:12",{"$f":"'入力シート(1分周期発電計画)'!Q16","v":0},0,0]
[null,"13","2:12～2:13",{"$f":"'入力シート(1分周期発電計画)'!R16","v":0},0,0]
[null,"14","2:13～2:14",{"$f":"'入力シート(1分周期発電計画)'!S16","v":0},0,0]
[null,"15","2:14～2:15",{"$f":"'入力シート(1分周期発電計画)'!T16","v":0},0,0]
[null,"16","2:15～2:16",{"$f":"'入力シート(1分周期発電計画)'!U16","v":0},0,0]
[null,"17","2:16～2:17",{"$f":"'入力シート(1分周期発電計画)'!V16","v":0},0,0]
[null,"18","2:17～2:18",{"$f":"'入力シート(1分周期発電計画)'!W16","v":0},0,0]
[null,"19","2:18～2:19",{"$f":"'入力シート(1分周期発電計画)'!X16","v":0},0,0]
[null,"20","2:19～2:20",{"$f":"'入力シート(1分周期発電計画)'!Y16","v":0},0,0]
[null,"21","2:20～2:21",{"$f":"'入力シート(1分周期発電計画)'!Z16","v":0},0,0]
[null,"22","2:21～2:22",{"$f":"'入力シート(1分周期発電計画)'!AA16","v":0},0,0]
[null,"23","2:22～2:23",{"$f":"'入力シート(1分周期発電計画)'!AB16","v":0},0,0]
[null,"24","2:23～2:24",{"$f":"'入力シート(1分周期発電計画)'!AC16","v":0},0,0]
[null,"25","2:24～2:25",{"$f":"'入力シート(1分周期発電計画)'!AD16","v":0},0,0]
[null,"26","2:25～2:26",{"$f":"'入力シート(1分周期発電計画)'!AE16","v":0},0,0]
[null,"27","2:26～2:27",{"$f":"'入力シート(1分周期発電計画)'!AF16","v":0},0,0]
[null,"28","2:27～2:28",{"$f":"'入力シート(1分周期発電計画)'!AG16","v":0},0,0]
[null,"29","2:28～2:29",{"$f":"'入力シート(1分周期発電計画)'!AH16","v":0},0,0]
[null,"30","2:29～2:30",{"$f":"'入力シート(1分周期発電計画)'!AI16","v":0},0,0]
["06","01","2:30～2:31",{"$f":"'入力シート(1分周期発電計画)'!F17","v":0},0,0]
[null,"02","2:31～2:32",{"$f":"'入力シート(1分周期発電計画)'!G17","v":0},0,0]
[null,"03","2:32～2:33",{"$f":"'入力シート(1分周期発電計画)'!H17","v":0},0,0]
[null,"04","2:33～2:34",{"$f":"'入力シート(1分周期発電計画)'!I17","v":0},0,0]
[null,"05","2:34～2:35",{"$f":"'入力シート(1分周期発電計画)'!J17","v":0},0,0]
[null,"06","2:35～2:36",{"$f":"'入力シート(1分周期発電計画)'!K17","v":0},0,0]
[null,"07","2:36～2:37",{"$f":"'入力シート(1分周期発電計画)'!L17","v":0},0,0]
[null,"08","2:37～2:38",{"$f":"'入力シート(1分周期発電計画)'!M17","v":0},0,0]
[null,"09","2:38～2:39",{"$f":"'入力シート(1分周期発電計画)'!N17","v":0},0,0]
[null,"10","2:39～2:40",{"$f":"'入力シート(1分周期発電計画)'!O17","v":0},0,0]
[null,"11","2:40～2:41",{"$f":"'入力シート(1分周期発電計画)'!P17","v":0},0,0]
[null,"12","2:41～2:42",{"$f":"'入力シート(1分周期発電計画)'!Q17","v":0},0,0]
[null,"13","2:42～2:43",{"$f":"'入力シート(1分周期発電計画)'!R17","v":0},0,0]
[null,"14","2:43～2:44",{"$f":"'入力シート(1分周期発電計画)'!S17","v":0},0,0]
[null,"15","2:44～2:45",{"$f":"'入力シート(1分周期発電計画)'!T17","v":0},0,0]
[null,"16","2:45～2:46",{"$f":"'入力シート(1分周期発電計画)'!U17","v":0},0,0]
[null,"17","2:46～2:47",{"$f":"'入力シート(1分周期発電計画)'!V17","v":0},0,0]
[null,"18","2:47～2:48",{"$f":"'入力シート(1分周期発電計画)'!W17","v":0},0,0]
[null,"19","2:48～2:49",{"$f":"'入力シート(1分周期発電計画)'!X17","v":0},0,0]
[null,"20","2:49～2:50",{"$f":"'入力シート(1分周期発電計画)'!Y17","v":0},0,0]
[null,"21","2:50～2:51",{"$f":"'入力シート(1分周期発電計画)'!Z17","v":0},0,0]
[null,"22","2:51～2:52",{"$f":"'入力シート(1分周期発電計画)'!AA17","v":0},0,0]
[null,"23","2:52～2:53",{"$f":"'入力シート(1分周期発電計画)'!AB17","v":0},0,0]
[null,"24","2:53～2:54",{"$f":"'入力シート(1分周期発電計画)'!AC17","v":0},0,0]
[null,"25","2:54～2:55",{"$f":"'入力シート(1分周期発電計画)'!AD17","v":0},0,0]
[null,"26","2:55～2:56",{"$f":"'入力シート(1分周期発電計画)'!AE17","v":0},0,0]
[null,"27","2:56～2:57",{"$f":"'入力シート(1分周期発電計画)'!AF17","v":0},0,0]
[null,"28","2:57～2:58",{"$f":"'入力シート(1分周期発電計画)'!AG17","v":0},0,0]
[null,"29","2:58～2:59",{"$f":"'入力シート(1分周期発電計画)'!AH17","v":0},0,0]
[null,"30","2:59～3:00",{"$f":"'入力シート(1分周期発電計画)'!AI17","v":0},0,0]
["07","01","3:00～3:01",{"$f":"'入力シート(1分周期発電計画)'!F18","v":0},0,0]
[null,"02","3:01～3:02",{"$f":"'入力シート(1分周期発電計画)'!G18","v":0},0,0]
[null,"03","3:02～3:03",{"$f":"'入力シート(1分周期発電計画)'!H18","v":0},0,0]
[null,"04","3:03～3:04",{"$f":"'入力シート(1分周期発電計画)'!I18","v":0},0,0]
[null,"05","3:04～3:05",{"$f":"'入力シート(1分周期発電計画)'!J18","v":0},0,0]
[null,"06","3:05～3:06",{"$f":"'入力シート(1分周期発電計画)'!K18","v":0},0,0]
[null,"07","3:06～3:07",{"$f":"'入力シート(1分周期発電計画)'!L18","v":0},0,0]
[null,"08","3:07～3:08",{"$f":"'入力シート(1分周期発電計画)'!M18","v":0},0,0]
[null,"09","3:08～3:09",{"$f":"'入力シート(1分周期発電計画)'!N18","v":0},0,0]
[null,"10","3:09～3:10",{"$f":"'入力シート(1分周期発電計画)'!O18","v":0},0,0]
[null,"11","3:10～3:11",{"$f":"'入力シート(1分周期発電計画)'!P18","v":0},0,0]
[null,"12","3:11～3:12",{"$f":"'入力シート(1分周期発電計画)'!Q18","v":0},0,0]
[null,"13","3:12～3:13",{"$f":"'入力シート(1分周期発電計画)'!R18","v":0},{"$f":"F213-D213","v":0},{"$f":"IFERROR(ROUND(AVERAGE(G213:BN213),0),0)","v":0}]
[null,"14","3:13～3:14",{"$f":"'入力シート(1分周期発電計画)'!S18","v":0},0,0]
[null,"15","3:14～3:15",{"$f":"'入力シート(1分周期発電計画)'!T18","v":0},0,0]
[null,"16","3:15～3:16",{"$f":"'入力シート(1分周期発電計画)'!U18","v":0},0,0]
[null,"17","3:16～3:17",{"$f":"'入力シート(1分周期発電計画)'!V18","v":0},0,0]
[null,"18","3:17～3:18",{"$f":"'入力シート(1分周期発電計画)'!W18","v":0},0,0]
[null,"19","3:18～3:19",{"$f":"'入力シート(1分周期発電計画)'!X18","v":0},0,0]
[null,"20","3:19～3:20",{"$f":"'入力シート(1分周期発電計画)'!Y18","v":0},0,0]
[null,"21","3:20～3:21",{"$f":"'入力シート(1分周期発電計画)'!Z18","v":0},0,0]
[null,"22","3:21～3:22",{"$f":"'入力シート(1分周期発電計画)'!AA18","v":0},0,0]
[null,"23","3:22～3:23",{"$f":"'入力シート(1分周期発電計画)'!AB18","v":0},0,0]
[null,"24","3:23～3:24",{"$f":"'入力シート(1分周期発電計画)'!AC18","v":0},0,0]
[null,"25","3:24～3:25",{"$f":"'入力シート(1分周期発電計画)'!AD18","v":0},0,0]
[null,"26","3:25～3:26",{"$f":"'入力シート(1分周期発電計画)'!AE18","v":0},0,0]
[null,"27","3:26～3:27",{"$f":"'入力シート(1分周期発電計画)'!AF18","v":0},0,0]
[null,"28","3:27～3:28",{"$f":"'入力シート(1分周期発電計画)'!AG18","v":0},0,0]
[null,"29","3:28～3:29",{"$f":"'入力シート(1分周期発電計画)'!AH18","v":0},0,0]
[null,"30","3:29～3:30",{"$f":"'入力シート(1分周期発電計画)'!AI18","v":0},0,0]
["08","01","3:30～3:31",{"$f":"'入力シート(1分周期発電計画)'!F19","v":0},0,0]
[null,"02","3:31～3:32",{"$f":"'入力シート(1分周期発電計画)'!G19","v":0},0,0]
[null,"03","3:32～3:33",{"$f":"'入力シート(1分周期発電計画)'!H19","v":0},0,0]
[null,"04","3:33～3:34",{"$f":"'入力シート(1分周期発電計画)'!I19","v":0},0,0]
[null,"05","3:34～3:35",{"$f":"'入力シート(1分周期発電計画)'!J19","v":0},0,0]
[null,"06","3:35～3:36",{"$f":"'入力シート(1分周期発電計画)'!K19","v":0},0,0]
[null,"07","3:36～3:37",{"$f":"'入力シート(1分周期発電計画)'!L19","v":0},0,0]
[null,"08","3:37～3:38",{"$f":"'入力シート(1分周期発電計画)'!M19","v":0},0,0]
[null,"09","3:38～3:39",{"$f":"'入力シート(1分周期発電計画)'!N19","v":0},0,0]
[null,"10","3:39～3:40",{"$f":"'入力シート(1分周期発電計画)'!O19","v":0},0,0]
[null,"11","3:40～3:41",{"$f":"'入力シート(1分周期発電計画)'!P19","v":0},0,0]
[null,"12","3:41～3:42",{"$f":"'入力シート(1分周期発電計画)'!Q19","v":0},0,0]
[null,"13","3:42～3:43",{"$f":"'入力シート(1分周期発電計画)'!R19","v":0},0,0]
[null,"14","3:43～3:44",{"$f":"'入力シート(1分周期発電計画)'!S19","v":0},0,0]
[null,"15","3:44～3:45",{"$f":"'入力シート(1分周期発電計画)'!T19","v":0},0,0]
[null,"16","3:45～3:46",{"$f":"'入力シート(1分周期発電計画)'!U19","v":0},0,0]
[null,"17","3:46～3:47",{"$f":"'入力シート(1分周期発電計画)'!V19","v":0},0,0]
[null,"18","3:47～3:48",{"$f":"'入力シート(1分周期発電計画)'!W19","v":0},0,0]
[null,"19","3:48～3:49",{"$f":"'入力シート(1分周期発電計画)'!X19","v":0},0,0]
[null,"20","3:49～3:50",{"$f":"'入力シート(1分周期発電計画)'!Y19","v":0},0,0]
[null,"21","3:50～3:51",{"$f":"'入力シート(1分周期発電計画)'!Z19","v":0},0,0]
[null,"22","3:51～3:52",{"$f":"'入力シート(1分周期発電計画)'!AA19","v":0},0,0]
[null,"23","3:52～3:53",{"$f":"'入力シート(1分周期発電計画)'!AB19","v":0},0,0]
[null,"24","3:53～3:54",{"$f":"'入力シート(1分周期発電計画)'!AC19","v":0},0,0]
[null,"25","3:54～3:55",{"$f":"'入力シート(1分周期発電計画)'!AD19","v":0},0,0]
[null,"26","3:55～3:56",{"$f":"'入力シート(1分周期発電計画)'!AE19","v":0},0,0]
[null,"27","3:56～3:57",{"$f":"'入力シート(1分周期発電計画)'!AF19","v":0},0,0]
[null,"28","3:57～3:58",{"$f":"'入力シート(1分周期発電計画)'!AG19","v":0},0,0]
[null,"29","3:58～3:59",{"$f":"'入力シート(1分周期発電計画)'!AH19","v":0},0,0]
[null,"30","3:59～4:00",{"$f":"'入力シート(1分周期発電計画)'!AI19","v":0},0,0]
["09","01","4:00～4:01",{"$f":"'入力シート(1分周期発電計画)'!F20","v":0},0,0]
[null,"02","4:01～4:02",{"$f":"'入力シート(1分周期発電計画)'!G20","v":0},0,0]
[null,"03","4:02～4:03",{"$f":"'入力シート(1分周期発電計画)'!H20","v":0},0,0]
[null,"04","4:03～4:04",{"$f":"'入力シート(1分周期発電計画)'!I20","v":0},0,0]
[null,"05","4:04～4:05",{"$f":"'入力シート(1分周期発電計画)'!J20","v":0},0,0]
[null,"06","4:05～4:06",{"$f":"'入力シート(1分周期発電計画)'!K20","v":0},0,0]
[null,"07","4:06～4:07",{"$f":"'入力シート(1分周期発電計画)'!L20","v":0},0,0]
[null,"08","4:07～4:08",{"$f":"'入力シート(1分周期発電計画)'!M20","v":0},0,0]
[null,"09","4:08～4:09",{"$f":"'入力シート(1分周期発電計画)'!N20","v":0},0,0]
[null,"10","4:09～4:10",{"$f":"'入力シート(1分周期発電計画)'!O20","v":0},0,0]
[null,"11","4:10～4:11",{"$f":"'入力シート(1分周期発電計画)'!P20","v":0},0,0]
[null,"12","4:11～4:12",{"$f":"'入力シート(1分周期発電計画)'!Q20","v":0},0,0]
[null,"13","4:12～4:13",{"$f":"'入力シート(1分周期発電計画)'!R20","v":0},0,0]
[null,"14","4:13～4:14",{"$f":"'入力シート(1分周期発電計画)'!S20","v":0},0,0]
[null,"15","4:14～4:15",{"$f":"'入力シート(1分周期発電計画)'!T20","v":0},0,0]
[null,"16","4:15～4:16",{"$f":"'入力シート(1分周期発電計画)'!U20","v":0},0,0]
[null,"17","4:16～4:17",{"$f":"'入力シート(1分周期発電計画)'!V20","v":0},{"$f":"F277-D277","v":0},{"$f":"IFERROR(ROUND(AVERAGE(G277:BN277),0),0)","v":0}]
[null,"18","4:17～4:18",{"$f":"'入力シート(1分周期発電計画)'!W20","v":0},0,0]
[null,"19","4:18～4:19",{"$f":"'入力シート(1分周期発電計画)'!X20","v":0},0,0]
[null,"20","4:19～4:20",{"$f":"'入力シート(1分周期発電計画)'!Y20","v":0},0,0]
[null,"21","4:20～4:21",{"$f":"'入力シート(1分周期発電計画)'!Z20","v":0},0,0]
[null,"22","4:21～4:22",{"$f":"'入力シート(1分周期発電計画)'!AA20","v":0},0,0]
[null,"23","4:22～4:23",{"$f":"'入力シート(1分周期発電計画)'!AB20","v":0},0,0]
[null,"24","4:23～4:24",{"$f":"'入力シート(1分周期発電計画)'!AC20","v":0},0,0]
[null,"25","4:24～4:25",{"$f":"'入力シート(1分周期発電計画)'!AD20","v":0},0,0]
[null,"26","4:25～4:26",{"$f":"'入力シート(1分周期発電計画)'!AE20","v":0},0,0]
[null,"27","4:26～4:27",{"$f":"'入力シート(1分周期発電計画)'!AF20","v":0},0,0]
[null,"28","4:27～4:28",{"$f":"'入力シート(1分周期発電計画)'!AG20","v":0},0,0]
[null,"29","4:28～4:29",{"$f":"'入力シート(1分周期発電計画)'!AH20","v":0},0,0]
[null,"30","4:29～4:30",{"$f":"'入力シート(1分周期発電計画)'!AI20","v":0},0,0]
["10","01","4:30～4:31",{"$f":"'入力シート(1分周期発電計画)'!F21","v":0},0,0]
[null,"02","4:31～4:32",{"$f":"'入力シート(1分周期発電計画)'!G21","v":0},0,0]
[null,"03","4:32～4:33",{"$f":"'入力シート(1分周期発電計画)'!H21","v":0},0,0]
[null,"04","4:33～4:34",{"$f":"'入力シート(1分周期発電計画)'!I21","v":0},0,0]
[null,"05","4:34～4:35",{"$f":"'入力シート(1分周期発電計画)'!J21","v":0},0,0]
[null,"06","4:35～4:36",{"$f":"'入力シート(1分周期発電計画)'!K21","v":0},0,0]
[null,"07","4:36～4:37",{"$f":"'入力シート(1分周期発電計画)'!L21","v":0},0,0]
[null,"08","4:37～4:38",{"$f":"'入力シート(1分周期発電計画)'!M21","v":0},0,0]
[null,"09","4:38～4:39",{"$f":"'入力シート(1分周期発電計画)'!N21","v":0},0,0]
[null,"10","4:39～4:40",{"$f":"'入力シート(1分周期発電計画)'!O21","v":0},0,0]
[null,"11","4:40～4:41",{"$f":"'入力シート(1分周期発電計画)'!P21","v":0},0,0]
[null,"12","4:41～4:42",{"$f":"'入力シート(1分周期発電計画)'!Q21","v":0},0,0]
[null,"13","4:42～4:43",{"$f":"'入力シート(1分周期発電計画)'!R21","v":0},0,0]
[null,"14","4:43～4:44",{"$f":"'入力シート(1分周期発電計画)'!S21","v":0},0,0]
[null,"15","4:44～4:45",{"$f":"'入力シート(1分周期発電計画)'!T21","v":0},0,0]
[null,"16","4:45～4:46",{"$f":"'入力シート(1分周期発電計画)'!U21","v":0},0,0]
[null,"17","4:46～4:47",{"$f":"'入力シート(1分周期発電計画)'!V21","v":0},0,0]
[null,"18","4:47～4:48",{"$f":"'入力シート(1分周期発電計画)'!W21","v":0},0,0]
[null,"19","4:48～4:49",{"$f":"'入力シート(1分周期発電計画)'!X21","v":0},0,0]
[null,"20","4:49～4:50",{"$f":"'入力シート(1分周期発電計画)'!Y21","v":0},0,0]
[null,"21","4:50～4:51",{"$f":"'入力シート(1分周期発電計画)'!Z21","v":0},0,0]
[null,"22","4:51～4:52",{"$f":"'入力シート(1分周期発電計画)'!AA21","v":0},0,0]
[null,"23","4:52～4:53",{"$f":"'入力シート(1分周期発電計画)'!AB21","v":0},0,0]
[null,"24","4:53～4:54",{"$f":"'入力シート(1分周期発電計画)'!AC21","v":0},0,0]
[null,"25","4:54～4:55",{"$f":"'入力シート(1分周期発電計画)'!AD21","v":0},0,0]
[null,"26","4:55～4:56",{"$f":"'入力シート(1分周期発電計画)'!AE21","v":0},0,0]
[null,"27","4:56～4:57",{"$f":"'入力シート(1分周期発電計画)'!AF21","v":0},0,0]
[null,"28","4:57～4:58",{"$f":"'入力シート(1分周期発電計画)'!AG21","v":0},0,0]
[null,"29","4:58～4:59",{"$f":"'入力シート(1分周期発電計画)'!AH21","v":0},0,0]
[null,"30","4:59～5:00",{"$f":"'入力シート(1分周期発電計画)'!AI21","v":0},0,0]
["11","01","5:00～5:01",{"$f":"'入力シート(1分周期発電計画)'!F22","v":0},0,0]
[null,"02","5:01～5:02",{"$f":"'入力シート(1分周期発電計画)'!G22","v":0},0,0]
[null,"03","5:02～5:03",{"$f":"'入力シート(1分周期発電計画)'!H22","v":0},0,0]
[null,"04","5:03～5:04",{"$f":"'入力シート(1分周期発電計画)'!I22","v":0},0,0]
[null,"05","5:04～5:05",{"$f":"'入力シート(1分周期発電計画)'!J22","v":0},0,0]
[null,"06","5:05～5:06",{"$f":"'入力シート(1分周期発電計画)'!K22","v":0},0,0]
[null,"07","5:06～5:07",{"$f":"'入力シート(1分周期発電計画)'!L22","v":0},0,0]
[null,"08","5:07～5:08",{"$f":"'入力シート(1分周期発電計画)'!M22","v":0},0,0]
[null,"09","5:08～5:09",{"$f":"'入力シート(1分周期発電計画)'!N22","v":0},0,0]
[null,"10","5:09～5:10",{"$f":"'入力シート(1分周期発電計画)'!O22","v":0},0,0]
[null,"11","5:10～5:11",{"$f":"'入力シート(1分周期発電計画)'!P22","v":0},0,0]
[null,"12","5:11～5:12",{"$f":"'入力シート(1分周期発電計画)'!Q22","v":0},0,0]
[null,"13","5:12～5:13",{"$f":"'入力シート(1分周期発電計画)'!R22","v":0},0,0]
[null,"14","5:13～5:14",{"$f":"'入力シート(1分周期発電計画)'!S22","v":0},0,0]
[null,"15","5:14～5:15",{"$f":"'入力シート(1分周期発電計画)'!T22","v":0},0,0]
[null,"16","5:15～5:16",{"$f":"'入力シート(1分周期発電計画)'!U22","v":0},0,0]
[null,"17","5:16～5:17",{"$f":"'入力シート(1分周期発電計画)'!V22","v":0},0,0]
[null,"18","5:17～5:18",{"$f":"'入力シート(1分周期発電計画)'!W22","v":0},0,0]
[null,"19","5:18～5:19",{"$f":"'入力シート(1分周期発電計画)'!X22","v":0},0,0]
[null,"20","5:19～5:20",{"$f":"'入力シート(1分周期発電計画)'!Y22","v":0},0,0]
[null,"21","5:20～5:21",{"$f":"'入力シート(1分周期発電計画)'!Z22","v":0},{"$f":"F341-D341","v":0},{"$f":"IFERROR(ROUND(AVERAGE(G341:BN341),0),0)","v":0}]
[null,"22","5:21～5:22",{"$f":"'入力シート(1分周期発電計画)'!AA22","v":0},0,0]
[null,"23","5:22～5:23",{"$f":"'入力シート(1分周期発電計画)'!AB22","v":0},0,0]
[null,"24","5:23～5:24",{"$f":"'入力シート(1分周期発電計画)'!AC22","v":0},0,0]
[null,"25","5:24～5:25",{"$f":"'入力シート(1分周期発電計画)'!AD22","v":0},0,0]
[null,"26","5:25～5:26",{"$f":"'入力シート(1分周期発電計画)'!AE22","v":0},0,0]
[null,"27","5:26～5:27",{"$f":"'入力シート(1分周期発電計画)'!AF22","v":0},0,0]
[null,"28","5:27～5:28",{"$f":"'入力シート(1分周期発電計画)'!AG22","v":0},0,0]
[null,"29","5:28～5:29",{"$f":"'入力シート(1分周期発電計画)'!AH22","v":0},0,0]
[null,"30","5:29～5:30",{"$f":"'入力シート(1分周期発電計画)'!AI22","v":0},0,0]
["12","01","5:30～5:31",{"$f":"'入力シート(1分周期発電計画)'!F23","v":0},0,0]
[null,"02","5:31～5:32",{"$f":"'入力シート(1分周期発電計画)'!G23","v":0},0,0]
[null,"03","5:32～5:33",{"$f":"'入力シート(1分周期発電計画)'!H23","v":0},0,0]
[null,"04","5:33～5:34",{"$f":"'入力シート(1分周期発電計画)'!I23","v":0},0,0]
[null,"05","5:34～5:35",{"$f":"'入力シート(1分周期発電計画)'!J23","v":0},0,0]
[null,"06","5:35～5:36",{"$f":"'入力シート(1分周期発電計画)'!K23","v":0},0,0]
[null,"07","5:36～5:37",{"$f":"'入力シート(1分周期発電計画)'!L23","v":0},0,0]
[null,"08","5:37～5:38",{"$f":"'入力シート(1分周期発電計画)'!M23","v":0},0,0]
[null,"09","5:38～5:39",{"$f":"'入力シート(1分周期発電計画)'!N23","v":0},0,0]
[null,"10","5:39～5:40",{"$f":"'入力シート(1分周期発電計画)'!O23","v":0},0,0]
[null,"11","5:40～5:41",{"$f":"'入力シート(1分周期発電計画)'!P23","v":0},0,0]
[null,"12","5:41～5:42",{"$f":"'入力シート(1分周期発電計画)'!Q23","v":0},0,0]
[null,"13","5:42～5:43",{"$f":"'入力シート(1分周期発電計画)'!R23","v":0},0,0]
[null,"14","5:43～5:44",{"$f":"'入力シート(1分周期発電計画)'!S23","v":0},0,0]
[null,"15","5:44～5:45",{"$f":"'入力シート(1分周期発電計画)'!T23","v":0},0,0]
[null,"16","5:45～5:46",{"$f":"'入力シート(1分周期発電計画)'!U23","v":0},0,0]
[null,"17","5:46～5:47",{"$f":"'入力シート(1分周期発電計画)'!V23","v":0},0,0]
[null,"18","5:47～5:48",{"$f":"'入力シート(1分周期発電計画)'!W23","v":0},0,0]
[null,"19","5:48～5:49",{"$f":"'入力シート(1分周期発電計画)'!X23","v":0},0,0]
[null,"20","5:49～5:50",{"$f":"'入力シート(1分周期発電計画)'!Y23","v":0},0,0]
[null,"21","5:50～5:51",{"$f":"'入力シート(1分周期発電計画)'!Z23","v":0},0,0]
[null,"22","5:51～5:52",{"$f":"'入力シート(1分周期発電計画)'!AA23","v":0},0,0]
[null,"23","5:52～5:53",{"$f":"'入力シート(1分周期発電計画)'!AB23","v":0},0,0]
[null,"24","5:53～5:54",{"$f":"'入力シート(1分周期発電計画)'!AC23","v":0},0,0]
[null,"25","5:54～5:55",{"$f":"'入力シート(1分周期発電計画)'!AD23","v":0},0,0]
[null,"26","5:55～5:56",{"$f":"'入力シート(1分周期発電計画)'!AE23","v":0},0,0]
[null,"27","5:56～5:57",{"$f":"'入力シート(1分周期発電計画)'!AF23","v":0},0,0]
[null,"28","5:57～5:58",{"$f":"'入力シート(1分周期発電計画)'!AG23","v":0},0,0]
[null,"29","5:58～5:59",{"$f":"'入力シート(1分周期発電計画)'!AH23","v":0},0,0]
[null,"30","5:59～6:00",{"$f":"'入力シート(1分周期発電計画)'!AI23","v":0},0,0]
["13","01","6:00～6:01",{"$f":"'入力シート(1分周期発電計画)'!F24","v":0},0,0]
[null,"02","6:01～6:02",{"$f":"'入力シート(1分周期発電計画)'!G24","v":0},0,0]
[null,"03","6:02～6:03",{"$f":"'入力シート(1分周期発電計画)'!H24","v":0},0,0]
[null,"04","6:03～6:04",{"$f":"'入力シート(1分周期発電計画)'!I24","v":0},0,0]
[null,"05","6:04～6:05",{"$f":"'入力シート(1分周期発電計画)'!J24","v":0},0,0]
[null,"06","6:05～6:06",{"$f":"'入力シート(1分周期発電計画)'!K24","v":0},0,0]
[null,"07","6:06～6:07",{"$f":"'入力シート(1分周期発電計画)'!L24","v":0},0,0]
[null,"08","6:07～6:08",{"$f":"'入力シート(1分周期発電計画)'!M24","v":0},0,0]
[null,"09","6:08～6:09",{"$f":"'入力シート(1分周期発電計画)'!N24","v":0},0,0]
[null,"10","6:09～6:10",{"$f":"'入力シート(1分周期発電計画)'!O24","v":0},0,0]
[null,"11","6:10～6:11",{"$f":"'入力シート(1分周期発電計画)'!P24","v":0},0,0]
[null,"12","6:11～6:12",{"$f":"'入力シート(1分周期発電計画)'!Q24","v":0},0,0]
[null,"13","6:12～6:13",{"$f":"'入力シート(1分周期発電計画)'!R24","v":0},0,0]
[null,"14","6:13～6:14",{"$f":"'入力シート(1分周期発電計画)'!S24","v":0},0,0]
[null,"15","6:14～6:15",{"$f":"'入力シート(1分周期発電計画)'!T24","v":0},0,0]
[null,"16","6:15～6:16",{"$f":"'入力シート(1分周期発電計画)'!U24","v":0},0,0]
[null,"17","6:16～6:17",{"$f":"'入力シート(1分周期発電計画)'!V24","v":0},0,0]
[null,"18","6:17～6:18",{"$f":"'入力シート(1分周期発電計画)'!W24","v":0},0,0]
[null,"19","6:18～6:19",{"$f":"'入力シート(1分周期発電計画)'!X24","v":0},0,0]
[null,"20","6:19～6:20",{"$f":"'入力シート(1分周期発電計画)'!Y24","v":0},0,0]
[null,"21","6:20～6:21",{"$f":"'入力シート(1分周期発電計画)'!Z24","v":0},0,0]
[null,"22","6:21～6:22",{"$f":"'入力シート(1分周期発電計画)'!AA24","v":0},0,0]
[null,"23","6:22～6:23",{"$f":"'入力シート(1分周期発電計画)'!AB24","v":0},0,0]
[null,"24","6:23～6:24",{"$f":"'入力シート(1分周期発電計画)'!AC24","v":0},0,0]
[null,"25","6:24～6:25",{"$f":"'入力シート(1分周期発電計画)'!AD24","v":0},{"$f":"F405-D405","v":0},{"$f":"IFERROR(ROUND(AVERAGE(G405:BN405),0),0)","v":0}]
[null,"26","6:25～6:26",{"$f":"'入力シート(1分周期発電計画)'!AE24","v":0},0,0]
[null,"27","6:26～6:27",{"$f":"'入力シート(1分周期発電計画)'!AF24","v":0},0,0]
[null,"28","6:27～6:28",{"$f":"'入力シート(1分周期発電計画)'!AG24","v":0},0,0]
[null,"29","6:28～6:29",{"$f":"'入力シート(1分周期発電計画)'!AH24","v":0},0,0]
[null,"30","6:29～6:30",{"$f":"'入力シート(1分周期発電計画)'!AI24","v":0},0,0]
["14","01","6:30～6:31",{"$f":"'入力シート(1分周期発電計画)'!F25","v":0},0,0]
[null,"02","6:31～6:32",{"$f":"'入力シート(1分周期発電計画)'!G25","v":0},0,0]
[null,"03","6:32～6:33",{"$f":"'入力シート(1分周期発電計画)'!H25","v":0},0,0]
[null,"04","6:33～6:34",{"$f":"'入力シート(1分周期発電計画)'!I25","v":0},0,0]
[null,"05","6:34～6:35",{"$f":"'入力シート(1分周期発電計画)'!J25","v":0},0,0]
[null,"06","6:35～6:36",{"$f":"'入力シート(1分周期発電計画)'!K25","v":0},0,0]
[null,"07","6:36～6:37",{"$f":"'入力シート(1分周期発電計画)'!L25","v":0},0,0]
[null,"08","6:37～6:38",{"$f":"'入力シート(1分周期発電計画)'!M25","v":0},0,0]
[null,"09","6:38～6:39",{"$f":"'入力シート(1分周期発電計画)'!N25","v":0},0,0]
[null,"10","6:39～6:40",{"$f":"'入力シート(1分周期発電計画)'!O25","v":0},0,0]
[null,"11","6:40～6:41",{"$f":"'入力シート(1分周期発電計画)'!P25","v":0},0,0]
[null,"12","6:41～6:42",{"$f":"'入力シート(1分周期発電計画)'!Q25","v":0},0,0]
[null,"13","6:42～6:43",{"$f":"'入力シート(1分周期発電計画)'!R25","v":0},0,0]
[null,"14","6:43～6:44",{"$f":"'入力シート(1分周期発電計画)'!S25","v":0},0,0]
[null,"15","6:44～6:45",{"$f":"'入力シート(1分周期発電計画)'!T25","v":0},0,0]
[null,"16","6:45～6:46",{"$f":"'入力シート(1分周期発電計画)'!U25","v":0},0,0]
[null,"17","6:46～6:47",{"$f":"'入力シート(1分周期発電計画)'!V25","v":0},0,0]
[null,"18","6:47～6:48",{"$f":"'入力シート(1分周期発電計画)'!W25","v":0},0,0]
[null,"19","6:48～6:49",{"$f":"'入力シート(1分周期発電計画)'!X25","v":0},0,0]
[null,"20","6:49～6:50",{"$f":"'入力シート(1分周期発電計画)'!Y25","v":0},0,0]
[null,"21","6:50～6:51",{"$f":"'入力シート(1分周期発電計画)'!Z25","v":0},0,0]
[null,"22","6:51～6:52",{"$f":"'入力シート(1分周期発電計画)'!AA25","v":0},0,0]
[null,"23","6:52～6:53",{"$f":"'入力シート(1分周期発電計画)'!AB25","v":0},0,0]
[null,"24","6:53～6:54",{"$f":"'入力シート(1分周期発電計画)'!AC25","v":0},0,0]
[null,"25","6:54～6:55",{"$f":"'入力シート(1分周期発電計画)'!AD25","v":0},0,0]
[null,"26","6:55～6:56",{"$f":"'入力シート(1分周期発電計画)'!AE25","v":0},0,0]
[null,"27","6:56～6:57",{"$f":"'入力シート(1分周期発電計画)'!AF25","v":0},0,0]
[null,"28","6:57～6:58",{"$f":"'入力シート(1分周期発電計画)'!AG25","v":0},0,0]
[null,"29","6:58～6:59",{"$f":"'入力シート(1分周期発電計画)'!AH25","v":0},0,0]
[null,"30","6:59～7:00",{"$f":"'入力シート(1分周期発電計画)'!AI25","v":0},0,0]
["15","01","7:00～7:01",{"$f":"'入力シート(1分周期発電計画)'!F26","v":0},0,0]
[null,"02","7:01～7:02",{"$f":"'入力シート(1分周期発電計画)'!G26","v":0},0,0]
[null,"03","7:02～7:03",{"$f":"'入力シート(1分周期発電計画)'!H26","v":0},0,0]
[null,"04","7:03～7:04",{"$f":"'入力シート(1分周期発電計画)'!I26","v":0},0,0]
[null,"05","7:04～7:05",{"$f":"'入力シート(1分周期発電計画)'!J26","v":0},0,0]
[null,"06","7:05～7:06",{"$f":"'入力シート(1分周期発電計画)'!K26","v":0},0,0]
[null,"07","7:06～7:07",{"$f":"'入力シート(1分周期発電計画)'!L26","v":0},0,0]
[null,"08","7:07～7:08",{"$f":"'入力シート(1分周期発電計画)'!M26","v":0},0,0]
[null,"09","7:08～7:09",{"$f":"'入力シート(1分周期発電計画)'!N26","v":0},0,0]
[null,"10","7:09～7:10",{"$f":"'入力シート(1分周期発電計画)'!O26","v":0},0,0]
[null,"11","7:10～7:11",{"$f":"'入力シート(1分周期発電計画)'!P26","v":0},0,0]
[null,"12","7:11～7:12",{"$f":"'入力シート(1分周期発電計画)'!Q26","v":0},0,0]
[null,"13","7:12～7:13",{"$f":"'入力シート(1分周期発電計画)'!R26","v":0},0,0]
[null,"14","7:13～7:14",{"$f":"'入力シート(1分周期発電計画)'!S26","v":0},0,0]
[null,"15","7:14～7:15",{"$f":"'入力シート(1分周期発電計画)'!T26","v":0},0,0]
[null,"16","7:15～7:16",{"$f":"'入力シート(1分周期発電計画)'!U26","v":0},0,0]
[null,"17","7:16～7:17",{"$f":"'入力シート(1分周期発電計画)'!V26","v":0},0,0]
[null,"18","7:17～7:18",{"$f":"'入力シート(1分周期発電計画)'!W26","v":0},0,0]
[null,"19","7:18～7:19",{"$f":"'入力シート(1分周期発電計画)'!X26","v":0},0,0]
[null,"20","7:19～7:20",{"$f":"'入力シート(1分周期発電計画)'!Y26","v":0},0,0]
[null,"21","7:20～7:21",{"$f":"'入力シート(1分周期発電計画)'!Z26","v":0},0,0]
[null,"22","7:21～7:22",{"$f":"'入力シート(1分周期発電計画)'!AA26","v":0},0,0]
[null,"23","7:22～7:23",{"$f":"'入力シート(1分周期発電計画)'!AB26","v":0},0,0]
[null,"24","7:23～7:24",{"$f":"'入力シート(1分周期発電計画)'!AC26","v":0},0,0]
[null,"25","7:24～7:25",{"$f":"'入力シート(1分周期発電計画)'!AD26","v":0},0,0]
[null,"26","7:25～7:26",{"$f":"'入力シート(1分周期発電計画)'!AE26","v":0},0,0]
[null,"27","7:26～7:27",{"$f":"'入力シート(1分周期発電計画)'!AF26","v":0},0,0]
[null,"28","7:27～7:28",{"$f":"'入力シート(1分周期発電計画)'!AG26","v":0},0,0]
[null,"29","7:28～7:29",{"$f":"'入力シート(1分周期発電計画)'!AH26","v":0},{"$f":"F469-D469","v":0},{"$f":"IFERROR(ROUND(AVERAGE(G469:BN469),0),0)","v":0}]
[null,"30","7:29～7:30",{"$f":"'入力シート(1分周期発電計画)'!AI26","v":0},0,0]
["16","01","7:30～7:31",{"$f":"'入力シート(1分周期発電計画)'!F27","v":0},0,0]
[null,"02","7:31～7:32",{"$f":"'入力シート(1分周期発電計画)'!G27","v":0},0,0]
[null,"03","7:32～7:33",{"$f":"'入力シート(1分周期発電計画)'!H27","v":0},0,0]
[null,"04","7:33～7:34",{"$f":"'入力シート(1分周期発電計画)'!I27","v":0},0,0]
[null,"05","7:34～7:35",{"$f":"'入力シート(1分周期発電計画)'!J27","v":0},0,0]
[null,"06","7:35～7:36",{"$f":"'入力シート(1分周期発電計画)'!K27","v":0},0,0]
[null,"07","7:36～7:37",{"$f":"'入力シート(1分周期発電計画)'!L27","v":0},0,0]
[null,"08","7:37～7:38",{"$f":"'入力シート(1分周期発電計画)'!M27","v":0},0,0]
[null,"09","7:38～7:39",{"$f":"'入力シート(1分周期発電計画)'!N27","v":0},0,0]
[null,"10","7:39～7:40",{"$f":"'入力シート(1分周期発電計画)'!O27","v":0},0,0]
[null,"11","7:40～7:41",{"$f":"'入力シート(1分周期発電計画)'!P27","v":0},0,0]
[null,"12","7:41～7:42",{"$f":"'入力シート(1分周期発電計画)'!Q27","v":0},0,0]
[null,"13","7:42～7:43",{"$f":"'入力シート(1分周期発電計画)'!R27","v":0},0,0]
[null,"14","7:43～7:44",{"$f":"'入力シート(1分周期発電計画)'!S27","v":0},0,0]
[null,"15","7:44～7:45",{"$f":"'入力シート(1分周期発電計画)'!T27","v":0},0,0]
[null,"16","7:45～7:46",{"$f":"'入力シート(1分周期発電計画)'!U27","v":0},0,0]
[null,"17","7:46～7:47",{"$f":"'入力シート(1分周期発電計画)'!V27","v":0},0,0]
[null,"18","7:47～7:48",{"$f":"'入力シート(1分周期発電計画)'!W27","v":0},0,0]
[null,"19","7:48～7:49",{"$f":"'入力シート(1分周期発電計画)'!X27","v":0},0,0]
[null,"20","7:49～7:50",{"$f":"'入力シート(1分周期発電計画)'!Y27","v":0},0,0]
[null,"21","7:50～7:51",{"$f":"'入力シート(1分周期発電計画)'!Z27","v":0},0,0]
[null,"22","7:51～7:52",{"$f":"'入力シート(1分周期発電計画)'!AA27","v":0},0,0]
[null,"23","7:52～7:53",{"$f":"'入力シート(1分周期発電計画)'!AB27","v":0},0,0]
[null,"24","7:53～7:54",{"$f":"'入力シート(1分周期発電計画)'!AC27","v":0},0,0]
[null,"25","7:54～7:55",{"$f":"'入力シート(1分周期発電計画)'!AD27","v":0},0,0]
[null,"26","7:55～7:56",{"$f":"'入力シート(1分周期発電計画)'!AE27","v":0},0,0]
[null,"27","7:56～7:57",{"$f":"'入力シート(1分周期発電計画)'!AF27","v":0},0,0]
[null,"28","7:57～7:58",{"$f":"'入力シート(1分周期発電計画)'!AG27","v":0},0,0]
[null,"29","7:58～7:59",{"$f":"'入力シート(1分周期発電計画)'!AH27","v":0},0,0]
[null,"30","7:59～8:00",{"$f":"'入力シート(1分周期発電計画)'!AI27","v":0},0,0]
["17","01","8:00～8:01",{"$f":"'入力シート(1分周期発電計画)'!F28","v":0},0,0]
[null,"02","8:01～8:02",{"$f":"'入力シート(1分周期発電計画)'!G28","v":0},0,0]
[null,"03","8:02～8:03",{"$f":"'入力シート(1分周期発電計画)'!H28","v":0},0,0]
[null,"04","8:03～8:04",{"$f":"'入力シート(1分周期発電計画)'!I28","v":0},0,0]
[null,"05","8:04～8:05",{"$f":"'入力シート(1分周期発電計画)'!J28","v":0},0,0]
[null,"06","8:05～8:06",{"$f":"'入力シート(1分周期発電計画)'!K28","v":0},0,0]
[null,"07","8:06～8:07",{"$f":"'入力シート(1分周期発電計画)'!L28","v":0},0,0]
[null,"08","8:07～8:08",{"$f":"'入力シート(1分周期発電計画)'!M28","v":0},0,0]
[null,"09","8:08～8:09",{"$f":"'入力シート(1分周期発電計画)'!N28","v":0},0,0]
[null,"10","8:09～8:10",{"$f":"'入力シート(1分周期発電計画)'!O28","v":0},0,0]
[null,"11","8:10～8:11",{"$f":"'入力シート(1分周期発電計画)'!P28","v":0},0,0]
[null,"12","8:11～8:12",{"$f":"'入力シート(1分周期発電計画)'!Q28","v":0},0,0]
[null,"13","8:12～8:13",{"$f":"'入力シート(1分周期発電計画)'!R28","v":0},0,0]
[null,"14","8:13～8:14",{"$f":"'入力シート(1分周期発電計画)'!S28","v":0},0,0]
[null,"15","8:14～8:15",{"$f":"'入力シート(1分周期発電計画)'!T28","v":0},0,0]
[null,"16","8:15～8:16",{"$f":"'入力シート(1分周期発電計画)'!U28","v":0},0,0]
[null,"17","8:16～8:17",{"$f":"'入力シート(1分周期発電計画)'!V28","v":0},0,0]
[null,"18","8:17～8:18",{"$f":"'入力シート(1分周期発電計画)'!W28","v":0},0,0]
[null,"19","8:18～8:19",{"$f":"'入力シート(1分周期発電計画)'!X28","v":0},0,0]
[null,"20","8:19～8:20",{"$f":"'入力シート(1分周期発電計画)'!Y28","v":0},0,0]
[null,"21","8:20～8:21",{"$f":"'入力シート(1分周期発電計画)'!Z28","v":0},0,0]
[null,"22","8:21～8:22",{"$f":"'入力シート(1分周期発電計画)'!AA28","v":0},0,0]
[null,"23","8:22～8:23",{"$f":"'入力シート(1分周期発電計画)'!AB28","v":0},0,0]
[null,"24","8:23～8:24",{"$f":"'入力シート(1分周期発電計画)'!AC28","v":0},0,0]
[null,"25","8:24～8:25",{"$f":"'入力シート(1分周期発電計画)'!AD28","v":0},0,0]
[null,"26","8:25～8:26",{"$f":"'入力シート(1分周期発電計画)'!AE28","v":0},0,0]
[null,"27","8:26～8:27",{"$f":"'入力シート(1分周期発電計画)'!AF28","v":0},0,0]
[null,"28","8:27～8:28",{"$f":"'入力シート(1分周期発電計画)'!AG28","v":0},0,0]
[null,"29","8:28～8:29",{"$f":"'入力シート(1分周期発電計画)'!AH28","v":0},0,0]
[null,"30","8:29～8:30",{"$f":"'入力シート(1分周期発電計画)'!AI28","v":0},0,0]
["18","01","8:30～8:31",{"$f":"'入力シート(1分周期発電計画)'!F29","v":0},0,0]
[null,"02","8:31～8:32",{"$f":"'入力シート(1分周期発電計画)'!G29","v":0},0,0]
[null,"03","8:32～8:33",{"$f":"'入力シート(1分周期発電計画)'!H29","v":0},{"$f":"F533-D533","v":0},{"$f":"IFERROR(ROUND(AVERAGE(G533:BN533),0),0)","v":0}]
[null,"04","8:33～8:34",{"$f":"'入力シート(1分周期発電計画)'!I29","v":0},0,0]
[null,"05","8:34～8:35",{"$f":"'入力シート(1分周期発電計画)'!J29","v":0},0,0]
[null,"06","8:35～8:36",{"$f":"'入力シート(1分周期発電計画)'!K29","v":0},0,0]
[null,"07","8:36～8:37",{"$f":"'入力シート(1分周期発電計画)'!L29","v":0},0,0]
[null,"08","8:37～8:38",{"$f":"'入力シート(1分周期発電計画)'!M29","v":0},0,0]
[null,"09","8:38～8:39",{"$f":"'入力シート(1分周期発電計画)'!N29","v":0},0,0]
[null,"10","8:39～8:40",{"$f":"'入力シート(1分周期発電計画)'!O29","v":0},0,0]
[null,"11","8:40～8:41",{"$f":"'入力シート(1分周期発電計画)'!P29","v":0},0,0]
[null,"12","8:41～8:42",{"$f":"'入力シート(1分周期発電計画)'!Q29","v":0},0,0]
[null,"13","8:42～8:43",{"$f":"'入力シート(1分周期発電計画)'!R29","v":0},0,0]
[null,"14","8:43～8:44",{"$f":"'入力シート(1分周期発電計画)'!S29","v":0},0,0]
[null,"15","8:44～8:45",{"$f":"'入力シート(1分周期発電計画)'!T29","v":0},0,0]
[null,"16","8:45～8:46",{"$f":"'入力シート(1分周期発電計画)'!U29","v":0},0,0]
[null,"17","8:46～8:47",{"$f":"'入力シート(1分周期発電計画)'!V29","v":0},0,0]
[null,"18","8:47～8:48",{"$f":"'入力シート(1分周期発電計画)'!W29","v":0},0,0]
[null,"19","8:48～8:49",{"$f":"'入力シート(1分周期発電計画)'!X29","v":0},0,0]
[null,"20","8:49～8:50",{"$f":"'入力シート(1分周期発電計画)'!Y29","v":0},0,0]
[null,"21","8:50～8:51",{"$f":"'入力シート(1分周期発電計画)'!Z29","v":0},0,0]
[null,"22","8:51～8:52",{"$f":"'入力シート(1分周期発電計画)'!AA29","v":0},0,0]
[null,"23","8:52～8:53",{"$f":"'入力シート(1分周期発電計画)'!AB29","v":0},0,0]
[null,"24","8:53～8:54",{"$f":"'入力シート(1分周期発電計画)'!AC29","v":0},0,0]
[null,"25","8:54～8:55",{"$f":"'入力シート(1分周期発電計画)'!AD29","v":0},0,0]
[null,"26","8:55～8:56",{"$f":"'入力シート(1分周期発電計画)'!AE29","v":0},0,0]
[null,"27","8:56～8:57",{"$f":"'入力シート(1分周期発電計画)'!AF29","v":0},0,0]
[null,"28","8:57～8:58",{"$f":"'入力シート(1分周期発電計画)'!AG29","v":0},0,0]
[null,"29","8:58～8:59",{"$f":"'入力シート(1分周期発電計画)'!AH29","v":0},0,0]
[null,"30","8:59～9:00",{"$f":"'入力シート(1分周期発電計画)'!AI29","v":0},0,0]
["19","01","9:00～9:01",{"$f":"'入力シート(1分周期発電計画)'!F30","v":0},0,0]
[null,"02","9:01～9:02",{"$f":"'入力シート(1分周期発電計画)'!G30","v":0},0,0]
[null,"03","9:02～9:03",{"$f":"'入力シート(1分周期発電計画)'!H30","v":0},0,0]
[null,"04","9:03～9:04",{"$f":"'入力シート(1分周期発電計画)'!I30","v":0},0,0]
[null,"05","9:04～9:05",{"$f":"'入力シート(1分周期発電計画)'!J30","v":0},0,0]
[null,"06","9:05～9:06",{"$f":"'入力シート(1分周期発電計画)'!K30","v":0},0,0]
[null,"07","9:06～9:07",{"$f":"'入力シート(1分周期発電計画)'!L30","v":0},0,0]
[null,"08","9:07～9:08",{"$f":"'入力シート(1分周期発電計画)'!M30","v":0},0,0]
[null,"09","9:08～9:09",{"$f":"'入力シート(1分周期発電計画)'!N30","v":0},0,0]
[null,"10","9:09～9:10",{"$f":"'入力シート(1分周期発電計画)'!O30","v":0},0,0]
[null,"11","9:10～9:11",{"$f":"'入力シート(1分周期発電計画)'!P30","v":0},0,0]
[null,"12","9:11～9:12",{"$f":"'入力シート(1分周期発電計画)'!Q30","v":0},0,0]
[null,"13","9:12～9:13",{"$f":"'入力シート(1分周期発電計画)'!R30","v":0},0,0]
[null,"14","9:13～9:14",{"$f":"'入力シート(1分周期発電計画)'!S30","v":0},0,0]
[null,"15","9:14～9:15",{"$f":"'入力シート(1分周期発電計画)'!T30","v":0},0,0]
[null,"16","9:15～9:16",{"$f":"'入力シート(1分周期発電計画)'!U30","v":0},0,0]
[null,"17","9:16～9:17",{"$f":"'入力シート(1分周期発電計画)'!V30","v":0},0,0]
[null,"18","9:17～9:18",{"$f":"'入力シート(1分周期発電計画)'!W30","v":0},0,0]
[null,"19","9:18～9:19",{"$f":"'入力シート(1分周期発電計画)'!X30","v":0},0,0]
[null,"20","9:19～9:20",{"$f":"'入力シート(1分周期発電計画)'!Y30","v":0},0,0]
[null,"21","9:20～9:21",{"$f":"'入力シート(1分周期発電計画)'!Z30","v":0},0,0]
[null,"22","9:21～9:22",{"$f":"'入力シート(1分周期発電計画)'!AA30","v":0},0,0]
[null,"23","9:22～9:23",{"$f":"'入力シート(1分周期発電計画)'!AB30","v":0},0,0]
[null,"24","9:23～9:24",{"$f":"'入力シート(1分周期発電計画)'!AC30","v":0},0,0]
[null,"25","9:24～9:25",{"$f":"'入力シート(1分周期発電計画)'!AD30","v":0},0,0]
[null,"26","9:25～9:26",{"$f":"'入力シート(1分周期発電計画)'!AE30","v":0},0,0]
[null,"27","9:26～9:27",{"$f":"'入力シート(1分周期発電計画)'!AF30","v":0},0,0]
[null,"28","9:27～9:28",{"$f":"'入力シート(1分周期発電計画)'!AG30","v":0},0,0]
[null,"29","9:28～9:29",{"$f":"'入力シート(1分周期発電計画)'!AH30","v":0},0,0]
[null,"30","9:29～9:30",{"$f":"'入力シート(1分周期発電計画)'!AI30","v":0},0,0]
["20","01","9:30～9:31",{"$f":"'入力シート(1分周期発電計画)'!F31","v":0},0,0]
[null,"02","9:31～9:32",{"$f":"'入力シート(1分周期発電計画)'!G31","v":0},0,0]
[null,"03","9:32～9:33",{"$f":"'入力シート(1分周期発電計画)'!H31","v":0},0,0]
[null,"04","9:33～9:34",{"$f":"'入力シート(1分周期発電計画)'!I31","v":0},0,0]
[null,"05","9:34～9:35",{"$f":"'入力シート(1分周期発電計画)'!J31","v":0},0,0]
[null,"06","9:35～9:36",{"$f":"'入力シート(1分周期発電計画)'!K31","v":0},0,0]
[null,"07","9:36～9:37",{"$f":"'入力シート(1分周期発電計画)'!L31","v":0},{"$f":"F597-D597","v":0},{"$f":"IFERROR(ROUND(AVERAGE(G597:BN597),0),0)","v":0}]
[null,"08","9:37～9:38",{"$f":"'入力シート(1分周期発電計画)'!M31","v":0},0,0]
[null,"09","9:38～9:39",{"$f":"'入力シート(1分周期発電計画)'!N31","v":0},0,0]
[null,"10","9:39～9:40",{"$f":"'入力シート(1分周期発電計画)'!O31","v":0},0,0]
[null,"11","9:40～9:41",{"$f":"'入力シート(1分周期発電計画)'!P31","v":0},0,0]
[null,"12","9:41～9:42",{"$f":"'入力シート(1分周期発電計画)'!Q31","v":0},0,0]
[null,"13","9:42～9:43",{"$f":"'入力シート(1分周期発電計画)'!R31","v":0},0,0]
[null,"14","9:43～9:44",{"$f":"'入力シート(1分周期発電計画)'!S31","v":0},0,0]
[null,"15","9:44～9:45",{"$f":"'入力シート(1分周期発電計画)'!T31","v":0},0,0]
[null,"16","9:45～9:46",{"$f":"'入力シート(1分周期発電計画)'!U31","v":0},0,0]
[null,"17","9:46～9:47",{"$f":"'入力シート(1分周期発電計画)'!V31","v":0},0,0]
[null,"18","9:47～9:48",{"$f":"'入力シート(1分周期発電計画)'!W31","v":0},0,0]
[null,"19","9:48～9:49",{"$f":"'入力シート(1分周期発電計画)'!X31","v":0},0,0]
[null,"20","9:49～9:50",{"$f":"'入力シート(1分周期発電計画)'!Y31","v":0},0,0]
[null,"21","9:50～9:51",{"$f":"'入力シート(1分周期発電計画)'!Z31","v":0},0,0]
[null,"22","9:51～9:52",{"$f":"'入力シート(1分周期発電計画)'!AA31","v":0},0,0]
[null,"23","9:52～9:53",{"$f":"'入力シート(1分周期発電計画)'!AB31","v":0},0,0]
[null,"24","9:53～9:54",{"$f":"'入力シート(1分周期発電計画)'!AC31","v":0},0,0]
[null,"25","9:54～9:55",{"$f":"'入力シート(1分周期発電計画)'!AD31","v":0},0,0]
[null,"26","9:55～9:56",{"$f":"'入力シート(1分周期発電計画)'!AE31","v":0},0,0]
[null,"27","9:56～9:57",{"$f":"'入力シート(1分周期発電計画)'!AF31","v":0},0,0]
[null,"28","9:57～9:58",{"$f":"'入力シート(1分周期発電計画)'!AG31","v":0},0,0]
[null,"29","9:58～9:59",{"$f":"'入力シート(1分周期発電計画)'!AH31","v":0},0,0]
[null,"30","9:59～10:00",{"$f":"'入力シート(1分周期発電計画)'!AI31","v":0},0,0]
["21","01","10:00～10:01",{"$f":"'入力シート(1分周期発電計画)'!F32","v":0},0,0]
[null,"02","10:01～10:02",{"$f":"'入力シート(1分周期発電計画)'!G32","v":0},0,0]
[null,"03","10:02～10:03",{"$f":"'入力シート(1分周期発電計画)'!H32","v":0},0,0]
[null,"04","10:03～10:04",{"$f":"'入力シート(1分周期発電計画)'!I32","v":0},0,0]
[null,"05","10:04～10:05",{"$f":"'入力シート(1分周期発電計画)'!J32","v":0},0,0]
[null,"06","10:05～10:06",{"$f":"'入力シート(1分周期発電計画)'!K32","v":0},0,0]
[null,"07","10:06～10:07",{"$f":"'入力シート(1分周期発電計画)'!L32","v":0},0,0]
[null,"08","10:07～10:08",{"$f":"'入力シート(1分周期発電計画)'!M32","v":0},0,0]
[null,"09","10:08～10:09",{"$f":"'入力シート(1分周期発電計画)'!N32","v":0},0,0]
[null,"10","10:09～10:10",{"$f":"'入力シート(1分周期発電計画)'!O32","v":0},0,0]
[null,"11","10:10～10:11",{"$f":"'入力シート(1分周期発電計画)'!P32","v":0},0,0]
[null,"12","10:11～10:12",{"$f":"'入力シート(1分周期発電計画)'!Q32","v":0},0,0]
[null,"13","10:12～10:13",{"$f":"'入力シート(1分周期発電計画)'!R32","v":0},0,0]
[null,"14","10:13～10:14",{"$f":"'入力シート(1分周期発電計画)'!S32","v":0},0,0]
[null,"15","10:14～10:15",{"$f":"'入力シート(1分周期発電計画)'!T32","v":0},0,0]
[null,"16","10:15～10:16",{"$f":"'入力シート(1分周期発電計画)'!U32","v":0},0,0]
[null,"17","10:16～10:17",{"$f":"'入力シート(1分周期発電計画)'!V32","v":0},0,0]
[null,"18","10:17～10:18",{"$f":"'入力シート(1分周期発電計画)'!W32","v":0},0,0]
[null,"19","10:18～10:19",{"$f":"'入力シート(1分周期発電計画)'!X32","v":0},0,0]
[null,"20","10:19～10:20",{"$f":"'入力シート(1分周期発電計画)'!Y32","v":0},0,0]
[null,"21","10:20～10:21",{"$f":"'入力シート(1分周期発電計画)'!Z32","v":0},0,0]
[null,"22","10:21～10:22",{"$f":"'入力シート(1分周期発電計画)'!AA32","v":0},0,0]
[null,"23","10:22～10:23",{"$f":"'入力シート(1分周期発電計画)'!AB32","v":0},0,0]
[null,"24","10:23～10:24",{"$f":"'入力シート(1分周期発電計画)'!AC32","v":0},0,0]
[null,"25","10:24～10:25",{"$f":"'入力シート(1分周期発電計画)'!AD32","v":0},0,0]
[null,"26","10:25～10:26",{"$f":"'入力シート(1分周期発電計画)'!AE32","v":0},0,0]
[null,"27","10:26～10:27",{"$f":"'入力シート(1分周期発電計画)'!AF32","v":0},0,0]
[null,"28","10:27～10:28",{"$f":"'入力シート(1分周期発電計画)'!AG32","v":0},0,0]
[null,"29","10:28～10:29",{"$f":"'入力シート(1分周期発電計画)'!AH32","v":0},0,0]
[null,"30","10:29～10:30",{"$f":"'入力シート(1分周期発電計画)'!AI32","v":0},0,0]
["22","01","10:30～10:31",{"$f":"'入力シート(1分周期発電計画)'!F33","v":0},0,0]
[null,"02","10:31～10:32",{"$f":"'入力シート(1分周期発電計画)'!G33","v":0},0,0]
[null,"03","10:32～10:33",{"$f":"'入力シート(1分周期発電計画)'!H33","v":0},0,0]
[null,"04","10:33～10:34",{"$f":"'入力シート(1分周期発電計画)'!I33","v":0},0,0]
[null,"05","10:34～10:35",{"$f":"'入力シート(1分周期発電計画)'!J33","v":0},0,0]
[null,"06","10:35～10:36",{"$f":"'入力シート(1分周期発電計画)'!K33","v":0},0,0]
[null,"07","10:36～10:37",{"$f":"'入力シート(1分周期発電計画)'!L33","v":0},0,0]
[null,"08","10:37～10:38",{"$f":"'入力シート(1分周期発電計画)'!M33","v":0},0,0]
[null,"09","10:38～10:39",{"$f":"'入力シート(1分周期発電計画)'!N33","v":0},0,0]
[null,"10","10:39～10:40",{"$f":"'入力シート(1分周期発電計画)'!O33","v":0},0,0]
[null,"11","10:40～10:41",{"$f":"'入力シート(1分周期発電計画)'!P33","v":0},{"$f":"F661-D661","v":0},{"$f":"IFERROR(ROUND(AVERAGE(G661:BN661),0),0)","v":0}]
[null,"12","10:41～10:42",{"$f":"'入力シート(1分周期発電計画)'!Q33","v":0},0,0]
[null,"13","10:42～10:43",{"$f":"'入力シート(1分周期発電計画)'!R33","v":0},0,0]
[null,"14","10:43～10:44",{"$f":"'入力シート(1分周期発電計画)'!S33","v":0},0,0]
[null,"15","10:44～10:45",{"$f":"'入力シート(1分周期発電計画)'!T33","v":0},0,0]
[null,"16","10:45～10:46",{"$f":"'入力シート(1分周期発電計画)'!U33","v":0},0,0]
[null,"17","10:46～10:47",{"$f":"'入力シート(1分周期発電計画)'!V33","v":0},0,0]
[null,"18","10:47～10:48",{"$f":"'入力シート(1分周期発電計画)'!W33","v":0},0,0]
[null,"19","10:48～10:49",{"$f":"'入力シート(1分周期発電計画)'!X33","v":0},0,0]
[null,"20","10:49～10:50",{"$f":"'入力シート(1分周期発電計画)'!Y33","v":0},0,0]
[null,"21","10:50～10:51",{"$f":"'入力シート(1分周期発電計画)'!Z33","v":0},0,0]
[null,"22","10:51～10:52",{"$f":"'入力シート(1分周期発電計画)'!AA33","v":0},0,0]
[null,"23","10:52～10:53",{"$f":"'入力シート(1分周期発電計画)'!AB33","v":0},0,0]
[null,"24","10:53～10:54",{"$f":"'入力シート(1分周期発電計画)'!AC33","v":0},0,0]
[null,"25","10:54～10:55",{"$f":"'入力シート(1分周期発電計画)'!AD33","v":0},0,0]
[null,"26","10:55～10:56",{"$f":"'入力シート(1分周期発電計画)'!AE33","v":0},0,0]
[null,"27","10:56～10:57",{"$f":"'入力シート(1分周期発電計画)'!AF33","v":0},0,0]
[null,"28","10:57～10:58",{"$f":"'入力シート(1分周期発電計画)'!AG33","v":0},0,0]
[null,"29","10:58～10:59",{"$f":"'入力シート(1分周期発電計画)'!AH33","v":0},0,0]
[null,"30","10:59～11:00",{"$f":"'入力シート(1分周期発電計画)'!AI33","v":0},0,0]
["23","01","11:00～11:01",{"$f":"'入力シート(1分周期発電計画)'!F34","v":0},0,0]
[null,"02","11:01～11:02",{"$f":"'入力シート(1分周期発電計画)'!G34","v":0},0,0]
[null,"03","11:02～11:03",{"$f":"'入力シート(1分周期発電計画)'!H34","v":0},0,0]
[null,"04","11:03～11:04",{"$f":"'入力シート(1分周期発電計画)'!I34","v":0},0,0]
[null,"05","11:04～11:05",{"$f":"'入力シート(1分周期発電計画)'!J34","v":0},0,0]
[null,"06","11:05～11:06",{"$f":"'入力シート(1分周期発電計画)'!K34","v":0},0,0]
[null,"07","11:06～11:07",{"$f":"'入力シート(1分周期発電計画)'!L34","v":0},0,0]
[null,"08","11:07～11:08",{"$f":"'入力シート(1分周期発電計画)'!M34","v":0},0,0]
[null,"09","11:08～11:09",{"$f":"'入力シート(1分周期発電計画)'!N34","v":0},0,0]
[null,"10","11:09～11:10",{"$f":"'入力シート(1分周期発電計画)'!O34","v":0},0,0]
[null,"11","11:10～11:11",{"$f":"'入力シート(1分周期発電計画)'!P34","v":0},0,0]
[null,"12","11:11～11:12",{"$f":"'入力シート(1分周期発電計画)'!Q34","v":0},0,0]
[null,"13","11:12～11:13",{"$f":"'入力シート(1分周期発電計画)'!R34","v":0},0,0]
[null,"14","11:13～11:14",{"$f":"'入力シート(1分周期発電計画)'!S34","v":0},0,0]
[null,"15","11:14～11:15",{"$f":"'入力シート(1分周期発電計画)'!T34","v":0},0,0]
[null,"16","11:15～11:16",{"$f":"'入力シート(1分周期発電計画)'!U34","v":0},0,0]
[null,"17","11:16～11:17",{"$f":"'入力シート(1分周期発電計画)'!V34","v":0},0,0]
[null,"18","11:17～11:18",{"$f":"'入力シート(1分周期発電計画)'!W34","v":0},0,0]
[null,"19","11:18～11:19",{"$f":"'入力シート(1分周期発電計画)'!X34","v":0},0,0]
[null,"20","11:19～11:20",{"$f":"'入力シート(1分周期発電計画)'!Y34","v":0},0,0]
[null,"21","11:20～11:21",{"$f":"'入力シート(1分周期発電計画)'!Z34","v":0},0,0]
[null,"22","11:21～11:22",{"$f":"'入力シート(1分周期発電計画)'!AA34","v":0},0,0]
[null,"23","11:22～11:23",{"$f":"'入力シート(1分周期発電計画)'!AB34","v":0},0,0]
[null,"24","11:23～11:24",{"$f":"'入力シート(1分周期発電計画)'!AC34","v":0},0,0]
[null,"25","11:24～11:25",{"$f":"'入力シート(1分周期発電計画)'!AD34","v":0},0,0]
[null,"26","11:25～11:26",{"$f":"'入力シート(1分周期発電計画)'!AE34","v":0},0,0]
[null,"27","11:26～11:27",{"$f":"'入力シート(1分周期発電計画)'!AF34","v":0},0,0]
[null,"28","11:27～11:28",{"$f":"'入力シート(1分周期発電計画)'!AG34","v":0},0,0]
[null,"29","11:28～11:29",{"$f":"'入力シート(1分周期発電計画)'!AH34","v":0},0,0]
[null,"30","11:29～11:30",{"$f":"'入力シート(1分周期発電計画)'!AI34","v":0},0,0]
["24","01","11:30～11:31",{"$f":"'入力シート(1分周期発電計画)'!F35","v":0},0,0]
[null,"02","11:31～11:32",{"$f":"'入力シート(1分周期発電計画)'!G35","v":0},0,0]
[null,"03","11:32～11:33",{"$f":"'入力シート(1分周期発電計画)'!H35","v":0},0,0]
[null,"04","11:33～11:34",{"$f":"'入力シート(1分周期発電計画)'!I35","v":0},0,0]
[null,"05","11:34～11:35",{"$f":"'入力シート(1分周期発電計画)'!J35","v":0},0,0]
[null,"06","11:35～11:36",{"$f":"'入力シート(1分周期発電計画)'!K35","v":0},0,0]
[null,"07","11:36～11:37",{"$f":"'入力シート(1分周期発電計画)'!L35","v":0},0,0]
[null,"08","11:37～11:38",{"$f":"'入力シート(1分周期発電計画)'!M35","v":0},0,0]
[null,"09","11:38～11:39",{"$f":"'入力シート(1分周期発電計画)'!N35","v":0},0,0]
[null,"10","11:39～11:40",{"$f":"'入力シート(1分周期発電計画)'!O35","v":0},0,0]
[null,"11","11:40～11:41",{"$f":"'入力シート(1分周期発電計画)'!P35","v":0},0,0]
[null,"12","11:41～11:42",{"$f":"'入力シート(1分周期発電計画)'!Q35","v":0},0,0]
[null,"13","11:42～11:43",{"$f":"'入力シート(1分周期発電計画)'!R35","v":0},0,0]
[null,"14","11:43～11:44",{"$f":"'入力シート(1分周期発電計画)'!S35","v":0},0,0]
[null,"15","11:44～11:45",{"$f":"'入力シート(1分周期発電計画)'!T35","v":0},{"$f":"F725-D725","v":0},{"$f":"IFERROR(ROUND(AVERAGE(G725:BN725),0),0)","v":0}]
[null,"16","11:45～11:46",{"$f":"'入力シート(1分周期発電計画)'!U35","v":0},0,0]
[null,"17","11:46～11:47",{"$f":"'入力シート(1分周期発電計画)'!V35","v":0},0,0]
[null,"18","11:47～11:48",{"$f":"'入力シート(1分周期発電計画)'!W35","v":0},0,0]
[null,"19","11:48～11:49",{"$f":"'入力シート(1分周期発電計画)'!X35","v":0},0,0]
[null,"20","11:49～11:50",{"$f":"'入力シート(1分周期発電計画)'!Y35","v":0},0,0]
[null,"21","11:50～11:51",{"$f":"'入力シート(1分周期発電計画)'!Z35","v":0},0,0]
[null,"22","11:51～11:52",{"$f":"'入力シート(1分周期発電計画)'!AA35","v":0},0,0]
[null,"23","11:52～11:53",{"$f":"'入力シート(1分周期発電計画)'!AB35","v":0},0,0]
[null,"24","11:53～11:54",{"$f":"'入力シート(1分周期発電計画)'!AC35","v":0},0,0]
[null,"25","11:54～11:55",{"$f":"'入力シート(1分周期発電計画)'!AD35","v":0},0,0]
[null,"26","11:55～11:56",{"$f":"'入力シート(1分周期発電計画)'!AE35","v":0},0,0]
[null,"27","11:56～11:57",{"$f":"'入力シート(1分周期発電計画)'!AF35","v":0},0,0]
[null,"28","11:57～11:58",{"$f":"'入力シート(1分周期発電計画)'!AG35","v":0},0,0]
[null,"29","11:58～11:59",{"$f":"'入力シート(1分周期発電計画)'!AH35","v":0},0,0]
[null,"30","11:59～12:00",{"$f":"'入力シート(1分周期発電計画)'!AI35","v":0},0,0]
["25","01","12:00～12:01",{"$f":"'入力シート(1分周期発電計画)'!F36","v":0},0,0]
[null,"02","12:01～12:02",{"$f":"'入力シート(1分周期発電計画)'!G36","v":0},0,0]
[null,"03","12:02～12:03",{"$f":"'入力シート(1分周期発電計画)'!H36","v":0},0,0]
[null,"04","12:03～12:04",{"$f":"'入力シート(1分周期発電計画)'!I36","v":0},0,0]
[null,"05","12:04～12:05",{"$f":"'入力シート(1分周期発電計画)'!J36","v":0},0,0]
[null,"06","12:05～12:06",{"$f":"'入力シート(1分周期発電計画)'!K36","v":0},0,0]
[null,"07","12:06～12:07",{"$f":"'入力シート(1分周期発電計画)'!L36","v":0},0,0]
[null,"08","12:07～12:08",{"$f":"'入力シート(1分周期発電計画)'!M36","v":0},0,0]
[null,"09","12:08～12:09",{"$f":"'入力シート(1分周期発電計画)'!N36","v":0},0,0]
[null,"10","12:09～12:10",{"$f":"'入力シート(1分周期発電計画)'!O36","v":0},0,0]
[null,"11","12:10～12:11",{"$f":"'入力シート(1分周期発電計画)'!P36","v":0},0,0]
[null,"12","12:11～12:12",{"$f":"'入力シート(1分周期発電計画)'!Q36","v":0},0,0]
[null,"13","12:12～12:13",{"$f":"'入力シート(1分周期発電計画)'!R36","v":0},0,0]
[null,"14","12:13～12:14",{"$f":"'入力シート(1分周期発電計画)'!S36","v":0},0,0]
[null,"15","12:14～12:15",{"$f":"'入力シート(1分周期発電計画)'!T36","v":0},0,0]
[null,"16","12:15～12:16",{"$f":"'入力シート(1分周期発電計画)'!U36","v":0},0,0]
[null,"17","12:16～12:17",{"$f":"'入力シート(1分周期発電計画)'!V36","v":0},0,0]
[null,"18","12:17～12:18",{"$f":"'入力シート(1分周期発電計画)'!W36","v":0},0,0]
[null,"19","12:18～12:19",{"$f":"'入力シート(1分周期発電計画)'!X36","v":0},0,0]
[null,"20","12:19～12:20",{"$f":"'入力シート(1分周期発電計画)'!Y36","v":0},0,0]
[null,"21","12:20～12:21",{"$f":"'入力シート(1分周期発電計画)'!Z36","v":0},0,0]
[null,"22","12:21～12:22",{"$f":"'入力シート(1分周期発電計画)'!AA36","v":0},0,0]
[null,"23","12:22～12:23",{"$f":"'入力シート(1分周期発電計画)'!AB36","v":0},0,0]
[null,"24","12:23～12:24",{"$f":"'入力シート(1分周期発電計画)'!AC36","v":0},0,0]
[null,"25","12:24～12:25",{"$f":"'入力シート(1分周期発電計画)'!AD36","v":0},0,0]
[null,"26","12:25～12:26",{"$f":"'入力シート(1分周期発電計画)'!AE36","v":0},0,0]
[null,"27","12:26～12:27",{"$f":"'入力シート(1分周期発電計画)'!AF36","v":0},0,0]
[null,"28","12:27～12:28",{"$f":"'入力シート(1分周期発電計画)'!AG36","v":0},0,0]
[null,"29","12:28～12:29",{"$f":"'入力シート(1分周期発電計画)'!AH36","v":0},0,0]
[null,"30","12:29～12:30",{"$f":"'入力シート(1分周期発電計画)'!AI36","v":0},0,0]
["26","01","12:30～12:31",{"$f":"'入力シート(1分周期発電計画)'!F37","v":0},0,0]
[null,"02","12:31～12:32",{"$f":"'入力シート(1分周期発電計画)'!G37","v":0},0,0]
[null,"03","12:32～12:33",{"$f":"'入力シート(1分周期発電計画)'!H37","v":0},0,0]
[null,"04","12:33～12:34",{"$f":"'入力シート(1分周期発電計画)'!I37","v":0},0,0]
[null,"05","12:34～12:35",{"$f":"'入力シート(1分周期発電計画)'!J37","v":0},0,0]
[null,"06","12:35～12:36",{"$f":"'入力シート(1分周期発電計画)'!K37","v":0},0,0]
[null,"07","12:36～12:37",{"$f":"'入力シート(1分周期発電計画)'!L37","v":0},0,0]
[null,"08","12:37～12:38",{"$f":"'入力シート(1分周期発電計画)'!M37","v":0},0,0]
[null,"09","12:38～12:39",{"$f":"'入力シート(1分周期発電計画)'!N37","v":0},0,0]
[null,"10","12:39～12:40",{"$f":"'入力シート(1分周期発電計画)'!O37","v":0},0,0]
[null,"11","12:40～12:41",{"$f":"'入力シート(1分周期発電計画)'!P37","v":0},0,0]
[null,"12","12:41～12:42",{"$f":"'入力シート(1分周期発電計画)'!Q37","v":0},0,0]
[null,"13","12:42～12:43",{"$f":"'入力シート(1分周期発電計画)'!R37","v":0},0,0]
[null,"14","12:43～12:44",{"$f":"'入力シート(1分周期発電計画)'!S37","v":0},0,0]
[null,"15","12:44～12:45",{"$f":"'入力シート(1分周期発電計画)'!T37","v":0},0,0]
[null,"16","12:45～12:46",{"$f":"'入力シート(1分周期発電計画)'!U37","v":0},0,0]
[null,"17","12:46～12:47",{"$f":"'入力シート(1分周期発電計画)'!V37","v":0},0,0]
[null,"18","12:47～12:48",{"$f":"'入力シート(1分周期発電計画)'!W37","v":0},0,0]
[null,"19","12:48～12:49",{"$f":"'入力シート(1分周期発電計画)'!X37","v":0},{"$f":"F789-D789","v":0},{"$f":"IFERROR(ROUND(AVERAGE(G789:BN789),0),0)","v":0}]
[null,"20","12:49～12:50",{"$f":"'入力シート(1分周期発電計画)'!Y37","v":0},0,0]
[null,"21","12:50～12:51",{"$f":"'入力シート(1分周期発電計画)'!Z37","v":0},0,0]
[null,"22","12:51～12:52",{"$f":"'入力シート(1分周期発電計画)'!AA37","v":0},0,0]
[null,"23","12:52～12:53",{"$f":"'入力シート(1分周期発電計画)'!AB37","v":0},0,0]
[null,"24","12:53～12:54",{"$f":"'入力シート(1分周期発電計画)'!AC37","v":0},0,0]
[null,"25","12:54～12:55",{"$f":"'入力シート(1分周期発電計画)'!AD37","v":0},0,0]
[null,"26","12:55～12:56",{"$f":"'入力シート(1分周期発電計画)'!AE37","v":0},0,0]
[null,"27","12:56～12:57",{"$f":"'入力シート(1分周期発電計画)'!AF37","v":0},0,0]
[null,"28","12:57～12:58",{"$f":"'入力シート(1分周期発電計画)'!AG37","v":0},0,0]
[null,"29","12:58～12:59",{"$f":"'入力シート(1分周期発電計画)'!AH37","v":0},0,0]
[null,"30","12:59～13:00",{"$f":"'入力シート(1分周期発電計画)'!AI37","v":0},0,0]
["27","01","13:00～13:01",{"$f":"'入力シート(1分周期発電計画)'!F38","v":0},0,0]
[null,"02","13:01～13:02",{"$f":"'入力シート(1分周期発電計画)'!G38","v":0},0,0]
[null,"03","13:02～13:03",{"$f":"'入力シート(1分周期発電計画)'!H38","v":0},0,0]
[null,"04","13:03～13:04",{"$f":"'入力シート(1分周期発電計画)'!I38","v":0},0,0]
[null,"05","13:04～13:05",{"$f":"'入力シート(1分周期発電計画)'!J38","v":0},0,0]
[null,"06","13:05～13:06",{"$f":"'入力シート(1分周期発電計画)'!K38","v":0},0,0]
[null,"07","13:06～13:07",{"$f":"'入力シート(1分周期発電計画)'!L38","v":0},0,0]
[null,"08","13:07～13:08",{"$f":"'入力シート(1分周期発電計画)'!M38","v":0},0,0]
[null,"09","13:08～13:09",{"$f":"'入力シート(1分周期発電計画)'!N38","v":0},0,0]
[null,"10","13:09～13:10",{"$f":"'入力シート(1分周期発電計画)'!O38","v":0},0,0]
[null,"11","13:10～13:11",{"$f":"'入力シート(1分周期発電計画)'!P38","v":0},0,0]
[null,"12","13:11～13:12",{"$f":"'入力シート(1分周期発電計画)'!Q38","v":0},0,0]
[null,"13","13:12～13:13",{"$f":"'入力シート(1分周期発電計画)'!R38","v":0},0,0]
[null,"14","13:13～13:14",{"$f":"'入力シート(1分周期発電計画)'!S38","v":0},0,0]
[null,"15","13:14～13:15",{"$f":"'入力シート(1分周期発電計画)'!T38","v":0},0,0]
[null,"16","13:15～13:16",{"$f":"'入力シート(1分周期発電計画)'!U38","v":0},0,0]
[null,"17","13:16～13:17",{"$f":"'入力シート(1分周期発電計画)'!V38","v":0},0,0]
[null,"18","13:17～13:18",{"$f":"'入力シート(1分周期発電計画)'!W38","v":0},0,0]
[null,"19","13:18～13:19",{"$f":"'入力シート(1分周期発電計画)'!X38","v":0},0,0]
[null,"20","13:19～13:20",{"$f":"'入力シート(1分周期発電計画)'!Y38","v":0},0,0]
[null,"21","13:20～13:21",{"$f":"'入力シート(1分周期発電計画)'!Z38","v":0},0,0]
[null,"22","13:21～13:22",{"$f":"'入力シート(1分周期発電計画)'!AA38","v":0},0,0]
[null,"23","13:22～13:23",{"$f":"'入力シート(1分周期発電計画)'!AB38","v":0},0,0]
[null,"24","13:23～13:24",{"$f":"'入力シート(1分周期発電計画)'!AC38","v":0},0,0]
[null,"25","13:24～13:25",{"$f":"'入力シート(1分周期発電計画)'!AD38","v":0},0,0]
[null,"26","13:25～13:26",{"$f":"'入力シート(1分周期発電計画)'!AE38","v":0},0,0]
[null,"27","13:26～13:27",{"$f":"'入力シート(1分周期発電計画)'!AF38","v":0},0,0]
[null,"28","13:27～13:28",{"$f":"'入力シート(1分周期発電計画)'!AG38","v":0},0,0]
[null,"29","13:28～13:29",{"$f":"'入力シート(1分周期発電計画)'!AH38","v":0},0,0]
[null,"30","13:29～13:30",{"$f":"'入力シート(1分周期発電計画)'!AI38","v":0},0,0]
["28","01","13:30～13:31",{"$f":"'入力シート(1分周期発電計画)'!F39","v":0},0,0]
[null,"02","13:31～13:32",{"$f":"'入力シート(1分周期発電計画)'!G39","v":0},0,0]
[null,"03","13:32～13:33",{"$f":"'入力シート(1分周期発電計画)'!H39","v":0},0,0]
[null,"04","13:33～13:34",{"$f":"'入力シート(1分周期発電計画)'!I39","v":0},0,0]
[null,"05","13:34～13:35",{"$f":"'入力シート(1分周期発電計画)'!J39","v":0},0,0]
[null,"06","13:35～13:36",{"$f":"'入力シート(1分周期発電計画)'!K39","v":0},0,0]
[null,"07","13:36～13:37",{"$f":"'入力シート(1分周期発電計画)'!L39","v":0},0,0]
[null,"08","13:37～13:38",{"$f":"'入力シート(1分周期発電計画)'!M39","v":0},0,0]
[null,"09","13:38～13:39",{"$f":"'入力シート(1分周期発電計画)'!N39","v":0},0,0]
[null,"10","13:39～13:40",{"$f":"'入力シート(1分周期発電計画)'!O39","v":0},0,0]
[null,"11","13:40～13:41",{"$f":"'入力シート(1分周期発電計画)'!P39","v":0},0,0]
[null,"12","13:41～13:42",{"$f":"'入力シート(1分周期発電計画)'!Q39","v":0},0,0]
[null,"13","13:42～13:43",{"$f":"'入力シート(1分周期発電計画)'!R39","v":0},0,0]
[null,"14","13:43～13:44",{"$f":"'入力シート(1分周期発電計画)'!S39","v":0},0,0]
[null,"15","13:44～13:45",{"$f":"'入力シート(1分周期発電計画)'!T39","v":0},0,0]
[null,"16","13:45～13:46",{"$f":"'入力シート(1分周期発電計画)'!U39","v":0},0,0]
[null,"17","13:46～13:47",{"$f":"'入力シート(1分周期発電計画)'!V39","v":0},0,0]
[null,"18","13:47～13:48",{"$f":"'入力シート(1分周期発電計画)'!W39","v":0},0,0]
[null,"19","13:48～13:49",{"$f":"'入力シート(1分周期発電計画)'!X39","v":0},0,0]
[null,"20","13:49～13:50",{"$f":"'入力シート(1分周期発電計画)'!Y39","v":0},0,0]
[null,"21","13:50～13:51",{"$f":"'入力シート(1分周期発電計画)'!Z39","v":0},0,0]
[null,"22","13:51～13:52",{"$f":"'入力シート(1分周期発電計画)'!AA39","v":0},0,0]
[null,"23","13:52～13:53",{"$f":"'入力シート(1分周期発電計画)'!AB39","v":0},{"$f":"F853-D853","v":0},{"$f":"IFERROR(ROUND(AVERAGE(G853:BN853),0),0)","v":0}]
[null,"24","13:53～13:54",{"$f":"'入力シート(1分周期発電計画)'!AC39","v":0},0,0]
[null,"25","13:54～13:55",{"$f":"'入力シート(1分周期発電計画)'!AD39","v":0},0,0]
[null,"26","13:55～13:56",{"$f":"'入力シート(1分周期発電計画)'!AE39","v":0},0,0]
[null,"27","13:56～13:57",{"$f":"'入力シート(1分周期発電計画)'!AF39","v":0},0,0]
[null,"28","13:57～13:58",{"$f":"'入力シート(1分周期発電計画)'!AG39","v":0},0,0]
[null,"29","13:58～13:59",{"$f":"'入力シート(1分周期発電計画)'!AH39","v":0},0,0]
[null,"30","13:59～14:00",{"$f":"'入力シート(1分周期発電計画)'!AI39","v":0},0,0]
["29","01","14:00～14:01",{"$f":"'入力シート(1分周期発電計画)'!F40","v":0},0,0]
[null,"02","14:01～14:02",{"$f":"'入力シート(1分周期発電計画)'!G40","v":0},0,0]
[null,"03","14:02～14:03",{"$f":"'入力シート(1分周期発電計画)'!H40","v":0},0,0]
[null,"04","14:03～14:04",{"$f":"'入力シート(1分周期発電計画)'!I40","v":0},0,0]
[null,"05","14:04～14:05",{"$f":"'入力シート(1分周期発電計画)'!J40","v":0},0,0]
[null,"06","14:05～14:06",{"$f":"'入力シート(1分周期発電計画)'!K40","v":0},0,0]
[null,"07","14:06～14:07",{"$f":"'入力シート(1分周期発電計画)'!L40","v":0},0,0]
[null,"08","14:07～14:08",{"$f":"'入力シート(1分周期発電計画)'!M40","v":0},0,0]
[null,"09","14:08～14:09",{"$f":"'入力シート(1分周期発電計画)'!N40","v":0},0,0]
[null,"10","14:09～14:10",{"$f":"'入力シート(1分周期発電計画)'!O40","v":0},0,0]
[null,"11","14:10～14:11",{"$f":"'入力シート(1分周期発電計画)'!P40","v":0},0,0]
[null,"12","14:11～14:12",{"$f":"'入力シート(1分周期発電計画)'!Q40","v":0},0,0]
[null,"13","14:12～14:13",{"$f":"'入力シート(1分周期発電計画)'!R40","v":0},0,0]
[null,"14","14:13～14:14",{"$f":"'入力シート(1分周期発電計画)'!S40","v":0},0,0]
[null,"15","14:14～14:15",{"$f":"'入力シート(1分周期発電計画)'!T40","v":0},0,0]
[null,"16","14:15～14:16",{"$f":"'入力シート(1分周期発電計画)'!U40","v":0},0,0]
[null,"17","14:16～14:17",{"$f":"'入力シート(1分周期発電計画)'!V40","v":0},0,0]
[null,"18","14:17～14:18",{"$f":"'入力シート(1分周期発電計画)'!W40","v":0},0,0]
[null,"19","14:18～14:19",{"$f":"'入力シート(1分周期発電計画)'!X40","v":0},0,0]
[null,"20","14:19～14:20",{"$f":"'入力シート(1分周期発電計画)'!Y40","v":0},0,0]
[null,"21","14:20～14:21",{"$f":"'入力シート(1分周期発電計画)'!Z40","v":0},0,0]
[null,"22","14:21～14:22",{"$f":"'入力シート(1分周期発電計画)'!AA40","v":0},0,0]
[null,"23","14:22～14:23",{"$f":"'入力シート(1分周期発電計画)'!AB40","v":0},0,0]
[null,"24","14:23～14:24",{"$f":"'入力シート(1分周期発電計画)'!AC40","v":0},0,0]
[null,"25","14:24～14:25",{"$f":"'入力シート(1分周期発電計画)'!AD40","v":0},0,0]
[null,"26","14:25～14:26",{"$f":"'入力シート(1分周期発電計画)'!AE40","v":0},0,0]
[null,"27","14:26～14:27",{"$f":"'入力シート(1分周期発電計画)'!AF40","v":0},0,0]
[null,"28","14:27～14:28",{"$f":"'入力シート(1分周期発電計画)'!AG40","v":0},0,0]
[null,"29","14:28～14:29",{"$f":"'入力シート(1分周期発電計画)'!AH40","v":0},0,0]
[null,"30","14:29～14:30",{"$f":"'入力シート(1分周期発電計画)'!AI40","v":0},0,0]
["30","01","14:30～14:31",{"$f":"'入力シート(1分周期発電計画)'!F41","v":0},0,0]
[null,"02","14:31～14:32",{"$f":"'入力シート(1分周期発電計画)'!G41","v":0},0,0]
[null,"03","14:32～14:33",{"$f":"'入力シート(1分周期発電計画)'!H41","v":0},0,0]
[null,"04","14:33～14:34",{"$f":"'入力シート(1分周期発電計画)'!I41","v":0},0,0]
[null,"05","14:34～14:35",{"$f":"'入力シート(1分周期発電計画)'!J41","v":0},0,0]
[null,"06","14:35～14:36",{"$f":"'入力シート(1分周期発電計画)'!K41","v":0},0,0]
[null,"07","14:36～14:37",{"$f":"'入力シート(1分周期発電計画)'!L41","v":0},0,0]
[null,"08","14:37～14:38",{"$f":"'入力シート(1分周期発電計画)'!M41","v":0},0,0]
[null,"09","14:38～14:39",{"$f":"'入力シート(1分周期発電計画)'!N41","v":0},0,0]
[null,"10","14:39～14:40",{"$f":"'入力シート(1分周期発電計画)'!O41","v":0},0,0]
[null,"11","14:40～14:41",{"$f":"'入力シート(1分周期発電計画)'!P41","v":0},0,0]
[null,"12","14:41～14:42",{"$f":"'入力シート(1分周期発電計画)'!Q41","v":0},0,0]
[null,"13","14:42～14:43",{"$f":"'入力シート(1分周期発電計画)'!R41","v":0},0,0]
[null,"14","14:43～14:44",{"$f":"'入力シート(1分周期発電計画)'!S41","v":0},0,0]
[null,"15","14:44～14:45",{"$f":"'入力シート(1分周期発電計画)'!T41","v":0},0,0]
[null,"16","14:45～14:46",{"$f":"'入力シート(1分周期発電計画)'!U41","v":0},0,0]
[null,"17","14:46～14:47",{"$f":"'入力シート(1分周期発電計画)'!V41","v":0},0,0]
[null,"18","14:47～14:48",{"$f":"'入力シート(1分周期発電計画)'!W41","v":0},0,0]
[null,"19","14:48～14:49",{"$f":"'入力シート(1分周期発電計画)'!X41","v":0},0,0]
[null,"20","14:49～14:50",{"$f":"'入力シート(1分周期発電計画)'!Y41","v":0},0,0]
[null,"21","14:50～14:51",{"$f":"'入力シート(1分周期発電計画)'!Z41","v":0},0,0]
[null,"22","14:51～14:52",{"$f":"'入力シート(1分周期発電計画)'!AA41","v":0},0,0]
[null,"23","14:52～14:53",{"$f":"'入力シート(1分周期発電計画)'!AB41","v":0},0,0]
[null,"24","14:53～14:54",{"$f":"'入力シート(1分周期発電計画)'!AC41","v":0},0,0]
[null,"25","14:54～14:55",{"$f":"'入力シート(1分周期発電計画)'!AD41","v":0},0,0]
[null,"26","14:55～14:56",{"$f":"'入力シート(1分周期発電計画)'!AE41","v":0},0,0]
[null,"27","14:56～14:57",{"$f":"'入力シート(1分周期発電計画)'!AF41","v":0},{"$f":"F917-D917","v":0},{"$f":"IFERROR(ROUND(AVERAGE(G917:BN917),0),0)","v":0}]
[null,"28","14:57～14:58",{"$f":"'入力シート(1分周期発電計画)'!AG41","v":0},0,0]
[null,"29","14:58～14:59",{"$f":"'入力シート(1分周期発電計画)'!AH41","v":0},0,0]
[null,"30","14:59～15:00",{"$f":"'入力シート(1分周期発電計画)'!AI41","v":0},0,0]
["31","01","15:00～15:01",{"$f":"'入力シート(1分周期発電計画)'!F42","v":0},0,0]
[null,"02","15:01～15:02",{"$f":"'入力シート(1分周期発電計画)'!G42","v":0},0,0]
[null,"03","15:02～15:03",{"$f":"'入力シート(1分周期発電計画)'!H42","v":0},0,0]
[null,"04","15:03～15:04",{"$f":"'入力シート(1分周期発電計画)'!I42","v":0},0,0]
[null,"05","15:04～15:05",{"$f":"'入力シート(1分周期発電計画)'!J42","v":0},0,0]
[null,"06","15:05～15:06",{"$f":"'入力シート(1分周期発電計画)'!K42","v":0},0,0]
[null,"07","15:06～15:07",{"$f":"'入力シート(1分周期発電計画)'!L42","v":0},0,0]
[null,"08","15:07～15:08",{"$f":"'入力シート(1分周期発電計画)'!M42","v":0},0,0]
[null,"09","15:08～15:09",{"$f":"'入力シート(1分周期発電計画)'!N42","v":0},0,0]
[null,"10","15:09～15:10",{"$f":"'入力シート(1分周期発電計画)'!O42","v":0},0,0]
[null,"11","15:10～15:11",{"$f":"'入力シート(1分周期発電計画)'!P42","v":0},0,0]
[null,"12","15:11～15:12",{"$f":"'入力シート(1分周期発電計画)'!Q42","v":0},0,0]
[null,"13","15:12～15:13",{"$f":"'入力シート(1分周期発電計画)'!R42","v":0},0,0]
[null,"14","15:13～15:14",{"$f":"'入力シート(1分周期発電計画)'!S42","v":0},0,0]
[null,"15","15:14～15:15",{"$f":"'入力シート(1分周期発電計画)'!T42","v":0},0,0]
[null,"16","15:15～15:16",{"$f":"'入力シート(1分周期発電計画)'!U42","v":0},0,0]
[null,"17","15:16～15:17",{"$f":"'入力シート(1分周期発電計画)'!V42","v":0},0,0]
[null,"18","15:17～15:18",{"$f":"'入力シート(1分周期発電計画)'!W42","v":0},0,0]
[null,"19","15:18～15:19",{"$f":"'入力シート(1分周期発電計画)'!X42","v":0},0,0]
[null,"20","15:19～15:20",{"$f":"'入力シート(1分周期発電計画)'!Y42","v":0},0,0]
[null,"21","15:20～15:21",{"$f":"'入力シート(1分周期発電計画)'!Z42","v":0},0,0]
[null,"22","15:21～15:22",{"$f":"'入力シート(1分周期発電計画)'!AA42","v":0},0,0]
[null,"23","15:22～15:23",{"$f":"'入力シート(1分周期発電計画)'!AB42","v":0},0,0]
[null,"24","15:23～15:24",{"$f":"'入力シート(1分周期発電計画)'!AC42","v":0},0,0]
[null,"25","15:24～15:25",{"$f":"'入力シート(1分周期発電計画)'!AD42","v":0},0,0]
[null,"26","15:25～15:26",{"$f":"'入力シート(1分周期発電計画)'!AE42","v":0},0,0]
[null,"27","15:26～15:27",{"$f":"'入力シート(1分周期発電計画)'!AF42","v":0},0,0]
[null,"28","15:27～15:28",{"$f":"'入力シート(1分周期発電計画)'!AG42","v":0},0,0]
[null,"29","15:28～15:29",{"$f":"'入力シート(1分周期発電計画)'!AH42","v":0},0,0]
[null,"30","15:29～15:30",{"$f":"'入力シート(1分周期発電計画)'!AI42","v":0},0,0]
["32","01","15:30～15:31",{"$f":"'入力シート(1分周期発電計画)'!F43","v":0},0,0]
[null,"02","15:31～15:32",{"$f":"'入力シート(1分周期発電計画)'!G43","v":0},0,0]
[null,"03","15:32～15:33",{"$f":"'入力シート(1分周期発電計画)'!H43","v":0},0,0]
[null,"04","15:33～15:34",{"$f":"'入力シート(1分周期発電計画)'!I43","v":0},0,0]
[null,"05","15:34～15:35",{"$f":"'入力シート(1分周期発電計画)'!J43","v":0},0,0]
[null,"06","15:35～15:36",{"$f":"'入力シート(1分周期発電計画)'!K43","v":0},0,0]
[null,"07","15:36～15:37",{"$f":"'入力シート(1分周期発電計画)'!L43","v":0},0,0]
[null,"08","15:37～15:38",{"$f":"'入力シート(1分周期発電計画)'!M43","v":0},0,0]
[null,"09","15:38～15:39",{"$f":"'入力シート(1分周期発電計画)'!N43","v":0},0,0]
[null,"10","15:39～15:40",{"$f":"'入力シート(1分周期発電計画)'!O43","v":0},0,0]
[null,"11","15:40～15:41",{"$f":"'入力シート(1分周期発電計画)'!P43","v":0},0,0]
[null,"12","15:41～15:42",{"$f":"'入力シート(1分周期発電計画)'!Q43","v":0},0,0]
[null,"13","15:42～15:43",{"$f":"'入力シート(1分周期発電計画)'!R43","v":0},0,0]
[null,"14","15:43～15:44",{"$f":"'入力シート(1分周期発電計画)'!S43","v":0},0,0]
[null,"15","15:44～15:45",{"$f":"'入力シート(1分周期発電計画)'!T43","v":0},0,0]
[null,"16","15:45～15:46",{"$f":"'入力シート(1分周期発電計画)'!U43","v":0},0,0]
[null,"17","15:46～15:47",{"$f":"'入力シート(1分周期発電計画)'!V43","v":0},0,0]
[null,"18","15:47～15:48",{"$f":"'入力シート(1分周期発電計画)'!W43","v":0},0,0]
[null,"19","15:48～15:49",{"$f":"'入力シート(1分周期発電計画)'!X43","v":0},0,0]
[null,"20","15:49～15:50",{"$f":"'入力シート(1分周期発電計画)'!Y43","v":0},0,0]
[null,"21","15:50～15:51",{"$f":"'入力シート(1分周期発電計画)'!Z43","v":0},0,0]
[null,"22","15:51～15:52",{"$f":"'入力シート(1分周期発電計画)'!AA43","v":0},0,0]
[null,"23","15:52～15:53",{"$f":"'入力シート(1分周期発電計画)'!AB43","v":0},0,0]
[null,"24","15:53～15:54",{"$f":"'入力シート(1分周期発電計画)'!AC43","v":0},0,0]
[null,"25","15:54～15:55",{"$f":"'入力シート(1分周期発電計画)'!AD43","v":0},0,0]
[null,"26","15:55～15:56",{"$f":"'入力シート(1分周期発電計画)'!AE43","v":0},0,0]
[null,"27","15:56～15:57",{"$f":"'入力シート(1分周期発電計画)'!AF43","v":0},0,0]
[null,"28","15:57～15:58",{"$f":"'入力シート(1分周期発電計画)'!AG43","v":0},0,0]
[null,"29","15:58～15:59",{"$f":"'入力シート(1分周期発電計画)'!AH43","v":0},0,0]
[null,"30","15:59～16:00",{"$f":"'入力シート(1分周期発電計画)'!AI43","v":0},0,0]
["33","01","16:00～16:01",{"$f":"'入力シート(1分周期発電計画)'!F44","v":0},{"$f":"F981-D981","v":0},{"$f":"IFERROR(ROUND(AVERAGE(G981:BN981),0),0)","v":0}]
[null,"02","16:01～16:02",{"$f":"'入力シート(1分周期発電計画)'!G44","v":0},0,0]
[null,"03","16:02～16:03",{"$f":"'入力シート(1分周期発電計画)'!H44","v":0},0,0]
[null,"04","16:03～16:04",{"$f":"'入力シート(1分周期発電計画)'!I44","v":0},0,0]
[null,"05","16:04～16:05",{"$f":"'入力シート(1分周期発電計画)'!J44","v":0},0,0]
[null,"06","16:05～16:06",{"$f":"'入力シート(1分周期発電計画)'!K44","v":0},0,0]
[null,"07","16:06～16:07",{"$f":"'入力シート(1分周期発電計画)'!L44","v":0},0,0]
[null,"08","16:07～16:08",{"$f":"'入力シート(1分周期発電計画)'!M44","v":0},0,0]
[null,"09","16:08～16:09",{"$f":"'入力シート(1分周期発電計画)'!N44","v":0},0,0]
[null,"10","16:09～16:10",{"$f":"'入力シート(1分周期発電計画)'!O44","v":0},0,0]
[null,"11","16:10～16:11",{"$f":"'入力シート(1分周期発電計画)'!P44","v":0},0,0]
[null,"12","16:11～16:12",{"$f":"'入力シート(1分周期発電計画)'!Q44","v":0},0,0]
[null,"13","16:12～16:13",{"$f":"'入力シート(1分周期発電計画)'!R44","v":0},0,0]
[null,"14","16:13～16:14",{"$f":"'入力シート(1分周期発電計画)'!S44","v":0},0,0]
[null,"15","16:14～16:15",{"$f":"'入力シート(1分周期発電計画)'!T44","v":0},0,0]
[null,"16","16:15～16:16",{"$f":"'入力シート(1分周期発電計画)'!U44","v":0},0,0]
[null,"17","16:16～16:17",{"$f":"'入力シート(1分周期発電計画)'!V44","v":0},0,0]
[null,"18","16:17～16:18",{"$f":"'入力シート(1分周期発電計画)'!W44","v":0},0,0]
[null,"19","16:18～16:19",{"$f":"'入力シート(1分周期発電計画)'!X44","v":0},0,0]
[null,"20","16:19～16:20",{"$f":"'入力シート(1分周期発電計画)'!Y44","v":0},0,0]
[null,"21","16:20～16:21",{"$f":"'入力シート(1分周期発電計画)'!Z44","v":0},0,0]
[null,"22","16:21～16:22",{"$f":"'入力シート(1分周期発電計画)'!AA44","v":0},0,0]
[null,"23","16:22～16:23",{"$f":"'入力シート(1分周期発電計画)'!AB44","v":0},0,0]
[null,"24","16:23～16:24",{"$f":"'入力シート(1分周期発電計画)'!AC44","v":0},0,0]
[null,"25","16:24～16:25",{"$f":"'入力シート(1分周期発電計画)'!AD44","v":0},0,0]
[null,"26","16:25～16:26",{"$f":"'入力シート(1分周期発電計画)'!AE44","v":0},0,0]
[null,"27","16:26～16:27",{"$f":"'入力シート(1分周期発電計画)'!AF44","v":0},0,0]
[null,"28","16:27～16:28",{"$f":"'入力シート(1分周期発電計画)'!AG44","v":0},0,0]
[null,"29","16:28～16:29",{"$f":"'入力シート(1分周期発電計画)'!AH44","v":0},0,0]
[null,"30","16:29～16:30",{"$f":"'入力シート(1分周期発電計画)'!AI44","v":0},0,0]
["34","01","16:30～16:31",{"$f":"'入力シート(1分周期発電計画)'!F45","v":0},0,0]
[null,"02","16:31～16:32",{"$f":"'入力シート(1分周期発電計画)'!G45","v":0},0,0]
[null,"03","16:32～16:33",{"$f":"'入力シート(1分周期発電計画)'!H45","v":0},0,0]
[null,"04","16:33～16:34",{"$f":"'入力シート(1分周期発電計画)'!I45","v":0},0,0]
[null,"05","16:34～16:35",{"$f":"'入力シート(1分周期発電計画)'!J45","v":0},0,0]
[null,"06","16:35～16:36",{"$f":"'入力シート(1分周期発電計画)'!K45","v":0},0,0]
[null,"07","16:36～16:37",{"$f":"'入力シート(1分周期発電計画)'!L45","v":0},0,0]
[null,"08","16:37～16:38",{"$f":"'入力シート(1分周期発電計画)'!M45","v":0},0,0]
[null,"09","16:38～16:39",{"$f":"'入力シート(1分周期発電計画)'!N45","v":0},0,0]
[null,"10","16:39～16:40",{"$f":"'入力シート(1分周期発電計画)'!O45","v":0},0,0]
[null,"11","16:40～16:41",{"$f":"'入力シート(1分周期発電計画)'!P45","v":0},0,0]
[null,"12","16:41～16:42",{"$f":"'入力シート(1分周期発電計画)'!Q45","v":0},0,0]
[null,"13","16:42～16:43",{"$f":"'入力シート(1分周期発電計画)'!R45","v":0},0,0]
[null,"14","16:43～16:44",{"$f":"'入力シート(1分周期発電計画)'!S45","v":0},0,0]
[null,"15","16:44～16:45",{"$f":"'入力シート(1分周期発電計画)'!T45","v":0},0,0]
[null,"16","16:45～16:46",{"$f":"'入力シート(1分周期発電計画)'!U45","v":0},0,0]
[null,"17","16:46～16:47",{"$f":"'入力シート(1分周期発電計画)'!V45","v":0},0,0]
[null,"18","16:47～16:48",{"$f":"'入力シート(1分周期発電計画)'!W45","v":0},0,0]
[null,"19","16:48～16:49",{"$f":"'入力シート(1分周期発電計画)'!X45","v":0},0,0]
[null,"20","16:49～16:50",{"$f":"'入力シート(1分周期発電計画)'!Y45","v":0},0,0]
[null,"21","16:50～16:51",{"$f":"'入力シート(1分周期発電計画)'!Z45","v":0},0,0]
[null,"22","16:51～16:52",{"$f":"'入力シート(1分周期発電計画)'!AA45","v":0},0,0]
[null,"23","16:52～16:53",{"$f":"'入力シート(1分周期発電計画)'!AB45","v":0},0,0]
[null,"24","16:53～16:54",{"$f":"'入力シート(1分周期発電計画)'!AC45","v":0},0,0]
[null,"25","16:54～16:55",{"$f":"'入力シート(1分周期発電計画)'!AD45","v":0},0,0]
[null,"26","16:55～16:56",{"$f":"'入力シート(1分周期発電計画)'!AE45","v":0},0,0]
[null,"27","16:56～16:57",{"$f":"'入力シート(1分周期発電計画)'!AF45","v":0},0,0]
[null,"28","16:57～16:58",{"$f":"'入力シート(1分周期発電計画)'!AG45","v":0},0,0]
[null,"29","16:58～16:59",{"$f":"'入力シート(1分周期発電計画)'!AH45","v":0},0,0]
[null,"30","16:59～17:00",{"$f":"'入力シート(1分周期発電計画)'!AI45","v":0},0,0]
["35","01","17:00～17:01",{"$f":"'入力シート(1分周期発電計画)'!F46","v":0},0,0]
[null,"02","17:01～17:02",{"$f":"'入力シート(1分周期発電計画)'!G46","v":0},0,0]
[null,"03","17:02～17:03",{"$f":"'入力シート(1分周期発電計画)'!H46","v":0},0,0]
[null,"04","17:03～17:04",{"$f":"'入力シート(1分周期発電計画)'!I46","v":0},0,0]
[null,"05","17:04～17:05",{"$f":"'入力シート(1分周期発電計画)'!J46","v":0},{"$f":"F1045-D1045","v":0},{"$f":"IFERROR(ROUND(AVERAGE(G1045:BN1045),0),0)","v":0}]
[null,"06","17:05～17:06",{"$f":"'入力シート(1分周期発電計画)'!K46","v":0},0,0]
[null,"07","17:06～17:07",{"$f":"'入力シート(1分周期発電計画)'!L46","v":0},0,0]
[null,"08","17:07～17:08",{"$f":"'入力シート(1分周期発電計画)'!M46","v":0},0,0]
[null,"09","17:08～17:09",{"$f":"'入力シート(1分周期発電計画)'!N46","v":0},0,0]
[null,"10","17:09～17:10",{"$f":"'入力シート(1分周期発電計画)'!O46","v":0},0,0]
[null,"11","17:10～17:11",{"$f":"'入力シート(1分周期発電計画)'!P46","v":0},0,0]
[null,"12","17:11～17:12",{"$f":"'入力シート(1分周期発電計画)'!Q46","v":0},0,0]
[null,"13","17:12～17:13",{"$f":"'入力シート(1分周期発電計画)'!R46","v":0},0,0]
[null,"14","17:13～17:14",{"$f":"'入力シート(1分周期発電計画)'!S46","v":0},0,0]
[null,"15","17:14～17:15",{"$f":"'入力シート(1分周期発電計画)'!T46","v":0},0,0]
[null,"16","17:15～17:16",{"$f":"'入力シート(1分周期発電計画)'!U46","v":0},0,0]
[null,"17","17:16～17:17",{"$f":"'入力シート(1分周期発電計画)'!V46","v":0},0,0]
[null,"18","17:17～17:18",{"$f":"'入力シート(1分周期発電計画)'!W46","v":0},0,0]
[null,"19","17:18～17:19",{"$f":"'入力シート(1分周期発電計画)'!X46","v":0},0,0]
[null,"20","17:19～17:20",{"$f":"'入力シート(1分周期発電計画)'!Y46","v":0},0,0]
[null,"21","17:20～17:21",{"$f":"'入力シート(1分周期発電計画)'!Z46","v":0},0,0]
[null,"22","17:21～17:22",{"$f":"'入力シート(1分周期発電計画)'!AA46","v":0},0,0]
[null,"23","17:22～17:23",{"$f":"'入力シート(1分周期発電計画)'!AB46","v":0},0,0]
[null,"24","17:23～17:24",{"$f":"'入力シート(1分周期発電計画)'!AC46","v":0},0,0]
[null,"25","17:24～17:25",{"$f":"'入力シート(1分周期発電計画)'!AD46","v":0},0,0]
[null,"26","17:25～17:26",{"$f":"'入力シート(1分周期発電計画)'!AE46","v":0},0,0]
[null,"27","17:26～17:27",{"$f":"'入力シート(1分周期発電計画)'!AF46","v":0},0,0]
[null,"28","17:27～17:28",{"$f":"'入力シート(1分周期発電計画)'!AG46","v":0},0,0]
[null,"29","17:28～17:29",{"$f":"'入力シート(1分周期発電計画)'!AH46","v":0},0,0]
[null,"30","17:29～17:30",{"$f":"'入力シート(1分周期発電計画)'!AI46","v":0},0,0]
["36","01","17:30～17:31",{"$f":"'入力シート(1分周期発電計画)'!F47","v":0},0,0]
[null,"02","17:31～17:32",{"$f":"'入力シート(1分周期発電計画)'!G47","v":0},0,0]
[null,"03","17:32～17:33",{"$f":"'入力シート(1分周期発電計画)'!H47","v":0},0,0]
[null,"04","17:33～17:34",{"$f":"'入力シート(1分周期発電計画)'!I47","v":0},0,0]
[null,"05","17:34～17:35",{"$f":"'入力シート(1分周期発電計画)'!J47","v":0},0,0]
[null,"06","17:35～17:36",{"$f":"'入力シート(1分周期発電計画)'!K47","v":0},0,0]
[null,"07","17:36～17:37",{"$f":"'入力シート(1分周期発電計画)'!L47","v":0},0,0]
[null,"08","17:37～17:38",{"$f":"'入力シート(1分周期発電計画)'!M47","v":0},0,0]
[null,"09","17:38～17:39",{"$f":"'入力シート(1分周期発電計画)'!N47","v":0},0,0]
[null,"10","17:39～17:40",{"$f":"'入力シート(1分周期発電計画)'!O47","v":0},0,0]
[null,"11","17:40～17:41",{"$f":"'入力シート(1分周期発電計画)'!P47","v":0},0,0]
[null,"12","17:41～17:42",{"$f":"'入力シート(1分周期発電計画)'!Q47","v":0},0,0]
[null,"13","17:42～17:43",{"$f":"'入力シート(1分周期発電計画)'!R47","v":0},0,0]
[null,"14","17:43～17:44",{"$f":"'入力シート(1分周期発電計画)'!S47","v":0},0,0]
[null,"15","17:44～17:45",{"$f":"'入力シート(1分周期発電計画)'!T47","v":0},0,0]
[null,"16","17:45～17:46",{"$f":"'入力シート(1分周期発電計画)'!U47","v":0},0,0]
[null,"17","17:46～17:47",{"$f":"'入力シート(1分周期発電計画)'!V47","v":0},0,0]
[null,"18","17:47～17:48",{"$f":"'入力シート(1分周期発電計画)'!W47","v":0},0,0]
[null,"19","17:48～17:49",{"$f":"'入力シート(1分周期発電計画)'!X47","v":0},0,0]
[null,"20","17:49～17:50",{"$f":"'入力シート(1分周期発電計画)'!Y47","v":0},0,0]
[null,"21","17:50～17:51",{"$f":"'入力シート(1分周期発電計画)'!Z47","v":0},0,0]
[null,"22","17:51～17:52",{"$f":"'入力シート(1分周期発電計画)'!AA47","v":0},0,0]
[null,"23","17:52～17:53",{"$f":"'入力シート(1分周期発電計画)'!AB47","v":0},0,0]
[null,"24","17:53～17:54",{"$f":"'入力シート(1分周期発電計画)'!AC47","v":0},0,0]
[null,"25","17:54～17:55",{"$f":"'入力シート(1分周期発電計画)'!AD47","v":0},0,0]
[null,"26","17:55～17:56",{"$f":"'入力シート(1分周期発電計画)'!AE47","v":0},0,0]
[null,"27","17:56～17:57",{"$f":"'入力シート(1分周期発電計画)'!AF47","v":0},0,0]
[null,"28","17:57～17:58",{"$f":"'入力シート(1分周期発電計画)'!AG47","v":0},0,0]
[null,"29","17:58～17:59",{"$f":"'入力シート(1分周期発電計画)'!AH47","v":0},0,0]
[null,"30","17:59～18:00",{"$f":"'入力シート(1分周期発電計画)'!AI47","v":0},0,0]
["37","01","18:00～18:01",{"$f":"'入力シート(1分周期発電計画)'!F48","v":0},0,0]
[null,"02","18:01～18:02",{"$f":"'入力シート(1分周期発電計画)'!G48","v":0},0,0]
[null,"03","18:02～18:03",{"$f":"'入力シート(1分周期発電計画)'!H48","v":0},0,0]
[null,"04","18:03～18:04",{"$f":"'入力シート(1分周期発電計画)'!I48","v":0},0,0]
[null,"05","18:04～18:05",{"$f":"'入力シート(1分周期発電計画)'!J48","v":0},0,0]
[null,"06","18:05～18:06",{"$f":"'入力シート(1分周期発電計画)'!K48","v":0},0,0]
[null,"07","18:06～18:07",{"$f":"'入力シート(1分周期発電計画)'!L48","v":0},0,0]
[null,"08","18:07～18:08",{"$f":"'入力シート(1分周期発電計画)'!M48","v":0},0,0]
[null,"09","18:08～18:09",{"$f":"'入力シート(1分周期発電計画)'!N48","v":0},{"$f":"F1109-D1109","v":0},{"$f":"IFERROR(ROUND(AVERAGE(G1109:BN1109),0),0)","v":0}]
[null,"10","18:09～18:10",{"$f":"'入力シート(1分周期発電計画)'!O48","v":0},0,0]
[null,"11","18:10～18:11",{"$f":"'入力シート(1分周期発電計画)'!P48","v":0},0,0]
[null,"12","18:11～18:12",{"$f":"'入力シート(1分周期発電計画)'!Q48","v":0},0,0]
[null,"13","18:12～18:13",{"$f":"'入力シート(1分周期発電計画)'!R48","v":0},0,0]
[null,"14","18:13～18:14",{"$f":"'入力シート(1分周期発電計画)'!S48","v":0},0,0]
[null,"15","18:14～18:15",{"$f":"'入力シート(1分周期発電計画)'!T48","v":0},0,0]
[null,"16","18:15～18:16",{"$f":"'入力シート(1分周期発電計画)'!U48","v":0},0,0]
[null,"17","18:16～18:17",{"$f":"'入力シート(1分周期発電計画)'!V48","v":0},0,0]
[null,"18","18:17～18:18",{"$f":"'入力シート(1分周期発電計画)'!W48","v":0},0,0]
[null,"19","18:18～18:19",{"$f":"'入力シート(1分周期発電計画)'!X48","v":0},0,0]
[null,"20","18:19～18:20",{"$f":"'入力シート(1分周期発電計画)'!Y48","v":0},0,0]
[null,"21","18:20～18:21",{"$f":"'入力シート(1分周期発電計画)'!Z48","v":0},0,0]
[null,"22","18:21～18:22",{"$f":"'入力シート(1分周期発電計画)'!AA48","v":0},0,0]
[null,"23","18:22～18:23",{"$f":"'入力シート(1分周期発電計画)'!AB48","v":0},0,0]
[null,"24","18:23～18:24",{"$f":"'入力シート(1分周期発電計画)'!AC48","v":0},0,0]
[null,"25","18:24～18:25",{"$f":"'入力シート(1分周期発電計画)'!AD48","v":0},0,0]
[null,"26","18:25～18:26",{"$f":"'入力シート(1分周期発電計画)'!AE48","v":0},0,0]
[null,"27","18:26～18:27",{"$f":"'入力シート(1分周期発電計画)'!AF48","v":0},0,0]
[null,"28","18:27～18:28",{"$f":"'入力シート(1分周期発電計画)'!AG48","v":0},0,0]
[null,"29","18:28～18:29",{"$f":"'入力シート(1分周期発電計画)'!AH48","v":0},0,0]
[null,"30","18:29～18:30",{"$f":"'入力シート(1分周期発電計画)'!AI48","v":0},0,0]
["38","01","18:30～18:31",{"$f":"'入力シート(1分周期発電計画)'!F49","v":0},0,0]
[null,"02","18:31～18:32",{"$f":"'入力シート(1分周期発電計画)'!G49","v":0},0,0]
[null,"03","18:32～18:33",{"$f":"'入力シート(1分周期発電計画)'!H49","v":0},0,0]
[null,"04","18:33～18:34",{"$f":"'入力シート(1分周期発電計画)'!I49","v":0},0,0]
[null,"05","18:34～18:35",{"$f":"'入力シート(1分周期発電計画)'!J49","v":0},0,0]
[null,"06","18:35～18:36",{"$f":"'入力シート(1分周期発電計画)'!K49","v":0},0,0]
[null,"07","18:36～18:37",{"$f":"'入力シート(1分周期発電計画)'!L49","v":0},0,0]
[null,"08","18:37～18:38",{"$f":"'入力シート(1分周期発電計画)'!M49","v":0},0,0]
[null,"09","18:38～18:39",{"$f":"'入力シート(1分周期発電計画)'!N49","v":0},0,0]
[null,"10","18:39～18:40",{"$f":"'入力シート(1分周期発電計画)'!O49","v":0},0,0]
[null,"11","18:40～18:41",{"$f":"'入力シート(1分周期発電計画)'!P49","v":0},0,0]
[null,"12","18:41～18:42",{"$f":"'入力シート(1分周期発電計画)'!Q49","v":0},0,0]
[null,"13","18:42～18:43",{"$f":"'入力シート(1分周期発電計画)'!R49","v":0},0,0]
[null,"14","18:43～18:44",{"$f":"'入力シート(1分周期発電計画)'!S49","v":0},0,0]
[null,"15","18:44～18:45",{"$f":"'入力シート(1分周期発電計画)'!T49","v":0},0,0]
[null,"16","18:45～18:46",{"$f":"'入力シート(1分周期発電計画)'!U49","v":0},0,0]
[null,"17","18:46～18:47",{"$f":"'入力シート(1分周期発電計画)'!V49","v":0},0,0]
[null,"18","18:47～18:48",{"$f":"'入力シート(1分周期発電計画)'!W49","v":0},0,0]
[null,"19","18:48～18:49",{"$f":"'入力シート(1分周期発電計画)'!X49","v":0},0,0]
[null,"20","18:49～18:50",{"$f":"'入力シート(1分周期発電計画)'!Y49","v":0},0,0]
[null,"21","18:50～18:51",{"$f":"'入力シート(1分周期発電計画)'!Z49","v":0},0,0]
[null,"22","18:51～18:52",{"$f":"'入力シート(1分周期発電計画)'!AA49","v":0},0,0]
[null,"23","18:52～18:53",{"$f":"'入力シート(1分周期発電計画)'!AB49","v":0},0,0]
[null,"24","18:53～18:54",{"$f":"'入力シート(1分周期発電計画)'!AC49","v":0},0,0]
[null,"25","18:54～18:55",{"$f":"'入力シート(1分周期発電計画)'!AD49","v":0},0,0]
[null,"26","18:55～18:56",{"$f":"'入力シート(1分周期発電計画)'!AE49","v":0},0,0]
[null,"27","18:56～18:57",{"$f":"'入力シート(1分周期発電計画)'!AF49","v":0},0,0]
[null,"28","18:57～18:58",{"$f":"'入力シート(1分周期発電計画)'!AG49","v":0},0,0]
[null,"29","18:58～18:59",{"$f":"'入力シート(1分周期発電計画)'!AH49","v":0},0,0]
[null,"30","18:59～19:00",{"$f":"'入力シート(1分周期発電計画)'!AI49","v":0},0,0]
["39","01","19:00～19:01",{"$f":"'入力シート(1分周期発電計画)'!F50","v":0},0,0]
[null,"02","19:01～19:02",{"$f":"'入力シート(1分周期発電計画)'!G50","v":0},0,0]
[null,"03","19:02～19:03",{"$f":"'入力シート(1分周期発電計画)'!H50","v":0},0,0]
[null,"04","19:03～19:04",{"$f":"'入力シート(1分周期発電計画)'!I50","v":0},0,0]
[null,"05","19:04～19:05",{"$f":"'入力シート(1分周期発電計画)'!J50","v":0},0,0]
[null,"06","19:05～19:06",{"$f":"'入力シート(1分周期発電計画)'!K50","v":0},0,0]
[null,"07","19:06～19:07",{"$f":"'入力シート(1分周期発電計画)'!L50","v":0},0,0]
[null,"08","19:07～19:08",{"$f":"'入力シート(1分周期発電計画)'!M50","v":0},0,0]
[null,"09","19:08～19:09",{"$f":"'入力シート(1分周期発電計画)'!N50","v":0},0,0]
[null,"10","19:09～19:10",{"$f":"'入力シート(1分周期発電計画)'!O50","v":0},0,0]
[null,"11","19:10～19:11",{"$f":"'入力シート(1分周期発電計画)'!P50","v":0},0,0]
[null,"12","19:11～19:12",{"$f":"'入力シート(1分周期発電計画)'!Q50","v":0},0,0]
[null,"13","19:12～19:13",{"$f":"'入力シート(1分周期発電計画)'!R50","v":0},{"$f":"F1173-D1173","v":0},{"$f":"IFERROR(ROUND(AVERAGE(G1173:BN1173),0),0)","v":0}]
[null,"14","19:13～19:14",{"$f":"'入力シート(1分周期発電計画)'!S50","v":0},0,0]
[null,"15","19:14～19:15",{"$f":"'入力シート(1分周期発電計画)'!T50","v":0},0,0]
[null,"16","19:15～19:16",{"$f":"'入力シート(1分周期発電計画)'!U50","v":0},0,0]
[null,"17","19:16～19:17",{"$f":"'入力シート(1分周期発電計画)'!V50","v":0},0,0]
[null,"18","19:17～19:18",{"$f":"'入力シート(1分周期発電計画)'!W50","v":0},0,0]
[null,"19","19:18～19:19",{"$f":"'入力シート(1分周期発電計画)'!X50","v":0},0,0]
[null,"20","19:19～19:20",{"$f":"'入力シート(1分周期発電計画)'!Y50","v":0},0,0]
[null,"21","19:20～19:21",{"$f":"'入力シート(1分周期発電計画)'!Z50","v":0},0,0]
[null,"22","19:21～19:22",{"$f":"'入力シート(1分周期発電計画)'!AA50","v":0},0,0]
[null,"23","19:22～19:23",{"$f":"'入力シート(1分周期発電計画)'!AB50","v":0},0,0]
[null,"24","19:23～19:24",{"$f":"'入力シート(1分周期発電計画)'!AC50","v":0},0,0]
[null,"25","19:24～19:25",{"$f":"'入力シート(1分周期発電計画)'!AD50","v":0},0,0]
[null,"26","19:25～19:26",{"$f":"'入力シート(1分周期発電計画)'!AE50","v":0},0,0]
[null,"27","19:26～19:27",{"$f":"'入力シート(1分周期発電計画)'!AF50","v":0},0,0]
[null,"28","19:27～19:28",{"$f":"'入力シート(1分周期発電計画)'!AG50","v":0},0,0]
[null,"29","19:28～19:29",{"$f":"'入力シート(1分周期発電計画)'!AH50","v":0},0,0]
[null,"30","19:29～19:30",{"$f":"'入力シート(1分周期発電計画)'!AI50","v":0},0,0]
["40","01","19:30～19:31",{"$f":"'入力シート(1分周期発電計画)'!F51","v":0},0,0]
[null,"02","19:31～19:32",{"$f":"'入力シート(1分周期発電計画)'!G51","v":0},0,0]
[null,"03","19:32～19:33",{"$f":"'入力シート(1分周期発電計画)'!H51","v":0},0,0]
[null,"04","19:33～19:34",{"$f":"'入力シート(1分周期発電計画)'!I51","v":0},0,0]
[null,"05","19:34～19:35",{"$f":"'入力シート(1分周期発電計画)'!J51","v":0},0,0]
[null,"06","19:35～19:36",{"$f":"'入力シート(1分周期発電計画)'!K51","v":0},0,0]
[null,"07","19:36～19:37",{"$f":"'入力シート(1分周期発電計画)'!L51","v":0},0,0]
[null,"08","19:37～19:38",{"$f":"'入力シート(1分周期発電計画)'!M51","v":0},0,0]
[null,"09","19:38～19:39",{"$f":"'入力シート(1分周期発電計画)'!N51","v":0},0,0]
[null,"10","19:39～19:40",{"$f":"'入力シート(1分周期発電計画)'!O51","v":0},0,0]
[null,"11","19:40～19:41",{"$f":"'入力シート(1分周期発電計画)'!P51","v":0},0,0]
[null,"12","19:41～19:42",{"$f":"'入力シート(1分周期発電計画)'!Q51","v":0},0,0]
[null,"13","19:42～19:43",{"$f":"'入力シート(1分周期発電計画)'!R51","v":0},0,0]
[null,"14","19:43～19:44",{"$f":"'入力シート(1分周期発電計画)'!S51","v":0},0,0]
[null,"15","19:44～19:45",{"$f":"'入力シート(1分周期発電計画)'!T51","v":0},0,0]
[null,"16","19:45～19:46",{"$f":"'入力シート(1分周期発電計画)'!U51","v":0},0,0]
[null,"17","19:46～19:47",{"$f":"'入力シート(1分周期発電計画)'!V51","v":0},0,0]
[null,"18","19:47～19:48",{"$f":"'入力シート(1分周期発電計画)'!W51","v":0},0,0]
[null,"19","19:48～19:49",{"$f":"'入力シート(1分周期発電計画)'!X51","v":0},0,0]
[null,"20","19:49～19:50",{"$f":"'入力シート(1分周期発電計画)'!Y51","v":0},0,0]
[null,"21","19:50～19:51",{"$f":"'入力シート(1分周期発電計画)'!Z51","v":0},0,0]
[null,"22","19:51～19:52",{"$f":"'入力シート(1分周期発電計画)'!AA51","v":0},0,0]
[null,"23","19:52～19:53",{"$f":"'入力シート(1分周期発電計画)'!AB51","v":0},0,0]
[null,"24","19:53～19:54",{"$f":"'入力シート(1分周期発電計画)'!AC51","v":0},0,0]
[null,"25","19:54～19:55",{"$f":"'入力シート(1分周期発電計画)'!AD51","v":0},0,0]
[null,"26","19:55～19:56",{"$f":"'入力シート(1分周期発電計画)'!AE51","v":0},0,0]
[null,"27","19:56～19:57",{"$f":"'入力シート(1分周期発電計画)'!AF51","v":0},0,0]
[null,"28","19:57～19:58",{"$f":"'入力シート(1分周期発電計画)'!AG51","v":0},0,0]
[null,"29","19:58～19:59",{"$f":"'入力シート(1分周期発電計画)'!AH51","v":0},0,0]
[null,"30","19:59～20:00",{"$f":"'入力シート(1分周期発電計画)'!AI51","v":0},0,0]
["41","01","20:00～20:01",{"$f":"'入力シート(1分周期発電計画)'!F52","v":0},0,0]
[null,"02","20:01～20:02",{"$f":"'入力シート(1分周期発電計画)'!G52","v":0},0,0]
[null,"03","20:02～20:03",{"$f":"'入力シート(1分周期発電計画)'!H52","v":0},0,0]
[null,"04","20:03～20:04",{"$f":"'入力シート(1分周期発電計画)'!I52","v":0},0,0]
[null,"05","20:04～20:05",{"$f":"'入力シート(1分周期発電計画)'!J52","v":0},0,0]
[null,"06","20:05～20:06",{"$f":"'入力シート(1分周期発電計画)'!K52","v":0},0,0]
[null,"07","20:06～20:07",{"$f":"'入力シート(1分周期発電計画)'!L52","v":0},0,0]
[null,"08","20:07～20:08",{"$f":"'入力シート(1分周期発電計画)'!M52","v":0},0,0]
[null,"09","20:08～20:09",{"$f":"'入力シート(1分周期発電計画)'!N52","v":0},0,0]
[null,"10","20:09～20:10",{"$f":"'入力シート(1分周期発電計画)'!O52","v":0},0,0]
[null,"11","20:10～20:11",{"$f":"'入力シート(1分周期発電計画)'!P52","v":0},0,0]
[null,"12","20:11～20:12",{"$f":"'入力シート(1分周期発電計画)'!Q52","v":0},0,0]
[null,"13","20:12～20:13",{"$f":"'入力シート(1分周期発電計画)'!R52","v":0},0,0]
[null,"14","20:13～20:14",{"$f":"'入力シート(1分周期発電計画)'!S52","v":0},0,0]
[null,"15","20:14～20:15",{"$f":"'入力シート(1分周期発電計画)'!T52","v":0},0,0]
[null,"16","20:15～20:16",{"$f":"'入力シート(1分周期発電計画)'!U52","v":0},0,0]
[null,"17","20:16～20:17",{"$f":"'入力シート(1分周期発電計画)'!V52","v":0},{"$f":"F1237-D1237","v":0},{"$f":"IFERROR(ROUND(AVERAGE(G1237:BN1237),0),0)","v":0}]
[null,"18","20:17～20:18",{"$f":"'入力シート(1分周期発電計画)'!W52","v":0},0,0]
[null,"19","20:18～20:19",{"$f":"'入力シート(1分周期発電計画)'!X52","v":0},0,0]
[null,"20","20:19～20:20",{"$f":"'入力シート(1分周期発電計画)'!Y52","v":0},0,0]
[null,"21","20:20～20:21",{"$f":"'入力シート(1分周期発電計画)'!Z52","v":0},0,0]
[null,"22","20:21～20:22",{"$f":"'入力シート(1分周期発電計画)'!AA52","v":0},0,0]
[null,"23","20:22～20:23",{"$f":"'入力シート(1分周期発電計画)'!AB52","v":0},0,0]
[null,"24","20:23～20:24",{"$f":"'入力シート(1分周期発電計画)'!AC52","v":0},0,0]
[null,"25","20:24～20:25",{"$f":"'入力シート(1分周期発電計画)'!AD52","v":0},0,0]
[null,"26","20:25～20:26",{"$f":"'入力シート(1分周期発電計画)'!AE52","v":0},0,0]
[null,"27","20:26～20:27",{"$f":"'入力シート(1分周期発電計画)'!AF52","v":0},0,0]
[null,"28","20:27～20:28",{"$f":"'入力シート(1分周期発電計画)'!AG52","v":0},0,0]
[null,"29","20:28～20:29",{"$f":"'入力シート(1分周期発電計画)'!AH52","v":0},0,0]
[null,"30","20:29～20:30",{"$f":"'入力シート(1分周期発電計画)'!AI52","v":0},0,0]
["42","01","20:30～20:31",{"$f":"'入力シート(1分周期発電計画)'!F53","v":0},0,0]
[null,"02","20:31～20:32",{"$f":"'入力シート(1分周期発電計画)'!G53","v":0},0,0]
[null,"03","20:32～20:33",{"$f":"'入力シート(1分周期発電計画)'!H53","v":0},0,0]
[null,"04","20:33～20:34",{"$f":"'入力シート(1分周期発電計画)'!I53","v":0},0,0]
[null,"05","20:34～20:35",{"$f":"'入力シート(1分周期発電計画)'!J53","v":0},0,0]
[null,"06","20:35～20:36",{"$f":"'入力シート(1分周期発電計画)'!K53","v":0},0,0]
[null,"07","20:36～20:37",{"$f":"'入力シート(1分周期発電計画)'!L53","v":0},0,0]
[null,"08","20:37～20:38",{"$f":"'入力シート(1分周期発電計画)'!M53","v":0},0,0]
[null,"09","20:38～20:39",{"$f":"'入力シート(1分周期発電計画)'!N53","v":0},0,0]
[null,"10","20:39～20:40",{"$f":"'入力シート(1分周期発電計画)'!O53","v":0},0,0]
[null,"11","20:40～20:41",{"$f":"'入力シート(1分周期発電計画)'!P53","v":0},0,0]
[null,"12","20:41～20:42",{"$f":"'入力シート(1分周期発電計画)'!Q53","v":0},0,0]
[null,"13","20:42～20:43",{"$f":"'入力シート(1分周期発電計画)'!R53","v":0},0,0]
[null,"14","20:43～20:44",{"$f":"'入力シート(1分周期発電計画)'!S53","v":0},0,0]
[null,"15","20:44～20:45",{"$f":"'入力シート(1分周期発電計画)'!T53","v":0},0,0]
[null,"16","20:45～20:46",{"$f":"'入力シート(1分周期発電計画)'!U53","v":0},0,0]
[null,"17","20:46～20:47",{"$f":"'入力シート(1分周期発電計画)'!V53","v":0},0,0]
[null,"18","20:47～20:48",{"$f":"'入力シート(1分周期発電計画)'!W53","v":0},0,0]
[null,"19","20:48～20:49",{"$f":"'入力シート(1分周期発電計画)'!X53","v":0},0,0]
[null,"20","20:49～20:50",{"$f":"'入力シート(1分周期発電計画)'!Y53","v":0},0,0]
[null,"21","20:50～20:51",{"$f":"'入力シート(1分周期発電計画)'!Z53","v":0},0,0]
[null,"22","20:51～20:52",{"$f":"'入力シート(1分周期発電計画)'!AA53","v":0},0,0]
[null,"23","20:52～20:53",{"$f":"'入力シート(1分周期発電計画)'!AB53","v":0},0,0]
[null,"24","20:53～20:54",{"$f":"'入力シート(1分周期発電計画)'!AC53","v":0},0,0]
[null,"25","20:54～20:55",{"$f":"'入力シート(1分周期発電計画)'!AD53","v":0},0,0]
[null,"26","20:55～20:56",{"$f":"'入力シート(1分周期発電計画)'!AE53","v":0},0,0]
[null,"27","20:56～20:57",{"$f":"'入力シート(1分周期発電計画)'!AF53","v":0},0,0]
[null,"28","20:57～20:58",{"$f":"'入力シート(1分周期発電計画)'!AG53","v":0},0,0]
[null,"29","20:58～20:59",{"$f":"'入力シート(1分周期発電計画)'!AH53","v":0},0,0]
[null,"30","20:59～21:00",{"$f":"'入力シート(1分周期発電計画)'!AI53","v":0},0,0]
["43","01","21:00～21:01",{"$f":"'入力シート(1分周期発電計画)'!F54","v":0},0,0]
[null,"02","21:01～21:02",{"$f":"'入力シート(1分周期発電計画)'!G54","v":0},0,0]
[null,"03","21:02～21:03",{"$f":"'入力シート(1分周期発電計画)'!H54","v":0},0,0]
[null,"04","21:03～21:04",{"$f":"'入力シート(1分周期発電計画)'!I54","v":0},0,0]
[null,"05","21:04～21:05",{"$f":"'入力シート(1分周期発電計画)'!J54","v":0},0,0]
[null,"06","21:05～21:06",{"$f":"'入力シート(1分周期発電計画)'!K54","v":0},0,0]
[null,"07","21:06～21:07",{"$f":"'入力シート(1分周期発電計画)'!L54","v":0},0,0]
[null,"08","21:07～21:08",{"$f":"'入力シート(1分周期発電計画)'!M54","v":0},0,0]
[null,"09","21:08～21:09",{"$f":"'入力シート(1分周期発電計画)'!N54","v":0},0,0]
[null,"10","21:09～21:10",{"$f":"'入力シート(1分周期発電計画)'!O54","v":0},0,0]
[null,"11","21:10～21:11",{"$f":"'入力シート(1分周期発電計画)'!P54","v":0},0,0]
[null,"12","21:11～21:12",{"$f":"'入力シート(1分周期発電計画)'!Q54","v":0},0,0]
[null,"13","21:12～21:13",{"$f":"'入力シート(1分周期発電計画)'!R54","v":0},0,0]
[null,"14","21:13～21:14",{"$f":"'入力シート(1分周期発電計画)'!S54","v":0},0,0]
[null,"15","21:14～21:15",{"$f":"'入力シート(1分周期発電計画)'!T54","v":0},0,0]
[null,"16","21:15～21:16",{"$f":"'入力シート(1分周期発電計画)'!U54","v":0},0,0]
[null,"17","21:16～21:17",{"$f":"'入力シート(1分周期発電計画)'!V54","v":0},0,0]
[null,"18","21:17～21:18",{"$f":"'入力シート(1分周期発電計画)'!W54","v":0},0,0]
[null,"19","21:18～21:19",{"$f":"'入力シート(1分周期発電計画)'!X54","v":0},0,0]
[null,"20","21:19～21:20",{"$f":"'入力シート(1分周期発電計画)'!Y54","v":0},0,0]
[null,"21","21:20～21:21",{"$f":"'入力シート(1分周期発電計画)'!Z54","v":0},{"$f":"F1301-D1301","v":0},{"$f":"IFERROR(ROUND(AVERAGE(G1301:BN1301),0),0)","v":0}]
[null,"22","21:21～21:22",{"$f":"'入力シート(1分周期発電計画)'!AA54","v":0},0,0]
[null,"23","21:22～21:23",{"$f":"'入力シート(1分周期発電計画)'!AB54","v":0},0,0]
[null,"24","21:23～21:24",{"$f":"'入力シート(1分周期発電計画)'!AC54","v":0},0,0]
[null,"25","21:24～21:25",{"$f":"'入力シート(1分周期発電計画)'!AD54","v":0},0,0]
[null,"26","21:25～21:26",{"$f":"'入力シート(1分周期発電計画)'!AE54","v":0},0,0]
[null,"27","21:26～21:27",{"$f":"'入力シート(1分周期発電計画)'!AF54","v":0},0,0]
[null,"28","21:27～21:28",{"$f":"'入力シート(1分周期発電計画)'!AG54","v":0},0,0]
[null,"29","21:28～21:29",{"$f":"'入力シート(1分周期発電計画)'!AH54","v":0},0,0]
[null,"30","21:29～21:30",{"$f":"'入力シート(1分周期発電計画)'!AI54","v":0},0,0]
["44","01","21:30～21:31",{"$f":"'入力シート(1分周期発電計画)'!F55","v":0},0,0]
[null,"02","21:31～21:32",{"$f":"'入力シート(1分周期発電計画)'!G55","v":0},0,0]
[null,"03","21:32～21:33",{"$f":"'入力シート(1分周期発電計画)'!H55","v":0},0,0]
[null,"04","21:33～21:34",{"$f":"'入力シート(1分周期発電計画)'!I55","v":0},0,0]
[null,"05","21:34～21:35",{"$f":"'入力シート(1分周期発電計画)'!J55","v":0},0,0]
[null,"06","21:35～21:36",{"$f":"'入力シート(1分周期発電計画)'!K55","v":0},0,0]
[null,"07","21:36～21:37",{"$f":"'入力シート(1分周期発電計画)'!L55","v":0},0,0]
[null,"08","21:37～21:38",{"$f":"'入力シート(1分周期発電計画)'!M55","v":0},0,0]
[null,"09","21:38～21:39",{"$f":"'入力シート(1分周期発電計画)'!N55","v":0},0,0]
[null,"10","21:39～21:40",{"$f":"'入力シート(1分周期発電計画)'!O55","v":0},0,0]
[null,"11","21:40～21:41",{"$f":"'入力シート(1分周期発電計画)'!P55","v":0},0,0]
[null,"12","21:41～21:42",{"$f":"'入力シート(1分周期発電計画)'!Q55","v":0},0,0]
[null,"13","21:42～21:43",{"$f":"'入力シート(1分周期発電計画)'!R55","v":0},0,0]
[null,"14","21:43～21:44",{"$f":"'入力シート(1分周期発電計画)'!S55","v":0},0,0]
[null,"15","21:44～21:45",{"$f":"'入力シート(1分周期発電計画)'!T55","v":0},0,0]
[null,"16","21:45～21:46",{"$f":"'入力シート(1分周期発電計画)'!U55","v":0},0,0]
[null,"17","21:46～21:47",{"$f":"'入力シート(1分周期発電計画)'!V55","v":0},0,0]
[null,"18","21:47～21:48",{"$f":"'入力シート(1分周期発電計画)'!W55","v":0},0,0]
[null,"19","21:48～21:49",{"$f":"'入力シート(1分周期発電計画)'!X55","v":0},0,0]
[null,"20","21:49～21:50",{"$f":"'入力シート(1分周期発電計画)'!Y55","v":0},0,0]
[null,"21","21:50～21:51",{"$f":"'入力シート(1分周期発電計画)'!Z55","v":0},0,0]
[null,"22","21:51～21:52",{"$f":"'入力シート(1分周期発電計画)'!AA55","v":0},0,0]
[null,"23","21:52～21:53",{"$f":"'入力シート(1分周期発電計画)'!AB55","v":0},0,0]
[null,"24","21:53～21:54",{"$f":"'入力シート(1分周期発電計画)'!AC55","v":0},0,0]
[null,"25","21:54～21:55",{"$f":"'入力シート(1分周期発電計画)'!AD55","v":0},0,0]
[null,"26","21:55～21:56",{"$f":"'入力シート(1分周期発電計画)'!AE55","v":0},0,0]
[null,"27","21:56～21:57",{"$f":"'入力シート(1分周期発電計画)'!AF55","v":0},0,0]
[null,"28","21:57～21:58",{"$f":"'入力シート(1分周期発電計画)'!AG55","v":0},0,0]
[null,"29","21:58～21:59",{"$f":"'入力シート(1分周期発電計画)'!AH55","v":0},0,0]
[null,"30","21:59～22:00",{"$f":"'入力シート(1分周期発電計画)'!AI55","v":0},0,0]
["45","01","22:00～22:01",{"$f":"'入力シート(1分周期発電計画)'!F56","v":0},0,0]
[null,"02","22:01～22:02",{"$f":"'入力シート(1分周期発電計画)'!G56","v":0},0,0]
[null,"03","22:02～22:03",{"$f":"'入力シート(1分周期発電計画)'!H56","v":0},0,0]
[null,"04","22:03～22:04",{"$f":"'入力シート(1分周期発電計画)'!I56","v":0},0,0]
[null,"05","22:04～22:05",{"$f":"'入力シート(1分周期発電計画)'!J56","v":0},0,0]
[null,"06","22:05～22:06",{"$f":"'入力シート(1分周期発電計画)'!K56","v":0},0,0]
[null,"07","22:06～22:07",{"$f":"'入力シート(1分周期発電計画)'!L56","v":0},0,0]
[null,"08","22:07～22:08",{"$f":"'入力シート(1分周期発電計画)'!M56","v":0},0,0]
[null,"09","22:08～22:09",{"$f":"'入力シート(1分周期発電計画)'!N56","v":0},0,0]
[null,"10","22:09～22:10",{"$f":"'入力シート(1分周期発電計画)'!O56","v":0},0,0]
[null,"11","22:10～22:11",{"$f":"'入力シート(1分周期発電計画)'!P56","v":0},0,0]
[null,"12","22:11～22:12",{"$f":"'入力シート(1分周期発電計画)'!Q56","v":0},0,0]
[null,"13","22:12～22:13",{"$f":"'入力シート(1分周期発電計画)'!R56","v":0},0,0]
[null,"14","22:13～22:14",{"$f":"'入力シート(1分周期発電計画)'!S56","v":0},0,0]
[null,"15","22:14～22:15",{"$f":"'入力シート(1分周期発電計画)'!T56","v":0},0,0]
[null,"16","22:15～22:16",{"$f":"'入力シート(1分周期発電計画)'!U56","v":0},0,0]
[null,"17","22:16～22:17",{"$f":"'入力シート(1分周期発電計画)'!V56","v":0},0,0]
[null,"18","22:17～22:18",{"$f":"'入力シート(1分周期発電計画)'!W56","v":0},0,0]
[null,"19","22:18～22:19",{"$f":"'入力シート(1分周期発電計画)'!X56","v":0},0,0]
[null,"20","22:19～22:20",{"$f":"'入力シート(1分周期発電計画)'!Y56","v":0},0,0]
[null,"21","22:20～22:21",{"$f":"'入力シート(1分周期発電計画)'!Z56","v":0},0,0]
[null,"22","22:21～22:22",{"$f":"'入力シート(1分周期発電計画)'!AA56","v":0},0,0]
[null,"23","22:22～22:23",{"$f":"'入力シート(1分周期発電計画)'!AB56","v":0},0,0]
[null,"24","22:23～22:24",{"$f":"'入力シート(1分周期発電計画)'!AC56","v":0},0,0]
[null,"25","22:24～22:25",{"$f":"'入力シート(1分周期発電計画)'!AD56","v":0},{"$f":"F1365-D1365","v":0},{"$f":"IFERROR(ROUND(AVERAGE(G1365:BN1365),0),0)","v":0}]
[null,"26","22:25～22:26",{"$f":"'入力シート(1分周期発電計画)'!AE56","v":0},0,0]
[null,"27","22:26～22:27",{"$f":"'入力シート(1分周期発電計画)'!AF56","v":0},0,0]
[null,"28","22:27～22:28",{"$f":"'入力シート(1分周期発電計画)'!AG56","v":0},0,0]
[null,"29","22:28～22:29",{"$f":"'入力シート(1分周期発電計画)'!AH56","v":0},0,0]
[null,"30","22:29～22:30",{"$f":"'入力シート(1分周期発電計画)'!AI56","v":0},0,0]
["46","01","22:30～22:31",{"$f":"'入力シート(1分周期発電計画)'!F57","v":0},0,0]
[null,"02","22:31～22:32",{"$f":"'入力シート(1分周期発電計画)'!G57","v":0},0,0]
[null,"03","22:32～22:33",{"$f":"'入力シート(1分周期発電計画)'!H57","v":0},0,0]
[null,"04","22:33～22:34",{"$f":"'入力シート(1分周期発電計画)'!I57","v":0},0,0]
[null,"05","22:34～22:35",{"$f":"'入力シート(1分周期発電計画)'!J57","v":0},0,0]
[null,"06","22:35～22:36",{"$f":"'入力シート(1分周期発電計画)'!K57","v":0},0,0]
[null,"07","22:36～22:37",{"$f":"'入力シート(1分周期発電計画)'!L57","v":0},0,0]
[null,"08","22:37～22:38",{"$f":"'入力シート(1分周期発電計画)'!M57","v":0},0,0]
[null,"09","22:38～22:39",{"$f":"'入力シート(1分周期発電計画)'!N57","v":0},0,0]
[null,"10","22:39～22:40",{"$f":"'入力シート(1分周期発電計画)'!O57","v":0},0,0]
[null,"11","22:40～22:41",{"$f":"'入力シート(1分周期発電計画)'!P57","v":0},0,0]
[null,"12","22:41～22:42",{"$f":"'入力シート(1分周期発電計画)'!Q57","v":0},0,0]
[null,"13","22:42～22:43",{"$f":"'入力シート(1分周期発電計画)'!R57","v":0},0,0]
[null,"14","22:43～22:44",{"$f":"'入力シート(1分周期発電計画)'!S57","v":0},0,0]
[null,"15","22:44～22:45",{"$f":"'入力シート(1分周期発電計画)'!T57","v":0},0,0]
[null,"16","22:45～22:46",{"$f":"'入力シート(1分周期発電計画)'!U57","v":0},0,0]
[null,"17","22:46～22:47",{"$f":"'入力シート(1分周期発電計画)'!V57","v":0},0,0]
[null,"18","22:47～22:48",{"$f":"'入力シート(1分周期発電計画)'!W57","v":0},0,0]
[null,"19","22:48～22:49",{"$f":"'入力シート(1分周期発電計画)'!X57","v":0},0,0]
[null,"20","22:49～22:50",{"$f":"'入力シート(1分周期発電計画)'!Y57","v":0},0,0]
[null,"21","22:50～22:51",{"$f":"'入力シート(1分周期発電計画)'!Z57","v":0},0,0]
[null,"22","22:51～22:52",{"$f":"'入力シート(1分周期発電計画)'!AA57","v":0},0,0]
[null,"23","22:52～22:53",{"$f":"'入力シート(1分周期発電計画)'!AB57","v":0},0,0]
[null,"24","22:53～22:54",{"$f":"'入力シート(1分周期発電計画)'!AC57","v":0},0,0]
[null,"25","22:54～22:55",{"$f":"'入力シート(1分周期発電計画)'!AD57","v":0},0,0]
[null,"26","22:55～22:56",{"$f":"'入力シート(1分周期発電計画)'!AE57","v":0},0,0]
[null,"27","22:56～22:57",{"$f":"'入力シート(1分周期発電計画)'!AF57","v":0},0,0]
[null,"28","22:57～22:58",{"$f":"'入力シート(1分周期発電計画)'!AG57","v":0},0,0]
[null,"29","22:58～22:59",{"$f":"'入力シート(1分周期発電計画)'!AH57","v":0},0,0]
[null,"30","22:59～23:00",{"$f":"'入力シート(1分周期発電計画)'!AI57","v":0},0,0]
["47","01","23:00～23:01",{"$f":"'入力シート(1分周期発電計画)'!F58","v":0},0,0]
[null,"02","23:01～23:02",{"$f":"'入力シート(1分周期発電計画)'!G58","v":0},0,0]
[null,"03","23:02～23:03",{"$f":"'入力シート(1分周期発電計画)'!H58","v":0},0,0]
[null,"04","23:03～23:04",{"$f":"'入力シート(1分周期発電計画)'!I58","v":0},0,0]
[null,"05","23:04～23:05",{"$f":"'入力シート(1分周期発電計画)'!J58","v":0},0,0]
[null,"06","23:05～23:06",{"$f":"'入力シート(1分周期発電計画)'!K58","v":0},0,0]
[null,"07","23:06～23:07",{"$f":"'入力シート(1分周期発電計画)'!L58","v":0},0,0]
[null,"08","23:07～23:08",{"$f":"'入力シート(1分周期発電計画)'!M58","v":0},0,0]
[null,"09","23:08～23:09",{"$f":"'入力シート(1分周期発電計画)'!N58","v":0},0,0]
[null,"10","23:09～23:10",{"$f":"'入力シート(1分周期発電計画)'!O58","v":0},0,0]
[null,"11","23:10～23:11",{"$f":"'入力シート(1分周期発電計画)'!P58","v":0},0,0]
[null,"12","23:11～23:12",{"$f":"'入力シート(1分周期発電計画)'!Q58","v":0},0,0]
[null,"13","23:12～23:13",{"$f":"'入力シート(1分周期発電計画)'!R58","v":0},0,0]
[null,"14","23:13～23:14",{"$f":"'入力シート(1分周期発電計画)'!S58","v":0},0,0]
[null,"15","23:14～23:15",{"$f":"'入力シート(1分周期発電計画)'!T58","v":0},0,0]
[null,"16","23:15～23:16",{"$f":"'入力シート(1分周期発電計画)'!U58","v":0},0,0]
[null,"17","23:16～23:17",{"$f":"'入力シート(1分周期発電計画)'!V58","v":0},0,0]
[null,"18","23:17～23:18",{"$f":"'入力シート(1分周期発電計画)'!W58","v":0},0,0]
[null,"19","23:18～23:19",{"$f":"'入力シート(1分周期発電計画)'!X58","v":0},0,0]
[null,"20","23:19～23:20",{"$f":"'入力シート(1分周期発電計画)'!Y58","v":0},0,0]
[null,"21","23:20～23:21",{"$f":"'入力シート(1分周期発電計画)'!Z58","v":0},0,0]
[null,"22","23:21～23:22",{"$f":"'入力シート(1分周期発電計画)'!AA58","v":0},0,0]
[null,"23","23:22～23:23",{"$f":"'入力シート(1分周期発電計画)'!AB58","v":0},0,0]
[null,"24","23:23～23:24",{"$f":"'入力シート(1分周期発電計画)'!AC58","v":0},0,0]
[null,"25","23:24～23:25",{"$f":"'入力シート(1分周期発電計画)'!AD58","v":0},0,0]
[null,"26","23:25～23:26",{"$f":"'入力シート(1分周期発電計画)'!AE58","v":0},0,0]
[null,"27","23:26～23:27",{"$f":"'入力シート(1分周期発電計画)'!AF58","v":0},0,0]
[null,"28","23:27～23:28",{"$f":"'入力シート(1分周期発電計画)'!AG58","v":0},0,0]
[null,"29","23:28～23:29",{"$f":"'入力シート(1分周期発電計画)'!AH58","v":0},{"$f":"F1429-D1429","v":0},{"$f":"IFERROR(ROUND(AVERAGE(G1429:BN1429),0),0)","v":0}]
[null,"30","23:29～23:30",{"$f":"'入力シート(1分周期発電計画)'!AI58","v":0},0,0]
["48","01","23:30～23:31",{"$f":"'入力シート(1分周期発電計画)'!F59","v":0},0,0]
[null,"02","23:31～23:32",{"$f":"'入力シート(1分周期発電計画)'!G59","v":0},0,0]
[null,"03","23:32～23:33",{"$f":"'入力シート(1分周期発電計画)'!H59","v":0},0,0]
[null,"04","23:33～23:34",{"$f":"'入力シート(1分周期発電計画)'!I59","v":0},0,0]
[null,"05","23:34～23:35",{"$f":"'入力シート(1分周期発電計画)'!J59","v":0},0,0]
[null,"06","23:35～23:36",{"$f":"'入力シート(1分周期発電計画)'!K59","v":0},0,0]
[null,"07","23:36～23:37",{"$f":"'入力シート(1分周期発電計画)'!L59","v":0},0,0]
[null,"08","23:37～23:38",{"$f":"'入力シート(1分周期発電計画)'!M59","v":0},0,0]
[null,"09","23:38～23:39",{"$f":"'入力シート(1分周期発電計画)'!N59","v":0},0,0]
[null,"10","23:39～23:40",{"$f":"'入力シート(1分周期発電計画)'!O59","v":0},0,0]
[null,"11","23:40～23:41",{"$f":"'入力シート(1分周期発電計画)'!P59","v":0},0,0]
[null,"12","23:41～23:42",{"$f":"'入力シート(1分周期発電計画)'!Q59","v":0},0,0]
[null,"13","23:42～23:43",{"$f":"'入力シート(1分周期発電計画)'!R59","v":0},0,0]
[null,"14","23:43～23:44",{"$f":"'入力シート(1分周期発電計画)'!S59","v":0},0,0]
[null,"15","23:44～23:45",{"$f":"'入力シート(1分周期発電計画)'!T59","v":0},0,0]
[null,"16","23:45～23:46",{"$f":"'入力シート(1分周期発電計画)'!U59","v":0},0,0]
[null,"17","23:46～23:47",{"$f":"'入力シート(1分周期発電計画)'!V59","v":0},0,0]
[null,"18","23:47～23:48",{"$f":"'入力シート(1分周期発電計画)'!W59","v":0},0,0]
[null,"19","23:48～23:49",{"$f":"'入力シート(1分周期発電計画)'!X59","v":0},0,0]
[null,"20","23:49～23:50",{"$f":"'入力シート(1分周期発電計画)'!Y59","v":0},0,0]
[null,"21","23:50～23:51",{"$f":"'入力シート(1分周期発電計画)'!Z59","v":0},0,0]
[null,"22","23:51～23:52",{"$f":"'入力シート(1分周期発電計画)'!AA59","v":0},0,0]
[null,"23","23:52～23:53",{"$f":"'入力シート(1分周期発電計画)'!AB59","v":0},0,0]
[null,"24","23:53～23:54",{"$f":"'入力シート(1分周期発電計画)'!AC59","v":0},0,0]
[null,"25","23:54～23:55",{"$f":"'入力シート(1分周期発電計画)'!AD59","v":0},0,0]
[null,"26","23:55～23:56",{"$f":"'入力シート(1分周期発電計画)'!AE59","v":0},0,0]
[null,"27","23:56～23:57",{"$f":"'入力シート(1分周期発電計画)'!AF59","v":0},0,0]
[null,"28","23:57～23:58",{"$f":"'入力シート(1分周期発電計画)'!AG59","v":0},0,0]
[null,"29","23:58～23:59",{"$f":"'入力シート(1分周期発電計画)'!AH59","v":0},0,0]
[null,"30","23:59～24:00",{"$f":"'入力シート(1分周期発電計画)'!AI59","v":0},0,0]

{"sheet":"入力シート(1秒周期発電計画)","index":9,"n_rows":1460,"n_cols":66,"rows_kept":1460,"cut":false,"hidden":true,"merged":[[1430,0,1459,0],[1100,0,1129,0],[1130,0,1159,0],[1160,0,1189,0],[1190,0,1219,0],[1220,0,1249,0],[1250,0,1279,0],[1280,0,1309,0],[1310,0,1339,0],[1340,0,1369,0],[1370,0,1399,0],[1400,0,1429,0],[1070,0,1099,0],[740,0,769,0],[770,0,799,0],[800,0,829,0],[830,0,859,0],[860,0,889,0],[890,0,919,0],[920,0,949,0],[950,0,979,0],[980,0,1009,0],[1010,0,1039,0],[1040,0,1069,0],[710,0,739,0],[380,0,409,0],[410,0,439,0],[440,0,469,0],[470,0,499,0],[500,0,529,0],[530,0,559,0],[560,0,589,0],[590,0,619,0],[620,0,649,0],[650,0,679,0],[680,0,709,0],[350,0,379,0],[20,0,49,0],[50,0,79,0],[80,0,109,0],[110,0,139,0],[140,0,169,0],[170,0,199,0],[200,0,229,0],[230,0,259,0],[260,0,289,0],[290,0,319,0],[320,0,349,0],[15,3,16,3],[15,4,16,4],[15,6,16,65],[17,4,18,4],[17,6,17,65],[18,6,18,65]]}
["1秒発電計画電力"]
[]
[]
[]
[]
[]
[]
[]
[]
[]
[]
[]
[]
[]
[null,null,null,"（※）機器点1分発電計画電力と1秒発電計画電力の差が±1の範囲内であれば、丸め誤差として許容します。"]
[null,null,null,"機j起点1分\n発電計画電力","1分発電計画電力と\n発電計画電力の整合性",null,"発電計画電力"]
[]
[null,null,null,"機器点1分発","1分平均発電計画電力\n－1分発電計画電力","1分平均発電","1秒発電計画電力(kW)"]
[null,null,null,"電計画電力",null,"計画電力","セカンドスロット"]
["時刻コード","タイムスロット","時間帯","(kW)","不整合電力量(kW)","(kW)","01","02","03","04","05","06","07","08","09","10","11","12","13","14","15","16","17","18","19","20","21","22","23","24","25","26","27","28","29","30","31","32","33","34","35","36","37","38","39","40","41","42","43","44","45","46","47","48","49","50","51","52","53","54","55","56","57","58","59","60"]
["01","01","0:00～0:01",{"$f":"'入力シート(1分周期発電計画)'!F12","v":0},{"$f":"F21-D21","v":0},{"$f":"IFERROR(ROUND(AVERAGE(G21:BN21),0),0)","v":0}]
[null,"02","0:01～0:02",{"$f":"'入力シート(1分周期発電計画)'!G12","v":0},0,0]
[null,"03","0:02～0:03",{"$f":"'入力シート(1分周期発電計画)'!H12","v":0},0,0]
[null,"04","0:03～0:04",{"$f":"'入力シート(1分周期発電計画)'!I12","v":0},0,0]
[null,"05","0:04～0:05",{"$f":"'入力シート(1分周期発電計画)'!J12","v":0},0,0]
[null,"06","0:05～0:06",{"$f":"'入力シート(1分周期発電計画)'!K12","v":0},0,0]
[null,"07","0:06～0:07",{"$f":"'入力シート(1分周期発電計画)'!L12","v":0},0,0]
[null,"08","0:07～0:08",{"$f":"'入力シート(1分周期発電計画)'!M12","v":0},0,0]
[null,"09","0:08～0:09",{"$f":"'入力シート(1分周期発電計画)'!N12","v":0},0,0]
[null,"10","0:09～0:10",{"$f":"'入力シート(1分周期発電計画)'!O12","v":0},0,0]
[null,"11","0:10～0:11",{"$f":"'入力シート(1分周期発電計画)'!P12","v":0},0,0]
[null,"12","0:11～0:12",{"$f":"'入力シート(1分周期発電計画)'!Q12","v":0},0,0]
[null,"13","0:12～0:13",{"$f":"'入力シート(1分周期発電計画)'!R12","v":0},0,0]
[null,"14","0:13～0:14",{"$f":"'入力シート(1分周期発電計画)'!S12","v":0},0,0]
[null,"15","0:14～0:15",{"$f":"'入力シート(1分周期発電計画)'!T12","v":0},0,0]
[null,"16","0:15～0:16",{"$f":"'入力シート(1分周期発電計画)'!U12","v":0},0,0]
[null,"17","0:16～0:17",{"$f":"'入力シート(1分周期発電計画)'!V12","v":0},0,0]
[null,"18","0:17～0:18",{"$f":"'入力シート(1分周期発電計画)'!W12","v":0},0,0]
[null,"19","0:18～0:19",{"$f":"'入力シート(1分周期発電計画)'!X12","v":0},0,0]
[null,"20","0:19～0:20",{"$f":"'入力シート(1分周期発電計画)'!Y12","v":0},0,0]
[null,"21","0:20～0:21",{"$f":"'入力シート(1分周期発電計画)'!Z12","v":0},0,0]
[null,"22","0:21～0:22",{"$f":"'入力シート(1分周期発電計画)'!AA12","v":0},0,0]
[null,"23","0:22～0:23",{"$f":"'入力シート(1分周期発電計画)'!AB12","v":0},0,0]
[null,"24","0:23～0:24",{"$f":"'入力シート(1分周期発電計画)'!AC12","v":0},0,0]
[null,"25","0:24～0:25",{"$f":"'入力シート(1分周期発電計画)'!AD12","v":0},0,0]
[null,"26","0:25～0:26",{"$f":"'入力シート(1分周期発電計画)'!AE12","v":0},0,0]
[null,"27","0:26～0:27",{"$f":"'入力シート(1分周期発電計画)'!AF12","v":0},0,0]
[null,"28","0:27～0:28",{"$f":"'入力シート(1分周期発電計画)'!AG12","v":0},0,0]
[null,"29","0:28～0:29",{"$f":"'入力シート(1分周期発電計画)'!AH12","v":0},0,0]
[null,"30","0:29～0:30",{"$f":"'入力シート(1分周期発電計画)'!AI12","v":0},0,0]
["02","01","0:30～0:31",{"$f":"'入力シート(1分周期発電計画)'!F13","v":0},0,0]
[null,"02","0:31～0:32",{"$f":"'入力シート(1分周期発電計画)'!G13","v":0},0,0]
[null,"03","0:32～0:33",{"$f":"'入力シート(1分周期発電計画)'!H13","v":0},0,0]
[null,"04","0:33～0:34",{"$f":"'入力シート(1分周期発電計画)'!I13","v":0},0,0]
[null,"05","0:34～0:35",{"$f":"'入力シート(1分周期発電計画)'!J13","v":0},0,0]
[null,"06","0:35～0:36",{"$f":"'入力シート(1分周期発電計画)'!K13","v":0},0,0]
[null,"07","0:36～0:37",{"$f":"'入力シート(1分周期発電計画)'!L13","v":0},0,0]
[null,"08","0:37～0:38",{"$f":"'入力シート(1分周期発電計画)'!M13","v":0},0,0]
[null,"09","0:38～0:39",{"$f":"'入力シート(1分周期発電計画)'!N13","v":0},0,0]
[null,"10","0:39～0:40",{"$f":"'入力シート(1分周期発電計画)'!O13","v":0},0,0]
[null,"11","0:40～0:41",{"$f":"'入力シート(1分周期発電計画)'!P13","v":0},0,0]
[null,"12","0:41～0:42",{"$f":"'入力シート(1分周期発電計画)'!Q13","v":0},0,0]
[null,"13","0:42～0:43",{"$f":"'入力シート(1分周期発電計画)'!R13","v":0},0,0]
[null,"14","0:43～0:44",{"$f":"'入力シート(1分周期発電計画)'!S13","v":0},0,0]
[null,"15","0:44～0:45",{"$f":"'入力シート(1分周期発電計画)'!T13","v":0},0,0]
[null,"16","0:45～0:46",{"$f":"'入力シート(1分周期発電計画)'!U13","v":0},0,0]
[null,"17","0:46～0:47",{"$f":"'入力シート(1分周期発電計画)'!V13","v":0},0,0]
[null,"18","0:47～0:48",{"$f":"'入力シート(1分周期発電計画)'!W13","v":0},0,0]
[null,"19","0:48～0:49",{"$f":"'入力シート(1分周期発電計画)'!X13","v":0},0,0]
[null,"20","0:49～0:50",{"$f":"'入力シート(1分周期発電計画)'!Y13","v":0},0,0]
[null,"21","0:50～0:51",{"$f":"'入力シート(1分周期発電計画)'!Z13","v":0},0,0]
[null,"22","0:51～0:52",{"$f":"'入力シート(1分周期発電計画)'!AA13","v":0},0,0]
[null,"23","0:52～0:53",{"$f":"'入力シート(1分周期発電計画)'!AB13","v":0},0,0]
[null,"24","0:53～0:54",{"$f":"'入力シート(1分周期発電計画)'!AC13","v":0},0,0]
[null,"25","0:54～0:55",{"$f":"'入力シート(1分周期発電計画)'!AD13","v":0},0,0]
[null,"26","0:55～0:56",{"$f":"'入力シート(1分周期発電計画)'!AE13","v":0},0,0]
[null,"27","0:56～0:57",{"$f":"'入力シート(1分周期発電計画)'!AF13","v":0},0,0]
[null,"28","0:57～0:58",{"$f":"'入力シート(1分周期発電計画)'!AG13","v":0},0,0]
[null,"29","0:58～0:59",{"$f":"'入力シート(1分周期発電計画)'!AH13","v":0},0,0]
[null,"30","0:59～1:00",{"$f":"'入力シート(1分周期発電計画)'!AI13","v":0},0,0]
["03","01","1:00～1:01",{"$f":"'入力シート(1分周期発電計画)'!F14","v":0},0,0]
[null,"02","1:01～1:02",{"$f":"'入力シート(1分周期発電計画)'!G14","v":0},0,0]
[null,"03","1:02～1:03",{"$f":"'入力シート(1分周期発電計画)'!H14","v":0},0,0]
[null,"04","1:03～1:04",{"$f":"'入力シート(1分周期発電計画)'!I14","v":0},0,0]
[null,"05","1:04～1:05",{"$f":"'入力シート(1分周期発電計画)'!J14","v":0},{"$f":"F85-D85","v":0},{"$f":"IFERROR(ROUND(AVERAGE(G85:BN85),0),0)","v":0}]
[null,"06","1:05～1:06",{"$f":"'入力シート(1分周期発電計画)'!K14","v":0},0,0]
[null,"07","1:06～1:07",{"$f":"'入力シート(1分周期発電計画)'!L14","v":0},0,0]
[null,"08","1:07～1:08",{"$f":"'入力シート(1分周期発電計画)'!M14","v":0},0,0]
[null,"09","1:08～1:09",{"$f":"'入力シート(1分周期発電計画)'!N14","v":0},0,0]
[null,"10","1:09～1:10",{"$f":"'入力シート(1分周期発電計画)'!O14","v":0},0,0]
[null,"11","1:10～1:11",{"$f":"'入力シート(1分周期発電計画)'!P14","v":0},0,0]
[null,"12","1:11～1:12",{"$f":"'入力シート(1分周期発電計画)'!Q14","v":0},0,0]
[null,"13","1:12～1:13",{"$f":"'入力シート(1分周期発電計画)'!R14","v":0},0,0]
[null,"14","1:13～1:14",{"$f":"'入力シート(1分周期発電計画)'!S14","v":0},0,0]
[null,"15","1:14～1:15",{"$f":"'入力シート(1分周期発電計画)'!T14","v":0},0,0]
[null,"16","1:15～1:16",{"$f":"'入力シート(1分周期発電計画)'!U14","v":0},0,0]
[null,"17","1:16～1:17",{"$f":"'入力シート(1分周期発電計画)'!V14","v":0},0,0]
[null,"18","1:17～1:18",{"$f":"'入力シート(1分周期発電計画)'!W14","v":0},0,0]
[null,"19","1:18～1:19",{"$f":"'入力シート(1分周期発電計画)'!X14","v":0},0,0]
[null,"20","1:19～1:20",{"$f":"'入力シート(1分周期発電計画)'!Y14","v":0},0,0]
[null,"21","1:20～1:21",{"$f":"'入力シート(1分周期発電計画)'!Z14","v":0},0,0]
[null,"22","1:21～1:22",{"$f":"'入力シート(1分周期発電計画)'!AA14","v":0},0,0]
[null,"23","1:22～1:23",{"$f":"'入力シート(1分周期発電計画)'!AB14","v":0},0,0]
[null,"24","1:23～1:24",{"$f":"'入力シート(1分周期発電計画)'!AC14","v":0},0,0]
[null,"25","1:24～1:25",{"$f":"'入力シート(1分周期発電計画)'!AD14","v":0},0,0]
[null,"26","1:25～1:26",{"$f":"'入力シート(1分周期発電計画)'!AE14","v":0},0,0]
[null,"27","1:26～1:27",{"$f":"'入力シート(1分周期発電計画)'!AF14","v":0},0,0]
[null,"28","1:27～1:28",{"$f":"'入力シート(1分周期発電計画)'!AG14","v":0},0,0]
[null,"29","1:28～1:29",{"$f":"'入力シート(1分周期発電計画)'!AH14","v":0},0,0]
[null,"30","1:29～1:30",{"$f":"'入力シート(1分周期発電計画)'!AI14","v":0},0,0]
["04","01","1:30～1:31",{"$f":"'入力シート(1分周期発電計画)'!F15","v":0},0,0]
[null,"02","1:31～1:32",{"$f":"'入力シート(1分周期発電計画)'!G15","v":0},0,0]
[null,"03","1:32～1:33",{"$f":"'入力シート(1分周期発電計画)'!H15","v":0},0,0]
[null,"04","1:33～1:34",{"$f":"'入力シート(1分周期発電計画)'!I15","v":0},0,0]
[null,"05","1:34～1:35",{"$f":"'入力シート(1分周期発電計画)'!J15","v":0},0,0]
[null,"06","1:35～1:36",{"$f":"'入力シート(1分周期発電計画)'!K15","v":0},0,0]
[null,"07","1:36～1:37",{"$f":"'入力シート(1分周期発電計画)'!L15","v":0},0,0]
[null,"08","1:37～1:38",{"$f":"'入力シート(1分周期発電計画)'!M15","v":0},0,0]
[null,"09","1:38～1:39",{"$f":"'入力シート(1分周期発電計画)'!N15","v":0},0,0]
[null,"10","1:39～1:40",{"$f":"'入力シート(1分周期発電計画)'!O15","v":0},0,0]
[null,"11","1:40～1:41",{"$f":"'入力シート(1分周期発電計画)'!P15","v":0},0,0]
[null,"12","1:41～1:42",{"$f":"'入力シート(1分周期発電計画)'!Q15","v":0},0,0]
[null,"13","1:42～1:43",{"$f":"'入力シート(1分周期発電計画)'!R15","v":0},0,0]
[null,"14","1:43～1:44",{"$f":"'入力シート(1分周期発電計画)'!S15","v":0},0,0]
[null,"15","1:44～1:45",{"$f":"'入力シート(1分周期発電計画)'!T15","v":0},0,0]
[null,"16","1:45～1:46",{"$f":"'入力シート(1分周期発電計画)'!U15","v":0},0,0]
[null,"17","1:46～1:47",{"$f":"'入力シート(1分周期発電計画)'!V15","v":0},0,0]
[null,"18","1:47～1:48",{"$f":"'入力シート(1分周期発電計画)'!W15","v":0},0,0]
[null,"19","1:48～1:49",{"$f":"'入力シート(1分周期発電計画)'!X15","v":0},0,0]
[null,"20","1:49～1:50",{"$f":"'入力シート(1分周期発電計画)'!Y15","v":0},0,0]
[null,"21","1:50～1:51",{"$f":"'入力シート(1分周期発電計画)'!Z15","v":0},0,0]
[null,"22","1:51～1:52",{"$f":"'入力シート(1分周期発電計画)'!AA15","v":0},0,0]
[null,"23","1:52～1:53",{"$f":"'入力シート(1分周期発電計画)'!AB15","v":0},0,0]
[null,"24","1:53～1:54",{"$f":"'入力シート(1分周期発電計画)'!AC15","v":0},0,0]
[null,"25","1:54～1:55",{"$f":"'入力シート(1分周期発電計画)'!AD15","v":0},0,0]
[null,"26","1:55～1:56",{"$f":"'入力シート(1分周期発電計画)'!AE15","v":0},0,0]
[null,"27","1:56～1:57",{"$f":"'入力シート(1分周期発電計画)'!AF15","v":0},0,0]
[null,"28","1:57～1:58",{"$f":"'入力シート(1分周期発電計画)'!AG15","v":0},0,0]
[null,"29","1:58～1:59",{"$f":"'入力シート(1分周期発電計画)'!AH15","v":0},0,0]
[null,"30","1:59～2:00",{"$f":"'入力シート(1分周期発電計画)'!AI15","v":0},0,0]
["05","01","2:00～2:01",{"$f":"'入力シート(1分周期発電計画)'!F16","v":0},0,0]
[null,"02","2:01～2:02",{"$f":"'入力シート(1分周期発電計画)'!G16","v":0},0,0]
[null,"03","2:02～2:03",{"$f":"'入力シート(1分周期発電計画)'!H16","v":0},0,0]
[null,"04","2:03～2:04",{"$f":"'入力シート(1分周期発電計画)'!I16","v":0},0,0]
[null,"05","2:04～2:05",{"$f":"'入力シート(1分周期発電計画)'!J16","v":0},0,0]
[null,"06","2:05～2:06",{"$f":"'入力シート(1分周期発電計画)'!K16","v":0},0,0]
[null,"07","2:06～2:07",{"$f":"'入力シート(1分周期発電計画)'!L16","v":0},0,0]
[null,"08","2:07～2:08",{"$f":"'入力シート(1分周期発電計画)'!M16","v":0},0,0]
[null,"09","2:08～2:09",{"$f":"'入力シート(1分周期発電計画)'!N16","v":0},{"$f":"F149-D149","v":0},{"$f":"IFERROR(ROUND(AVERAGE(G149:BN149),0),0)","v":0}]
[null,"10","2:09～2:10",{"$f":"'入力シート(1分周期発電計画)'!O16","v":0},0,0]
[null,"11","2:10～2:11",{"$f":"'入力シート(1分周期発電計画)'!P16","v":0},0,0]
[null,"12","2:11～2:12",{"$f":"'入力シート(1分周期発電計画)'!Q16","v":0},0,0]
[null,"13","2:12～2:13",{"$f":"'入力シート(1分周期発電計画)'!R16","v":0},0,0]
[null,"14","2:13～2:14",{"$f":"'入力シート(1分周期発電計画)'!S16","v":0},0,0]
[null,"15","2:14～2:15",{"$f":"'入力シート(1分周期発電計画)'!T16","v":0},0,0]
[null,"16","2:15～2:16",{"$f":"'入力シート(1分周期発電計画)'!U16","v":0},0,0]
[null,"17","2:16～2:17",{"$f":"'入力シート(1分周期発電計画)'!V16","v":0},0,0]
[null,"18","2:17～2:18",{"$f":"'入力シート(1分周期発電計画)'!W16","v":0},0,0]
[null,"19","2:18～2:19",{"$f":"'入力シート(1分周期発電計画)'!X16","v":0},0,0]
[null,"20","2:19～2:20",{"$f":"'入力シート(1分周期発電計画)'!Y16","v":0},0,0]
[null,"21","2:20～2:21",{"$f":"'入力シート(1分周期発電計画)'!Z16","v":0},0,0]
[null,"22","2:21～2:22",{"$f":"'入力シート(1分周期発電計画)'!AA16","v":0},0,0]
[null,"23","2:22～2:23",{"$f":"'入力シート(1分周期発電計画)'!AB16","v":0},0,0]
[null,"24","2:23～2:24",{"$f":"'入力シート(1分周期発電計画)'!AC16","v":0},0,0]
[null,"25","2:24～2:25",{"$f":"'入力シート(1分周期発電計画)'!AD16","v":0},0,0]
[null,"26","2:25～2:26",{"$f":"'入力シート(1分周期発電計画)'!AE16","v":0},0,0]
[null,"27","2:26～2:27",{"$f":"'入力シート(1分周期発電計画)'!AF16","v":0},0,0]
[null,"28","2:27～2:28",{"$f":"'入力シート(1分周期発電計画)'!AG16","v":0},0,0]
[null,"29","2:28～2:29",{"$f":"'入力シート(1分周期発電計画)'!AH16","v":0},0,0]
[null,"30","2:29～2:30",{"$f":"'入力シート(1分周期発電計画)'!AI16","v":0},0,0]
["06","01","2:30～2:31",{"$f":"'入力シート(1分周期発電計画)'!F17","v":0},0,0]
[null,"02","2:31～2:32",{"$f":"'入力シート(1分周期発電計画)'!G17","v":0},0,0]
[null,"03","2:32～2:33",{"$f":"'入力シート(1分周期発電計画)'!H17","v":0},0,0]
[null,"04","2:33～2:34",{"$f":"'入力シート(1分周期発電計画)'!I17","v":0},0,0]
[null,"05","2:34～2:35",{"$f":"'入力シート(1分周期発電計画)'!J17","v":0},0,0]
[null,"06","2:35～2:36",{"$f":"'入力シート(1分周期発電計画)'!K17","v":0},0,0]
[null,"07","2:36～2:37",{"$f":"'入力シート(1分周期発電計画)'!L17","v":0},0,0]
[null,"08","2:37～2:38",{"$f":"'入力シート(1分周期発電計画)'!M17","v":0},0,0]
[null,"09","2:38～2:39",{"$f":"'入力シート(1分周期発電計画)'!N17","v":0},0,0]
[null,"10","2:39～2:40",{"$f":"'入力シート(1分周期発電計画)'!O17","v":0},0,0]
[null,"11","2:40～2:41",{"$f":"'入力シート(1分周期発電計画)'!P17","v":0},0,0]
[null,"12","2:41～2:42",{"$f":"'入力シート(1分周期発電計画)'!Q17","v":0},0,0]
[null,"13","2:42～2:43",{"$f":"'入力シート(1分周期発電計画)'!R17","v":0},0,0]
[null,"14","2:43～2:44",{"$f":"'入力シート(1分周期発電計画)'!S17","v":0},0,0]
[null,"15","2:44～2:45",{"$f":"'入力シート(1分周期発電計画)'!T17","v":0},0,0]
[null,"16","2:45～2:46",{"$f":"'入力シート(1分周期発電計画)'!U17","v":0},0,0]
[null,"17","2:46～2:47",{"$f":"'入力シート(1分周期発電計画)'!V17","v":0},0,0]
[null,"18","2:47～2:48",{"$f":"'入力シート(1分周期発電計画)'!W17","v":0},0,0]
[null,"19","2:48～2:49",{"$f":"'入力シート(1分周期発電計画)'!X17","v":0},0,0]
[null,"20","2:49～2:50",{"$f":"'入力シート(1分周期発電計画)'!Y17","v":0},0,0]
[null,"21","2:50～2:51",{"$f":"'入力シート(1分周期発電計画)'!Z17","v":0},0,0]
[null,"22","2:51～2:52",{"$f":"'入力シート(1分周期発電計画)'!AA17","v":0},0,0]
[null,"23","2:52～2:53",{"$f":"'入力シート(1分周期発電計画)'!AB17","v":0},0,0]
[null,"24","2:53～2:54",{"$f":"'入力シート(1分周期発電計画)'!AC17","v":0},0,0]
[null,"25","2:54～2:55",{"$f":"'入力シート(1分周期発電計画)'!AD17","v":0},0,0]
[null,"26","2:55～2:56",{"$f":"'入力シート(1分周期発電計画)'!AE17","v":0},0,0]
[null,"27","2:56～2:57",{"$f":"'入力シート(1分周期発電計画)'!AF17","v":0},0,0]
[null,"28","2:57～2:58",{"$f":"'入力シート(1分周期発電計画)'!AG17","v":0},0,0]
[null,"29","2:58～2:59",{"$f":"'入力シート(1分周期発電計画)'!AH17","v":0},0,0]
[null,"30","2:59～3:00",{"$f":"'入力シート(1分周期発電計画)'!AI17","v":0},0,0]
["07","01","3:00～3:01",{"$f":"'入力シート(1分周期発電計画)'!F18","v":0},0,0]
[null,"02","3:01～3:02",{"$f":"'入力シート(1分周期発電計画)'!G18","v":0},{"$f":"F202-D202","v":0},{"$f":"IFERROR(ROUND(AVERAGE(G202:BN202),0),0)","v":0}]
[null,"03","3:02～3:03",{"$f":"'入力シート(1分周期発電計画)'!H18","v":0},{"$f":"F203-D203","v":0},{"$f":"IFERROR(ROUND(AVERAGE(G203:BN203),0),0)","v":0}]
[null,"04","3:03～3:04",{"$f":"'入力シート(1分周期発電計画)'!I18","v":0},0,0]
[null,"05","3:04～3:05",{"$f":"'入力シート(1分周期発電計画)'!J18","v":0},0,0]
[null,"06","3:05～3:06",{"$f":"'入力シート(1分周期発電計画)'!K18","v":0},0,0]
[null,"07","3:06～3:07",{"$f":"'入力シート(1分周期発電計画)'!L18","v":0},0,0]
[null,"08","3:07～3:08",{"$f":"'入力シート(1分周期発電計画)'!M18","v":0},0,0]
[null,"09","3:08～3:09",{"$f":"'入力シート(1分周期発電計画)'!N18","v":0},0,0]
[null,"10","3:09～3:10",{"$f":"'入力シート(1分周期発電計画)'!O18","v":0},0,0]
[null,"11","3:10～3:11",{"$f":"'入力シート(1分周期発電計画)'!P18","v":0},0,0]
[null,"12","3:11～3:12",{"$f":"'入力シート(1分周期発電計画)'!Q18","v":0},0,0]
[null,"13","3:12～3:13",{"$f":"'入力シート(1分周期発電計画)'!R18","v":0},0,0]
[null,"14","3:13～3:14",{"$f":"'入力シート(1分周期発電計画)'!S18","v":0},0,0]
[null,"15","3:14～3:15",{"$f":"'入力シート(1分周期発電計画)'!T18","v":0},0,0]
[null,"16","3:15～3:16",{"$f":"'入力シート(1分周期発電計画)'!U18","v":0},0,0]
[null,"17","3:16～3:17",{"$f":"'入力シート(1分周期発電計画)'!V18","v":0},0,0]
[null,"18","3:17～3:18",{"$f":"'入力シート(1分周期発電計画)'!W18","v":0},0,0]
[null,"19","3:18～3:19",{"$f":"'入力シート(1分周期発電計画)'!X18","v":0},0,0]
[null,"20","3:19～3:20",{"$f":"'入力シート(1分周期発電計画)'!Y18","v":0},0,0]
[null,"21","3:20～3:21",{"$f":"'入力シート(1分周期発電計画)'!Z18","v":0},0,0]
[null,"22","3:21～3:22",{"$f":"'入力シート(1分周期発電計画)'!AA18","v":0},0,0]
[null,"23","3:22～3:23",{"$f":"'入力シート(1分周期発電計画)'!AB18","v":0},0,0]
[null,"24","3:23～3:24",{"$f":"'入力シート(1分周期発電計画)'!AC18","v":0},0,0]
[null,"25","3:24～3:25",{"$f":"'入力シート(1分周期発電計画)'!AD18","v":0},0,0]
[null,"26","3:25～3:26",{"$f":"'入力シート(1分周期発電計画)'!AE18","v":0},0,0]
[null,"27","3:26～3:27",{"$f":"'入力シート(1分周期発電計画)'!AF18","v":0},0,0]
[null,"28","3:27～3:28",{"$f":"'入力シート(1分周期発電計画)'!AG18","v":0},0,0]
[null,"29","3:28～3:29",{"$f":"'入力シート(1分周期発電計画)'!AH18","v":0},0,0]
[null,"30","3:29～3:30",{"$f":"'入力シート(1分周期発電計画)'!AI18","v":0},0,0]
["08","01","3:30～3:31",{"$f":"'入力シート(1分周期発電計画)'!F19","v":0},0,0]
[null,"02","3:31～3:32",{"$f":"'入力シート(1分周期発電計画)'!G19","v":0},0,0]
[null,"03","3:32～3:33",{"$f":"'入力シート(1分周期発電計画)'!H19","v":0},0,0]
[null,"04","3:33～3:34",{"$f":"'入力シート(1分周期発電計画)'!I19","v":0},0,0]
[null,"05","3:34～3:35",{"$f":"'入力シート(1分周期発電計画)'!J19","v":0},0,0]
[null,"06","3:35～3:36",{"$f":"'入力シート(1分周期発電計画)'!K19","v":0},0,0]
[null,"07","3:36～3:37",{"$f":"'入力シート(1分周期発電計画)'!L19","v":0},0,0]
[null,"08","3:37～3:38",{"$f":"'入力シート(1分周期発電計画)'!M19","v":0},0,0]
[null,"09","3:38～3:39",{"$f":"'入力シート(1分周期発電計画)'!N19","v":0},0,0]
[null,"10","3:39～3:40",{"$f":"'入力シート(1分周期発電計画)'!O19","v":0},0,0]
[null,"11","3:40～3:41",{"$f":"'入力シート(1分周期発電計画)'!P19","v":0},0,0]
[null,"12","3:41～3:42",{"$f":"'入力シート(1分周期発電計画)'!Q19","v":0},0,0]
[null,"13","3:42～3:43",{"$f":"'入力シート(1分周期発電計画)'!R19","v":0},0,0]
[null,"14","3:43～3:44",{"$f":"'入力シート(1分周期発電計画)'!S19","v":0},0,0]
[null,"15","3:44～3:45",{"$f":"'入力シート(1分周期発電計画)'!T19","v":0},0,0]
[null,"16","3:45～3:46",{"$f":"'入力シート(1分周期発電計画)'!U19","v":0},0,0]
[null,"17","3:46～3:47",{"$f":"'入力シート(1分周期発電計画)'!V19","v":0},0,0]
[null,"18","3:47～3:48",{"$f":"'入力シート(1分周期発電計画)'!W19","v":0},0,0]
[null,"19","3:48～3:49",{"$f":"'入力シート(1分周期発電計画)'!X19","v":0},0,0]
[null,"20","3:49～3:50",{"$f":"'入力シート(1分周期発電計画)'!Y19","v":0},0,0]
[null,"21","3:50～3:51",{"$f":"'入力シート(1分周期発電計画)'!Z19","v":0},0,0]
[null,"22","3:51～3:52",{"$f":"'入力シート(1分周期発電計画)'!AA19","v":0},0,0]
[null,"23","3:52～3:53",{"$f":"'入力シート(1分周期発電計画)'!AB19","v":0},0,0]
[null,"24","3:53～3:54",{"$f":"'入力シート(1分周期発電計画)'!AC19","v":0},0,0]
[null,"25","3:54～3:55",{"$f":"'入力シート(1分周期発電計画)'!AD19","v":0},0,0]
[null,"26","3:55～3:56",{"$f":"'入力シート(1分周期発電計画)'!AE19","v":0},0,0]
[null,"27","3:56～3:57",{"$f":"'入力シート(1分周期発電計画)'!AF19","v":0},0,0]
[null,"28","3:57～3:58",{"$f":"'入力シート(1分周期発電計画)'!AG19","v":0},0,0]
[null,"29","3:58～3:59",{"$f":"'入力シート(1分周期発電計画)'!AH19","v":0},0,0]
[null,"30","3:59～4:00",{"$f":"'入力シート(1分周期発電計画)'!AI19","v":0},0,0]
["09","01","4:00～4:01",{"$f":"'入力シート(1分周期発電計画)'!F20","v":0},0,0]
[null,"02","4:01～4:02",{"$f":"'入力シート(1分周期発電計画)'!G20","v":0},0,0]
[null,"03","4:02～4:03",{"$f":"'入力シート(1分周期発電計画)'!H20","v":0},0,0]
[null,"04","4:03～4:04",{"$f":"'入力シート(1分周期発電計画)'!I20","v":0},0,0]
[null,"05","4:04～4:05",{"$f":"'入力シート(1分周期発電計画)'!J20","v":0},0,0]
[null,"06","4:05～4:06",{"$f":"'入力シート(1分周期発電計画)'!K20","v":0},0,0]
[null,"07","4:06～4:07",{"$f":"'入力シート(1分周期発電計画)'!L20","v":0},{"$f":"F267-D267","v":0},{"$f":"IFERROR(ROUND(AVERAGE(G267:BN267),0),0)","v":0}]
[null,"08","4:07～4:08",{"$f":"'入力シート(1分周期発電計画)'!M20","v":0},0,0]
[null,"09","4:08～4:09",{"$f":"'入力シート(1分周期発電計画)'!N20","v":0},0,0]
[null,"10","4:09～4:10",{"$f":"'入力シート(1分周期発電計画)'!O20","v":0},0,0]
[null,"11","4:10～4:11",{"$f":"'入力シート(1分周期発電計画)'!P20","v":0},0,0]
[null,"12","4:11～4:12",{"$f":"'入力シート(1分周期発電計画)'!Q20","v":0},0,0]
[null,"13","4:12～4:13",{"$f":"'入力シート(1分周期発電計画)'!R20","v":0},0,0]
[null,"14","4:13～4:14",{"$f":"'入力シート(1分周期発電計画)'!S20","v":0},0,0]
[null,"15","4:14～4:15",{"$f":"'入力シート(1分周期発電計画)'!T20","v":0},0,0]
[null,"16","4:15～4:16",{"$f":"'入力シート(1分周期発電計画)'!U20","v":0},0,0]
[null,"17","4:16～4:17",{"$f":"'入力シート(1分周期発電計画)'!V20","v":0},0,0]
[null,"18","4:17～4:18",{"$f":"'入力シート(1分周期発電計画)'!W20","v":0},0,0]
[null,"19","4:18～4:19",{"$f":"'入力シート(1分周期発電計画)'!X20","v":0},0,0]
[null,"20","4:19～4:20",{"$f":"'入力シート(1分周期発電計画)'!Y20","v":0},0,0]
[null,"21","4:20～4:21",{"$f":"'入力シート(1分周期発電計画)'!Z20","v":0},0,0]
[null,"22","4:21～4:22",{"$f":"'入力シート(1分周期発電計画)'!AA20","v":0},0,0]
[null,"23","4:22～4:23",{"$f":"'入力シート(1分周期発電計画)'!AB20","v":0},0,0]
[null,"24","4:23～4:24",{"$f":"'入力シート(1分周期発電計画)'!AC20","v":0},0,0]
[null,"25","4:24～4:25",{"$f":"'入力シート(1分周期発電計画)'!AD20","v":0},0,0]
[null,"26","4:25～4:26",{"$f":"'入力シート(1分周期発電計画)'!AE20","v":0},0,0]
[null,"27","4:26～4:27",{"$f":"'入力シート(1分周期発電計画)'!AF20","v":0},0,0]
[null,"28","4:27～4:28",{"$f":"'入力シート(1分周期発電計画)'!AG20","v":0},0,0]
[null,"29","4:28～4:29",{"$f":"'入力シート(1分周期発電計画)'!AH20","v":0},0,0]
[null,"30","4:29～4:30",{"$f":"'入力シート(1分周期発電計画)'!AI20","v":0},0,0]
["10","01","4:30～4:31",{"$f":"'入力シート(1分周期発電計画)'!F21","v":0},0,0]
[null,"02","4:31～4:32",{"$f":"'入力シート(1分周期発電計画)'!G21","v":0},0,0]
[null,"03","4:32～4:33",{"$f":"'入力シート(1分周期発電計画)'!H21","v":0},0,0]
[null,"04","4:33～4:34",{"$f":"'入力シート(1分周期発電計画)'!I21","v":0},0,0]
[null,"05","4:34～4:35",{"$f":"'入力シート(1分周期発電計画)'!J21","v":0},0,0]
[null,"06","4:35～4:36",{"$f":"'入力シート(1分周期発電計画)'!K21","v":0},0,0]
[null,"07","4:36～4:37",{"$f":"'入力シート(1分周期発電計画)'!L21","v":0},0,0]
[null,"08","4:37～4:38",{"$f":"'入力シート(1分周期発電計画)'!M21","v":0},0,0]
[null,"09","4:38～4:39",{"$f":"'入力シート(1分周期発電計画)'!N21","v":0},0,0]
[null,"10","4:39～4:40",{"$f":"'入力シート(1分周期発電計画)'!O21","v":0},0,0]
[null,"11","4:40～4:41",{"$f":"'入力シート(1分周期発電計画)'!P21","v":0},0,0]
[null,"12","4:41～4:42",{"$f":"'入力シート(1分周期発電計画)'!Q21","v":0},0,0]
[null,"13","4:42～4:43",{"$f":"'入力シート(1分周期発電計画)'!R21","v":0},0,0]
[null,"14","4:43～4:44",{"$f":"'入力シート(1分周期発電計画)'!S21","v":0},0,0]
[null,"15","4:44～4:45",{"$f":"'入力シート(1分周期発電計画)'!T21","v":0},0,0]
[null,"16","4:45～4:46",{"$f":"'入力シート(1分周期発電計画)'!U21","v":0},0,0]
[null,"17","4:46～4:47",{"$f":"'入力シート(1分周期発電計画)'!V21","v":0},0,0]
[null,"18","4:47～4:48",{"$f":"'入力シート(1分周期発電計画)'!W21","v":0},0,0]
[null,"19","4:48～4:49",{"$f":"'入力シート(1分周期発電計画)'!X21","v":0},0,0]
[null,"20","4:49～4:50",{"$f":"'入力シート(1分周期発電計画)'!Y21","v":0},0,0]
[null,"21","4:50～4:51",{"$f":"'入力シート(1分周期発電計画)'!Z21","v":0},0,0]
[null,"22","4:51～4:52",{"$f":"'入力シート(1分周期発電計画)'!AA21","v":0},0,0]
[null,"23","4:52～4:53",{"$f":"'入力シート(1分周期発電計画)'!AB21","v":0},0,0]
[null,"24","4:53～4:54",{"$f":"'入力シート(1分周期発電計画)'!AC21","v":0},0,0]
[null,"25","4:54～4:55",{"$f":"'入力シート(1分周期発電計画)'!AD21","v":0},0,0]
[null,"26","4:55～4:56",{"$f":"'入力シート(1分周期発電計画)'!AE21","v":0},0,0]
[null,"27","4:56～4:57",{"$f":"'入力シート(1分周期発電計画)'!AF21","v":0},0,0]
[null,"28","4:57～4:58",{"$f":"'入力シート(1分周期発電計画)'!AG21","v":0},0,0]
[null,"29","4:58～4:59",{"$f":"'入力シート(1分周期発電計画)'!AH21","v":0},0,0]
[null,"30","4:59～5:00",{"$f":"'入力シート(1分周期発電計画)'!AI21","v":0},0,0]
["11","01","5:00～5:01",{"$f":"'入力シート(1分周期発電計画)'!F22","v":0},0,0]
[null,"02","5:01～5:02",{"$f":"'入力シート(1分周期発電計画)'!G22","v":0},0,0]
[null,"03","5:02～5:03",{"$f":"'入力シート(1分周期発電計画)'!H22","v":0},0,0]
[null,"04","5:03～5:04",{"$f":"'入力シート(1分周期発電計画)'!I22","v":0},0,0]
[null,"05","5:04～5:05",{"$f":"'入力シート(1分周期発電計画)'!J22","v":0},0,0]
[null,"06","5:05～5:06",{"$f":"'入力シート(1分周期発電計画)'!K22","v":0},0,0]
[null,"07","5:06～5:07",{"$f":"'入力シート(1分周期発電計画)'!L22","v":0},0,0]
[null,"08","5:07～5:08",{"$f":"'入力シート(1分周期発電計画)'!M22","v":0},0,0]
[null,"09","5:08～5:09",{"$f":"'入力シート(1分周期発電計画)'!N22","v":0},0,0]
[null,"10","5:09～5:10",{"$f":"'入力シート(1分周期発電計画)'!O22","v":0},0,0]
[null,"11","5:10～5:11",{"$f":"'入力シート(1分周期発電計画)'!P22","v":0},{"$f":"F331-D331","v":0},{"$f":"IFERROR(ROUND(AVERAGE(G331:BN331),0),0)","v":0}]
[null,"12","5:11～5:12",{"$f":"'入力シート(1分周期発電計画)'!Q22","v":0},0,0]
[null,"13","5:12～5:13",{"$f":"'入力シート(1分周期発電計画)'!R22","v":0},0,0]
[null,"14","5:13～5:14",{"$f":"'入力シート(1分周期発電計画)'!S22","v":0},0,0]
[null,"15","5:14～5:15",{"$f":"'入力シート(1分周期発電計画)'!T22","v":0},0,0]
[null,"16","5:15～5:16",{"$f":"'入力シート(1分周期発電計画)'!U22","v":0},0,0]
[null,"17","5:16～5:17",{"$f":"'入力シート(1分周期発電計画)'!V22","v":0},0,0]
[null,"18","5:17～5:18",{"$f":"'入力シート(1分周期発電計画)'!W22","v":0},0,0]
[null,"19","5:18～5:19",{"$f":"'入力シート(1分周期発電計画)'!X22","v":0},0,0]
[null,"20","5:19～5:20",{"$f":"'入力シート(1分周期発電計画)'!Y22","v":0},0,0]
[null,"21","5:20～5:21",{"$f":"'入力シート(1分周期発電計画)'!Z22","v":0},0,0]
[null,"22","5:21～5:22",{"$f":"'入力シート(1分周期発電計画)'!AA22","v":0},0,0]
[null,"23","5:22～5:23",{"$f":"'入力シート(1分周期発電計画)'!AB22","v":0},0,0]
[null,"24","5:23～5:24",{"$f":"'入力シート(1分周期発電計画)'!AC22","v":0},0,0]
[null,"25","5:24～5:25",{"$f":"'入力シート(1分周期発電計画)'!AD22","v":0},0,0]
[null,"26","5:25～5:26",{"$f":"'入力シート(1分周期発電計画)'!AE22","v":0},0,0]
[null,"27","5:26～5:27",{"$f":"'入力シート(1分周期発電計画)'!AF22","v":0},0,0]
[null,"28","5:27～5:28",{"$f":"'入力シート(1分周期発電計画)'!AG22","v":0},0,0]
[null,"29","5:28～5:29",{"$f":"'入力シート(1分周期発電計画)'!AH22","v":0},0,0]
[null,"30","5:29～5:30",{"$f":"'入力シート(1分周期発電計画)'!AI22","v":0},0,0]
["12","01","5:30～5:31",{"$f":"'入力シート(1分周期発電計画)'!F23","v":0},0,0]
[null,"02","5:31～5:32",{"$f":"'入力シート(1分周期発電計画)'!G23","v":0},0,0]
[null,"03","5:32～5:33",{"$f":"'入力シート(1分周期発電計画)'!H23","v":0},0,0]
[null,"04","5:33～5:34",{"$f":"'入力シート(1分周期発電計画)'!I23","v":0},0,0]
[null,"05","5:34～5:35",{"$f":"'入力シート(1分周期発電計画)'!J23","v":0},0,0]
[null,"06","5:35～5:36",{"$f":"'入力シート(1分周期発電計画)'!K23","v":0},0,0]
[null,"07","5:36～5:37",{"$f":"'入力シート(1分周期発電計画)'!L23","v":0},0,0]
[null,"08","5:37～5:38",{"$f":"'入力シート(1分周期発電計画)'!M23","v":0},0,0]
[null,"09","5:38～5:39",{"$f":"'入力シート(1分周期発電計画)'!N23","v":0},0,0]
[null,"10","5:39～5:40",{"$f":"'入力シート(1分周期発電計画)'!O23","v":0},0,0]
[null,"11","5:40～5:41",{"$f":"'入力シート(1分周期発電計画)'!P23","v":0},0,0]
[null,"12","5:41～5:42",{"$f":"'入力シート(1分周期発電計画)'!Q23","v":0},0,0]
[null,"13","5:42～5:43",{"$f":"'入力シート(1分周期発電計画)'!R23","v":0},0,0]
[null,"14","5:43～5:44",{"$f":"'入力シート(1分周期発電計画)'!S23","v":0},0,0]
[null,"15","5:44～5:45",{"$f":"'入力シート(1分周期発電計画)'!T23","v":0},0,0]
[null,"16","5:45～5:46",{"$f":"'入力シート(1分周期発電計画)'!U23","v":0},0,0]
[null,"17","5:46～5:47",{"$f":"'入力シート(1分周期発電計画)'!V23","v":0},0,0]
[null,"18","5:47～5:48",{"$f":"'入力シート(1分周期発電計画)'!W23","v":0},0,0]
[null,"19","5:48～5:49",{"$f":"'入力シート(1分周期発電計画)'!X23","v":0},0,0]
[null,"20","5:49～5:50",{"$f":"'入力シート(1分周期発電計画)'!Y23","v":0},0,0]
[null,"21","5:50～5:51",{"$f":"'入力シート(1分周期発電計画)'!Z23","v":0},0,0]
[null,"22","5:51～5:52",{"$f":"'入力シート(1分周期発電計画)'!AA23","v":0},0,0]
[null,"23","5:52～5:53",{"$f":"'入力シート(1分周期発電計画)'!AB23","v":0},0,0]
[null,"24","5:53～5:54",{"$f":"'入力シート(1分周期発電計画)'!AC23","v":0},0,0]
[null,"25","5:54～5:55",{"$f":"'入力シート(1分周期発電計画)'!AD23","v":0},0,0]
[null,"26","5:55～5:56",{"$f":"'入力シート(1分周期発電計画)'!AE23","v":0},0,0]
[null,"27","5:56～5:57",{"$f":"'入力シート(1分周期発電計画)'!AF23","v":0},0,0]
[null,"28","5:57～5:58",{"$f":"'入力シート(1分周期発電計画)'!AG23","v":0},0,0]
[null,"29","5:58～5:59",{"$f":"'入力シート(1分周期発電計画)'!AH23","v":0},0,0]
[null,"30","5:59～6:00",{"$f":"'入力シート(1分周期発電計画)'!AI23","v":0},0,0]
["13","01","6:00～6:01",{"$f":"'入力シート(1分周期発電計画)'!F24","v":0},0,0]
[null,"02","6:01～6:02",{"$f":"'入力シート(1分周期発電計画)'!G24","v":0},0,0]
[null,"03","6:02～6:03",{"$f":"'入力シート(1分周期発電計画)'!H24","v":0},0,0]
[null,"04","6:03～6:04",{"$f":"'入力シート(1分周期発電計画)'!I24","v":0},0,0]
[null,"05","6:04～6:05",{"$f":"'入力シート(1分周期発電計画)'!J24","v":0},0,0]
[null,"06","6:05～6:06",{"$f":"'入力シート(1分周期発電計画)'!K24","v":0},0,0]
[null,"07","6:06～6:07",{"$f":"'入力シート(1分周期発電計画)'!L24","v":0},0,0]
[null,"08","6:07～6:08",{"$f":"'入力シート(1分周期発電計画)'!M24","v":0},0,0]
[null,"09","6:08～6:09",{"$f":"'入力シート(1分周期発電計画)'!N24","v":0},0,0]
[null,"10","6:09～6:10",{"$f":"'入力シート(1分周期発電計画)'!O24","v":0},0,0]
[null,"11","6:10～6:11",{"$f":"'入力シート(1分周期発電計画)'!P24","v":0},0,0]
[null,"12","6:11～6:12",{"$f":"'入力シート(1分周期発電計画)'!Q24","v":0},0,0]
[null,"13","6:12～6:13",{"$f":"'入力シート(1分周期発電計画)'!R24","v":0},0,0]
[null,"14","6:13～6:14",{"$f":"'入力シート(1分周期発電計画)'!S24","v":0},0,0]
[null,"15","6:14～6:15",{"$f":"'入力シート(1分周期発電計画)'!T24","v":0},{"$f":"F395-D395","v":0},{"$f":"IFERROR(ROUND(AVERAGE(G395:BN395),0),0)","v":0}]
[null,"16","6:15～6:16",{"$f":"'入力シート(1分周期発電計画)'!U24","v":0},0,0]
[null,"17","6:16～6:17",{"$f":"'入力シート(1分周期発電計画)'!V24","v":0},0,0]
[null,"18","6:17～6:18",{"$f":"'入力シート(1分周期発電計画)'!W24","v":0},0,0]
[null,"19","6:18～6:19",{"$f":"'入力シート(1分周期発電計画)'!X24","v":0},0,0]
[null,"20","6:19～6:20",{"$f":"'入力シート(1分周期発電計画)'!Y24","v":0},0,0]
[null,"21","6:20～6:21",{"$f":"'入力シート(1分周期発電計画)'!Z24","v":0},0,0]
[null,"22","6:21～6:22",{"$f":"'入力シート(1分周期発電計画)'!AA24","v":0},0,0]
[null,"23","6:22～6:23",{"$f":"'入力シート(1分周期発電計画)'!AB24","v":0},0,0]
[null,"24","6:23～6:24",{"$f":"'入力シート(1分周期発電計画)'!AC24","v":0},0,0]
[null,"25","6:24～6:25",{"$f":"'入力シート(1分周期発電計画)'!AD24","v":0},0,0]
[null,"26","6:25～6:26",{"$f":"'入力シート(1分周期発電計画)'!AE24","v":0},0,0]
[null,"27","6:26～6:27",{"$f":"'入力シート(1分周期発電計画)'!AF24","v":0},0,0]
[null,"28","6:27～6:28",{"$f":"'入力シート(1分周期発電計画)'!AG24","v":0},0,0]
[null,"29","6:28～6:29",{"$f":"'入力シート(1分周期発電計画)'!AH24","v":0},0,0]
[null,"30","6:29～6:30",{"$f":"'入力シート(1分周期発電計画)'!AI24","v":0},0,0]
["14","01","6:30～6:31",{"$f":"'入力シート(1分周期発電計画)'!F25","v":0},0,0]
[null,"02","6:31～6:32",{"$f":"'入力シート(1分周期発電計画)'!G25","v":0},0,0]
[null,"03","6:32～6:33",{"$f":"'入力シート(1分周期発電計画)'!H25","v":0},0,0]
[null,"04","6:33～6:34",{"$f":"'入力シート(1分周期発電計画)'!I25","v":0},0,0]
[null,"05","6:34～6:35",{"$f":"'入力シート(1分周期発電計画)'!J25","v":0},0,0]
[null,"06","6:35～6:36",{"$f":"'入力シート(1分周期発電計画)'!K25","v":0},0,0]
[null,"07","6:36～6:37",{"$f":"'入力シート(1分周期発電計画)'!L25","v":0},0,0]
[null,"08","6:37～6:38",{"$f":"'入力シート(1分周期発電計画)'!M25","v":0},0,0]
[null,"09","6:38～6:39",{"$f":"'入力シート(1分周期発電計画)'!N25","v":0},0,0]
[null,"10","6:39～6:40",{"$f":"'入力シート(1分周期発電計画)'!O25","v":0},0,0]
[null,"11","6:40～6:41",{"$f":"'入力シート(1分周期発電計画)'!P25","v":0},0,0]
[null,"12","6:41～6:42",{"$f":"'入力シート(1分周期発電計画)'!Q25","v":0},0,0]
[null,"13","6:42～6:43",{"$f":"'入力シート(1分周期発電計画)'!R25","v":0},0,0]
[null,"14","6:43～6:44",{"$f":"'入力シート(1分周期発電計画)'!S25","v":0},0,0]
[null,"15","6:44～6:45",{"$f":"'入力シート(1分周期発電計画)'!T25","v":0},0,0]
[null,"16","6:45～6:46",{"$f":"'入力シート(1分周期発電計画)'!U25","v":0},0,0]
[null,"17","6:46～6:47",{"$f":"'入力シート(1分周期発電計画)'!V25","v":0},0,0]
[null,"18","6:47～6:48",{"$f":"'入力シート(1分周期発電計画)'!W25","v":0},0,0]
[null,"19","6:48～6:49",{"$f":"'入力シート(1分周期発電計画)'!X25","v":0},0,0]
[null,"20","6:49～6:50",{"$f":"'入力シート(1分周期発電計画)'!Y25","v":0},0,0]
[null,"21","6:50～6:51",{"$f":"'入力シート(1分周期発電計画)'!Z25","v":0},0,0]
[null,"22","6:51～6:52",{"$f":"'入力シート(1分周期発電計画)'!AA25","v":0},0,0]
[null,"23","6:52～6:53",{"$f":"'入力シート(1分周期発電計画)'!AB25","v":0},0,0]
[null,"24","6:53～6:54",{"$f":"'入力シート(1分周期発電計画)'!AC25","v":0},0,0]
[null,"25","6:54～6:55",{"$f":"'入力シート(1分周期発電計画)'!AD25","v":0},0,0]
[null,"26","6:55～6:56",{"$f":"'入力シート(1分周期発電計画)'!AE25","v":0},0,0]
[null,"27","6:56～6:57",{"$f":"'入力シート(1分周期発電計画)'!AF25","v":0},0,0]
[null,"28","6:57～6:58",{"$f":"'入力シート(1分周期発電計画)'!AG25","v":0},0,0]
[null,"29","6:58～6:59",{"$f":"'入力シート(1分周期発電計画)'!AH25","v":0},0,0]
[null,"30","6:59～7:00",{"$f":"'入力シート(1分周期発電計画)'!AI25","v":0},0,0]
["15","01","7:00～7:01",{"$f":"'入力シート(1分周期発電計画)'!F26","v":0},0,0]
[null,"02","7:01～7:02",{"$f":"'入力シート(1分周期発電計画)'!G26","v":0},0,0]
[null,"03","7:02～7:03",{"$f":"'入力シート(1分周期発電計画)'!H26","v":0},0,0]
[null,"04","7:03～7:04",{"$f":"'入力シート(1分周期発電計画)'!I26","v":0},0,0]
[null,"05","7:04～7:05",{"$f":"'入力シート(1分周期発電計画)'!J26","v":0},0,0]
[null,"06","7:05～7:06",{"$f":"'入力シート(1分周期発電計画)'!K26","v":0},0,0]
[null,"07","7:06～7:07",{"$f":"'入力シート(1分周期発電計画)'!L26","v":0},0,0]
[null,"08","7:07～7:08",{"$f":"'入力シート(1分周期発電計画)'!M26","v":0},0,0]
[null,"09","7:08～7:09",{"$f":"'入力シート(1分周期発電計画)'!N26","v":0},0,0]
[null,"10","7:09～7:10",{"$f":"'入力シート(1分周期発電計画)'!O26","v":0},0,0]
[null,"11","7:10～7:11",{"$f":"'入力シート(1分周期発電計画)'!P26","v":0},0,0]
[null,"12","7:11～7:12",{"$f":"'入力シート(1分周期発電計画)'!Q26","v":0},0,0]
[null,"13","7:12～7:13",{"$f":"'入力シート(1分周期発電計画)'!R26","v":0},0,0]
[null,"14","7:13～7:14",{"$f":"'入力シート(1分周期発電計画)'!S26","v":0},0,0]
[null,"15","7:14～7:15",{"$f":"'入力シート(1分周期発電計画)'!T26","v":0},0,0]
[null,"16","7:15～7:16",{"$f":"'入力シート(1分周期発電計画)'!U26","v":0},0,0]
[null,"17","7:16～7:17",{"$f":"'入力シート(1分周期発電計画)'!V26","v":0},0,0]
[null,"18","7:17～7:18",{"$f":"'入力シート(1分周期発電計画)'!W26","v":0},0,0]
[null,"19","7:18～7:19",{"$f":"'入力シート(1分周期発電計画)'!X26","v":0},{"$f":"F459-D459","v":0},{"$f":"IFERROR(ROUND(AVERAGE(G459:BN459),0),0)","v":0}]
[null,"20","7:19～7:20",{"$f":"'入力シート(1分周期発電計画)'!Y26","v":0},0,0]
[null,"21","7:20～7:21",{"$f":"'入力シート(1分周期発電計画)'!Z26","v":0},0,0]
[null,"22","7:21～7:22",{"$f":"'入力シート(1分周期発電計画)'!AA26","v":0},0,0]
[null,"23","7:22～7:23",{"$f":"'入力シート(1分周期発電計画)'!AB26","v":0},0,0]
[null,"24","7:23～7:24",{"$f":"'入力シート(1分周期発電計画)'!AC26","v":0},0,0]
[null,"25","7:24～7:25",{"$f":"'入力シート(1分周期発電計画)'!AD26","v":0},0,0]
[null,"26","7:25～7:26",{"$f":"'入力シート(1分周期発電計画)'!AE26","v":0},0,0]
[null,"27","7:26～7:27",{"$f":"'入力シート(1分周期発電計画)'!AF26","v":0},0,0]
[null,"28","7:27～7:28",{"$f":"'入力シート(1分周期発電計画)'!AG26","v":0},0,0]
[null,"29","7:28～7:29",{"$f":"'入力シート(1分周期発電計画)'!AH26","v":0},0,0]
[null,"30","7:29～7:30",{"$f":"'入力シート(1分周期発電計画)'!AI26","v":0},0,0]
["16","01","7:30～7:31",{"$f":"'入力シート(1分周期発電計画)'!F27","v":0},0,0]
[null,"02","7:31～7:32",{"$f":"'入力シート(1分周期発電計画)'!G27","v":0},0,0]
[null,"03","7:32～7:33",{"$f":"'入力シート(1分周期発電計画)'!H27","v":0},0,0]
[null,"04","7:33～7:34",{"$f":"'入力シート(1分周期発電計画)'!I27","v":0},0,0]
[null,"05","7:34～7:35",{"$f":"'入力シート(1分周期発電計画)'!J27","v":0},0,0]
[null,"06","7:35～7:36",{"$f":"'入力シート(1分周期発電計画)'!K27","v":0},0,0]
[null,"07","7:36～7:37",{"$f":"'入力シート(1分周期発電計画)'!L27","v":0},0,0]
[null,"08","7:37～7:38",{"$f":"'入力シート(1分周期発電計画)'!M27","v":0},0,0]
[null,"09","7:38～7:39",{"$f":"'入力シート(1分周期発電計画)'!N27","v":0},0,0]
[null,"10","7:39～7:40",{"$f":"'入力シート(1分周期発電計画)'!O27","v":0},0,0]
[null,"11","7:40～7:41",{"$f":"'入力シート(1分周期発電計画)'!P27","v":0},0,0]
[null,"12","7:41～7:42",{"$f":"'入力シート(1分周期発電計画)'!Q27","v":0},0,0]
[null,"13","7:42～7:43",{"$f":"'入力シート(1分周期発電計画)'!R27","v":0},0,0]
[null,"14","7:43～7:44",{"$f":"'入力シート(1分周期発電計画)'!S27","v":0},0,0]
[null,"15","7:44～7:45",{"$f":"'入力シート(1分周期発電計画)'!T27","v":0},0,0]
[null,"16","7:45～7:46",{"$f":"'入力シート(1分周期発電計画)'!U27","v":0},0,0]
[null,"17","7:46～7:47",{"$f":"'入力シート(1分周期発電計画)'!V27","v":0},0,0]
[null,"18","7:47～7:48",{"$f":"'入力シート(1分周期発電計画)'!W27","v":0},0,0]
[null,"19","7:48～7:49",{"$f":"'入力シート(1分周期発電計画)'!X27","v":0},0,0]
[null,"20","7:49～7:50",{"$f":"'入力シート(1分周期発電計画)'!Y27","v":0},0,0]
[null,"21","7:50～7:51",{"$f":"'入力シート(1分周期発電計画)'!Z27","v":0},0,0]
[null,"22","7:51～7:52",{"$f":"'入力シート(1分周期発電計画)'!AA27","v":0},0,0]
[null,"23","7:52～7:53",{"$f":"'入力シート(1分周期発電計画)'!AB27","v":0},0,0]
[null,"24","7:53～7:54",{"$f":"'入力シート(1分周期発電計画)'!AC27","v":0},0,0]
[null,"25","7:54～7:55",{"$f":"'入力シート(1分周期発電計画)'!AD27","v":0},0,0]
[null,"26","7:55～7:56",{"$f":"'入力シート(1分周期発電計画)'!AE27","v":0},0,0]
[null,"27","7:56～7:57",{"$f":"'入力シート(1分周期発電計画)'!AF27","v":0},0,0]
[null,"28","7:57～7:58",{"$f":"'入力シート(1分周期発電計画)'!AG27","v":0},0,0]
[null,"29","7:58～7:59",{"$f":"'入力シート(1分周期発電計画)'!AH27","v":0},0,0]
[null,"30","7:59～8:00",{"$f":"'入力シート(1分周期発電計画)'!AI27","v":0},0,0]
["17","01","8:00～8:01",{"$f":"'入力シート(1分周期発電計画)'!F28","v":0},0,0]
[null,"02","8:01～8:02",{"$f":"'入力シート(1分周期発電計画)'!G28","v":0},0,0]
[null,"03","8:02～8:03",{"$f":"'入力シート(1分周期発電計画)'!H28","v":0},0,0]
[null,"04","8:03～8:04",{"$f":"'入力シート(1分周期発電計画)'!I28","v":0},0,0]
[null,"05","8:04～8:05",{"$f":"'入力シート(1分周期発電計画)'!J28","v":0},0,0]
[null,"06","8:05～8:06",{"$f":"'入力シート(1分周期発電計画)'!K28","v":0},0,0]
[null,"07","8:06～8:07",{"$f":"'入力シート(1分周期発電計画)'!L28","v":0},0,0]
[null,"08","8:07～8:08",{"$f":"'入力シート(1分周期発電計画)'!M28","v":0},0,0]
[null,"09","8:08～8:09",{"$f":"'入力シート(1分周期発電計画)'!N28","v":0},0,0]
[null,"10","8:09～8:10",{"$f":"'入力シート(1分周期発電計画)'!O28","v":0},0,0]
[null,"11","8:10～8:11",{"$f":"'入力シート(1分周期発電計画)'!P28","v":0},0,0]
[null,"12","8:11～8:12",{"$f":"'入力シート(1分周期発電計画)'!Q28","v":0},0,0]
[null,"13","8:12～8:13",{"$f":"'入力シート(1分周期発電計画)'!R28","v":0},0,0]
[null,"14","8:13～8:14",{"$f":"'入力シート(1分周期発電計画)'!S28","v":0},0,0]
[null,"15","8:14～8:15",{"$f":"'入力シート(1分周期発電計画)'!T28","v":0},0,0]
[null,"16","8:15～8:16",{"$f":"'入力シート(1分周期発電計画)'!U28","v":0},0,0]
[null,"17","8:16～8:17",{"$f":"'入力シート(1分周期発電計画)'!V28","v":0},0,0]
[null,"18","8:17～8:18",{"$f":"'入力シート(1分周期発電計画)'!W28","v":0},0,0]
[null,"19","8:18～8:19",{"$f":"'入力シート(1分周期発電計画)'!X28","v":0},0,0]
[null,"20","8:19～8:20",{"$f":"'入力シート(1分周期発電計画)'!Y28","v":0},0,0]
[null,"21","8:20～8:21",{"$f":"'入力シート(1分周期発電計画)'!Z28","v":0},0,0]
[null,"22","8:21～8:22",{"$f":"'入力シート(1分周期発電計画)'!AA28","v":0},0,0]
[null,"23","8:22～8:23",{"$f":"'入力シート(1分周期発電計画)'!AB28","v":0},{"$f":"F523-D523","v":0},{"$f":"IFERROR(ROUND(AVERAGE(G523:BN523),0),0)","v":0}]
[null,"24","8:23～8:24",{"$f":"'入力シート(1分周期発電計画)'!AC28","v":0},0,0]
[null,"25","8:24～8:25",{"$f":"'入力シート(1分周期発電計画)'!AD28","v":0},0,0]
[null,"26","8:25～8:26",{"$f":"'入力シート(1分周期発電計画)'!AE28","v":0},0,0]
[null,"27","8:26～8:27",{"$f":"'入力シート(1分周期発電計画)'!AF28","v":0},0,0]
[null,"28","8:27～8:28",{"$f":"'入力シート(1分周期発電計画)'!AG28","v":0},0,0]
[null,"29","8:28～8:29",{"$f":"'入力シート(1分周期発電計画)'!AH28","v":0},0,0]
[null,"30","8:29～8:30",{"$f":"'入力シート(1分周期発電計画)'!AI28","v":0},0,0]
["18","01","8:30～8:31",{"$f":"'入力シート(1分周期発電計画)'!F29","v":0},0,0]
[null,"02","8:31～8:32",{"$f":"'入力シート(1分周期発電計画)'!G29","v":0},0,0]
[null,"03","8:32～8:33",{"$f":"'入力シート(1分周期発電計画)'!H29","v":0},0,0]
[null,"04","8:33～8:34",{"$f":"'入力シート(1分周期発電計画)'!I29","v":0},0,0]
[null,"05","8:34～8:35",{"$f":"'入力シート(1分周期発電計画)'!J29","v":0},0,0]
[null,"06","8:35～8:36",{"$f":"'入力シート(1分周期発電計画)'!K29","v":0},0,0]
[null,"07","8:36～8:37",{"$f":"'入力シート(1分周期発電計画)'!L29","v":0},0,0]
[null,"08","8:37～8:38",{"$f":"'入力シート(1分周期発電計画)'!M29","v":0},0,0]
[null,"09","8:38～8:39",{"$f":"'入力シート(1分周期発電計画)'!N29","v":0},0,0]
[null,"10","8:39～8:40",{"$f":"'入力シート(1分周期発電計画)'!O29","v":0},0,0]
[null,"11","8:40～8:41",{"$f":"'入力シート(1分周期発電計画)'!P29","v":0},0,0]
[null,"12","8:41～8:42",{"$f":"'入力シート(1分周期発電計画)'!Q29","v":0},0,0]
[null,"13","8:42～8:43",{"$f":"'入力シート(1分周期発電計画)'!R29","v":0},0,0]
[null,"14","8:43～8:44",{"$f":"'入力シート(1分周期発電計画)'!S29","v":0},0,0]
[null,"15","8:44～8:45",{"$f":"'入力シート(1分周期発電計画)'!T29","v":0},0,0]
[null,"16","8:45～8:46",{"$f":"'入力シート(1分周期発電計画)'!U29","v":0},0,0]
[null,"17","8:46～8:47",{"$f":"'入力シート(1分周期発電計画)'!V29","v":0},0,0]
[null,"18","8:47～8:48",{"$f":"'入力シート(1分周期発電計画)'!W29","v":0},0,0]
[null,"19","8:48～8:49",{"$f":"'入力シート(1分周期発電計画)'!X29","v":0},0,0]
[null,"20","8:49～8:50",{"$f":"'入力シート(1分周期発電計画)'!Y29","v":0},0,0]
[null,"21","8:50～8:51",{"$f":"'入力シート(1分周期発電計画)'!Z29","v":0},0,0]
[null,"22","8:51～8:52",{"$f":"'入力シート(1分周期発電計画)'!AA29","v":0},0,0]
[null,"23","8:52～8:53",{"$f":"'入力シート(1分周期発電計画)'!AB29","v":0},0,0]
[null,"24","8:53～8:54",{"$f":"'入力シート(1分周期発電計画)'!AC29","v":0},0,0]
[null,"25","8:54～8:55",{"$f":"'入力シート(1分周期発電計画)'!AD29","v":0},0,0]
[null,"26","8:55～8:56",{"$f":"'入力シート(1分周期発電計画)'!AE29","v":0},0,0]
[null,"27","8:56～8:57",{"$f":"'入力シート(1分周期発電計画)'!AF29","v":0},0,0]
[null,"28","8:57～8:58",{"$f":"'入力シート(1分周期発電計画)'!AG29","v":0},0,0]
[null,"29","8:58～8:59",{"$f":"'入力シート(1分周期発電計画)'!AH29","v":0},0,0]
[null,"30","8:59～9:00",{"$f":"'入力シート(1分周期発電計画)'!AI29","v":0},0,0]
["19","01","9:00～9:01",{"$f":"'入力シート(1分周期発電計画)'!F30","v":0},0,0]
[null,"02","9:01～9:02",{"$f":"'入力シート(1分周期発電計画)'!G30","v":0},0,0]
[null,"03","9:02～9:03",{"$f":"'入力シート(1分周期発電計画)'!H30","v":0},0,0]
[null,"04","9:03～9:04",{"$f":"'入力シート(1分周期発電計画)'!I30","v":0},0,0]
[null,"05","9:04～9:05",{"$f":"'入力シート(1分周期発電計画)'!J30","v":0},0,0]
[null,"06","9:05～9:06",{"$f":"'入力シート(1分周期発電計画)'!K30","v":0},0,0]
[null,"07","9:06～9:07",{"$f":"'入力シート(1分周期発電計画)'!L30","v":0},0,0]
[null,"08","9:07～9:08",{"$f":"'入力シート(1分周期発電計画)'!M30","v":0},0,0]
[null,"09","9:08～9:09",{"$f":"'入力シート(1分周期発電計画)'!N30","v":0},0,0]
[null,"10","9:09～9:10",{"$f":"'入力シート(1分周期発電計画)'!O30","v":0},0,0]
[null,"11","9:10～9:11",{"$f":"'入力シート(1分周期発電計画)'!P30","v":0},0,0]
[null,"12","9:11～9:12",{"$f":"'入力シート(1分周期発電計画)'!Q30","v":0},0,0]
[null,"13","9:12～9:13",{"$f":"'入力シート(1分周期発電計画)'!R30","v":0},0,0]
[null,"14","9:13～9:14",{"$f":"'入力シート(1分周期発電計画)'!S30","v":0},0,0]
[null,"15","9:14～9:15",{"$f":"'入力シート(1分周期発電計画)'!T30","v":0},0,0]
[null,"16","9:15～9:16",{"$f":"'入力シート(1分周期発電計画)'!U30","v":0},0,0]
[null,"17","9:16～9:17",{"$f":"'入力シート(1分周期発電計画)'!V30","v":0},0,0]
[null,"18","9:17～9:18",{"$f":"'入力シート(1分周期発電計画)'!W30","v":0},0,0]
[null,"19","9:18～9:19",{"$f":"'入力シート(1分周期発電計画)'!X30","v":0},0,0]
[null,"20","9:19～9:20",{"$f":"'入力シート(1分周期発電計画)'!Y30","v":0},0,0]
[null,"21","9:20～9:21",{"$f":"'入力シート(1分周期発電計画)'!Z30","v":0},0,0]
[null,"22","9:21～9:22",{"$f":"'入力シート(1分周期発電計画)'!AA30","v":0},0,0]
[null,"23","9:22～9:23",{"$f":"'入力シート(1分周期発電計画)'!AB30","v":0},0,0]
[null,"24","9:23～9:24",{"$f":"'入力シート(1分周期発電計画)'!AC30","v":0},0,0]
[null,"25","9:24～9:25",{"$f":"'入力シート(1分周期発電計画)'!AD30","v":0},0,0]
[null,"26","9:25～9:26",{"$f":"'入力シート(1分周期発電計画)'!AE30","v":0},0,0]
[null,"27","9:26～9:27",{"$f":"'入力シート(1分周期発電計画)'!AF30","v":0},{"$f":"F587-D587","v":0},{"$f":"IFERROR(ROUND(AVERAGE(G587:BN587),0),0)","v":0}]
[null,"28","9:27～9:28",{"$f":"'入力シート(1分周期発電計画)'!AG30","v":0},0,0]
[null,"29","9:28～9:29",{"$f":"'入力シート(1分周期発電計画)'!AH30","v":0},0,0]
[null,"30","9:29～9:30",{"$f":"'入力シート(1分周期発電計画)'!AI30","v":0},0,0]
["20","01","9:30～9:31",{"$f":"'入力シート(1分周期発電計画)'!F31","v":0},0,0]
[null,"02","9:31～9:32",{"$f":"'入力シート(1分周期発電計画)'!G31","v":0},0,0]
[null,"03","9:32～9:33",{"$f":"'入力シート(1分周期発電計画)'!H31","v":0},0,0]
[null,"04","9:33～9:34",{"$f":"'入力シート(1分周期発電計画)'!I31","v":0},0,0]
[null,"05","9:34～9:35",{"$f":"'入力シート(1分周期発電計画)'!J31","v":0},0,0]
[null,"06","9:35～9:36",{"$f":"'入力シート(1分周期発電計画)'!K31","v":0},0,0]
[null,"07","9:36～9:37",{"$f":"'入力シート(1分周期発電計画)'!L31","v":0},0,0]
[null,"08","9:37～9:38",{"$f":"'入力シート(1分周期発電計画)'!M31","v":0},0,0]
[null,"09","9:38～9:39",{"$f":"'入力シート(1分周期発電計画)'!N31","v":0},0,0]
[null,"10","9:39～9:40",{"$f":"'入力シート(1分周期発電計画)'!O31","v":0},0,0]
[null,"11","9:40～9:41",{"$f":"'入力シート(1分周期発電計画)'!P31","v":0},0,0]
[null,"12","9:41～9:42",{"$f":"'入力シート(1分周期発電計画)'!Q31","v":0},0,0]
[null,"13","9:42～9:43",{"$f":"'入力シート(1分周期発電計画)'!R31","v":0},0,0]
[null,"14","9:43～9:44",{"$f":"'入力シート(1分周期発電計画)'!S31","v":0},0,0]
[null,"15","9:44～9:45",{"$f":"'入力シート(1分周期発電計画)'!T31","v":0},0,0]
[null,"16","9:45～9:46",{"$f":"'入力シート(1分周期発電計画)'!U31","v":0},0,0]
[null,"17","9:46～9:47",{"$f":"'入力シート(1分周期発電計画)'!V31","v":0},0,0]
[null,"18","9:47～9:48",{"$f":"'入力シート(1分周期発電計画)'!W31","v":0},0,0]
[null,"19","9:48～9:49",{"$f":"'入力シート(1分周期発電計画)'!X31","v":0},0,0]
[null,"20","9:49～9:50",{"$f":"'入力シート(1分周期発電計画)'!Y31","v":0},0,0]
[null,"21","9:50～9:51",{"$f":"'入力シート(1分周期発電計画)'!Z31","v":0},0,0]
[null,"22","9:51～9:52",{"$f":"'入力シート(1分周期発電計画)'!AA31","v":0},0,0]
[null,"23","9:52～9:53",{"$f":"'入力シート(1分周期発電計画)'!AB31","v":0},0,0]
[null,"24","9:53～9:54",{"$f":"'入力シート(1分周期発電計画)'!AC31","v":0},0,0]
[null,"25","9:54～9:55",{"$f":"'入力シート(1分周期発電計画)'!AD31","v":0},0,0]
[null,"26","9:55～9:56",{"$f":"'入力シート(1分周期発電計画)'!AE31","v":0},0,0]
[null,"27","9:56～9:57",{"$f":"'入力シート(1分周期発電計画)'!AF31","v":0},0,0]
[null,"28","9:57～9:58",{"$f":"'入力シート(1分周期発電計画)'!AG31","v":0},0,0]
[null,"29","9:58～9:59",{"$f":"'入力シート(1分周期発電計画)'!AH31","v":0},0,0]
[null,"30","9:59～10:00",{"$f":"'入力シート(1分周期発電計画)'!AI31","v":0},0,0]
["21","01","10:00～10:01",{"$f":"'入力シート(1分周期発電計画)'!F32","v":0},0,0]
[null,"02","10:01～10:02",{"$f":"'入力シート(1分周期発電計画)'!G32","v":0},0,0]
[null,"03","10:02～10:03",{"$f":"'入力シート(1分周期発電計画)'!H32","v":0},0,0]
[null,"04","10:03～10:04",{"$f":"'入力シート(1分周期発電計画)'!I32","v":0},0,0]
[null,"05","10:04～10:05",{"$f":"'入力シート(1分周期発電計画)'!J32","v":0},0,0]
[null,"06","10:05～10:06",{"$f":"'入力シート(1分周期発電計画)'!K32","v":0},0,0]
[null,"07","10:06～10:07",{"$f":"'入力シート(1分周期発電計画)'!L32","v":0},0,0]
[null,"08","10:07～10:08",{"$f":"'入力シート(1分周期発電計画)'!M32","v":0},0,0]
[null,"09","10:08～10:09",{"$f":"'入力シート(1分周期発電計画)'!N32","v":0},0,0]
[null,"10","10:09～10:10",{"$f":"'入力シート(1分周期発電計画)'!O32","v":0},0,0]
[null,"11","10:10～10:11",{"$f":"'入力シート(1分周期発電計画)'!P32","v":0},0,0]
[null,"12","10:11～10:12",{"$f":"'入力シート(1分周期発電計画)'!Q32","v":0},0,0]
[null,"13","10:12～10:13",{"$f":"'入力シート(1分周期発電計画)'!R32","v":0},0,0]
[null,"14","10:13～10:14",{"$f":"'入力シート(1分周期発電計画)'!S32","v":0},0,0]
[null,"15","10:14～10:15",{"$f":"'入力シート(1分周期発電計画)'!T32","v":0},0,0]
[null,"16","10:15～10:16",{"$f":"'入力シート(1分周期発電計画)'!U32","v":0},0,0]
[null,"17","10:16～10:17",{"$f":"'入力シート(1分周期発電計画)'!V32","v":0},0,0]
[null,"18","10:17～10:18",{"$f":"'入力シート(1分周期発電計画)'!W32","v":0},0,0]
[null,"19","10:18～10:19",{"$f":"'入力シート(1分周期発電計画)'!X32","v":0},0,0]
[null,"20","10:19～10:20",{"$f":"'入力シート(1分周期発電計画)'!Y32","v":0},0,0]
[null,"21","10:20～10:21",{"$f":"'入力シート(1分周期発電計画)'!Z32","v":0},0,0]
[null,"22","10:21～10:22",{"$f":"'入力シート(1分周期発電計画)'!AA32","v":0},0,0]
[null,"23","10:22～10:23",{"$f":"'入力シート(1分周期発電計画)'!AB32","v":0},0,0]
[null,"24","10:23～10:24",{"$f":"'入力シート(1分周期発電計画)'!AC32","v":0},0,0]
[null,"25","10:24～10:25",{"$f":"'入力シート(1分周期発電計画)'!AD32","v":0},0,0]
[null,"26","10:25～10:26",{"$f":"'入力シート(1分周期発電計画)'!AE32","v":0},0,0]
[null,"27","10:26～10:27",{"$f":"'入力シート(1分周期発電計画)'!AF32","v":0},0,0]
[null,"28","10:27～10:28",{"$f":"'入力シート(1分周期発電計画)'!AG32","v":0},0,0]
[null,"29","10:28～10:29",{"$f":"'入力シート(1分周期発電計画)'!AH32","v":0},0,0]
[null,"30","10:29～10:30",{"$f":"'入力シート(1分周期発電計画)'!AI32","v":0},0,0]
["22","01","10:30～10:31",{"$f":"'入力シート(1分周期発電計画)'!F33","v":0},{"$f":"F651-D651","v":0},{"$f":"IFERROR(ROUND(AVERAGE(G651:BN651),0),0)","v":0}]
[null,"02","10:31～10:32",{"$f":"'入力シート(1分周期発電計画)'!G33","v":0},0,0]
[null,"03","10:32～10:33",{"$f":"'入力シート(1分周期発電計画)'!H33","v":0},0,0]
[null,"04","10:33～10:34",{"$f":"'入力シート(1分周期発電計画)'!I33","v":0},0,0]
[null,"05","10:34～10:35",{"$f":"'入力シート(1分周期発電計画)'!J33","v":0},0,0]
[null,"06","10:35～10:36",{"$f":"'入力シート(1分周期発電計画)'!K33","v":0},0,0]
[null,"07","10:36～10:37",{"$f":"'入力シート(1分周期発電計画)'!L33","v":0},0,0]
[null,"08","10:37～10:38",{"$f":"'入力シート(1分周期発電計画)'!M33","v":0},0,0]
[null,"09","10:38～10:39",{"$f":"'入力シート(1分周期発電計画)'!N33","v":0},0,0]
[null,"10","10:39～10:40",{"$f":"'入力シート(1分周期発電計画)'!O33","v":0},0,0]
[null,"11","10:40～10:41",{"$f":"'入力シート(1分周期発電計画)'!P33","v":0},0,0]
[null,"12","10:41～10:42",{"$f":"'入力シート(1分周期発電計画)'!Q33","v":0},0,0]
[null,"13","10:42～10:43",{"$f":"'入力シート(1分周期発電計画)'!R33","v":0},0,0]
[null,"14","10:43～10:44",{"$f":"'入力シート(1分周期発電計画)'!S33","v":0},0,0]
[null,"15","10:44～10:45",{"$f":"'入力シート(1分周期発電計画)'!T33","v":0},0,0]
[null,"16","10:45～10:46",{"$f":"'入力シート(1分周期発電計画)'!U33","v":0},0,0]
[null,"17","10:46～10:47",{"$f":"'入力シート(1分周期発電計画)'!V33","v":0},0,0]
[null,"18","10:47～10:48",{"$f":"'入力シート(1分周期発電計画)'!W33","v":0},0,0]
[null,"19","10:48～10:49",{"$f":"'入力シート(1分周期発電計画)'!X33","v":0},0,0]
[null,"20","10:49～10:50",{"$f":"'入力シート(1分周期発電計画)'!Y33","v":0},0,0]
[null,"21","10:50～10:51",{"$f":"'入力シート(1分周期発電計画)'!Z33","v":0},0,0]
[null,"22","10:51～10:52",{"$f":"'入力シート(1分周期発電計画)'!AA33","v":0},0,0]
[null,"23","10:52～10:53",{"$f":"'入力シート(1分周期発電計画)'!AB33","v":0},0,0]
[null,"24","10:53～10:54",{"$f":"'入力シート(1分周期発電計画)'!AC33","v":0},0,0]
[null,"25","10:54～10:55",{"$f":"'入力シート(1分周期発電計画)'!AD33","v":0},0,0]
[null,"26","10:55～10:56",{"$f":"'入力シート(1分周期発電計画)'!AE33","v":0},0,0]
[null,"27","10:56～10:57",{"$f":"'入力シート(1分周期発電計画)'!AF33","v":0},0,0]
[null,"28","10:57～10:58",{"$f":"'入力シート(1分周期発電計画)'!AG33","v":0},0,0]
[null,"29","10:58～10:59",{"$f":"'入力シート(1分周期発電計画)'!AH33","v":0},0,0]
[null,"30","10:59～11:00",{"$f":"'入力シート(1分周期発電計画)'!AI33","v":0},0,0]
["23","01","11:00～11:01",{"$f":"'入力シート(1分周期発電計画)'!F34","v":0},0,0]
[null,"02","11:01～11:02",{"$f":"'入力シート(1分周期発電計画)'!G34","v":0},0,0]
[null,"03","11:02～11:03",{"$f":"'入力シート(1分周期発電計画)'!H34","v":0},0,0]
[null,"04","11:03～11:04",{"$f":"'入力シート(1分周期発電計画)'!I34","v":0},0,0]
[null,"05","11:04～11:05",{"$f":"'入力シート(1分周期発電計画)'!J34","v":0},0,0]
[null,"06","11:05～11:06",{"$f":"'入力シート(1分周期発電計画)'!K34","v":0},0,0]
[null,"07","11:06～11:07",{"$f":"'入力シート(1分周期発電計画)'!L34","v":0},0,0]
[null,"08","11:07～11:08",{"$f":"'入力シート(1分周期発電計画)'!M34","v":0},0,0]
[null,"09","11:08～11:09",{"$f":"'入力シート(1分周期発電計画)'!N34","v":0},0,0]
[null,"10","11:09～11:10",{"$f":"'入力シート(1分周期発電計画)'!O34","v":0},0,0]
[null,"11","11:10～11:11",{"$f":"'入力シート(1分周期発電計画)'!P34","v":0},0,0]
[null,"12","11:11～11:12",{"$f":"'入力シート(1分周期発電計画)'!Q34","v":0},0,0]
[null,"13","11:12～11:13",{"$f":"'入力シート(1分周期発電計画)'!R34","v":0},0,0]
[null,"14","11:13～11:14",{"$f":"'入力シート(1分周期発電計画)'!S34","v":0},0,0]
[null,"15","11:14～11:15",{"$f":"'入力シート(1分周期発電計画)'!T34","v":0},0,0]
[null,"16","11:15～11:16",{"$f":"'入力シート(1分周期発電計画)'!U34","v":0},0,0]
[null,"17","11:16～11:17",{"$f":"'入力シート(1分周期発電計画)'!V34","v":0},0,0]
[null,"18","11:17～11:18",{"$f":"'入力シート(1分周期発電計画)'!W34","v":0},0,0]
[null,"19","11:18～11:19",{"$f":"'入力シート(1分周期発電計画)'!X34","v":0},0,0]
[null,"20","11:19～11:20",{"$f":"'入力シート(1分周期発電計画)'!Y34","v":0},0,0]
[null,"21","11:20～11:21",{"$f":"'入力シート(1分周期発電計画)'!Z34","v":0},0,0]
[null,"22","11:21～11:22",{"$f":"'入力シート(1分周期発電計画)'!AA34","v":0},0,0]
[null,"23","11:22～11:23",{"$f":"'入力シート(1分周期発電計画)'!AB34","v":0},0,0]
[null,"24","11:23～11:24",{"$f":"'入力シート(1分周期発電計画)'!AC34","v":0},0,0]
[null,"25","11:24～11:25",{"$f":"'入力シート(1分周期発電計画)'!AD34","v":0},0,0]
[null,"26","11:25～11:26",{"$f":"'入力シート(1分周期発電計画)'!AE34","v":0},0,0]
[null,"27","11:26～11:27",{"$f":"'入力シート(1分周期発電計画)'!AF34","v":0},0,0]
[null,"28","11:27～11:28",{"$f":"'入力シート(1分周期発電計画)'!AG34","v":0},0,0]
[null,"29","11:28～11:29",{"$f":"'入力シート(1分周期発電計画)'!AH34","v":0},0,0]
[null,"30","11:29～11:30",{"$f":"'入力シート(1分周期発電計画)'!AI34","v":0},0,0]
["24","01","11:30～11:31",{"$f":"'入力シート(1分周期発電計画)'!F35","v":0},0,0]
[null,"02","11:31～11:32",{"$f":"'入力シート(1分周期発電計画)'!G35","v":0},0,0]
[null,"03","11:32～11:33",{"$f":"'入力シート(1分周期発電計画)'!H35","v":0},0,0]
[null,"04","11:33～11:34",{"$f":"'入力シート(1分周期発電計画)'!I35","v":0},0,0]
[null,"05","11:34～11:35",{"$f":"'入力シート(1分周期発電計画)'!J35","v":0},{"$f":"F715-D715","v":0},{"$f":"IFERROR(ROUND(AVERAGE(G715:BN715),0),0)","v":0}]
[null,"06","11:35～11:36",{"$f":"'入力シート(1分周期発電計画)'!K35","v":0},0,0]
[null,"07","11:36～11:37",{"$f":"'入力シート(1分周期発電計画)'!L35","v":0},0,0]
[null,"08","11:37～11:38",{"$f":"'入力シート(1分周期発電計画)'!M35","v":0},0,0]
[null,"09","11:38～11:39",{"$f":"'入力シート(1分周期発電計画)'!N35","v":0},0,0]
[null,"10","11:39～11:40",{"$f":"'入力シート(1分周期発電計画)'!O35","v":0},0,0]
[null,"11","11:40～11:41",{"$f":"'入力シート(1分周期発電計画)'!P35","v":0},0,0]
[null,"12","11:41～11:42",{"$f":"'入力シート(1分周期発電計画)'!Q35","v":0},0,0]
[null,"13","11:42～11:43",{"$f":"'入力シート(1分周期発電計画)'!R35","v":0},0,0]
[null,"14","11:43～11:44",{"$f":"'入力シート(1分周期発電計画)'!S35","v":0},0,0]
[null,"15","11:44～11:45",{"$f":"'入力シート(1分周期発電計画)'!T35","v":0},0,0]
[null,"16","11:45～11:46",{"$f":"'入力シート(1分周期発電計画)'!U35","v":0},0,0]
[null,"17","11:46～11:47",{"$f":"'入力シート(1分周期発電計画)'!V35","v":0},0,0]
[null,"18","11:47～11:48",{"$f":"'入力シート(1分周期発電計画)'!W35","v":0},0,0]
[null,"19","11:48～11:49",{"$f":"'入力シート(1分周期発電計画)'!X35","v":0},0,0]
[null,"20","11:49～11:50",{"$f":"'入力シート(1分周期発電計画)'!Y35","v":0},0,0]
[null,"21","11:50～11:51",{"$f":"'入力シート(1分周期発電計画)'!Z35","v":0},0,0]
[null,"22","11:51～11:52",{"$f":"'入力シート(1分周期発電計画)'!AA35","v":0},0,0]
[null,"23","11:52～11:53",{"$f":"'入力シート(1分周期発電計画)'!AB35","v":0},0,0]
[null,"24","11:53～11:54",{"$f":"'入力シート(1分周期発電計画)'!AC35","v":0},0,0]
[null,"25","11:54～11:55",{"$f":"'入力シート(1分周期発電計画)'!AD35","v":0},0,0]
[null,"26","11:55～11:56",{"$f":"'入力シート(1分周期発電計画)'!AE35","v":0},0,0]
[null,"27","11:56～11:57",{"$f":"'入力シート(1分周期発電計画)'!AF35","v":0},0,0]
[null,"28","11:57～11:58",{"$f":"'入力シート(1分周期発電計画)'!AG35","v":0},0,0]
[null,"29","11:58～11:59",{"$f":"'入力シート(1分周期発電計画)'!AH35","v":0},0,0]
[null,"30","11:59～12:00",{"$f":"'入力シート(1分周期発電計画)'!AI35","v":0},0,0]
["25","01","12:00～12:01",{"$f":"'入力シート(1分周期発電計画)'!F36","v":0},0,0]
[null,"02","12:01～12:02",{"$f":"'入力シート(1分周期発電計画)'!G36","v":0},0,0]
[null,"03","12:02～12:03",{"$f":"'入力シート(1分周期発電計画)'!H36","v":0},0,0]
[null,"04","12:03～12:04",{"$f":"'入力シート(1分周期発電計画)'!I36","v":0},0,0]
[null,"05","12:04～12:05",{"$f":"'入力シート(1分周期発電計画)'!J36","v":0},0,0]
[null,"06","12:05～12:06",{"$f":"'入力シート(1分周期発電計画)'!K36","v":0},0,0]
[null,"07","12:06～12:07",{"$f":"'入力シート(1分周期発電計画)'!L36","v":0},0,0]
[null,"08","12:07～12:08",{"$f":"'入力シート(1分周期発電計画)'!M36","v":0},0,0]
[null,"09","12:08～12:09",{"$f":"'入力シート(1分周期発電計画)'!N36","v":0},0,0]
[null,"10","12:09～12:10",{"$f":"'入力シート(1分周期発電計画)'!O36","v":0},0,0]
[null,"11","12:10～12:11",{"$f":"'入力シート(1分周期発電計画)'!P36","v":0},0,0]
[null,"12","12:11～12:12",{"$f":"'入力シート(1分周期発電計画)'!Q36","v":0},0,0]
[null,"13","12:12～12:13",{"$f":"'入力シート(1分周期発電計画)'!R36","v":0},0,0]
[null,"14","12:13～12:14",{"$f":"'入力シート(1分周期発電計画)'!S36","v":0},0,0]
[null,"15","12:14～12:15",{"$f":"'入力シート(1分周期発電計画)'!T36","v":0},0,0]
[null,"16","12:15～12:16",{"$f":"'入力シート(1分周期発電計画)'!U36","v":0},0,0]
[null,"17","12:16～12:17",{"$f":"'入力シート(1分周期発電計画)'!V36","v":0},0,0]
[null,"18","12:17～12:18",{"$f":"'入力シート(1分周期発電計画)'!W36","v":0},0,0]
[null,"19","12:18～12:19",{"$f":"'入力シート(1分周期発電計画)'!X36","v":0},0,0]
[null,"20","12:19～12:20",{"$f":"'入力シート(1分周期発電計画)'!Y36","v":0},0,0]
[null,"21","12:20～12:21",{"$f":"'入力シート(1分周期発電計画)'!Z36","v":0},0,0]
[null,"22","12:21～12:22",{"$f":"'入力シート(1分周期発電計画)'!AA36","v":0},0,0]
[null,"23","12:22～12:23",{"$f":"'入力シート(1分周期発電計画)'!AB36","v":0},0,0]
[null,"24","12:23～12:24",{"$f":"'入力シート(1分周期発電計画)'!AC36","v":0},0,0]
[null,"25","12:24～12:25",{"$f":"'入力シート(1分周期発電計画)'!AD36","v":0},0,0]
[null,"26","12:25～12:26",{"$f":"'入力シート(1分周期発電計画)'!AE36","v":0},0,0]
[null,"27","12:26～12:27",{"$f":"'入力シート(1分周期発電計画)'!AF36","v":0},0,0]
[null,"28","12:27～12:28",{"$f":"'入力シート(1分周期発電計画)'!AG36","v":0},0,0]
[null,"29","12:28～12:29",{"$f":"'入力シート(1分周期発電計画)'!AH36","v":0},0,0]
[null,"30","12:29～12:30",{"$f":"'入力シート(1分周期発電計画)'!AI36","v":0},0,0]
["26","01","12:30～12:31",{"$f":"'入力シート(1分周期発電計画)'!F37","v":0},0,0]
[null,"02","12:31～12:32",{"$f":"'入力シート(1分周期発電計画)'!G37","v":0},0,0]
[null,"03","12:32～12:33",{"$f":"'入力シート(1分周期発電計画)'!H37","v":0},0,0]
[null,"04","12:33～12:34",{"$f":"'入力シート(1分周期発電計画)'!I37","v":0},0,0]
[null,"05","12:34～12:35",{"$f":"'入力シート(1分周期発電計画)'!J37","v":0},0,0]
[null,"06","12:35～12:36",{"$f":"'入力シート(1分周期発電計画)'!K37","v":0},0,0]
[null,"07","12:36～12:37",{"$f":"'入力シート(1分周期発電計画)'!L37","v":0},0,0]
[null,"08","12:37～12:38",{"$f":"'入力シート(1分周期発電計画)'!M37","v":0},0,0]
[null,"09","12:38～12:39",{"$f":"'入力シート(1分周期発電計画)'!N37","v":0},{"$f":"F779-D779","v":0},{"$f":"IFERROR(ROUND(AVERAGE(G779:BN779),0),0)","v":0}]
[null,"10","12:39～12:40",{"$f":"'入力シート(1分周期発電計画)'!O37","v":0},0,0]
[null,"11","12:40～12:41",{"$f":"'入力シート(1分周期発電計画)'!P37","v":0},0,0]
[null,"12","12:41～12:42",{"$f":"'入力シート(1分周期発電計画)'!Q37","v":0},0,0]
[null,"13","12:42～12:43",{"$f":"'入力シート(1分周期発電計画)'!R37","v":0},0,0]
[null,"14","12:43～12:44",{"$f":"'入力シート(1分周期発電計画)'!S37","v":0},0,0]
[null,"15","12:44～12:45",{"$f":"'入力シート(1分周期発電計画)'!T37","v":0},0,0]
[null,"16","12:45～12:46",{"$f":"'入力シート(1分周期発電計画)'!U37","v":0},0,0]
[null,"17","12:46～12:47",{"$f":"'入力シート(1分周期発電計画)'!V37","v":0},0,0]
[null,"18","12:47～12:48",{"$f":"'入力シート(1分周期発電計画)'!W37","v":0},0,0]
[null,"19","12:48～12:49",{"$f":"'入力シート(1分周期発電計画)'!X37","v":0},0,0]
[null,"20","12:49～12:50",{"$f":"'入力シート(1分周期発電計画)'!Y37","v":0},0,0]
[null,"21","12:50～12:51",{"$f":"'入力シート(1分周期発電計画)'!Z37","v":0},0,0]
[null,"22","12:51～12:52",{"$f":"'入力シート(1分周期発電計画)'!AA37","v":0},0,0]
[null,"23","12:52～12:53",{"$f":"'入力シート(1分周期発電計画)'!AB37","v":0},0,0]
[null,"24","12:53～12:54",{"$f":"'入力シート(1分周期発電計画)'!AC37","v":0},0,0]
[null,"25","12:54～12:55",{"$f":"'入力シート(1分周期発電計画)'!AD37","v":0},0,0]
[null,"26","12:55～12:56",{"$f":"'入力シート(1分周期発電計画)'!AE37","v":0},0,0]
[null,"27","12:56～12:57",{"$f":"'入力シート(1分周期発電計画)'!AF37","v":0},0,0]
[null,"28","12:57～12:58",{"$f":"'入力シート(1分周期発電計画)'!AG37","v":0},0,0]
[null,"29","12:58～12:59",{"$f":"'入力シート(1分周期発電計画)'!AH37","v":0},0,0]
[null,"30","12:59～13:00",{"$f":"'入力シート(1分周期発電計画)'!AI37","v":0},0,0]
["27","01","13:00～13:01",{"$f":"'入力シート(1分周期発電計画)'!F38","v":0},0,0]
[null,"02","13:01～13:02",{"$f":"'入力シート(1分周期発電計画)'!G38","v":0},0,0]
[null,"03","13:02～13:03",{"$f":"'入力シート(1分周期発電計画)'!H38","v":0},0,0]
[null,"04","13:03～13:04",{"$f":"'入力シート(1分周期発電計画)'!I38","v":0},0,0]
[null,"05","13:04～13:05",{"$f":"'入力シート(1分周期発電計画)'!J38","v":0},0,0]
[null,"06","13:05～13:06",{"$f":"'入力シート(1分周期発電計画)'!K38","v":0},0,0]
[null,"07","13:06～13:07",{"$f":"'入力シート(1分周期発電計画)'!L38","v":0},0,0]
[null,"08","13:07～13:08",{"$f":"'入力シート(1分周期発電計画)'!M38","v":0},0,0]
[null,"09","13:08～13:09",{"$f":"'入力シート(1分周期発電計画)'!N38","v":0},0,0]
[null,"10","13:09～13:10",{"$f":"'入力シート(1分周期発電計画)'!O38","v":0},0,0]
[null,"11","13:10～13:11",{"$f":"'入力シート(1分周期発電計画)'!P38","v":0},0,0]
[null,"12","13:11～13:12",{"$f":"'入力シート(1分周期発電計画)'!Q38","v":0},0,0]
[null,"13","13:12～13:13",{"$f":"'入力シート(1分周期発電計画)'!R38","v":0},0,0]
[null,"14","13:13～13:14",{"$f":"'入力シート(1分周期発電計画)'!S38","v":0},0,0]
[null,"15","13:14～13:15",{"$f":"'入力シート(1分周期発電計画)'!T38","v":0},0,0]
[null,"16","13:15～13:16",{"$f":"'入力シート(1分周期発電計画)'!U38","v":0},0,0]
[null,"17","13:16～13:17",{"$f":"'入力シート(1分周期発電計画)'!V38","v":0},0,0]
[null,"18","13:17～13:18",{"$f":"'入力シート(1分周期発電計画)'!W38","v":0},0,0]
[null,"19","13:18～13:19",{"$f":"'入力シート(1分周期発電計画)'!X38","v":0},0,0]
[null,"20","13:19～13:20",{"$f":"'入力シート(1分周期発電計画)'!Y38","v":0},0,0]
[null,"21","13:20～13:21",{"$f":"'入力シート(1分周期発電計画)'!Z38","v":0},0,0]
[null,"22","13:21～13:22",{"$f":"'入力シート(1分周期発電計画)'!AA38","v":0},0,0]
[null,"23","13:22～13:23",{"$f":"'入力シート(1分周期発電計画)'!AB38","v":0},0,0]
[null,"24","13:23～13:24",{"$f":"'入力シート(1分周期発電計画)'!AC38","v":0},0,0]
[null,"25","13:24～13:25",{"$f":"'入力シート(1分周期発電計画)'!AD38","v":0},0,0]
[null,"26","13:25～13:26",{"$f":"'入力シート(1分周期発電計画)'!AE38","v":0},0,0]
[null,"27","13:26～13:27",{"$f":"'入力シート(1分周期発電計画)'!AF38","v":0},0,0]
[null,"28","13:27～13:28",{"$f":"'入力シート(1分周期発電計画)'!AG38","v":0},0,0]
[null,"29","13:28～13:29",{"$f":"'入力シート(1分周期発電計画)'!AH38","v":0},0,0]
[null,"30","13:29～13:30",{"$f":"'入力シート(1分周期発電計画)'!AI38","v":0},0,0]
["28","01","13:30～13:31",{"$f":"'入力シート(1分周期発電計画)'!F39","v":0},0,0]
[null,"02","13:31～13:32",{"$f":"'入力シート(1分周期発電計画)'!G39","v":0},0,0]
[null,"03","13:32～13:33",{"$f":"'入力シート(1分周期発電計画)'!H39","v":0},0,0]
[null,"04","13:33～13:34",{"$f":"'入力シート(1分周期発電計画)'!I39","v":0},0,0]
[null,"05","13:34～13:35",{"$f":"'入力シート(1分周期発電計画)'!J39","v":0},0,0]
[null,"06","13:35～13:36",{"$f":"'入力シート(1分周期発電計画)'!K39","v":0},0,0]
[null,"07","13:36～13:37",{"$f":"'入力シート(1分周期発電計画)'!L39","v":0},0,0]
[null,"08","13:37～13:38",{"$f":"'入力シート(1分周期発電計画)'!M39","v":0},0,0]
[null,"09","13:38～13:39",{"$f":"'入力シート(1分周期発電計画)'!N39","v":0},0,0]
[null,"10","13:39～13:40",{"$f":"'入力シート(1分周期発電計画)'!O39","v":0},0,0]
[null,"11","13:40～13:41",{"$f":"'入力シート(1分周期発電計画)'!P39","v":0},0,0]
[null,"12","13:41～13:42",{"$f":"'入力シート(1分周期発電計画)'!Q39","v":0},0,0]
[null,"13","13:42～13:43",{"$f":"'入力シート(1分周期発電計画)'!R39","v":0},{"$f":"F843-D843","v":0},{"$f":"IFERROR(ROUND(AVERAGE(G843:BN843),0),0)","v":0}]
[null,"14","13:43～13:44",{"$f":"'入力シート(1分周期発電計画)'!S39","v":0},0,0]
[null,"15","13:44～13:45",{"$f":"'入力シート(1分周期発電計画)'!T39","v":0},0,0]
[null,"16","13:45～13:46",{"$f":"'入力シート(1分周期発電計画)'!U39","v":0},0,0]
[null,"17","13:46～13:47",{"$f":"'入力シート(1分周期発電計画)'!V39","v":0},0,0]
[null,"18","13:47～13:48",{"$f":"'入力シート(1分周期発電計画)'!W39","v":0},0,0]
[null,"19","13:48～13:49",{"$f":"'入力シート(1分周期発電計画)'!X39","v":0},0,0]
[null,"20","13:49～13:50",{"$f":"'入力シート(1分周期発電計画)'!Y39","v":0},0,0]
[null,"21","13:50～13:51",{"$f":"'入力シート(1分周期発電計画)'!Z39","v":0},0,0]
[null,"22","13:51～13:52",{"$f":"'入力シート(1分周期発電計画)'!AA39","v":0},0,0]
[null,"23","13:52～13:53",{"$f":"'入力シート(1分周期発電計画)'!AB39","v":0},0,0]
[null,"24","13:53～13:54",{"$f":"'入力シート(1分周期発電計画)'!AC39","v":0},0,0]
[null,"25","13:54～13:55",{"$f":"'入力シート(1分周期発電計画)'!AD39","v":0},0,0]
[null,"26","13:55～13:56",{"$f":"'入力シート(1分周期発電計画)'!AE39","v":0},0,0]
[null,"27","13:56～13:57",{"$f":"'入力シート(1分周期発電計画)'!AF39","v":0},0,0]
[null,"28","13:57～13:58",{"$f":"'入力シート(1分周期発電計画)'!AG39","v":0},0,0]
[null,"29","13:58～13:59",{"$f":"'入力シート(1分周期発電計画)'!AH39","v":0},0,0]
[null,"30","13:59～14:00",{"$f":"'入力シート(1分周期発電計画)'!AI39","v":0},0,0]
["29","01","14:00～14:01",{"$f":"'入力シート(1分周期発電計画)'!F40","v":0},0,0]
[null,"02","14:01～14:02",{"$f":"'入力シート(1分周期発電計画)'!G40","v":0},0,0]
[null,"03","14:02～14:03",{"$f":"'入力シート(1分周期発電計画)'!H40","v":0},0,0]
[null,"04","14:03～14:04",{"$f":"'入力シート(1分周期発電計画)'!I40","v":0},0,0]
[null,"05","14:04～14:05",{"$f":"'入力シート(1分周期発電計画)'!J40","v":0},0,0]
[null,"06","14:05～14:06",{"$f":"'入力シート(1分周期発電計画)'!K40","v":0},0,0]
[null,"07","14:06～14:07",{"$f":"'入力シート(1分周期発電計画)'!L40","v":0},0,0]
[null,"08","14:07～14:08",{"$f":"'入力シート(1分周期発電計画)'!M40","v":0},0,0]
[null,"09","14:08～14:09",{"$f":"'入力シート(1分周期発電計画)'!N40","v":0},0,0]
[null,"10","14:09～14:10",{"$f":"'入力シート(1分周期発電計画)'!O40","v":0},0,0]
[null,"11","14:10～14:11",{"$f":"'入力シート(1分周期発電計画)'!P40","v":0},0,0]
[null,"12","14:11～14:12",{"$f":"'入力シート(1分周期発電計画)'!Q40","v":0},0,0]
[null,"13","14:12～14:13",{"$f":"'入力シート(1分周期発電計画)'!R40","v":0},0,0]
[null,"14","14:13～14:14",{"$f":"'入力シート(1分周期発電計画)'!S40","v":0},0,0]
[null,"15","14:14～14:15",{"$f":"'入力シート(1分周期発電計画)'!T40","v":0},0,0]
[null,"16","14:15～14:16",{"$f":"'入力シート(1分周期発電計画)'!U40","v":0},0,0]
[null,"17","14:16～14:17",{"$f":"'入力シート(1分周期発電計画)'!V40","v":0},0,0]
[null,"18","14:17～14:18",{"$f":"'入力シート(1分周期発電計画)'!W40","v":0},0,0]
[null,"19","14:18～14:19",{"$f":"'入力シート(1分周期発電計画)'!X40","v":0},0,0]
[null,"20","14:19～14:20",{"$f":"'入力シート(1分周期発電計画)'!Y40","v":0},0,0]
[null,"21","14:20～14:21",{"$f":"'入力シート(1分周期発電計画)'!Z40","v":0},0,0]
[null,"22","14:21～14:22",{"$f":"'入力シート(1分周期発電計画)'!AA40","v":0},0,0]
[null,"23","14:22～14:23",{"$f":"'入力シート(1分周期発電計画)'!AB40","v":0},0,0]
[null,"24","14:23～14:24",{"$f":"'入力シート(1分周期発電計画)'!AC40","v":0},0,0]
[null,"25","14:24～14:25",{"$f":"'入力シート(1分周期発電計画)'!AD40","v":0},0,0]
[null,"26","14:25～14:26",{"$f":"'入力シート(1分周期発電計画)'!AE40","v":0},0,0]
[null,"27","14:26～14:27",{"$f":"'入力シート(1分周期発電計画)'!AF40","v":0},0,0]
[null,"28","14:27～14:28",{"$f":"'入力シート(1分周期発電計画)'!AG40","v":0},0,0]
[null,"29","14:28～14:29",{"$f":"'入力シート(1分周期発電計画)'!AH40","v":0},0,0]
[null,"30","14:29～14:30",{"$f":"'入力シート(1分周期発電計画)'!AI40","v":0},0,0]
["30","01","14:30～14:31",{"$f":"'入力シート(1分周期発電計画)'!F41","v":0},0,0]
[null,"02","14:31～14:32",{"$f":"'入力シート(1分周期発電計画)'!G41","v":0},0,0]
[null,"03","14:32～14:33",{"$f":"'入力シート(1分周期発電計画)'!H41","v":0},0,0]
[null,"04","14:33～14:34",{"$f":"'入力シート(1分周期発電計画)'!I41","v":0},0,0]
[null,"05","14:34～14:35",{"$f":"'入力シート(1分周期発電計画)'!J41","v":0},0,0]
[null,"06","14:35～14:36",{"$f":"'入力シート(1分周期発電計画)'!K41","v":0},0,0]
[null,"07","14:36～14:37",{"$f":"'入力シート(1分周期発電計画)'!L41","v":0},0,0]
[null,"08","14:37～14:38",{"$f":"'入力シート(1分周期発電計画)'!M41","v":0},0,0]
[null,"09","14:38～14:39",{"$f":"'入力シート(1分周期発電計画)'!N41","v":0},0,0]
[null,"10","14:39～14:40",{"$f":"'入力シート(1分周期発電計画)'!O41","v":0},0,0]
[null,"11","14:40～14:41",{"$f":"'入力シート(1分周期発電計画)'!P41","v":0},0,0]
[null,"12","14:41～14:42",{"$f":"'入力シート(1分周期発電計画)'!Q41","v":0},0,0]
[null,"13","14:42～14:43",{"$f":"'入力シート(1分周期発電計画)'!R41","v":0},0,0]
[null,"14","14:43～14:44",{"$f":"'入力シート(1分周期発電計画)'!S41","v":0},0,0]
[null,"15","14:44～14:45",{"$f":"'入力シート(1分周期発電計画)'!T41","v":0},0,0]
[null,"16","14:45～14:46",{"$f":"'入力シート(1分周期発電計画)'!U41","v":0},0,0]
[null,"17","14:46～14:47",{"$f":"'入力シート(1分周期発電計画)'!V41","v":0},{"$f":"F907-D907","v":0},{"$f":"IFERROR(ROUND(AVERAGE(G907:BN907),0),0)","v":0}]
[null,"18","14:47～14:48",{"$f":"'入力シート(1分周期発電計画)'!W41","v":0},0,0]
[null,"19","14:48～14:49",{"$f":"'入力シート(1分周期発電計画)'!X41","v":0},0,0]
[null,"20","14:49～14:50",{"$f":"'入力シート(1分周期発電計画)'!Y41","v":0},0,0]
[null,"21","14:50～14:51",{"$f":"'入力シート(1分周期発電計画)'!Z41","v":0},0,0]
[null,"22","14:51～14:52",{"$f":"'入力シート(1分周期発電計画)'!AA41","v":0},0,0]
[null,"23","14:52～14:53",{"$f":"'入力シート(1分周期発電計画)'!AB41","v":0},0,0]
[null,"24","14:53～14:54",{"$f":"'入力シート(1分周期発電計画)'!AC41","v":0},0,0]
[null,"25","14:54～14:55",{"$f":"'入力シート(1分周期発電計画)'!AD41","v":0},0,0]
[null,"26","14:55～14:56",{"$f":"'入力シート(1分周期発電計画)'!AE41","v":0},0,0]
[null,"27","14:56～14:57",{"$f":"'入力シート(1分周期発電計画)'!AF41","v":0},0,0]
[null,"28","14:57～14:58",{"$f":"'入力シート(1分周期発電計画)'!AG41","v":0},0,0]
[null,"29","14:58～14:59",{"$f":"'入力シート(1分周期発電計画)'!AH41","v":0},0,0]
[null,"30","14:59～15:00",{"$f":"'入力シート(1分周期発電計画)'!AI41","v":0},0,0]
["31","01","15:00～15:01",{"$f":"'入力シート(1分周期発電計画)'!F42","v":0},0,0]
[null,"02","15:01～15:02",{"$f":"'入力シート(1分周期発電計画)'!G42","v":0},0,0]
[null,"03","15:02～15:03",{"$f":"'入力シート(1分周期発電計画)'!H42","v":0},0,0]
[null,"04","15:03～15:04",{"$f":"'入力シート(1分周期発電計画)'!I42","v":0},0,0]
[null,"05","15:04～15:05",{"$f":"'入力シート(1分周期発電計画)'!J42","v":0},0,0]
[null,"06","15:05～15:06",{"$f":"'入力シート(1分周期発電計画)'!K42","v":0},0,0]
[null,"07","15:06～15:07",{"$f":"'入力シート(1分周期発電計画)'!L42","v":0},0,0]
[null,"08","15:07～15:08",{"$f":"'入力シート(1分周期発電計画)'!M42","v":0},0,0]
[null,"09","15:08～15:09",{"$f":"'入力シート(1分周期発電計画)'!N42","v":0},0,0]
[null,"10","15:09～15:10",{"$f":"'入力シート(1分周期発電計画)'!O42","v":0},0,0]
[null,"11","15:10～15:11",{"$f":"'入力シート(1分周期発電計画)'!P42","v":0},0,0]
[null,"12","15:11～15:12",{"$f":"'入力シート(1分周期発電計画)'!Q42","v":0},0,0]
[null,"13","15:12～15:13",{"$f":"'入力シート(1分周期発電計画)'!R42","v":0},0,0]
[null,"14","15:13～15:14",{"$f":"'入力シート(1分周期発電計画)'!S42","v":0},0,0]
[null,"15","15:14～15:15",{"$f":"'入力シート(1分周期発電計画)'!T42","v":0},0,0]
[null,"16","15:15～15:16",{"$f":"'入力シート(1分周期発電計画)'!U42","v":0},0,0]
[null,"17","15:16～15:17",{"$f":"'入力シート(1分周期発電計画)'!V42","v":0},0,0]
[null,"18","15:17～15:18",{"$f":"'入力シート(1分周期発電計画)'!W42","v":0},0,0]
[null,"19","15:18～15:19",{"$f":"'入力シート(1分周期発電計画)'!X42","v":0},0,0]
[null,"20","15:19～15:20",{"$f":"'入力シート(1分周期発電計画)'!Y42","v":0},0,0]
[null,"21","15:20～15:21",{"$f":"'入力シート(1分周期発電計画)'!Z42","v":0},0,0]
[null,"22","15:21～15:22",{"$f":"'入力シート(1分周期発電計画)'!AA42","v":0},0,0]
[null,"23","15:22～15:23",{"$f":"'入力シート(1分周期発電計画)'!AB42","v":0},0,0]
[null,"24","15:23～15:24",{"$f":"'入力シート(1分周期発電計画)'!AC42","v":0},0,0]
[null,"25","15:24～15:25",{"$f":"'入力シート(1分周期発電計画)'!AD42","v":0},0,0]
[null,"26","15:25～15:26",{"$f":"'入力シート(1分周期発電計画)'!AE42","v":0},0,0]
[null,"27","15:26～15:27",{"$f":"'入力シート(1分周期発電計画)'!AF42","v":0},0,0]
[null,"28","15:27～15:28",{"$f":"'入力シート(1分周期発電計画)'!AG42","v":0},0,0]
[null,"29","15:28～15:29",{"$f":"'入力シート(1分周期発電計画)'!AH42","v":0},0,0]
[null,"30","15:29～15:30",{"$f":"'入力シート(1分周期発電計画)'!AI42","v":0},0,0]
["32","01","15:30～15:31",{"$f":"'入力シート(1分周期発電計画)'!F43","v":0},0,0]
[null,"02","15:31～15:32",{"$f":"'入力シート(1分周期発電計画)'!G43","v":0},0,0]
[null,"03","15:32～15:33",{"$f":"'入力シート(1分周期発電計画)'!H43","v":0},0,0]
[null,"04","15:33～15:34",{"$f":"'入力シート(1分周期発電計画)'!I43","v":0},0,0]
[null,"05","15:34～15:35",{"$f":"'入力シート(1分周期発電計画)'!J43","v":0},0,0]
[null,"06","15:35～15:36",{"$f":"'入力シート(1分周期発電計画)'!K43","v":0},0,0]
[null,"07","15:36～15:37",{"$f":"'入力シート(1分周期発電計画)'!L43","v":0},0,0]
[null,"08","15:37～15:38",{"$f":"'入力シート(1分周期発電計画)'!M43","v":0},0,0]
[null,"09","15:38～15:39",{"$f":"'入力シート(1分周期発電計画)'!N43","v":0},0,0]
[null,"10","15:39～15:40",{"$f":"'入力シート(1分周期発電計画)'!O43","v":0},0,0]
[null,"11","15:40～15:41",{"$f":"'入力シート(1分周期発電計画)'!P43","v":0},0,0]
[null,"12","15:41～15:42",{"$f":"'入力シート(1分周期発電計画)'!Q43","v":0},0,0]
[null,"13","15:42～15:43",{"$f":"'入力シート(1分周期発電計画)'!R43","v":0},0,0]
[null,"14","15:43～15:44",{"$f":"'入力シート(1分周期発電計画)'!S43","v":0},0,0]
[null,"15","15:44～15:45",{"$f":"'入力シート(1分周期発電計画)'!T43","v":0},0,0]
[null,"16","15:45～15:46",{"$f":"'入力シート(1分周期発電計画)'!U43","v":0},0,0]
[null,"17","15:46～15:47",{"$f":"'入力シート(1分周期発電計画)'!V43","v":0},0,0]
[null,"18","15:47～15:48",{"$f":"'入力シート(1分周期発電計画)'!W43","v":0},0,0]
[null,"19","15:48～15:49",{"$f":"'入力シート(1分周期発電計画)'!X43","v":0},0,0]
[null,"20","15:49～15:50",{"$f":"'入力シート(1分周期発電計画)'!Y43","v":0},0,0]
[null,"21","15:50～15:51",{"$f":"'入力シート(1分周期発電計画)'!Z43","v":0},{"$f":"F971-D971","v":0},{"$f":"IFERROR(ROUND(AVERAGE(G971:BN971),0),0)","v":0}]
[null,"22","15:51～15:52",{"$f":"'入力シート(1分周期発電計画)'!AA43","v":0},0,0]
[null,"23","15:52～15:53",{"$f":"'入力シート(1分周期発電計画)'!AB43","v":0},0,0]
[null,"24","15:53～15:54",{"$f":"'入力シート(1分周期発電計画)'!AC43","v":0},0,0]
[null,"25","15:54～15:55",{"$f":"'入力シート(1分周期発電計画)'!AD43","v":0},0,0]
[null,"26","15:55～15:56",{"$f":"'入力シート(1分周期発電計画)'!AE43","v":0},0,0]
[null,"27","15:56～15:57",{"$f":"'入力シート(1分周期発電計画)'!AF43","v":0},0,0]
[null,"28","15:57～15:58",{"$f":"'入力シート(1分周期発電計画)'!AG43","v":0},0,0]
[null,"29","15:58～15:59",{"$f":"'入力シート(1分周期発電計画)'!AH43","v":0},0,0]
[null,"30","15:59～16:00",{"$f":"'入力シート(1分周期発電計画)'!AI43","v":0},0,0]
["33","01","16:00～16:01",{"$f":"'入力シート(1分周期発電計画)'!F44","v":0},0,0]
[null,"02","16:01～16:02",{"$f":"'入力シート(1分周期発電計画)'!G44","v":0},0,0]
[null,"03","16:02～16:03",{"$f":"'入力シート(1分周期発電計画)'!H44","v":0},0,0]
[null,"04","16:03～16:04",{"$f":"'入力シート(1分周期発電計画)'!I44","v":0},0,0]
[null,"05","16:04～16:05",{"$f":"'入力シート(1分周期発電計画)'!J44","v":0},0,0]
[null,"06","16:05～16:06",{"$f":"'入力シート(1分周期発電計画)'!K44","v":0},0,0]
[null,"07","16:06～16:07",{"$f":"'入力シート(1分周期発電計画)'!L44","v":0},0,0]
[null,"08","16:07～16:08",{"$f":"'入力シート(1分周期発電計画)'!M44","v":0},0,0]
[null,"09","16:08～16:09",{"$f":"'入力シート(1分周期発電計画)'!N44","v":0},0,0]
[null,"10","16:09～16:10",{"$f":"'入力シート(1分周期発電計画)'!O44","v":0},0,0]
[null,"11","16:10～16:11",{"$f":"'入力シート(1分周期発電計画)'!P44","v":0},0,0]
[null,"12","16:11～16:12",{"$f":"'入力シート(1分周期発電計画)'!Q44","v":0},0,0]
[null,"13","16:12～16:13",{"$f":"'入力シート(1分周期発電計画)'!R44","v":0},0,0]
[null,"14","16:13～16:14",{"$f":"'入力シート(1分周期発電計画)'!S44","v":0},0,0]
[null,"15","16:14～16:15",{"$f":"'入力シート(1分周期発電計画)'!T44","v":0},0,0]
[null,"16","16:15～16:16",{"$f":"'入力シート(1分周期発電計画)'!U44","v":0},0,0]
[null,"17","16:16～16:17",{"$f":"'入力シート(1分周期発電計画)'!V44","v":0},0,0]
[null,"18","16:17～16:18",{"$f":"'入力シート(1分周期発電計画)'!W44","v":0},0,0]
[null,"19","16:18～16:19",{"$f":"'入力シート(1分周期発電計画)'!X44","v":0},0,0]
[null,"20","16:19～16:20",{"$f":"'入力シート(1分周期発電計画)'!Y44","v":0},0,0]
[null,"21","16:20～16:21",{"$f":"'入力シート(1分周期発電計画)'!Z44","v":0},0,0]
[null,"22","16:21～16:22",{"$f":"'入力シート(1分周期発電計画)'!AA44","v":0},0,0]
[null,"23","16:22～16:23",{"$f":"'入力シート(1分周期発電計画)'!AB44","v":0},0,0]
[null,"24","16:23～16:24",{"$f":"'入力シート(1分周期発電計画)'!AC44","v":0},0,0]
[null,"25","16:24～16:25",{"$f":"'入力シート(1分周期発電計画)'!AD44","v":0},0,0]
[null,"26","16:25～16:26",{"$f":"'入力シート(1分周期発電計画)'!AE44","v":0},0,0]
[null,"27","16:26～16:27",{"$f":"'入力シート(1分周期発電計画)'!AF44","v":0},0,0]
[null,"28","16:27～16:28",{"$f":"'入力シート(1分周期発電計画)'!AG44","v":0},0,0]
[null,"29","16:28～16:29",{"$f":"'入力シート(1分周期発電計画)'!AH44","v":0},0,0]
[null,"30","16:29～16:30",{"$f":"'入力シート(1分周期発電計画)'!AI44","v":0},0,0]
["34","01","16:30～16:31",{"$f":"'入力シート(1分周期発電計画)'!F45","v":0},0,0]
[null,"02","16:31～16:32",{"$f":"'入力シート(1分周期発電計画)'!G45","v":0},0,0]
[null,"03","16:32～16:33",{"$f":"'入力シート(1分周期発電計画)'!H45","v":0},0,0]
[null,"04","16:33～16:34",{"$f":"'入力シート(1分周期発電計画)'!I45","v":0},0,0]
[null,"05","16:34～16:35",{"$f":"'入力シート(1分周期発電計画)'!J45","v":0},0,0]
[null,"06","16:35～16:36",{"$f":"'入力シート(1分周期発電計画)'!K45","v":0},0,0]
[null,"07","16:36～16:37",{"$f":"'入力シート(1分周期発電計画)'!L45","v":0},0,0]
[null,"08","16:37～16:38",{"$f":"'入力シート(1分周期発電計画)'!M45","v":0},0,0]
[null,"09","16:38～16:39",{"$f":"'入力シート(1分周期発電計画)'!N45","v":0},0,0]
[null,"10","16:39～16:40",{"$f":"'入力シート(1分周期発電計画)'!O45","v":0},0,0]
[null,"11","16:40～16:41",{"$f":"'入力シート(1分周期発電計画)'!P45","v":0},0,0]
[null,"12","16:41～16:42",{"$f":"'入力シート(1分周期発電計画)'!Q45","v":0},0,0]
[null,"13","16:42～16:43",{"$f":"'入力シート(1分周期発電計画)'!R45","v":0},0,0]
[null,"14","16:43～16:44",{"$f":"'入力シート(1分周期発電計画)'!S45","v":0},0,0]
[null,"15","16:44～16:45",{"$f":"'入力シート(1分周期発電計画)'!T45","v":0},0,0]
[null,"16","16:45～16:46",{"$f":"'入力シート(1分周期発電計画)'!U45","v":0},0,0]
[null,"17","16:46～16:47",{"$f":"'入力シート(1分周期発電計画)'!V45","v":0},0,0]
[null,"18","16:47～16:48",{"$f":"'入力シート(1分周期発電計画)'!W45","v":0},0,0]
[null,"19","16:48～16:49",{"$f":"'入力シート(1分周期発電計画)'!X45","v":0},0,0]
[null,"20","16:49～16:50",{"$f":"'入力シート(1分周期発電計画)'!Y45","v":0},0,0]
[null,"21","16:50～16:51",{"$f":"'入力シート(1分周期発電計画)'!Z45","v":0},0,0]
[null,"22","16:51～16:52",{"$f":"'入力シート(1分周期発電計画)'!AA45","v":0},0,0]
[null,"23","16:52～16:53",{"$f":"'入力シート(1分周期発電計画)'!AB45","v":0},0,0]
[null,"24","16:53～16:54",{"$f":"'入力シート(1分周期発電計画)'!AC45","v":0},0,0]
[null,"25","16:54～16:55",{"$f":"'入力シート(1分周期発電計画)'!AD45","v":0},{"$f":"F1035-D1035","v":0},{"$f":"IFERROR(ROUND(AVERAGE(G1035:BN1035),0),0)","v":0}]
[null,"26","16:55～16:56",{"$f":"'入力シート(1分周期発電計画)'!AE45","v":0},0,0]
[null,"27","16:56～16:57",{"$f":"'入力シート(1分周期発電計画)'!AF45","v":0},0,0]
[null,"28","16:57～16:58",{"$f":"'入力シート(1分周期発電計画)'!AG45","v":0},0,0]
[null,"29","16:58～16:59",{"$f":"'入力シート(1分周期発電計画)'!AH45","v":0},0,0]
[null,"30","16:59～17:00",{"$f":"'入力シート(1分周期発電計画)'!AI45","v":0},0,0]
["35","01","17:00～17:01",{"$f":"'入力シート(1分周期発電計画)'!F46","v":0},0,0]
[null,"02","17:01～17:02",{"$f":"'入力シート(1分周期発電計画)'!G46","v":0},0,0]
[null,"03","17:02～17:03",{"$f":"'入力シート(1分周期発電計画)'!H46","v":0},0,0]
[null,"04","17:03～17:04",{"$f":"'入力シート(1分周期発電計画)'!I46","v":0},0,0]
[null,"05","17:04～17:05",{"$f":"'入力シート(1分周期発電計画)'!J46","v":0},0,0]
[null,"06","17:05～17:06",{"$f":"'入力シート(1分周期発電計画)'!K46","v":0},0,0]
[null,"07","17:06～17:07",{"$f":"'入力シート(1分周期発電計画)'!L46","v":0},0,0]
[null,"08","17:07～17:08",{"$f":"'入力シート(1分周期発電計画)'!M46","v":0},0,0]
[null,"09","17:08～17:09",{"$f":"'入力シート(1分周期発電計画)'!N46","v":0},0,0]
[null,"10","17:09～17:10",{"$f":"'入力シート(1分周期発電計画)'!O46","v":0},0,0]
[null,"11","17:10～17:11",{"$f":"'入力シート(1分周期発電計画)'!P46","v":0},0,0]
[null,"12","17:11～17:12",{"$f":"'入力シート(1分周期発電計画)'!Q46","v":0},0,0]
[null,"13","17:12～17:13",{"$f":"'入力シート(1分周期発電計画)'!R46","v":0},0,0]
[null,"14","17:13～17:14",{"$f":"'入力シート(1分周期発電計画)'!S46","v":0},0,0]
[null,"15","17:14～17:15",{"$f":"'入力シート(1分周期発電計画)'!T46","v":0},0,0]
[null,"16","17:15～17:16",{"$f":"'入力シート(1分周期発電計画)'!U46","v":0},0,0]
[null,"17","17:16～17:17",{"$f":"'入力シート(1分周期発電計画)'!V46","v":0},0,0]
[null,"18","17:17～17:18",{"$f":"'入力シート(1分周期発電計画)'!W46","v":0},0,0]
[null,"19","17:18～17:19",{"$f":"'入力シート(1分周期発電計画)'!X46","v":0},0,0]
[null,"20","17:19～17:20",{"$f":"'入力シート(1分周期発電計画)'!Y46","v":0},0,0]
[null,"21","17:20～17:21",{"$f":"'入力シート(1分周期発電計画)'!Z46","v":0},0,0]
[null,"22","17:21～17:22",{"$f":"'入力シート(1分周期発電計画)'!AA46","v":0},0,0]
[null,"23","17:22～17:23",{"$f":"'入力シート(1分周期発電計画)'!AB46","v":0},0,0]
[null,"24","17:23～17:24",{"$f":"'入力シート(1分周期発電計画)'!AC46","v":0},0,0]
[null,"25","17:24～17:25",{"$f":"'入力シート(1分周期発電計画)'!AD46","v":0},0,0]
[null,"26","17:25～17:26",{"$f":"'入力シート(1分周期発電計画)'!AE46","v":0},0,0]
[null,"27","17:26～17:27",{"$f":"'入力シート(1分周期発電計画)'!AF46","v":0},0,0]
[null,"28","17:27～17:28",{"$f":"'入力シート(1分周期発電計画)'!AG46","v":0},0,0]
[null,"29","17:28～17:29",{"$f":"'入力シート(1分周期発電計画)'!AH46","v":0},0,0]
[null,"30","17:29～17:30",{"$f":"'入力シート(1分周期発電計画)'!AI46","v":0},0,0]
["36","01","17:30～17:31",{"$f":"'入力シート(1分周期発電計画)'!F47","v":0},0,0]
[null,"02","17:31～17:32",{"$f":"'入力シート(1分周期発電計画)'!G47","v":0},0,0]
[null,"03","17:32～17:33",{"$f":"'入力シート(1分周期発電計画)'!H47","v":0},0,0]
[null,"04","17:33～17:34",{"$f":"'入力シート(1分周期発電計画)'!I47","v":0},0,0]
[null,"05","17:34～17:35",{"$f":"'入力シート(1分周期発電計画)'!J47","v":0},0,0]
[null,"06","17:35～17:36",{"$f":"'入力シート(1分周期発電計画)'!K47","v":0},0,0]
[null,"07","17:36～17:37",{"$f":"'入力シート(1分周期発電計画)'!L47","v":0},0,0]
[null,"08","17:37～17:38",{"$f":"'入力シート(1分周期発電計画)'!M47","v":0},0,0]
[null,"09","17:38～17:39",{"$f":"'入力シート(1分周期発電計画)'!N47","v":0},0,0]
[null,"10","17:39～17:40",{"$f":"'入力シート(1分周期発電計画)'!O47","v":0},0,0]
[null,"11","17:40～17:41",{"$f":"'入力シート(1分周期発電計画)'!P47","v":0},0,0]
[null,"12","17:41～17:42",{"$f":"'入力シート(1分周期発電計画)'!Q47","v":0},0,0]
[null,"13","17:42～17:43",{"$f":"'入力シート(1分周期発電計画)'!R47","v":0},0,0]
[null,"14","17:43～17:44",{"$f":"'入力シート(1分周期発電計画)'!S47","v":0},0,0]
[null,"15","17:44～17:45",{"$f":"'入力シート(1分周期発電計画)'!T47","v":0},0,0]
[null,"16","17:45～17:46",{"$f":"'入力シート(1分周期発電計画)'!U47","v":0},0,0]
[null,"17","17:46～17:47",{"$f":"'入力シート(1分周期発電計画)'!V47","v":0},0,0]
[null,"18","17:47～17:48",{"$f":"'入力シート(1分周期発電計画)'!W47","v":0},0,0]
[null,"19","17:48～17:49",{"$f":"'入力シート(1分周期発電計画)'!X47","v":0},0,0]
[null,"20","17:49～17:50",{"$f":"'入力シート(1分周期発電計画)'!Y47","v":0},0,0]
[null,"21","17:50～17:51",{"$f":"'入力シート(1分周期発電計画)'!Z47","v":0},0,0]
[null,"22","17:51～17:52",{"$f":"'入力シート(1分周期発電計画)'!AA47","v":0},0,0]
[null,"23","17:52～17:53",{"$f":"'入力シート(1分周期発電計画)'!AB47","v":0},0,0]
[null,"24","17:53～17:54",{"$f":"'入力シート(1分周期発電計画)'!AC47","v":0},0,0]
[null,"25","17:54～17:55",{"$f":"'入力シート(1分周期発電計画)'!AD47","v":0},0,0]
[null,"26","17:55～17:56",{"$f":"'入力シート(1分周期発電計画)'!AE47","v":0},0,0]
[null,"27","17:56～17:57",{"$f":"'入力シート(1分周期発電計画)'!AF47","v":0},0,0]
[null,"28","17:57～17:58",{"$f":"'入力シート(1分周期発電計画)'!AG47","v":0},0,0]
[null,"29","17:58～17:59",{"$f":"'入力シート(1分周期発電計画)'!AH47","v":0},{"$f":"F1099-D1099","v":0},{"$f":"IFERROR(ROUND(AVERAGE(G1099:BN1099),0),0)","v":0}]
[null,"30","17:59～18:00",{"$f":"'入力シート(1分周期発電計画)'!AI47","v":0},0,0]
["37","01","18:00～18:01",{"$f":"'入力シート(1分周期発電計画)'!F48","v":0},0,0]
[null,"02","18:01～18:02",{"$f":"'入力シート(1分周期発電計画)'!G48","v":0},0,0]
[null,"03","18:02～18:03",{"$f":"'入力シート(1分周期発電計画)'!H48","v":0},0,0]
[null,"04","18:03～18:04",{"$f":"'入力シート(1分周期発電計画)'!I48","v":0},0,0]
[null,"05","18:04～18:05",{"$f":"'入力シート(1分周期発電計画)'!J48","v":0},0,0]
[null,"06","18:05～18:06",{"$f":"'入力シート(1分周期発電計画)'!K48","v":0},0,0]
[null,"07","18:06～18:07",{"$f":"'入力シート(1分周期発電計画)'!L48","v":0},0,0]
[null,"08","18:07～18:08",{"$f":"'入力シート(1分周期発電計画)'!M48","v":0},0,0]
[null,"09","18:08～18:09",{"$f":"'入力シート(1分周期発電計画)'!N48","v":0},0,0]
[null,"10","18:09～18:10",{"$f":"'入力シート(1分周期発電計画)'!O48","v":0},0,0]
[null,"11","18:10～18:11",{"$f":"'入力シート(1分周期発電計画)'!P48","v":0},0,0]
[null,"12","18:11～18:12",{"$f":"'入力シート(1分周期発電計画)'!Q48","v":0},0,0]
[null,"13","18:12～18:13",{"$f":"'入力シート(1分周期発電計画)'!R48","v":0},0,0]
[null,"14","18:13～18:14",{"$f":"'入力シート(1分周期発電計画)'!S48","v":0},0,0]
[null,"15","18:14～18:15",{"$f":"'入力シート(1分周期発電計画)'!T48","v":0},0,0]
[null,"16","18:15～18:16",{"$f":"'入力シート(1分周期発電計画)'!U48","v":0},0,0]
[null,"17","18:16～18:17",{"$f":"'入力シート(1分周期発電計画)'!V48","v":0},0,0]
[null,"18","18:17～18:18",{"$f":"'入力シート(1分周期発電計画)'!W48","v":0},0,0]
[null,"19","18:18～18:19",{"$f":"'入力シート(1分周期発電計画)'!X48","v":0},0,0]
[null,"20","18:19～18:20",{"$f":"'入力シート(1分周期発電計画)'!Y48","v":0},0,0]
[null,"21","18:20～18:21",{"$f":"'入力シート(1分周期発電計画)'!Z48","v":0},0,0]
[null,"22","18:21～18:22",{"$f":"'入力シート(1分周期発電計画)'!AA48","v":0},0,0]
[null,"23","18:22～18:23",{"$f":"'入力シート(1分周期発電計画)'!AB48","v":0},0,0]
[null,"24","18:23～18:24",{"$f":"'入力シート(1分周期発電計画)'!AC48","v":0},0,0]
[null,"25","18:24～18:25",{"$f":"'入力シート(1分周期発電計画)'!AD48","v":0},0,0]
[null,"26","18:25～18:26",{"$f":"'入力シート(1分周期発電計画)'!AE48","v":0},0,0]
[null,"27","18:26～18:27",{"$f":"'入力シート(1分周期発電計画)'!AF48","v":0},0,0]
[null,"28","18:27～18:28",{"$f":"'入力シート(1分周期発電計画)'!AG48","v":0},0,0]
[null,"29","18:28～18:29",{"$f":"'入力シート(1分周期発電計画)'!AH48","v":0},0,0]
[null,"30","18:29～18:30",{"$f":"'入力シート(1分周期発電計画)'!AI48","v":0},0,0]
["38","01","18:30～18:31",{"$f":"'入力シート(1分周期発電計画)'!F49","v":0},0,0]
[null,"02","18:31～18:32",{"$f":"'入力シート(1分周期発電計画)'!G49","v":0},0,0]
[null,"03","18:32～18:33",{"$f":"'入力シート(1分周期発電計画)'!H49","v":0},0,0]
[null,"04","18:33～18:34",{"$f":"'入力シート(1分周期発電計画)'!I49","v":0},0,0]
[null,"05","18:34～18:35",{"$f":"'入力シート(1分周期発電計画)'!J49","v":0},0,0]
[null,"06","18:35～18:36",{"$f":"'入力シート(1分周期発電計画)'!K49","v":0},0,0]
[null,"07","18:36～18:37",{"$f":"'入力シート(1分周期発電計画)'!L49","v":0},0,0]
[null,"08","18:37～18:38",{"$f":"'入力シート(1分周期発電計画)'!M49","v":0},0,0]
[null,"09","18:38～18:39",{"$f":"'入力シート(1分周期発電計画)'!N49","v":0},0,0]
[null,"10","18:39～18:40",{"$f":"'入力シート(1分周期発電計画)'!O49","v":0},0,0]
[null,"11","18:40～18:41",{"$f":"'入力シート(1分周期発電計画)'!P49","v":0},0,0]
[null,"12","18:41～18:42",{"$f":"'入力シート(1分周期発電計画)'!Q49","v":0},0,0]
[null,"13","18:42～18:43",{"$f":"'入力シート(1分周期発電計画)'!R49","v":0},0,0]
[null,"14","18:43～18:44",{"$f":"'入力シート(1分周期発電計画)'!S49","v":0},0,0]
[null,"15","18:44～18:45",{"$f":"'入力シート(1分周期発電計画)'!T49","v":0},0,0]
[null,"16","18:45～18:46",{"$f":"'入力シート(1分周期発電計画)'!U49","v":0},0,0]
[null,"17","18:46～18:47",{"$f":"'入力シート(1分周期発電計画)'!V49","v":0},0,0]
[null,"18","18:47～18:48",{"$f":"'入力シート(1分周期発電計画)'!W49","v":0},0,0]
[null,"19","18:48～18:49",{"$f":"'入力シート(1分周期発電計画)'!X49","v":0},0,0]
[null,"20","18:49～18:50",{"$f":"'入力シート(1分周期発電計画)'!Y49","v":0},0,0]
[null,"21","18:50～18:51",{"$f":"'入力シート(1分周期発電計画)'!Z49","v":0},0,0]
[null,"22","18:51～18:52",{"$f":"'入力シート(1分周期発電計画)'!AA49","v":0},0,0]
[null,"23","18:52～18:53",{"$f":"'入力シート(1分周期発電計画)'!AB49","v":0},0,0]
[null,"24","18:53～18:54",{"$f":"'入力シート(1分周期発電計画)'!AC49","v":0},0,0]
[null,"25","18:54～18:55",{"$f":"'入力シート(1分周期発電計画)'!AD49","v":0},0,0]
[null,"26","18:55～18:56",{"$f":"'入力シート(1分周期発電計画)'!AE49","v":0},0,0]
[null,"27","18:56～18:57",{"$f":"'入力シート(1分周期発電計画)'!AF49","v":0},0,0]
[null,"28","18:57～18:58",{"$f":"'入力シート(1分周期発電計画)'!AG49","v":0},0,0]
[null,"29","18:58～18:59",{"$f":"'入力シート(1分周期発電計画)'!AH49","v":0},0,0]
[null,"30","18:59～19:00",{"$f":"'入力シート(1分周期発電計画)'!AI49","v":0},0,0]
["39","01","19:00～19:01",{"$f":"'入力シート(1分周期発電計画)'!F50","v":0},0,0]
[null,"02","19:01～19:02",{"$f":"'入力シート(1分周期発電計画)'!G50","v":0},0,0]
[null,"03","19:02～19:03",{"$f":"'入力シート(1分周期発電計画)'!H50","v":0},{"$f":"F1163-D1163","v":0},{"$f":"IFERROR(ROUND(AVERAGE(G1163:BN1163),0),0)","v":0}]
[null,"04","19:03～19:04",{"$f":"'入力シート(1分周期発電計画)'!I50","v":0},0,0]
[null,"05","19:04～19:05",{"$f":"'入力シート(1分周期発電計画)'!J50","v":0},0,0]
[null,"06","19:05～19:06",{"$f":"'入力シート(1分周期発電計画)'!K50","v":0},0,0]
[null,"07","19:06～19:07",{"$f":"'入力シート(1分周期発電計画)'!L50","v":0},0,0]
[null,"08","19:07～19:08",{"$f":"'入力シート(1分周期発電計画)'!M50","v":0},0,0]
[null,"09","19:08～19:09",{"$f":"'入力シート(1分周期発電計画)'!N50","v":0},0,0]
[null,"10","19:09～19:10",{"$f":"'入力シート(1分周期発電計画)'!O50","v":0},0,0]
[null,"11","19:10～19:11",{"$f":"'入力シート(1分周期発電計画)'!P50","v":0},0,0]
[null,"12","19:11～19:12",{"$f":"'入力シート(1分周期発電計画)'!Q50","v":0},0,0]
[null,"13","19:12～19:13",{"$f":"'入力シート(1分周期発電計画)'!R50","v":0},0,0]
[null,"14","19:13～19:14",{"$f":"'入力シート(1分周期発電計画)'!S50","v":0},0,0]
[null,"15","19:14～19:15",{"$f":"'入力シート(1分周期発電計画)'!T50","v":0},0,0]
[null,"16","19:15～19:16",{"$f":"'入力シート(1分周期発電計画)'!U50","v":0},0,0]
[null,"17","19:16～19:17",{"$f":"'入力シート(1分周期発電計画)'!V50","v":0},0,0]
[null,"18","19:17～19:18",{"$f":"'入力シート(1分周期発電計画)'!W50","v":0},0,0]
[null,"19","19:18～19:19",{"$f":"'入力シート(1分周期発電計画)'!X50","v":0},0,0]
[null,"20","19:19～19:20",{"$f":"'入力シート(1分周期発電計画)'!Y50","v":0},0,0]
[null,"21","19:20～19:21",{"$f":"'入力シート(1分周期発電計画)'!Z50","v":0},0,0]
[null,"22","19:21～19:22",{"$f":"'入力シート(1分周期発電計画)'!AA50","v":0},0,0]
[null,"23","19:22～19:23",{"$f":"'入力シート(1分周期発電計画)'!AB50","v":0},0,0]
[null,"24","19:23～19:24",{"$f":"'入力シート(1分周期発電計画)'!AC50","v":0},0,0]
[null,"25","19:24～19:25",{"$f":"'入力シート(1分周期発電計画)'!AD50","v":0},0,0]
[null,"26","19:25～19:26",{"$f":"'入力シート(1分周期発電計画)'!AE50","v":0},0,0]
[null,"27","19:26～19:27",{"$f":"'入力シート(1分周期発電計画)'!AF50","v":0},0,0]
[null,"28","19:27～19:28",{"$f":"'入力シート(1分周期発電計画)'!AG50","v":0},0,0]
[null,"29","19:28～19:29",{"$f":"'入力シート(1分周期発電計画)'!AH50","v":0},0,0]
[null,"30","19:29～19:30",{"$f":"'入力シート(1分周期発電計画)'!AI50","v":0},0,0]
["40","01","19:30～19:31",{"$f":"'入力シート(1分周期発電計画)'!F51","v":0},0,0]
[null,"02","19:31～19:32",{"$f":"'入力シート(1分周期発電計画)'!G51","v":0},0,0]
[null,"03","19:32～19:33",{"$f":"'入力シート(1分周期発電計画)'!H51","v":0},0,0]
[null,"04","19:33～19:34",{"$f":"'入力シート(1分周期発電計画)'!I51","v":0},0,0]
[null,"05","19:34～19:35",{"$f":"'入力シート(1分周期発電計画)'!J51","v":0},0,0]
[null,"06","19:35～19:36",{"$f":"'入力シート(1分周期発電計画)'!K51","v":0},0,0]
[null,"07","19:36～19:37",{"$f":"'入力シート(1分周期発電計画)'!L51","v":0},0,0]
[null,"08","19:37～19:38",{"$f":"'入力シート(1分周期発電計画)'!M51","v":0},0,0]
[null,"09","19:38～19:39",{"$f":"'入力シート(1分周期発電計画)'!N51","v":0},0,0]
[null,"10","19:39～19:40",{"$f":"'入力シート(1分周期発電計画)'!O51","v":0},0,0]
[null,"11","19:40～19:41",{"$f":"'入力シート(1分周期発電計画)'!P51","v":0},0,0]
[null,"12","19:41～19:42",{"$f":"'入力シート(1分周期発電計画)'!Q51","v":0},0,0]
[null,"13","19:42～19:43",{"$f":"'入力シート(1分周期発電計画)'!R51","v":0},0,0]
[null,"14","19:43～19:44",{"$f":"'入力シート(1分周期発電計画)'!S51","v":0},0,0]
[null,"15","19:44～19:45",{"$f":"'入力シート(1分周期発電計画)'!T51","v":0},0,0]
[null,"16","19:45～19:46",{"$f":"'入力シート(1分周期発電計画)'!U51","v":0},0,0]
[null,"17","19:46～19:47",{"$f":"'入力シート(1分周期発電計画)'!V51","v":0},0,0]
[null,"18","19:47～19:48",{"$f":"'入力シート(1分周期発電計画)'!W51","v":0},0,0]
[null,"19","19:48～19:49",{"$f":"'入力シート(1分周期発電計画)'!X51","v":0},0,0]
[null,"20","19:49～19:50",{"$f":"'入力シート(1分周期発電計画)'!Y51","v":0},0,0]
[null,"21","19:50～19:51",{"$f":"'入力シート(1分周期発電計画)'!Z51","v":0},0,0]
[null,"22","19:51～19:52",{"$f":"'入力シート(1分周期発電計画)'!AA51","v":0},0,0]
[null,"23","19:52～19:53",{"$f":"'入力シート(1分周期発電計画)'!AB51","v":0},0,0]
[null,"24","19:53～19:54",{"$f":"'入力シート(1分周期発電計画)'!AC51","v":0},0,0]
[null,"25","19:54～19:55",{"$f":"'入力シート(1分周期発電計画)'!AD51","v":0},0,0]
[null,"26","19:55～19:56",{"$f":"'入力シート(1分周期発電計画)'!AE51","v":0},0,0]
[null,"27","19:56～19:57",{"$f":"'入力シート(1分周期発電計画)'!AF51","v":0},0,0]
[null,"28","19:57～19:58",{"$f":"'入力シート(1分周期発電計画)'!AG51","v":0},0,0]
[null,"29","19:58～19:59",{"$f":"'入力シート(1分周期発電計画)'!AH51","v":0},0,0]
[null,"30","19:59～20:00",{"$f":"'入力シート(1分周期発電計画)'!AI51","v":0},0,0]
["41","01","20:00～20:01",{"$f":"'入力シート(1分周期発電計画)'!F52","v":0},0,0]
[null,"02","20:01～20:02",{"$f":"'入力シート(1分周期発電計画)'!G52","v":0},0,0]
[null,"03","20:02～20:03",{"$f":"'入力シート(1分周期発電計画)'!H52","v":0},0,0]
[null,"04","20:03～20:04",{"$f":"'入力シート(1分周期発電計画)'!I52","v":0},0,0]
[null,"05","20:04～20:05",{"$f":"'入力シート(1分周期発電計画)'!J52","v":0},0,0]
[null,"06","20:05～20:06",{"$f":"'入力シート(1分周期発電計画)'!K52","v":0},0,0]
[null,"07","20:06～20:07",{"$f":"'入力シート(1分周期発電計画)'!L52","v":0},{"$f":"F1227-D1227","v":0},{"$f":"IFERROR(ROUND(AVERAGE(G1227:BN1227),0),0)","v":0}]
[null,"08","20:07～20:08",{"$f":"'入力シート(1分周期発電計画)'!M52","v":0},0,0]
[null,"09","20:08～20:09",{"$f":"'入力シート(1分周期発電計画)'!N52","v":0},0,0]
[null,"10","20:09～20:10",{"$f":"'入力シート(1分周期発電計画)'!O52","v":0},0,0]
[null,"11","20:10～20:11",{"$f":"'入力シート(1分周期発電計画)'!P52","v":0},0,0]
[null,"12","20:11～20:12",{"$f":"'入力シート(1分周期発電計画)'!Q52","v":0},0,0]
[null,"13","20:12～20:13",{"$f":"'入力シート(1分周期発電計画)'!R52","v":0},0,0]
[null,"14","20:13～20:14",{"$f":"'入力シート(1分周期発電計画)'!S52","v":0},0,0]
[null,"15","20:14～20:15",{"$f":"'入力シート(1分周期発電計画)'!T52","v":0},0,0]
[null,"16","20:15～20:16",{"$f":"'入力シート(1分周期発電計画)'!U52","v":0},0,0]
[null,"17","20:16～20:17",{"$f":"'入力シート(1分周期発電計画)'!V52","v":0},0,0]
[null,"18","20:17～20:18",{"$f":"'入力シート(1分周期発電計画)'!W52","v":0},0,0]
[null,"19","20:18～20:19",{"$f":"'入力シート(1分周期発電計画)'!X52","v":0},0,0]
[null,"20","20:19～20:20",{"$f":"'入力シート(1分周期発電計画)'!Y52","v":0},0,0]
[null,"21","20:20～20:21",{"$f":"'入力シート(1分周期発電計画)'!Z52","v":0},0,0]
[null,"22","20:21～20:22",{"$f":"'入力シート(1分周期発電計画)'!AA52","v":0},0,0]
[null,"23","20:22～20:23",{"$f":"'入力シート(1分周期発電計画)'!AB52","v":0},0,0]
[null,"24","20:23～20:24",{"$f":"'入力シート(1分周期発電計画)'!AC52","v":0},0,0]
[null,"25","20:24～20:25",{"$f":"'入力シート(1分周期発電計画)'!AD52","v":0},0,0]
[null,"26","20:25～20:26",{"$f":"'入力シート(1分周期発電計画)'!AE52","v":0},0,0]
[null,"27","20:26～20:27",{"$f":"'入力シート(1分周期発電計画)'!AF52","v":0},0,0]
[null,"28","20:27～20:28",{"$f":"'入力シート(1分周期発電計画)'!AG52","v":0},0,0]
[null,"29","20:28～20:29",{"$f":"'入力シート(1分周期発電計画)'!AH52","v":0},0,0]
[null,"30","20:29～20:30",{"$f":"'入力シート(1分周期発電計画)'!AI52","v":0},0,0]
["42","01","20:30～20:31",{"$f":"'入力シート(1分周期発電計画)'!F53","v":0},0,0]
[null,"02","20:31～20:32",{"$f":"'入力シート(1分周期発電計画)'!G53","v":0},0,0]
[null,"03","20:32～20:33",{"$f":"'入力シート(1分周期発電計画)'!H53","v":0},0,0]
[null,"04","20:33～20:34",{"$f":"'入力シート(1分周期発電計画)'!I53","v":0},0,0]
[null,"05","20:34～20:35",{"$f":"'入力シート(1分周期発電計画)'!J53","v":0},0,0]
[null,"06","20:35～20:36",{"$f":"'入力シート(1分周期発電計画)'!K53","v":0},0,0]
[null,"07","20:36～20:37",{"$f":"'入力シート(1分周期発電計画)'!L53","v":0},0,0]
[null,"08","20:37～20:38",{"$f":"'入力シート(1分周期発電計画)'!M53","v":0},0,0]
[null,"09","20:38～20:39",{"$f":"'入力シート(1分周期発電計画)'!N53","v":0},0,0]
[null,"10","20:39～20:40",{"$f":"'入力シート(1分周期発電計画)'!O53","v":0},0,0]
[null,"11","20:40～20:41",{"$f":"'入力シート(1分周期発電計画)'!P53","v":0},0,0]
[null,"12","20:41～20:42",{"$f":"'入力シート(1分周期発電計画)'!Q53","v":0},0,0]
[null,"13","20:42～20:43",{"$f":"'入力シート(1分周期発電計画)'!R53","v":0},0,0]
[null,"14","20:43～20:44",{"$f":"'入力シート(1分周期発電計画)'!S53","v":0},0,0]
[null,"15","20:44～20:45",{"$f":"'入力シート(1分周期発電計画)'!T53","v":0},0,0]
[null,"16","20:45～20:46",{"$f":"'入力シート(1分周期発電計画)'!U53","v":0},0,0]
[null,"17","20:46～20:47",{"$f":"'入力シート(1分周期発電計画)'!V53","v":0},0,0]
[null,"18","20:47～20:48",{"$f":"'入力シート(1分周期発電計画)'!W53","v":0},0,0]
[null,"19","20:48～20:49",{"$f":"'入力シート(1分周期発電計画)'!X53","v":0},0,0]
[null,"20","20:49～20:50",{"$f":"'入力シート(1分周期発電計画)'!Y53","v":0},0,0]
[null,"21","20:50～20:51",{"$f":"'入力シート(1分周期発電計画)'!Z53","v":0},0,0]
[null,"22","20:51～20:52",{"$f":"'入力シート(1分周期発電計画)'!AA53","v":0},0,0]
[null,"23","20:52～20:53",{"$f":"'入力シート(1分周期発電計画)'!AB53","v":0},0,0]
[null,"24","20:53～20:54",{"$f":"'入力シート(1分周期発電計画)'!AC53","v":0},0,0]
[null,"25","20:54～20:55",{"$f":"'入力シート(1分周期発電計画)'!AD53","v":0},0,0]
[null,"26","20:55～20:56",{"$f":"'入力シート(1分周期発電計画)'!AE53","v":0},0,0]
[null,"27","20:56～20:57",{"$f":"'入力シート(1分周期発電計画)'!AF53","v":0},0,0]
[null,"28","20:57～20:58",{"$f":"'入力シート(1分周期発電計画)'!AG53","v":0},0,0]
[null,"29","20:58～20:59",{"$f":"'入力シート(1分周期発電計画)'!AH53","v":0},0,0]
[null,"30","20:59～21:00",{"$f":"'入力シート(1分周期発電計画)'!AI53","v":0},0,0]
["43","01","21:00～21:01",{"$f":"'入力シート(1分周期発電計画)'!F54","v":0},0,0]
[null,"02","21:01～21:02",{"$f":"'入力シート(1分周期発電計画)'!G54","v":0},0,0]
[null,"03","21:02～21:03",{"$f":"'入力シート(1分周期発電計画)'!H54","v":0},0,0]
[null,"04","21:03～21:04",{"$f":"'入力シート(1分周期発電計画)'!I54","v":0},0,0]
[null,"05","21:04～21:05",{"$f":"'入力シート(1分周期発電計画)'!J54","v":0},0,0]
[null,"06","21:05～21:06",{"$f":"'入力シート(1分周期発電計画)'!K54","v":0},0,0]
[null,"07","21:06～21:07",{"$f":"'入力シート(1分周期発電計画)'!L54","v":0},0,0]
[null,"08","21:07～21:08",{"$f":"'入力シート(1分周期発電計画)'!M54","v":0},0,0]
[null,"09","21:08～21:09",{"$f":"'入力シート(1分周期発電計画)'!N54","v":0},0,0]
[null,"10","21:09～21:10",{"$f":"'入力シート(1分周期発電計画)'!O54","v":0},0,0]
[null,"11","21:10～21:11",{"$f":"'入力シート(1分周期発電計画)'!P54","v":0},{"$f":"F1291-D1291","v":0},{"$f":"IFERROR(ROUND(AVERAGE(G1291:BN1291),0),0)","v":0}]
[null,"12","21:11～21:12",{"$f":"'入力シート(1分周期発電計画)'!Q54","v":0},0,0]
[null,"13","21:12～21:13",{"$f":"'入力シート(1分周期発電計画)'!R54","v":0},0,0]
[null,"14","21:13～21:14",{"$f":"'入力シート(1分周期発電計画)'!S54","v":0},0,0]
[null,"15","21:14～21:15",{"$f":"'入力シート(1分周期発電計画)'!T54","v":0},0,0]
[null,"16","21:15～21:16",{"$f":"'入力シート(1分周期発電計画)'!U54","v":0},0,0]
[null,"17","21:16～21:17",{"$f":"'入力シート(1分周期発電計画)'!V54","v":0},0,0]
[null,"18","21:17～21:18",{"$f":"'入力シート(1分周期発電計画)'!W54","v":0},0,0]
[null,"19","21:18～21:19",{"$f":"'入力シート(1分周期発電計画)'!X54","v":0},0,0]
[null,"20","21:19～21:20",{"$f":"'入力シート(1分周期発電計画)'!Y54","v":0},0,0]
[null,"21","21:20～21:21",{"$f":"'入力シート(1分周期発電計画)'!Z54","v":0},0,0]
[null,"22","21:21～21:22",{"$f":"'入力シート(1分周期発電計画)'!AA54","v":0},0,0]
[null,"23","21:22～21:23",{"$f":"'入力シート(1分周期発電計画)'!AB54","v":0},0,0]
[null,"24","21:23～21:24",{"$f":"'入力シート(1分周期発電計画)'!AC54","v":0},0,0]
[null,"25","21:24～21:25",{"$f":"'入力シート(1分周期発電計画)'!AD54","v":0},0,0]
[null,"26","21:25～21:26",{"$f":"'入力シート(1分周期発電計画)'!AE54","v":0},0,0]
[null,"27","21:26～21:27",{"$f":"'入力シート(1分周期発電計画)'!AF54","v":0},0,0]
[null,"28","21:27～21:28",{"$f":"'入力シート(1分周期発電計画)'!AG54","v":0},0,0]
[null,"29","21:28～21:29",{"$f":"'入力シート(1分周期発電計画)'!AH54","v":0},0,0]
[null,"30","21:29～21:30",{"$f":"'入力シート(1分周期発電計画)'!AI54","v":0},0,0]
["44","01","21:30～21:31",{"$f":"'入力シート(1分周期発電計画)'!F55","v":0},0,0]
[null,"02","21:31～21:32",{"$f":"'入力シート(1分周期発電計画)'!G55","v":0},0,0]
[null,"03","21:32～21:33",{"$f":"'入力シート(1分周期発電計画)'!H55","v":0},0,0]
[null,"04","21:33～21:34",{"$f":"'入力シート(1分周期発電計画)'!I55","v":0},0,0]
[null,"05","21:34～21:35",{"$f":"'入力シート(1分周期発電計画)'!J55","v":0},0,0]
[null,"06","21:35～21:36",{"$f":"'入力シート(1分周期発電計画)'!K55","v":0},0,0]
[null,"07","21:36～21:37",{"$f":"'入力シート(1分周期発電計画)'!L55","v":0},0,0]
[null,"08","21:37～21:38",{"$f":"'入力シート(1分周期発電計画)'!M55","v":0},0,0]
[null,"09","21:38～21:39",{"$f":"'入力シート(1分周期発電計画)'!N55","v":0},0,0]
[null,"10","21:39～21:40",{"$f":"'入力シート(1分周期発電計画)'!O55","v":0},0,0]
[null,"11","21:40～21:41",{"$f":"'入力シート(1分周期発電計画)'!P55","v":0},0,0]
[null,"12","21:41～21:42",{"$f":"'入力シート(1分周期発電計画)'!Q55","v":0},0,0]
[null,"13","21:42～21:43",{"$f":"'入力シート(1分周期発電計画)'!R55","v":0},0,0]
[null,"14","21:43～21:44",{"$f":"'入力シート(1分周期発電計画)'!S55","v":0},0,0]
[null,"15","21:44～21:45",{"$f":"'入力シート(1分周期発電計画)'!T55","v":0},0,0]
[null,"16","21:45～21:46",{"$f":"'入力シート(1分周期発電計画)'!U55","v":0},0,0]
[null,"17","21:46～21:47",{"$f":"'入力シート(1分周期発電計画)'!V55","v":0},0,0]
[null,"18","21:47～21:48",{"$f":"'入力シート(1分周期発電計画)'!W55","v":0},0,0]
[null,"19","21:48～21:49",{"$f":"'入力シート(1分周期発電計画)'!X55","v":0},0,0]
[null,"20","21:49～21:50",{"$f":"'入力シート(1分周期発電計画)'!Y55","v":0},0,0]
[null,"21","21:50～21:51",{"$f":"'入力シート(1分周期発電計画)'!Z55","v":0},0,0]
[null,"22","21:51～21:52",{"$f":"'入力シート(1分周期発電計画)'!AA55","v":0},0,0]
[null,"23","21:52～21:53",{"$f":"'入力シート(1分周期発電計画)'!AB55","v":0},0,0]
[null,"24","21:53～21:54",{"$f":"'入力シート(1分周期発電計画)'!AC55","v":0},0,0]
[null,"25","21:54～21:55",{"$f":"'入力シート(1分周期発電計画)'!AD55","v":0},0,0]
[null,"26","21:55～21:56",{"$f":"'入力シート(1分周期発電計画)'!AE55","v":0},0,0]
[null,"27","21:56～21:57",{"$f":"'入力シート(1分周期発電計画)'!AF55","v":0},0,0]
[null,"28","21:57～21:58",{"$f":"'入力シート(1分周期発電計画)'!AG55","v":0},0,0]
[null,"29","21:58～21:59",{"$f":"'入力シート(1分周期発電計画)'!AH55","v":0},0,0]
[null,"30","21:59～22:00",{"$f":"'入力シート(1分周期発電計画)'!AI55","v":0},0,0]
["45","01","22:00～22:01",{"$f":"'入力シート(1分周期発電計画)'!F56","v":0},0,0]
[null,"02","22:01～22:02",{"$f":"'入力シート(1分周期発電計画)'!G56","v":0},0,0]
[null,"03","22:02～22:03",{"$f":"'入力シート(1分周期発電計画)'!H56","v":0},0,0]
[null,"04","22:03～22:04",{"$f":"'入力シート(1分周期発電計画)'!I56","v":0},0,0]
[null,"05","22:04～22:05",{"$f":"'入力シート(1分周期発電計画)'!J56","v":0},0,0]
[null,"06","22:05～22:06",{"$f":"'入力シート(1分周期発電計画)'!K56","v":0},0,0]
[null,"07","22:06～22:07",{"$f":"'入力シート(1分周期発電計画)'!L56","v":0},0,0]
[null,"08","22:07～22:08",{"$f":"'入力シート(1分周期発電計画)'!M56","v":0},0,0]
[null,"09","22:08～22:09",{"$f":"'入力シート(1分周期発電計画)'!N56","v":0},0,0]
[null,"10","22:09～22:10",{"$f":"'入力シート(1分周期発電計画)'!O56","v":0},0,0]
[null,"11","22:10～22:11",{"$f":"'入力シート(1分周期発電計画)'!P56","v":0},0,0]
[null,"12","22:11～22:12",{"$f":"'入力シート(1分周期発電計画)'!Q56","v":0},0,0]
[null,"13","22:12～22:13",{"$f":"'入力シート(1分周期発電計画)'!R56","v":0},0,0]
[null,"14","22:13～22:14",{"$f":"'入力シート(1分周期発電計画)'!S56","v":0},0,0]
[null,"15","22:14～22:15",{"$f":"'入力シート(1分周期発電計画)'!T56","v":0},{"$f":"F1355-D1355","v":0},{"$f":"IFERROR(ROUND(AVERAGE(G1355:BN1355),0),0)","v":0}]
[null,"16","22:15～22:16",{"$f":"'入力シート(1分周期発電計画)'!U56","v":0},0,0]
[null,"17","22:16～22:17",{"$f":"'入力シート(1分周期発電計画)'!V56","v":0},0,0]
[null,"18","22:17～22:18",{"$f":"'入力シート(1分周期発電計画)'!W56","v":0},0,0]
[null,"19","22:18～22:19",{"$f":"'入力シート(1分周期発電計画)'!X56","v":0},0,0]
[null,"20","22:19～22:20",{"$f":"'入力シート(1分周期発電計画)'!Y56","v":0},0,0]
[null,"21","22:20～22:21",{"$f":"'入力シート(1分周期発電計画)'!Z56","v":0},0,0]
[null,"22","22:21～22:22",{"$f":"'入力シート(1分周期発電計画)'!AA56","v":0},0,0]
[null,"23","22:22～22:23",{"$f":"'入力シート(1分周期発電計画)'!AB56","v":0},0,0]
[null,"24","22:23～22:24",{"$f":"'入力シート(1分周期発電計画)'!AC56","v":0},0,0]
[null,"25","22:24～22:25",{"$f":"'入力シート(1分周期発電計画)'!AD56","v":0},0,0]
[null,"26","22:25～22:26",{"$f":"'入力シート(1分周期発電計画)'!AE56","v":0},0,0]
[null,"27","22:26～22:27",{"$f":"'入力シート(1分周期発電計画)'!AF56","v":0},0,0]
[null,"28","22:27～22:28",{"$f":"'入力シート(1分周期発電計画)'!AG56","v":0},0,0]
[null,"29","22:28～22:29",{"$f":"'入力シート(1分周期発電計画)'!AH56","v":0},0,0]
[null,"30","22:29～22:30",{"$f":"'入力シート(1分周期発電計画)'!AI56","v":0},0,0]
["46","01","22:30～22:31",{"$f":"'入力シート(1分周期発電計画)'!F57","v":0},0,0]
[null,"02","22:31～22:32",{"$f":"'入力シート(1分周期発電計画)'!G57","v":0},0,0]
[null,"03","22:32～22:33",{"$f":"'入力シート(1分周期発電計画)'!H57","v":0},0,0]
[null,"04","22:33～22:34",{"$f":"'入力シート(1分周期発電計画)'!I57","v":0},0,0]
[null,"05","22:34～22:35",{"$f":"'入力シート(1分周期発電計画)'!J57","v":0},0,0]
[null,"06","22:35～22:36",{"$f":"'入力シート(1分周期発電計画)'!K57","v":0},0,0]
[null,"07","22:36～22:37",{"$f":"'入力シート(1分周期発電計画)'!L57","v":0},0,0]
[null,"08","22:37～22:38",{"$f":"'入力シート(1分周期発電計画)'!M57","v":0},0,0]
[null,"09","22:38～22:39",{"$f":"'入力シート(1分周期発電計画)'!N57","v":0},0,0]
[null,"10","22:39～22:40",{"$f":"'入力シート(1分周期発電計画)'!O57","v":0},0,0]
[null,"11","22:40～22:41",{"$f":"'入力シート(1分周期発電計画)'!P57","v":0},0,0]
[null,"12","22:41～22:42",{"$f":"'入力シート(1分周期発電計画)'!Q57","v":0},0,0]
[null,"13","22:42～22:43",{"$f":"'入力シート(1分周期発電計画)'!R57","v":0},0,0]
[null,"14","22:43～22:44",{"$f":"'入力シート(1分周期発電計画)'!S57","v":0},0,0]
[null,"15","22:44～22:45",{"$f":"'入力シート(1分周期発電計画)'!T57","v":0},0,0]
[null,"16","22:45～22:46",{"$f":"'入力シート(1分周期発電計画)'!U57","v":0},0,0]
[null,"17","22:46～22:47",{"$f":"'入力シート(1分周期発電計画)'!V57","v":0},0,0]
[null,"18","22:47～22:48",{"$f":"'入力シート(1分周期発電計画)'!W57","v":0},0,0]
[null,"19","22:48～22:49",{"$f":"'入力シート(1分周期発電計画)'!X57","v":0},0,0]
[null,"20","22:49～22:50",{"$f":"'入力シート(1分周期発電計画)'!Y57","v":0},0,0]
[null,"21","22:50～22:51",{"$f":"'入力シート(1分周期発電計画)'!Z57","v":0},0,0]
[null,"22","22:51～22:52",{"$f":"'入力シート(1分周期発電計画)'!AA57","v":0},0,0]
[null,"23","22:52～22:53",{"$f":"'入力シート(1分周期発電計画)'!AB57","v":0},0,0]
[null,"24","22:53～22:54",{"$f":"'入力シート(1分周期発電計画)'!AC57","v":0},0,0]
[null,"25","22:54～22:55",{"$f":"'入力シート(1分周期発電計画)'!AD57","v":0},0,0]
[null,"26","22:55～22:56",{"$f":"'入力シート(1分周期発電計画)'!AE57","v":0},0,0]
[null,"27","22:56～22:57",{"$f":"'入力シート(1分周期発電計画)'!AF57","v":0},0,0]
[null,"28","22:57～22:58",{"$f":"'入力シート(1分周期発電計画)'!AG57","v":0},0,0]
[null,"29","22:58～22:59",{"$f":"'入力シート(1分周期発電計画)'!AH57","v":0},0,0]
[null,"30","22:59～23:00",{"$f":"'入力シート(1分周期発電計画)'!AI57","v":0},0,0]
["47","01","23:00～23:01",{"$f":"'入力シート(1分周期発電計画)'!F58","v":0},0,0]
[null,"02","23:01～23:02",{"$f":"'入力シート(1分周期発電計画)'!G58","v":0},0,0]
[null,"03","23:02～23:03",{"$f":"'入力シート(1分周期発電計画)'!H58","v":0},0,0]
[null,"04","23:03～23:04",{"$f":"'入力シート(1分周期発電計画)'!I58","v":0},0,0]
[null,"05","23:04～23:05",{"$f":"'入力シート(1分周期発電計画)'!J58","v":0},0,0]
[null,"06","23:05～23:06",{"$f":"'入力シート(1分周期発電計画)'!K58","v":0},0,0]
[null,"07","23:06～23:07",{"$f":"'入力シート(1分周期発電計画)'!L58","v":0},0,0]
[null,"08","23:07～23:08",{"$f":"'入力シート(1分周期発電計画)'!M58","v":0},0,0]
[null,"09","23:08～23:09",{"$f":"'入力シート(1分周期発電計画)'!N58","v":0},0,0]
[null,"10","23:09～23:10",{"$f":"'入力シート(1分周期発電計画)'!O58","v":0},0,0]
[null,"11","23:10～23:11",{"$f":"'入力シート(1分周期発電計画)'!P58","v":0},0,0]
[null,"12","23:11～23:12",{"$f":"'入力シート(1分周期発電計画)'!Q58","v":0},0,0]
[null,"13","23:12～23:13",{"$f":"'入力シート(1分周期発電計画)'!R58","v":0},0,0]
[null,"14","23:13～23:14",{"$f":"'入力シート(1分周期発電計画)'!S58","v":0},0,0]
[null,"15","23:14～23:15",{"$f":"'入力シート(1分周期発電計画)'!T58","v":0},0,0]
[null,"16","23:15～23:16",{"$f":"'入力シート(1分周期発電計画)'!U58","v":0},0,0]
[null,"17","23:16～23:17",{"$f":"'入力シート(1分周期発電計画)'!V58","v":0},0,0]
[null,"18","23:17～23:18",{"$f":"'入力シート(1分周期発電計画)'!W58","v":0},0,0]
[null,"19","23:18～23:19",{"$f":"'入力シート(1分周期発電計画)'!X58","v":0},{"$f":"F1419-D1419","v":0},{"$f":"IFERROR(ROUND(AVERAGE(G1419:BN1419),0),0)","v":0}]
[null,"20","23:19～23:20",{"$f":"'入力シート(1分周期発電計画)'!Y58","v":0},0,0]
[null,"21","23:20～23:21",{"$f":"'入力シート(1分周期発電計画)'!Z58","v":0},0,0]
[null,"22","23:21～23:22",{"$f":"'入力シート(1分周期発電計画)'!AA58","v":0},0,0]
[null,"23","23:22～23:23",{"$f":"'入力シート(1分周期発電計画)'!AB58","v":0},0,0]
[null,"24","23:23～23:24",{"$f":"'入力シート(1分周期発電計画)'!AC58","v":0},0,0]
[null,"25","23:24～23:25",{"$f":"'入力シート(1分周期発電計画)'!AD58","v":0},0,0]
[null,"26","23:25～23:26",{"$f":"'入力シート(1分周期発電計画)'!AE58","v":0},0,0]
[null,"27","23:26～23:27",{"$f":"'入力シート(1分周期発電計画)'!AF58","v":0},0,0]
[null,"28","23:27～23:28",{"$f":"'入力シート(1分周期発電計画)'!AG58","v":0},0,0]
[null,"29","23:28～23:29",{"$f":"'入力シート(1分周期発電計画)'!AH58","v":0},0,0]
[null,"30","23:29～23:30",{"$f":"'入力シート(1分周期発電計画)'!AI58","v":0},0,0]
["48","01","23:30～23:31",{"$f":"'入力シート(1分周期発電計画)'!F59","v":0},0,0]
[null,"02","23:31～23:32",{"$f":"'入力シート(1分周期発電計画)'!G59","v":0},0,0]
[null,"03","23:32～23:33",{"$f":"'入力シート(1分周期発電計画)'!H59","v":0},0,0]
[null,"04","23:33～23:34",{"$f":"'入力シート(1分周期発電計画)'!I59","v":0},0,0]
[null,"05","23:34～23:35",{"$f":"'入力シート(1分周期発電計画)'!J59","v":0},0,0]
[null,"06","23:35～23:36",{"$f":"'入力シート(1分周期発電計画)'!K59","v":0},0,0]
[null,"07","23:36～23:37",{"$f":"'入力シート(1分周期発電計画)'!L59","v":0},0,0]
[null,"08","23:37～23:38",{"$f":"'入力シート(1分周期発電計画)'!M59","v":0},0,0]
[null,"09","23:38～23:39",{"$f":"'入力シート(1分周期発電計画)'!N59","v":0},0,0]
[null,"10","23:39～23:40",{"$f":"'入力シート(1分周期発電計画)'!O59","v":0},0,0]
[null,"11","23:40～23:41",{"$f":"'入力シート(1分周期発電計画)'!P59","v":0},0,0]
[null,"12","23:41～23:42",{"$f":"'入力シート(1分周期発電計画)'!Q59","v":0},0,0]
[null,"13","23:42～23:43",{"$f":"'入力シート(1分周期発電計画)'!R59","v":0},0,0]
[null,"14","23:43～23:44",{"$f":"'入力シート(1分周期発電計画)'!S59","v":0},0,0]
[null,"15","23:44～23:45",{"$f":"'入力シート(1分周期発電計画)'!T59","v":0},0,0]
[null,"16","23:45～23:46",{"$f":"'入力シート(1分周期発電計画)'!U59","v":0},0,0]
[null,"17","23:46～23:47",{"$f":"'入力シート(1分周期発電計画)'!V59","v":0},0,0]
[null,"18","23:47～23:48",{"$f":"'入力シート(1分周期発電計画)'!W59","v":0},0,0]
[null,"19","23:48～23:49",{"$f":"'入力シート(1分周期発電計画)'!X59","v":0},0,0]
[null,"20","23:49～23:50",{"$f":"'入力シート(1分周期発電計画)'!Y59","v":0},0,0]
[null,"21","23:50～23:51",{"$f":"'入力シート(1分周期発電計画)'!Z59","v":0},0,0]
[null,"22","23:51～23:52",{"$f":"'入力シート(1分周期発電計画)'!AA59","v":0},0,0]
[null,"23","23:52～23:53",{"$f":"'入力シート(1分周期発電計画)'!AB59","v":0},0,0]
[null,"24","23:53～23:54",{"$f":"'入力シート(1分周期発電計画)'!AC59","v":0},0,0]
[null,"25","23:54～23:55",{"$f":"'入力シート(1分周期発電計画)'!AD59","v":0},0,0]
[null,"26","23:55～23:56",{"$f":"'入力シート(1分周期発電計画)'!AE59","v":0},0,0]
[null,"27","23:56～23:57",{"$f":"'入力シート(1分周期発電計画)'!AF59","v":0},0,0]
[null,"28","23:57～23:58",{"$f":"'入力シート(1分周期発電計画)'!AG59","v":0},0,0]
[null,"29","23:58～23:59",{"$f":"'入力シート(1分周期発電計画)'!AH59","v":0},0,0]
[null,"30","23:59～24:00",{"$f":"'入力シート(1分周期発電計画)'!AI59","v":0},0,0]

{"sheet":"Add_Plan_Style","index":10,"n_rows":34,"n_cols":5,"rows_kept":34,"cut":false,"hidden":true,"merged":[[14,1,22,1],[29,1,33,1],[29,2,33,2],[29,3,33,3]]}
[]
[]
[]
[]
[]
[]
[]
[]
[]
[1,null,"受電点需要計画(kWh)▲"]
[]
[]
[]
[]
[null,null,"基準値（アセス用）▲"]
[null,null,"基準値（調整電力量用・機器端）▲"]
[null,null,"発電基準値（アセス用）▲"]
[null,null,"発電基準値（調整電力量用・機器端）▲"]
[1,null,"発電上限▲"]
[null,null,"基準値需要抑制計画（アセス用）▲"]
[null,null,"基準値需要抑制計画（調整電力量用・機器端）▲"]
[null,null,"発電基準値需要抑制計画（アセス用）▲"]
[null,null,"発電基準値需要抑制計画（調整電力量用・機器端）▲"]
[]
[]
[]
[]
[]
[]
[null,null,null,null,"基準値▲"]
[null,null,null,null,"発電基準値▲"]
[1,null,null,null,"発電上限▲"]
[null,null,null,null,"基準値需要抑制計画▲"]
[null,null,null,null,"発電基準値需要抑制計画▲"]

{"sheet":"使い方","index":11,"n_rows":449,"n_cols":113,"rows_kept":449,"cut":false,"hidden":false,"merged":[[150,104,150,105],[151,104,151,105],[150,106,150,107],[151,106,151,107],[150,108,150,109],[151,108,151,109],[150,110,150,111],[151,110,151,111],[150,112,150,113],[151,112,151,113],[150,94,150,95],[151,94,151,95],[150,96,150,97],[151,96,151,97],[150,98,150,99],[151,98,151,99],[150,100,150,101],[151,100,151,101],[150,102,150,103],[151,102,151,103],[150,84,150,85],[151,84,151,85],[150,86,150,87],[151,86,151,87],[150,88,150,89],[151,88,151,89],[150,90,150,91],[151,90,151,91],[150,92,150,93],[151,92,151,93],[150,74,150,75],[151,74,151,75],[150,76,150,77],[151,76,151,77],[150,78,150,79],[151,78,151,79],[150,80,150,81],[151,80,151,81],[150,82,150,83],[151,82,151,83],[150,64,150,65],[151,64,151,65],[150,66,150,67],[151,66,151,67],[150,68,150,69],[151,68,151,69],[150,70,150,71],[151,70,151,71],[150,72,150,73],[151,72,151,73],[150,54,150,55],[151,54,151,55],[150,56,150,57],[151,56,151,57],[150,58,150,59],[151,58,151,59],[150,60,150,61],[151,60,151,61],[150,62,150,63],[151,62,151,63],[150,44,150,45],[151,44,151,45],[150,46,150,47],[151,46,151,47],[150,48,150,49],[151,48,151,49],[150,50,150,51],[151,50,151,51],[150,52,150,53],[151,52,151,53],[151,34,151,35],[150,36,150,37],[151,36,151,37],[150,38,150,39],[151,38,151,39],[150,40,150,41],[151,40,151,41],[150,42,150,43],[151,42,151,43],[149,108,149,109],[149,110,149,111],[149,112,149,113],[150,14,150,15],[151,14,151,15],[150,16,150,17],[151,16,151,17],[150,18,150,19],[151,18,151,19],[150,20,150,21],[151,20,151,21],[150,22,150,23],[151,22,151,23],[150,24,150,25],[151,24,151,25],[150,26,150,27],[151,26,151,27],[150,28,150,29],[151,28,151,29],[150,30,150,31],[151,30,151,31],[150,32,150,33],[151,32,151,33],[150,34,150,35],[149,90,149,91],[149,92,149,93],[149,94,149,95],[149,96,149,97],[149,98,149,99],[149,100,149,101],[149,102,149,103],[149,104,149,105],[149,106,149,107],[149,72,149,73],[149,74,149,75],[149,76,149,77],[149,78,149,79],[149,80,149,81],[149,82,149,83],[149,84,149,85],[149,86,149,87],[149,88,149,89],[149,54,149,55],[149,56,149,57],[149,58,149,59],[149,60,149,61],[149,62,149,63],[149,64,149,65],[149,66,149,67],[149,68,149,69],[149,70,149,71],[149,36,149,37],[149,38,149,39],[149,40,149,41],[149,42,149,43],[149,44,149,45],[149,46,149,47],[149,48,149,49],[149,50,149,51],[149,52,149,53],[149,18,149,19],[149,20,149,21],[149,22,149,23],[149,24,149,25],[149,26,149,27],[149,28,149,29],[149,30,149,31],[149,32,149,33],[149,34,149,35],[152,110,152,111],[153,110,153,111],[154,110,154,111],[155,110,155,111],[156,110,156,111],[157,110,157,111],[158,110,158,111],[152,112,152,113],[153,112,153,113],[154,112,154,113],[155,112,155,113],[156,112,156,113],[157,112,157,113],[158,112,158,113],[152,106,152,107],[153,106,153,107],[154,106,154,107],[155,106,155,107],[156,106,156,107],[157,106,157,107],[158,106,158,107],[152,108,152,109],[153,108,153,109],[154,108,154,109],[155,108,155,109],[156,108,156,109],[157,108,157,109],[158,108,158,109],[152,102,152,103],[153,102,153,103],[154,102,154,103],[155,102,155,103],[156,102,156,103],[157,102,157,103],[158,102,158,103],[152,104,152,105],[153,104,153,105],[154,104,154,105],[155,104,155,105],[156,104,156,105],[157,104,157,105],[158,104,158,105],[152,98,152,99],[153,98,153,99],[154,98,154,99],[155,98,155,99],[156,98,156,99],[157,98,157,99],[158,98,158,99],[152,100,152,101],[153,100,153,101],[154,100,154,101],[155,100,155,101],[156,100,156,101],[157,100,157,101],[158,100,158,101],[152,94,152,95],[153,94,153,95],[154,94,154,95],[155,94,155,95],[156,94,156,95],[157,94,157,95],[158,94,158,95],[152,96,152,97],[153,96,153,97],[154,96,154,97],[155,96,155,97],[156,96,156,97],[157,96,157,97],[158,96,158,97],[152,90,152,91],[153,90,153,91],[154,90,154,91],[155,90,155,91],[156,90,156,91],[157,90,157,91],[158,90,158,91],[152,92,152,93],[153,92,153,93],[154,92,154,93],[155,92,155,93],[156,92,156,93],[157,92,157,93],[158,92,158,93],[152,86,152,87],[153,86,153,87],[154,86,154,87],[155,86,155,87],[156,86,156,87],[157,86,157,87],[158,86,158,87],[152,88,152,89],[153,88,153,89],[154,88,154,89],[155,88,155,89],[156,88,156,89],[157,88,157,89],[158,88,158,89],[152,82,152,83],[153,82,153,83],[154,82,154,83],[155,82,155,83],[156,82,156,83],[157,82,157,83],[158,82,158,83],[152,84,152,85],[153,84,153,85],[154,84,154,85],[155,84,155,85],[156,84,156,85],[157,84,157,85],[158,84,158,85],[152,78,152,79],[153,78,153,79],[154,78,154,79],[155,78,155,79],[156,78,156,79],[157,78,157,79],[158,78,158,79],[152,80,152,81],[153,80,153,81],[154,80,154,81],[155,80,155,81],[156,80,156,81],[157,80,157,81],[158,80,158,81],[152,74,152,75],[153,74,153,75],[154,74,154,75],[155,74,155,75],[156,74,156,75],[157,74,157,75],[158,74,158,75],[152,76,152,77],[153,76,153,77],[154,76,154,77],[155,76,155,77],[156,76,156,77],[157,76,157,77],[158,76,158,77],[152,70,152,71],[153,70,153,71],[154,70,154,71],[155,70,155,71],[156,70,156,71],[157,70,157,71],[158,70,158,71],[152,72,152,73],[153,72,153,73],[154,72,154,73],[155,72,155,73],[156,72,156,73],[157,72,157,73],[158,72,158,73],[152,66,152,67],[153,66,153,67],[154,66,154,67],[155,66,155,67],[156,66,156,67],[157,66,157,67],[158,66,158,67],[152,68,152,69],[153,68,153,69],[154,68,154,69],[155,68,155,69],[156,68,156,69],[157,68,157,69],[158,68,158,69],[152,62,152,63],[153,62,153,63],[154,62,154,63],[155,62,155,63],[156,62,156,63],[157,62,157,63],[158,62,158,63],[152,64,152,65],[153,64,153,65],[154,64,154,65],[155,64,155,65],[156,64,156,65],[157,64,157,65],[158,64,158,65],[152,58,152,59],[153,58,153,59],[154,58,154,59],[155,58,155,59],[156,58,156,59],[157,58,157,59],[158,58,158,59],[152,60,152,61],[153,60,153,61],[154,60,154,61],[155,60,155,61],[156,60,156,61],[157,60,157,61],[158,60,158,61],[152,54,152,55],[153,54,153,55],[154,54,154,55],[155,54,155,55],[156,54,156,55],[157,54,157,55],[158,54,158,55],[152,56,152,57],[153,56,153,57],[154,56,154,57],[155,56,155,57],[156,56,156,57],[157,56,157,57],[158,56,158,57],[152,50,152,51],[153,50,153,51],[154,50,154,51],[155,50,155,51],[156,50,156,51],[157,50,157,51],[158,50,158,51],[152,52,152,53],[153,52,153,53],[154,52,154,53],[155,52,155,53],[156,52,156,53],[157,52,157,53],[158,52,158,53],[152,46,152,47],[153,46,153,47],[154,46,154,47],[155,46,155,47],[156,46,156,47],[157,46,157,47],[158,46,158,47],[152,48,152,49],[153,48,153,49],[154,48,154,49],[155,48,155,49],[156,48,156,49],[157,48,157,49],[158,48,158,49],[152,42,152,43],[153,42,153,43],[154,42,154,43],[155,42,155,43],[156,42,156,43],[157,42,157,43],[158,42,158,43],[152,44,152,45],[153,44,153,45],[154,44,154,45],[155,44,155,45],[156,44,156,45],[157,44,157,45],[158,44,158,45],[152,38,152,39],[153,38,153,39],[154,38,154,39],[155,38,155,39],[156,38,156,39],[157,38,157,39],[158,38,158,39],[152,40,152,41],[153,40,153,41],[154,40,154,41],[155,40,155,41],[156,40,156,41],[157,40,157,41],[158,40,158,41],[152,34,152,35],[153,34,153,35],[154,34,154,35],[155,34,155,35],[156,34,156,35],[157,34,157,35],[158,34,158,35],[152,36,152,37],[153,36,153,37],[154,36,154,37],[155,36,155,37],[156,36,156,37],[157,36,157,37],[158,36,158,37],[154,30,154,31],[155,30,155,31],[156,30,156,31],[157,30,157,31],[158,30,158,31],[152,32,152,33],[153,32,153,33],[154,32,154,33],[155,32,155,33],[156,32,156,33],[157,32,157,33],[158,32,158,33],[152,26,152,27],[153,26,153,27],[154,26,154,27],[155,26,155,27],[156,26,156,27],[157,26,157,27],[158,26,158,27],[152,28,152,29],[153,28,153,29],[154,28,154,29],[155,28,155,29],[156,28,156,29],[157,28,157,29],[158,28,158,29],[158,11,158,13],[149,11,149,13],[150,11,150,13],[151,11,151,13],[152,11,152,13],[153,11,153,13],[154,11,154,13],[155,11,155,13],[156,11,156,13],[157,11,157,13],[152,22,152,23],[153,22,153,23],[154,22,154,23],[155,22,155,23],[156,22,156,23],[157,22,157,23],[158,22,158,23],[152,18,152,19],[153,18,153,19],[154,18,154,19],[155,18,155,19],[156,18,156,19],[157,18,157,19],[158,18,158,19],[152,20,152,21],[153,20,153,21],[154,20,154,21],[155,20,155,21],[156,20,156,21],[157,20,157,21],[158,20,158,21],[116,106,116,107],[115,108,115,109],[116,108,116,109],[117,110,117,111],[118,110,118,111],[119,110,119,111],[120,110,120,111],[149,14,149,15],[152,14,152,15],[153,14,153,15],[154,14,154,15],[155,14,155,15],[156,14,156,15],[157,14,157,15],[158,14,158,15],[152,16,152,17],[153,16,153,17],[154,16,154,17],[155,16,155,17],[156,16,156,17],[157,16,157,17],[158,16,158,17],[149,16,149,17],[152,24,152,25],[153,24,153,25],[154,24,154,25],[155,24,155,25],[156,24,156,25],[157,24,157,25],[158,24,158,25],[152,30,152,31],[153,30,153,31],[153,0,153,1],[154,0,154,1],[155,0,155,1],[156,0,156,1],[157,0,157,1],[158,0,158,1],[153,2,153,4],[154,2,158,4],[152,0,152,4],[153,5,153,7],[154,5,158,7],[153,8,153,10],[154,8,158,10],[152,5,152,10],[149,0,149,10],[150,0,150,10],[151,0,151,10],[114,110,114,111],[115,78,115,79],[116,78,116,79],[115,80,115,81],[116,80,116,81],[115,82,115,83],[116,82,116,83],[115,84,115,85],[116,84,116,85],[115,86,115,87],[115,88,115,89],[116,88,116,89],[116,86,116,87],[116,90,116,91],[115,90,115,91],[115,92,115,93],[116,92,116,93],[115,94,115,95],[116,94,116,95],[115,96,115,97],[116,96,116,97],[115,98,115,99],[116,98,116,99],[115,100,115,101],[115,110,115,111],[116,110,116,111],[116,100,116,101],[115,102,115,103],[116,102,116,103],[115,104,115,105],[116,104,116,105],[115,106,115,107],[121,110,121,111],[122,110,122,111],[123,110,123,111],[124,110,124,111],[114,78,114,79],[114,80,114,81],[114,82,114,83],[114,84,114,85],[114,86,114,87],[114,88,114,89],[114,90,114,91],[114,92,114,93],[114,94,114,95],[114,96,114,97],[114,98,114,99],[114,100,114,101],[114,102,114,103],[114,104,114,105],[114,106,114,107],[114,108,114,109],[117,106,117,107],[118,106,118,107],[119,106,119,107],[120,106,120,107],[121,106,121,107],[122,106,122,107],[123,106,123,107],[124,106,124,107],[117,108,117,109],[118,108,118,109],[119,108,119,109],[120,108,120,109],[121,108,121,109],[122,108,122,109],[123,108,123,109],[124,108,124,109],[117,102,117,103],[118,102,118,103],[119,102,119,103],[120,102,120,103],[121,102,121,103],[122,102,122,103],[123,102,123,103],[124,102,124,103],[117,104,117,105],[118,104,118,105],[119,104,119,105],[120,104,120,105],[121,104,121,105],[122,104,122,105],[123,104,123,105],[124,104,124,105],[117,98,117,99],[118,98,118,99],[119,98,119,99],[120,98,120,99],[121,98,121,99],[122,98,122,99],[123,98,123,99],[124,98,124,99],[117,100,117,101],[118,100,118,101],[119,100,119,101],[120,100,120,101],[121,100,121,101],[122,100,122,101],[123,100,123,101],[124,100,124,101],[117,94,117,95],[118,94,118,95],[119,94,119,95],[120,94,120,95],[121,94,121,95],[122,94,122,95],[123,94,123,95],[124,94,124,95],[117,96,117,97],[118,96,118,97],[119,96,119,97],[120,96,120,97],[121,96,121,97],[122,96,122,97],[123,96,123,97],[124,96,124,97],[117,90,117,91],[118,90,118,91],[119,90,119,91],[120,90,120,91],[121,90,121,91],[122,90,122,91],[123,90,123,91],[124,90,124,91],[117,92,117,93],[118,92,118,93],[119,92,119,93],[120,92,120,93],[121,92,121,93],[122,92,122,93],[123,92,123,93],[124,92,124,93],[117,86,117,87],[118,86,118,87],[119,86,119,87],[120,86,120,87],[121,86,121,87],[122,86,122,87],[123,86,123,87],[124,86,124,87],[117,88,117,89],[118,88,118,89],[119,88,119,89],[120,88,120,89],[121,88,121,89],[122,88,122,89],[123,88,123,89],[124,88,124,89],[117,82,117,83],[118,82,118,83],[119,82,119,83],[120,82,120,83],[121,82,121,83],[122,82,122,83],[123,82,123,83],[124,82,124,83],[117,84,117,85],[118,84,118,85],[119,84,119,85],[120,84,120,85],[121,84,121,85],[122,84,122,85],[123,84,123,85],[124,84,124,85],[117,78,117,79],[118,78,118,79],[119,78,119,79],[120,78,120,79],[121,78,121,79],[122,78,122,79],[123,78,123,79],[124,78,124,79],[117,80,117,81],[118,80,118,81],[119,80,119,81],[120,80,120,81],[121,80,121,81],[122,80,122,81],[123,80,123,81],[124,80,124,81],[125,110,125,111],[126,110,126,111],[127,110,127,111],[128,110,128,111],[129,110,129,111],[130,110,130,111],[131,110,131,111],[132,110,132,111],[133,110,133,111],[133,98,133,99],[133,100,133,101],[133,102,133,103],[133,104,133,105],[133,106,133,107],[125,108,125,109],[126,108,126,109],[127,108,127,109],[128,108,128,109],[129,108,129,109],[130,108,130,109],[131,108,131,109],[132,108,132,109],[133,108,133,109],[131,98,131,99],[131,100,131,101],[131,102,131,103],[131,104,131,105],[131,106,131,107],[132,98,132,99],[132,100,132,101],[132,102,132,103],[132,104,132,105],[132,106,132,107],[129,98,129,99],[129,100,129,101],[129,102,129,103],[129,104,129,105],[129,106,129,107],[130,98,130,99],[130,100,130,101],[130,102,130,103],[130,104,130,105],[130,106,130,107],[127,98,127,99],[127,100,127,101],[127,102,127,103],[127,104,127,105],[127,106,127,107],[128,98,128,99],[128,100,128,101],[128,102,128,103],[128,104,128,105],[128,106,128,107],[125,98,125,99],[125,100,125,101],[125,102,125,103],[125,104,125,105],[125,106,125,107],[126,98,126,99],[126,100,126,101],[126,102,126,103],[126,104,126,105],[126,106,126,107],[131,96,131,97],[132,88,132,89],[132,90,132,91],[132,92,132,93],[132,94,132,95],[132,96,132,97],[133,88,133,89],[133,90,133,91],[133,92,133,93],[133,94,133,95],[133,96,133,97],[128,96,128,97],[129,88,129,89],[129,90,129,91],[129,92,129,93],[129,94,129,95],[129,96,129,97],[130,88,130,89],[130,90,130,91],[130,92,130,93],[130,94,130,95],[130,96,130,97],[125,96,125,97],[126,88,126,89],[126,90,126,91],[126,92,126,93],[126,94,126,95],[126,96,126,97],[127,88,127,89],[127,90,127,91],[127,92,127,93],[127,94,127,95],[127,96,127,97],[133,78,133,79],[133,80,133,81],[133,82,133,83],[133,84,133,85],[133,86,133,87],[125,88,125,89],[125,90,125,91],[125,92,125,93],[125,94,125,95],[128,88,128,89],[128,90,128,91],[128,92,128,93],[128,94,128,95],[131,88,131,89],[131,90,131,91],[131,92,131,93],[131,94,131,95],[131,78,131,79],[131,80,131,81],[131,82,131,83],[131,84,131,85],[131,86,131,87],[132,78,132,79],[132,80,132,81],[132,82,132,83],[132,84,132,85],[132,86,132,87],[129,78,129,79],[129,80,129,81],[129,82,129,83],[129,84,129,85],[129,86,129,87],[130,78,130,79],[130,80,130,81],[130,82,130,83],[130,84,130,85],[130,86,130,87],[127,78,127,79],[127,80,127,81],[127,82,127,83],[127,84,127,85],[127,86,127,87],[128,78,128,79],[128,80,128,81],[128,82,128,83],[128,84,128,85],[128,86,128,87],[125,78,125,79],[125,80,125,81],[125,82,125,83],[125,84,125,85],[125,86,125,87],[126,78,126,79],[126,80,126,81],[126,82,126,83],[126,84,126,85],[126,86,126,87],[132,74,132,75],[133,74,133,75],[114,76,114,77],[115,76,115,77],[116,76,116,77],[117,76,117,77],[118,76,118,77],[119,76,119,77],[120,76,120,77],[121,76,121,77],[122,76,122,77],[123,76,123,77],[124,76,124,77],[125,76,125,77],[126,76,126,77],[127,76,127,77],[128,76,128,77],[129,76,129,77],[130,76,130,77],[131,76,131,77],[132,76,132,77],[133,76,133,77],[123,74,123,75],[124,74,124,75],[125,74,125,75],[126,74,126,75],[127,74,127,75],[128,74,128,75],[129,74,129,75],[130,74,130,75],[131,74,131,75],[114,74,114,75],[115,74,115,75],[116,74,116,75],[117,74,117,75],[118,74,118,75],[119,74,119,75],[120,74,120,75],[121,74,121,75],[122,74,122,75],[132,70,132,71],[133,70,133,71],[114,72,114,73],[115,72,115,73],[116,72,116,73],[117,72,117,73],[118,72,118,73],[119,72,119,73],[120,72,120,73],[121,72,121,73],[122,72,122,73],[123,72,123,73],[124,72,124,73],[125,72,125,73],[126,72,126,73],[127,72,127,73],[128,72,128,73],[129,72,129,73],[130,72,130,73],[131,72,131,73],[132,72,132,73],[133,72,133,73],[123,70,123,71],[124,70,124,71],[125,70,125,71],[126,70,126,71],[127,70,127,71],[128,70,128,71],[129,70,129,71],[130,70,130,71],[131,70,131,71],[114,70,114,71],[115,70,115,71],[116,70,116,71],[117,70,117,71],[118,70,118,71],[119,70,119,71],[120,70,120,71],[121,70,121,71],[122,70,122,71],[132,66,132,67],[133,66,133,67],[114,68,114,69],[115,68,115,69],[116,68,116,69],[117,68,117,69],[118,68,118,69],[119,68,119,69],[120,68,120,69],[121,68,121,69],[122,68,122,69],[123,68,123,69],[124,68,124,69],[125,68,125,69],[126,68,126,69],[127,68,127,69],[128,68,128,69],[129,68,129,69],[130,68,130,69],[131,68,131,69],[132,68,132,69],[133,68,133,69],[123,66,123,67],[124,66,124,67],[125,66,125,67],[126,66,126,67],[127,66,127,67],[128,66,128,67],[129,66,129,67],[130,66,130,67],[131,66,131,67],[114,66,114,67],[115,66,115,67],[116,66,116,67],[117,66,117,67],[118,66,118,67],[119,66,119,67],[120,66,120,67],[121,66,121,67],[122,66,122,67],[132,62,132,63],[116,62,116,63],[117,62,117,63],[118,62,118,63],[119,62,119,63],[120,62,120,63],[121,62,121,63],[122,62,122,63],[133,62,133,63],[114,64,114,65],[115,64,115,65],[116,64,116,65],[117,64,117,65]],"merged_total":1893,"flags":["merged_cut"]}
["機器点計画入力支援ツールの使用方法"]
[]
[]
["①起動ボタンの説明"]
[null,null,null,null,null,"本ツールは用途に合わせ，左図のボタンを押下して使用します。\n各ボタンの機能は，下記の通りです。\n・『機器点計画XML読込』ボタン\n　過去に作成した機器点計画のXMLファイルを読み込みます。\n　※事前に事業者の増減(入力枠の準備)を行うことで処理時間が短縮します。\n・『機器点計画XML出力』ボタン\n　事前に保存した機器点計画をXMLファイル形式で出力します。\n・『XMLファイル妥当性検証』ボタン\n　本ツール以外で作成した機器点計画のXMLをスキーマと照合してビジネスプロトコル標準規格に準拠しているか妥当性を検証します。なお，本ツールでXMLファイルの読み込みおよび出力を行った場合，スキーマによる妥当性を検証しているため，この操作は不要です。\n・『入力データ編集・保存』ボタン\n　入力シートのデータを保存，保存したデータの編集／削除します。\n・『終了（上書保存）』ボタン\n　入力シートを上書き保存した後，本エクセルブックを閉じます。\n・『受電点需要計画欄移動』ボタン\n・『高圧機器点計画欄移動』ボタン\n・『低圧機器点計画欄移動』ボタン\n・『1分周期基準値欄移動』ボタン\n・『属地周期基準値欄移動』ボタン\n・『1秒周期基準値欄移動』ボタン\n・『1分周期発電計画欄移動』ボタン\n・『属地周期発電計画欄移動』ボタン\n・『1秒周期発電計画欄移動』ボタン\n・『入力シートへ移動』ボタン\n・『供給地点特定番号数変更』ボタン\n　作成する機器点計画の内訳となる供給地点特定番号数を変更します。\n・『機器点特定番号数変更』ボタン\n　作成する機器点計画の内訳となる機器点特定番号数を変更します。\n・『小売電気事業者数変更』ボタン\n　作成する機器点計画の内訳となる小売電気事業者数を変更します。\n\n"]
[]
[]
[]
[]
[]
[]
[]
[]
[]
[]
[]
[]
[]
[]
[]
[]
[]
[]
[]
[]
[]
[]
[]
[]
[]
[]
[]
[]
[]
[]
[]
[]
[]
[]
[]
[]
[]
[]
[]
[]
[]
[]
["②入力項目の説明"]
["本ツールは，『入力シート』の白色セルの所定の項目を入力した上で，XMLファイルに変換します。白色セルで『▲』マークが記されていない箇所は，必須入力項目です。具体的な入力方法は次項以降で説明します。"]
[]
[]
[]
["②－１ ファイル情報の入力"]
["ファイル情報の具体的な入力規則は下記の通りです。"]
["対象年月日",null,null,null,20250201,null,null,"対象年月日は『YYYYMMDD』形式で半角数字8桁で入力。"]
["対象各リスト・パターン",null,null,null,"001",null,null,"パターンは『001』～『500』を半角数字で入力。"]
[]
["②－２ 基本情報の入力"]
["基本情報の具体的な入力規則は下記の通りです。"]
["基本情報"]
[null,null,null,null,"コード",null,"名称▲"]
["情報区分",null,null,null,"0531",null,"機器点計画（三次②～一次）"]
["提出先事業者",null,null,null,"10033",null,"東京電力パワーグリッド株式会社"]
["送信事業者",null,null,null,"80363",null,"グローバルエナジーアグリゲーター"]
["提出者（アグリゲータ用系統コード）",null,null,null,"3Y543",null,"グローバルエナジーアグリゲーター"]
["運用モード",null,null,null,"通常",null,"基準値設定方法▲",null,null,"※"]
["受電点需要有無",null,null,null,"※",null,"高圧機器点有無",null,null,"※","低圧機器点有無",null,null,"※"]
["1分周期基準値",null,null,null,"※",null,"属地周期基準値",null,null,"※","1秒周期基準値",null,null,"※"]
["1分周期発電計画",null,null,null,"※",null,"属地周期発電計画",null,null,"※","1秒周期発電計画",null,null,"※"]
[]
["情報区分は、自動入力(W9_0531で機器点計画を意味します)。"]
["提出先事業者は，作成する基準値計画が対象するリソースにおける属地エリアの一般送配電事業者を入力。"]
["送信事業者は，送信事業者コードと事業者名称を入力。"]
["運用モードは，約定したリソースの基準値計画として需給調整市場システムに提出する場合，『通常』を選択。"]
[]
["※以下のリストから選択する。"]
["基準値設定方法",null,null,null,null,"属地周期基準値、属地周期発電計画",null,null,null,null,null,"受電点需要有無、高圧機器点有無、低圧機器点有無、"]
["無",null,null,null,null,"無",null,null,null,null,null,"1分周期基準値、1秒周期基準値、1分周期発電計画、1秒周期発電計画"]
["事前予測型",null,null,null,null,"1秒（東京、関西）",null,null,null,null,null,"無"]
["直前計測型",null,null,null,null,"2秒（中国、四国）",null,null,null,null,null,"有"]
["逐次計測型",null,null,null,null,"2.5秒（九州）"]
[null,null,null,null,null,"3秒（北海道）"]
[null,null,null,null,null,"5秒（東北、中部、北陸）"]
[]
["②－３ 出力ファイル情報の入力"]
["出力ファイル情報の具体的な入力は下記の通りです。"]
["出力ファイル名情報"]
["XMLファイル名",null,null,null,null,"W9_0531_20250201_01_3Y543_KSS2019.xml"]
["対象時期の開始日",null,null,null,null,20250201]
["約定対象開始コマ番号",null,null,null,null,"01"]
["アグリゲータ用系統コード",null,null,null,null,"3Y543"]
["電源等コード",null,null,null,null,"KSS2019"]
[]
["XMLファイル名は，自動入力（W9_”＋情報区分＋対象年月日＋約定対象開始コマ番号＋提出者（アグリゲータ用系統コード）＋電源等コード＋”.xml”を表示）"]
["対象時期の開始日は，自動入力（対象年月日を表示）"]
["約定対象開始コマ番号は，自動入力（『01』固定）"]
["アグリゲータ用系統コードは，自動入力（提出者（アグリゲータ用系統コード）を表示）"]
["電源等コードは，半角英数字（\"-\",\"_\"も使用可）で10桁以内で入力"]
[]
["②－４ 受電点需要計画の入力"]
["受電点需要計画の具体的な入力規則は下記の通りです。"]
[null,null,null,null,null,null,"採用",null,null,null,null,null,null,"採用",null,"採用",null,"採用"]
[null,null,null,null,null,null,"#",null,null,"Y7",null,"Y8",null,"01",null,"02",null,"03",null,"04",null,"05",null,"06",null,"07",null,"08",null,"09",null,10,null,11,null,12,null,13,null,14,null,15,null,16,null,17,null,18,null,19,null,20,null,21,null,22,null,23,null,24,null,25,null,26,null,27,null,28,null,29,null,30,null,31,null,32,null,33,null,34,null,35,null,36,null,37,null,38,null,39,null,40,null,41,null,42,null,43,null,44,null,45,null,46,null,47,null,48]
[null,null,null,null,null,null,"時間帯",null,null,"23:00～23:30",null,"23:30～24:00",null,"0:00～0:30",null,"0:30～1:00",null,"1:00～1:30",null,"1:30～2:00",null,"2:00～2:30",null,"2:30～3:00",null,"3:00～3:30",null,"3:30～4:00",null,"4:00～4:30",null,"4:30～5:00",null,"5:00～5:30",null,"5:30～6:00",null,"6:00～6:30",null,"6:30～7:00",null,"7:00～7:30",null,"7:30～8:00",null,"8:00～8:30",null,"8:30～9:00",null,"9:00～9:30",null,"9:30～10:00",null,"10:00～10:30",null,"10:30～11:00",null,"11:00～11:30",null,"11:30～12:00",null,"12:00～12:30",null,"12:30～13:00",null,"13:00～13:30",null,"13:30～14:00",null,"14:00～14:30",null,"14:30～15:00",null,"15:00～15:30",null,"15:30～16:00",null,"16:00～16:30",null,"16:30～17:00",null,"17:00～17:30",null,"17:30～18:00",null,"18:00～18:30",null,"18:30～19:00",null,"19:00～19:30",null,"19:30～20:00",null,"20:00～20:30",null,"20:30～21:00",null,"21:00～21:30",null,"21:30～22:00",null,"22:00～22:30",null,"22:30～23:00",null,"23:00～23:30",null,"23:30～24:00"]
["合計基準値＝Σ基準値内訳",null,null,null,null,null,"合計基準値(kWh)",null,null,{"$f":"SUM(J107:J107)","v":0},null,{"$f":"SUM(L107:L107)","v":0},null,{"$f":"SUM(N107:N107)","v":3800},null,{"$f":"SUM(P107:P107)","v":3650},null,{"$f":"SUM(R107:R107)","v":3500},null,{"$f":"SUM(T107:T107)","v":3500},null,{"$f":"SUM(V107:V107)","v":3500},null,{"$f":"SUM(X107:X107)","v":3550},null,{"$f":"SUM(Z107:Z107)","v":3550},null,{"$f":"SUM(AB107:AB107)","v":3550},null,{"$f":"SUM(AD107:AD107)","v":3550},null,{"$f":"SUM(AF107:AF107)","v":3550},null,{"$f":"SUM(AH107:AH107)","v":3550},null,{"$f":"SUM(AJ107:AJ107)","v":3550},null,{"$f":"SUM(AL107:AL107)","v":3550},null,{"$f":"SUM(AN107:AN107)","v":3550},null,{"$f":"SUM(AP107:AP107)","v":3600},null,{"$f":"SUM(AR107:AR107)","v":3650},null,{"$f":"SUM(AT107:AT107)","v":3650},null,{"$f":"SUM(AV107:AV107)","v":3650},null,{"$f":"SUM(AX107:AX107)","v":3650},null,{"$f":"SUM(AZ107:AZ107)","v":3650},null,{"$f":"SUM(BB107:BB107)","v":3650},null,{"$f":"SUM(BD107:BD107)","v":3650},null,{"$f":"SUM(BF107:BF107)","v":3650},null,{"$f":"SUM(BH107:BH107)","v":3650},null,{"$f":"SUM(BJ107:BJ107)","v":3650},null,{"$f":"SUM(BL107:BL107)","v":3650},null,{"$f":"SUM(BN107:BN107)","v":3650},null,{"$f":"SUM(BP107:BP107)","v":3650},null,{"$f":"SUM(BR107:BR107)","v":3650},null,{"$f":"SUM(BT107:BT107)","v":3650},null,{"$f":"SUM(BV107:BV107)","v":3700},null,{"$f":"SUM(BX107:BX107)","v":3750},null,{"$f":"SUM(BZ107:BZ107)","v":3750},null,{"$f":"SUM(CB107:CB107)","v":3750},null,{"$f":"SUM(CD107:CD107)","v":3750},null,{"$f":"SUM(CF107:CF107)","v":3750},null,{"$f":"SUM(CH107:CH107)","v":3750},null,{"$f":"SUM(CJ107:CJ107)","v":3750},null,{"$f":"SUM(CL107:CL107)","v":3750},null,{"$f":"SUM(CN107:CN107)","v":3750},null,{"$f":"SUM(CP107:CP107)","v":3750},null,{"$f":"SUM(CR107:CR107)","v":3750},null,{"$f":"SUM(CT107:CT107)","v":3750},null,{"$f":"SUM(CV107:CV107)","v":3750},null,{"$f":"SUM(CX107:CX107)","v":3750},null,{"$f":"SUM(CZ107:CZ107)","v":3750},null,{"$f":"SUM(DB107:DB107)","v":3750},null,{"$f":"SUM(DD107:DD107)","v":3800}]
["明細番号",null,"供給地点特定番号"]
[1,null,"3304995482593533475104",null,null,null,"受電点需要計画(kWh)▲",null,null,null,null,null,null,3800,null,3650,null,3500,null,3500,null,3500,null,3550,null,3550,null,3550,null,3550,null,3550,null,3550,null,3550,null,3550,null,3550,null,3600,null,3650,null,3650,null,3650,null,3650,null,3650,null,3650,null,3650,null,3650,null,3650,null,3650,null,3650,null,3650,null,3650,null,3650,null,3650,null,3700,null,3750,null,3750,null,3750,null,3750,null,3750,null,3750,null,3750,null,3750,null,3750,null,3750,null,3750,null,3750,null,3750,null,3750,null,3750,null,3750,null,3800]
[]
["採用は、当該時刻コード時間帯の基準値計画の採用有無を空白または『採用』を入力。"]
["供給地点特定番号は、託送供給に関わる電気を供給する地点を識別する番号を半角数字22桁で入力。"]
["受電点需要計画(kWh)は、高圧以上機器リソースで参入する受電点の需要計画を供給地点特定番号かつ30分コマ単位に半角整数で入力。"]
[]
["②－５ 高圧機器点基準値計画の入力"]
["高圧機器点基準値計画の具体的な入力規則は下記の通りです。"]
[null,null,null,null,null,null,"採用",null,null,null,null,null,null,null,null,null,"採用",null,"採用",null,"採用"]
[null,null,null,null,null,null,"#",null,null,null,null,null,"Y7",null,"Y8",null,"01",null,"02",null,"03",null,"04",null,"05",null,"06",null,"07",null,"08",null,"09",null,10,null,11,null,12,null,13,null,14,null,15,null,16,null,17,null,18,null,19,null,20,null,21,null,22,null,23,null,24,null,25,null,26,null,27,null,28,null,29,null,30,null,31,null,32,null,33,null,34,null,35,null,36,null,37,null,38,null,39,null,40,null,41,null,42,null,43,null,44,null,45,null,46,null,47,null,48]
[null,null,null,null,null,null,"時間帯",null,null,null,null,null,"23:00～23:30",null,"23:30～24:00",null,"0:00～0:30",null,"0:30～1:00",null,"1:00～1:30",null,"1:30～2:00",null,"2:00～2:30",null,"2:30～3:00",null,"3:00～3:30",null,"3:30～4:00",null,"4:00～4:30",null,"4:30～5:00",null,"5:00～5:30",null,"5:30～6:00",null,"6:00～6:30",null,"6:30～7:00",null,"7:00～7:30",null,"7:30～8:00",null,"8:00～8:30",null,"8:30～9:00",null,"9:00～9:30",null,"9:30～10:00",null,"10:00～10:30",null,"10:30～11:00",null,"11:00～11:30",null,"11:30～12:00",null,"12:00～12:30",null,"12:30～13:00",null,"13:00～13:30",null,"13:30～14:00",null,"14:00～14:30",null,"14:30～15:00",null,"15:00～15:30",null,"15:30～16:00",null,"16:00～16:30",null,"16:30～17:00",null,"17:00～17:30",null,"17:30～18:00",null,"18:00～18:30",null,"18:30～19:00",null,"19:00～19:30",null,"19:30～20:00",null,"20:00～20:30",null,"20:30～21:00",null,"21:00～21:30",null,"21:30～22:00",null,"22:00～22:30",null,"22:30～23:00",null,"23:00～23:30",null,"23:30～24:00"]
["合計基準値＝\nΣ基準値内訳",null,"(kWh)\n高圧機器点",null,null,null,"基準値（アセス用）",null,null,null,null,null,{"$f":"SUMIF($G:$L,\"基準値（アセス用）▲\",M:N)","v":0},null,{"$f":"SUMIF($G:$L,\"基準値（アセス用）▲\",O:P)","v":0},null,{"$f":"SUMIF($G:$L,\"基準値（アセス用）▲\",Q:R)","v":3500},null,{"$f":"SUMIF($G:$L,\"基準値（アセス用）▲\",S:T)","v":3500},null,{"$f":"SUMIF($G:$L,\"基準値（アセス用）▲\",U:V)","v":3500},null,{"$f":"SUMIF($G:$L,\"基準値（アセス用）▲\",W:X)","v":3500},null,{"$f":"SUMIF($G:$L,\"基準値（アセス用）▲\",Y:Z)","v":3500},null,{"$f":"SUMIF($G:$L,\"基準値（アセス用）▲\",AA:AB)","v":3500},null,{"$f":"SUMIF($G:$L,\"基準値（アセス用）▲\",AC:AD)","v":3500},null,{"$f":"SUMIF($G:$L,\"基準値（アセス用）▲\",AE:AF)","v":3500},null,{"$f":"SUMIF($G:$L,\"基準値（アセス用）▲\",AG:AH)","v":3500},null,{"$f":"SUMIF($G:$L,\"基準値（アセス用）▲\",AI:AJ)","v":3500},null,{"$f":"SUMIF($G:$L,\"基準値（アセス用）▲\",AK:AL)","v":3500},null,{"$f":"SUMIF($G:$L,\"基準値（アセス用）▲\",AM:AN)","v":3500},null,{"$f":"SUMIF($G:$L,\"基準値（アセス用）▲\",AO:AP)","v":3500},null,{"$f":"SUMIF($G:$L,\"基準値（アセス用）▲\",AQ:AR)","v":3500},null,{"$f":"SUMIF($G:$L,\"基準値（アセス用）▲\",AS:AT)","v":3500},null,{"$f":"SUMIF($G:$L,\"基準値（アセス用）▲\",AU:AV)","v":3500},null,{"$f":"SUMIF($G:$L,\"基準値（アセス用）▲\",AW:AX)","v":3500},null,{"$f":"SUMIF($G:$L,\"基準値（アセス用）▲\",AY:AZ)","v":3500},null,{"$f":"SUMIF($G:$L,\"基準値（アセス用）▲\",BA:BB)","v":3500},null,{"$f":"SUMIF($G:$L,\"基準値（アセス用）▲\",BC:BD)","v":3500},null,{"$f":"SUMIF($G:$L,\"基準値（アセス用）▲\",BE:BF)","v":3500},null,{"$f":"SUMIF($G:$L,\"基準値（アセス用）▲\",BG:BH)","v":3500},null,{"$f":"SUMIF($G:$L,\"基準値（アセス用）▲\",BI:BJ)","v":3500},null,{"$f":"SUMIF($G:$L,\"基準値（アセス用）▲\",BK:BL)","v":3500},null,{"$f":"SUMIF($G:$L,\"基準値（アセス用）▲\",BM:BN)","v":3500},null,{"$f":"SUMIF($G:$L,\"基準値（アセス用）▲\",BO:BP)","v":3500},null,{"$f":"SUMIF($G:$L,\"基準値（アセス用）▲\",BQ:BR)","v":3500},null,{"$f":"SUMIF($G:$L,\"基準値（アセス用）▲\",BS:BT)","v":3500},null,{"$f":"SUMIF($G:$L,\"基準値（アセス用）▲\",BU:BV)","v":3500},null,{"$f":"SUMIF($G:$L,\"基準値（アセス用）▲\",BW:BX)","v":3500},null,{"$f":"SUMIF($G:$L,\"基準値（アセス用）▲\",BY:BZ)","v":3500},null,{"$f":"SUMIF($G:$L,\"基準値（アセス用）▲\",CA:CB)","v":3500},null,{"$f":"SUMIF($G:$L,\"基準値（アセス用）▲\",CC:CD)","v":3500},null,{"$f":"SUMIF($G:$L,\"基準値（アセス用）▲\",CE:CF)","v":3500},null,{"$f":"SUMIF($G:$L,\"基準値（アセス用）▲\",CG:CH)","v":3500},null,{"$f":"SUMIF($G:$L,\"基準値（アセス用）▲\",CI:CJ)","v":3500},null,{"$f":"SUMIF($G:$L,\"基準値（アセス用）▲\",CK:CL)","v":3500},null,{"$f":"SUMIF($G:$L,\"基準値（アセス用）▲\",CM:CN)","v":3500},null,{"$f":"SUMIF($G:$L,\"基準値（アセス用）▲\",CO:CP)","v":3500},null,{"$f":"SUMIF($G:$L,\"基準値（アセス用）▲\",CQ:CR)","v":3500},null,{"$f":"SUMIF($G:$L,\"基準値（アセス用）▲\",CS:CT)","v":3500},null,{"$f":"SUMIF($G:$L,\"基準値（アセス用）▲\",CU:CV)","v":3500},null,{"$f":"SUMIF($G:$L,\"基準値（アセス用）▲\",CW:CX)","v":3500},null,{"$f":"SUMIF($G:$L,\"基準値（アセス用）▲\",CY:CZ)","v":3500},null,{"$f":"SUMIF($G:$L,\"基準値（アセス用）▲\",DA:DB)","v":3500},null,{"$f":"SUMIF($G:$L,\"基準値（アセス用）▲\",DC:DD)","v":3500},null,{"$f":"SUMIF($G:$L,\"基準値（アセス用）▲\",DE:DF)","v":3500},null,{"$f":"SUMIF($G:$L,\"基準値（アセス用）▲\",DG:DH)","v":3500}]
[null,null,null,null,null,null,"基準値（調整電力量用・機器端）",null,null,null,null,null,{"$f":"SUMIF($G:$L,\"基準値（調整電力量用・機器端）▲\",M:N)","v":0},null,{"$f":"SUMIF($G:$L,\"基準値（調整電力量用・機器端）▲\",O:P)","v":0},null,{"$f":"SUMIF($G:$L,\"基準値（調整電力量用・機器端）▲\",Q:R)","v":3500},null,{"$f":"SUMIF($G:$L,\"基準値（調整電力量用・機器端）▲\",S:T)","v":3500},null,{"$f":"SUMIF($G:$L,\"基準値（調整電力量用・機器端）▲\",U:V)","v":3500},null,{"$f":"SUMIF($G:$L,\"基準値（調整電力量用・機器端）▲\",W:X)","v":3500},null,{"$f":"SUMIF($G:$L,\"基準値（調整電力量用・機器端）▲\",Y:Z)","v":3500},null,{"$f":"SUMIF($G:$L,\"基準値（調整電力量用・機器端）▲\",AA:AB)","v":3500},null,{"$f":"SUMIF($G:$L,\"基準値（調整電力量用・機器端）▲\",AC:AD)","v":3500},null,{"$f":"SUMIF($G:$L,\"基準値（調整電力量用・機器端）▲\",AE:AF)","v":3500},null,{"$f":"SUMIF($G:$L,\"基準値（調整電力量用・機器端）▲\",AG:AH)","v":3500},null,{"$f":"SUMIF($G:$L,\"基準値（調整電力量用・機器端）▲\",AI:AJ)","v":3500},null,{"$f":"SUMIF($G:$L,\"基準値（調整電力量用・機器端）▲\",AK:AL)","v":3500},null,{"$f":"SUMIF($G:$L,\"基準値（調整電力量用・機器端）▲\",AM:AN)","v":3500},null,{"$f":"SUMIF($G:$L,\"基準値（調整電力量用・機器端）▲\",AO:AP)","v":3500},null,{"$f":"SUMIF($G:$L,\"基準値（調整電力量用・機器端）▲\",AQ:AR)","v":3500},null,{"$f":"SUMIF($G:$L,\"基準値（調整電力量用・機器端）▲\",AS:AT)","v":3500},null,{"$f":"SUMIF($G:$L,\"基準値（調整電力量用・機器端）▲\",AU:AV)","v":3500},null,{"$f":"SUMIF($G:$L,\"基準値（調整電力量用・機器端）▲\",AW:AX)","v":3500},null,{"$f":"SUMIF($G:$L,\"基準値（調整電力量用・機器端）▲\",AY:AZ)","v":3500},null,{"$f":"SUMIF($G:$L,\"基準値（調整電力量用・機器端）▲\",BA:BB)","v":3500},null,{"$f":"SUMIF($G:$L,\"基準値（調整電力量用・機器端）▲\",BC:BD)","v":3500},null,{"$f":"SUMIF($G:$L,\"基準値（調整電力量用・機器端）▲\",BE:BF)","v":3500},null,{"$f":"SUMIF($G:$L,\"基準値（調整電力量用・機器端）▲\",BG:BH)","v":3500},null,{"$f":"SUMIF($G:$L,\"基準値（調整電力量用・機器端）▲\",BI:BJ)","v":3500},null,{"$f":"SUMIF($G:$L,\"基準値（調整電力量用・機器端）▲\",BK:BL)","v":3500},null,{"$f":"SUMIF($G:$L,\"基準値（調整電力量用・機器端）▲\",BM:BN)","v":3500},null,{"$f":"SUMIF($G:$L,\"基準値（調整電力量用・機器端）▲\",BO:BP)","v":3500},null,{"$f":"SUMIF($G:$L,\"基準値（調整電力量用・機器端）▲\",BQ:BR)","v":3500},null,{"$f":"SUMIF($G:$L,\"基準値（調整電力量用・機器端）▲\",BS:BT)","v":3500},null,{"$f":"SUMIF($G:$L,\"基準値（調整電力量用・機器端）▲\",BU:BV)","v":3500},null,{"$f":"SUMIF($G:$L,\"基準値（調整電力量用・機器端）▲\",BW:BX)","v":3500},null,{"$f":"SUMIF($G:$L,\"基準値（調整電力量用・機器端）▲\",BY:BZ)","v":3500},null,{"$f":"SUMIF($G:$L,\"基準値（調整電力量用・機器端）▲\",CA:CB)","v":3500},null,{"$f":"SUMIF($G:$L,\"基準値（調整電力量用・機器端）▲\",CC:CD)","v":3500},null,{"$f":"SUMIF($G:$L,\"基準値（調整電力量用・機器端）▲\",CE:CF)","v":3500},null,{"$f":"SUMIF($G:$L,\"基準値（調整電力量用・機器端）▲\",CG:CH)","v":3500},null,{"$f":"SUMIF($G:$L,\"基準値（調整電力量用・機器端）▲\",CI:CJ)","v":3500},null,{"$f":"SUMIF($G:$L,\"基準値（調整電力量用・機器端）▲\",CK:CL)","v":3500},null,{"$f":"SUMIF($G:$L,\"基準値（調整電力量用・機器端）▲\",CM:CN)","v":3500},null,{"$f":"SUMIF($G:$L,\"基準値（調整電力量用・機器端）▲\",CO:CP)","v":3500},null,{"$f":"SUMIF($G:$L,\"基準値（調整電力量用・機器端）▲\",CQ:CR)","v":3500},null,{"$f":"SUMIF($G:$L,\"基準値（調整電力量用・機器端）▲\",CS:CT)","v":3500},null,{"$f":"SUMIF($G:$L,\"基準値（調整電力量用・機器端）▲\",CU:CV)","v":3500},null,{"$f":"SUMIF($G:$L,\"基準値（調整電力量用・機器端）▲\",CW:CX)","v":3500},null,{"$f":"SUMIF($G:$L,\"基準値（調整電力量用・機器端）▲\",CY:CZ)","v":3500},null,{"$f":"SUMIF($G:$L,\"基準値（調整電力量用・機器端）▲\",DA:DB)","v":3500},null,{"$f":"SUMIF($G:$L,\"基準値（調整電力量用・機器端）▲\",DC:DD)","v":3500},null,{"$f":"SUMIF($G:$L,\"基準値（調整電力量用・機器端）▲\",DE:DF)","v":3500},null,{"$f":"SUMIF($G:$L,\"基準値（調整電力量用・機器端）▲\",DG:DH)","v":3500}]
[null,null,null,null,null,null,"発電基準値（アセス用）",null,null,null,null,null,{"$f":"SUMIF($G:$L,\"発電基準値（アセス用）▲\",M:N)","v":0},null,{"$f":"SUMIF($G:$L,\"発電基準値（アセス用）▲\",O:P)","v":0},null,{"$f":"SUMIF($G:$L,\"発電基準値（アセス用）▲\",Q:R)","v":3000},null,{"$f":"SUMIF($G:$L,\"発電基準値（アセス用）▲\",S:T)","v":3000},null,{"$f":"SUMIF($G:$L,\"発電基準値（アセス用）▲\",U:V)","v":3000},null,{"$f":"SUMIF($G:$L,\"発電基準値（アセス用）▲\",W:X)","v":3000},null,{"$f":"SUMIF($G:$L,\"発電基準値（アセス用）▲\",Y:Z)","v":3000},null,{"$f":"SUMIF($G:$L,\"発電基準値（アセス用）▲\",AA:AB)","v":3000},null,{"$f":"SUMIF($G:$L,\"発電基準値（アセス用）▲\",AC:AD)","v":3000},null,{"$f":"SUMIF($G:$L,\"発電基準値（アセス用）▲\",AE:AF)","v":3000},null,{"$f":"SUMIF($G:$L,\"発電基準値（アセス用）▲\",AG:AH)","v":3000},null,{"$f":"SUMIF($G:$L,\"発電基準値（アセス用）▲\",AI:AJ)","v":3000},null,{"$f":"SUMIF($G:$L,\"発電基準値（アセス用）▲\",AK:AL)","v":3000},null,{"$f":"SUMIF($G:$L,\"発電基準値（アセス用）▲\",AM:AN)","v":3000},null,{"$f":"SUMIF($G:$L,\"発電基準値（アセス用）▲\",AO:AP)","v":3000},null,{"$f":"SUMIF($G:$L,\"発電基準値（アセス用）▲\",AQ:AR)","v":3000},null,{"$f":"SUMIF($G:$L,\"発電基準値（アセス用）▲\",AS:AT)","v":3000},null,{"$f":"SUMIF($G:$L,\"発電基準値（アセス用）▲\",AU:AV)","v":3000},null,{"$f":"SUMIF($G:$L,\"発電基準値（アセス用）▲\",AW:AX)","v":3000},null,{"$f":"SUMIF($G:$L,\"発電基準値（アセス用）▲\",AY:AZ)","v":3000},null,{"$f":"SUMIF($G:$L,\"発電基準値（アセス用）▲\",BA:BB)","v":3000},null,{"$f":"SUMIF($G:$L,\"発電基準値（アセス用）▲\",BC:BD)","v":3000},null,{"$f":"SUMIF($G:$L,\"発電基準値（アセス用）▲\",BE:BF)","v":3000},null,{"$f":"SUMIF($G:$L,\"発電基準値（アセス用）▲\",BG:BH)","v":3000},null,{"$f":"SUMIF($G:$L,\"発電基準値（アセス用）▲\",BI:BJ)","v":3000},null,{"$f":"SUMIF($G:$L,\"発電基準値（アセス用）▲\",BK:BL)","v":3000},null,{"$f":"SUMIF($G:$L,\"発電基準値（アセス用）▲\",BM:BN)","v":3000},null,{"$f":"SUMIF($G:$L,\"発電基準値（アセス用）▲\",BO:BP)","v":3000},null,{"$f":"SUMIF($G:$L,\"発電基準値（アセス用）▲\",BQ:BR)","v":3000},null,{"$f":"SUMIF($G:$L,\"発電基準値（アセス用）▲\",BS:BT)","v":3000},null,{"$f":"SUMIF($G:$L,\"発電基準値（アセス用）▲\",BU:BV)","v":3000},null,{"$f":"SUMIF($G:$L,\"発電基準値（アセス用）▲\",BW:BX)","v":3000},null,{"$f":"SUMIF($G:$L,\"発電基準値（アセス用）▲\",BY:BZ)","v":3000},null,{"$f":"SUMIF($G:$L,\"発電基準値（アセス用）▲\",CA:CB)","v":3000},null,{"$f":"SUMIF($G:$L,\"発電基準値（アセス用）▲\",CC:CD)","v":3000},null,{"$f":"SUMIF($G:$L,\"発電基準値（アセス用）▲\",CE:CF)","v":3000},null,{"$f":"SUMIF($G:$L,\"発電基準値（アセス用）▲\",CG:CH)","v":3000},null,{"$f":"SUMIF($G:$L,\"発電基準値（アセス用）▲\",CI:CJ)","v":3000},null,{"$f":"SUMIF($G:$L,\"発電基準値（アセス用）▲\",CK:CL)","v":3000},null,{"$f":"SUMIF($G:$L,\"発電基準値（アセス用）▲\",CM:CN)","v":3000},null,{"$f":"SUMIF($G:$L,\"発電基準値（アセス用）▲\",CO:CP)","v":3000},null,{"$f":"SUMIF($G:$L,\"発電基準値（アセス用）▲\",CQ:CR)","v":3000},null,{"$f":"SUMIF($G:$L,\"発電基準値（アセス用）▲\",CS:CT)","v":3000},null,{"$f":"SUMIF($G:$L,\"発電基準値（アセス用）▲\",CU:CV)","v":3000},null,{"$f":"SUMIF($G:$L,\"発電基準値（アセス用）▲\",CW:CX)","v":3000},null,{"$f":"SUMIF($G:$L,\"発電基準値（アセス用）▲\",CY:CZ)","v":3000},null,{"$f":"SUMIF($G:$L,\"発電基準値（アセス用）▲\",DA:DB)","v":3000},null,{"$f":"SUMIF($G:$L,\"発電基準値（アセス用）▲\",DC:DD)","v":3000},null,{"$f":"SUMIF($G:$L,\"発電基準値（アセス用）▲\",DE:DF)","v":3000},null,{"$f":"SUMIF($G:$L,\"発電基準値（アセス用）▲\",DG:DH)","v":3000}]
[null,null,null,null,null,null,"発電基準値（調整電力量用・機器端）",null,null,null,null,null,{"$f":"SUMIF($G:$L,\"発電基準値（調整電力量用・機器端）▲\",M:N)","v":0},null,{"$f":"SUMIF($G:$L,\"発電基準値（調整電力量用・機器端）▲\",O:P)","v":0},null,{"$f":"SUMIF($G:$L,\"発電基準値（調整電力量用・機器端）▲\",Q:R)","v":3000},null,{"$f":"SUMIF($G:$L,\"発電基準値（調整電力量用・機器端）▲\",S:T)","v":3000},null,{"$f":"SUMIF($G:$L,\"発電基準値（調整電力量用・機器端）▲\",U:V)","v":3000},null,{"$f":"SUMIF($G:$L,\"発電基準値（調整電力量用・機器端）▲\",W:X)","v":3000},null,{"$f":"SUMIF($G:$L,\"発電基準値（調整電力量用・機器端）▲\",Y:Z)","v":3000},null,{"$f":"SUMIF($G:$L,\"発電基準値（調整電力量用・機器端）▲\",AA:AB)","v":3000},null,{"$f":"SUMIF($G:$L,\"発電基準値（調整電力量用・機器端）▲\",AC:AD)","v":3000},null,{"$f":"SUMIF($G:$L,\"発電基準値（調整電力量用・機器端）▲\",AE:AF)","v":3000},null,{"$f":"SUMIF($G:$L,\"発電基準値（調整電力量用・機器端）▲\",AG:AH)","v":3000},null,{"$f":"SUMIF($G:$L,\"発電基準値（調整電力量用・機器端）▲\",AI:AJ)","v":3000},null,{"$f":"SUMIF($G:$L,\"発電基準値（調整電力量用・機器端）▲\",AK:AL)","v":3000},null,{"$f":"SUMIF($G:$L,\"発電基準値（調整電力量用・機器端）▲\",AM:AN)","v":3000},null,{"$f":"SUMIF($G:$L,\"発電基準値（調整電力量用・機器端）▲\",AO:AP)","v":3000},null,{"$f":"SUMIF($G:$L,\"発電基準値（調整電力量用・機器端）▲\",AQ:AR)","v":3000},null,{"$f":"SUMIF($G:$L,\"発電基準値（調整電力量用・機器端）▲\",AS:AT)","v":3000},null,{"$f":"SUMIF($G:$L,\"発電基準値（調整電力量用・機器端）▲\",AU:AV)","v":3000},null,{"$f":"SUMIF($G:$L,\"発電基準値（調整電力量用・機器端）▲\",AW:AX)","v":3000},null,{"$f":"SUMIF($G:$L,\"発電基準値（調整電力量用・機器端）▲\",AY:AZ)","v":3000},null,{"$f":"SUMIF($G:$L,\"発電基準値（調整電力量用・機器端）▲\",BA:BB)","v":3000},null,{"$f":"SUMIF($G:$L,\"発電基準値（調整電力量用・機器端）▲\",BC:BD)","v":3000},null,{"$f":"SUMIF($G:$L,\"発電基準値（調整電力量用・機器端）▲\",BE:BF)","v":3000},null,{"$f":"SUMIF($G:$L,\"発電基準値（調整電力量用・機器端）▲\",BG:BH)","v":3000},null,{"$f":"SUMIF($G:$L,\"発電基準値（調整電力量用・機器端）▲\",BI:BJ)","v":3000},null,{"$f":"SUMIF($G:$L,\"発電基準値（調整電力量用・機器端）▲\",BK:BL)","v":3000},null,{"$f":"SUMIF($G:$L,\"発電基準値（調整電力量用・機器端）▲\",BM:BN)","v":3000},null,{"$f":"SUMIF($G:$L,\"発電基準値（調整電力量用・機器端）▲\",BO:BP)","v":3000},null,{"$f":"SUMIF($G:$L,\"発電基準値（調整電力量用・機器端）▲\",BQ:BR)","v":3000},null,{"$f":"SUMIF($G:$L,\"発電基準値（調整電力量用・機器端）▲\",BS:BT)","v":3000},null,{"$f":"SUMIF($G:$L,\"発電基準値（調整電力量用・機器端）▲\",BU:BV)","v":3000},null,{"$f":"SUMIF($G:$L,\"発電基準値（調整電力量用・機器端）▲\",BW:BX)","v":3000},null,{"$f":"SUMIF($G:$L,\"発電基準値（調整電力量用・機器端）▲\",BY:BZ)","v":3000},null,{"$f":"SUMIF($G:$L,\"発電基準値（調整電力量用・機器端）▲\",CA:CB)","v":3000},null,{"$f":"SUMIF($G:$L,\"発電基準値（調整電力量用・機器端）▲\",CC:CD)","v":3000},null,{"$f":"SUMIF($G:$L,\"発電基準値（調整電力量用・機器端）▲\",CE:CF)","v":3000},null,{"$f":"SUMIF($G:$L,\"発電基準値（調整電力量用・機器端）▲\",CG:CH)","v":3000},null,{"$f":"SUMIF($G:$L,\"発電基準値（調整電力量用・機器端）▲\",CI:CJ)","v":3000},null,{"$f":"SUMIF($G:$L,\"発電基準値（調整電力量用・機器端）▲\",CK:CL)","v":3000},null,{"$f":"SUMIF($G:$L,\"発電基準値（調整電力量用・機器端）▲\",CM:CN)","v":3000},null,{"$f":"SUMIF($G:$L,\"発電基準値（調整電力量用・機器端）▲\",CO:CP)","v":3000},null,{"$f":"SUMIF($G:$L,\"発電基準値（調整電力量用・機器端）▲\",CQ:CR)","v":3000},null,{"$f":"SUMIF($G:$L,\"発電基準値（調整電力量用・機器端）▲\",CS:CT)","v":3000},null,{"$f":"SUMIF($G:$L,\"発電基準値（調整電力量用・機器端）▲\",CU:CV)","v":3000},null,{"$f":"SUMIF($G:$L,\"発電基準値（調整電力量用・機器端）▲\",CW:CX)","v":3000},null,{"$f":"SUMIF($G:$L,\"発電基準値（調整電力量用・機器端）▲\",CY:CZ)","v":3000},null,{"$f":"SUMIF($G:$L,\"発電基準値（調整電力量用・機器端）▲\",DA:DB)","v":3000},null,{"$f":"SUMIF($G:$L,\"発電基準値（調整電力量用・機器端）▲\",DC:DD)","v":3000},null,{"$f":"SUMIF($G:$L,\"発電基準値（調整電力量用・機器端）▲\",DE:DF)","v":3000},null,{"$f":"SUMIF($G:$L,\"発電基準値（調整電力量用・機器端）▲\",DG:DH)","v":3000}]
[null,null,null,null,null,null,"基準値需要抑制計画（アセス用）",null,null,null,null,null,{"$f":"SUMIF($G:$L,\"基準値需要抑制計画（アセス用）▲\",M:N)","v":0},null,{"$f":"SUMIF($G:$L,\"基準値需要抑制計画（アセス用）▲\",O:P)","v":0},null,{"$f":"SUMIF($G:$L,\"基準値需要抑制計画（アセス用）▲\",Q:R)","v":3200},null,{"$f":"SUMIF($G:$L,\"基準値需要抑制計画（アセス用）▲\",S:T)","v":3200},null,{"$f":"SUMIF($G:$L,\"基準値需要抑制計画（アセス用）▲\",U:V)","v":3200},null,{"$f":"SUMIF($G:$L,\"基準値需要抑制計画（アセス用）▲\",W:X)","v":3200},null,{"$f":"SUMIF($G:$L,\"基準値需要抑制計画（アセス用）▲\",Y:Z)","v":3200},null,{"$f":"SUMIF($G:$L,\"基準値需要抑制計画（アセス用）▲\",AA:AB)","v":3200},null,{"$f":"SUMIF($G:$L,\"基準値需要抑制計画（アセス用）▲\",AC:AD)","v":3200},null,{"$f":"SUMIF($G:$L,\"基準値需要抑制計画（アセス用）▲\",AE:AF)","v":3200},null,{"$f":"SUMIF($G:$L,\"基準値需要抑制計画（アセス用）▲\",AG:AH)","v":3200},null,{"$f":"SUMIF($G:$L,\"基準値需要抑制計画（アセス用）▲\",AI:AJ)","v":3200},null,{"$f":"SUMIF($G:$L,\"基準値需要抑制計画（アセス用）▲\",AK:AL)","v":3200},null,{"$f":"SUMIF($G:$L,\"基準値需要抑制計画（アセス用）▲\",AM:AN)","v":3200},null,{"$f":"SUMIF($G:$L,\"基準値需要抑制計画（アセス用）▲\",AO:AP)","v":3200},null,{"$f":"SUMIF($G:$L,\"基準値需要抑制計画（アセス用）▲\",AQ:AR)","v":3200},null,{"$f":"SUMIF($G:$L,\"基準値需要抑制計画（アセス用）▲\",AS:AT)","v":3200},null,{"$f":"SUMIF($G:$L,\"基準値需要抑制計画（アセス用）▲\",AU:AV)","v":3200},null,{"$f":"SUMIF($G:$L,\"基準値需要抑制計画（アセス用）▲\",AW:AX)","v":3200},null,{"$f":"SUMIF($G:$L,\"基準値需要抑制計画（アセス用）▲\",AY:AZ)","v":3200},null,{"$f":"SUMIF($G:$L,\"基準値需要抑制計画（アセス用）▲\",BA:BB)","v":3200},null,{"$f":"SUMIF($G:$L,\"基準値需要抑制計画（アセス用）▲\",BC:BD)","v":3200},null,{"$f":"SUMIF($G:$L,\"基準値需要抑制計画（アセス用）▲\",BE:BF)","v":3200},null,{"$f":"SUMIF($G:$L,\"基準値需要抑制計画（アセス用）▲\",BG:BH)","v":3200},null,{"$f":"SUMIF($G:$L,\"基準値需要抑制計画（アセス用）▲\",BI:BJ)","v":3200},null,{"$f":"SUMIF($G:$L,\"基準値需要抑制計画（アセス用）▲\",BK:BL)","v":3200},null,{"$f":"SUMIF($G:$L,\"基準値需要抑制計画（アセス用）▲\",BM:BN)","v":3200},null,{"$f":"SUMIF($G:$L,\"基準値需要抑制計画（アセス用）▲\",BO:BP)","v":3200},null,{"$f":"SUMIF($G:$L,\"基準値需要抑制計画（アセス用）▲\",BQ:BR)","v":3200},null,{"$f":"SUMIF($G:$L,\"基準値需要抑制計画（アセス用）▲\",BS:BT)","v":3200},null,{"$f":"SUMIF($G:$L,\"基準値需要抑制計画（アセス用）▲\",BU:BV)","v":3200},null,{"$f":"SUMIF($G:$L,\"基準値需要抑制計画（アセス用）▲\",BW:BX)","v":3200},null,{"$f":"SUMIF($G:$L,\"基準値需要抑制計画（アセス用）▲\",BY:BZ)","v":3200},null,{"$f":"SUMIF($G:$L,\"基準値需要抑制計画（アセス用）▲\",CA:CB)","v":3200},null,{"$f":"SUMIF($G:$L,\"基準値需要抑制計画（アセス用）▲\",CC:CD)","v":3200},null,{"$f":"SUMIF($G:$L,\"基準値需要抑制計画（アセス用）▲\",CE:CF)","v":3200},null,{"$f":"SUMIF($G:$L,\"基準値需要抑制計画（アセス用）▲\",CG:CH)","v":3200},null,{"$f":"SUMIF($G:$L,\"基準値需要抑制計画（アセス用）▲\",CI:CJ)","v":3200},null,{"$f":"SUMIF($G:$L,\"基準値需要抑制計画（アセス用）▲\",CK:CL)","v":3200},null,{"$f":"SUMIF($G:$L,\"基準値需要抑制計画（アセス用）▲\",CM:CN)","v":3200},null,{"$f":"SUMIF($G:$L,\"基準値需要抑制計画（アセス用）▲\",CO:CP)","v":3200},null,{"$f":"SUMIF($G:$L,\"基準値需要抑制計画（アセス用）▲\",CQ:CR)","v":3200},null,{"$f":"SUMIF($G:$L,\"基準値需要抑制計画（アセス用）▲\",CS:CT)","v":3200},null,{"$f":"SUMIF($G:$L,\"基準値需要抑制計画（アセス用）▲\",CU:CV)","v":3200},null,{"$f":"SUMIF($G:$L,\"基準値需要抑制計画（アセス用）▲\",CW:CX)","v":3200},null,{"$f":"SUMIF($G:$L,\"基準値需要抑制計画（アセス用）▲\",CY:CZ)","v":3200},null,{"$f":"SUMIF($G:$L,\"基準値需要抑制計画（アセス用）▲\",DA:DB)","v":3200},null,{"$f":"SUMIF($G:$L,\"基準値需要抑制計画（アセス用）▲\",DC:DD)","v":3200},null,{"$f":"SUMIF($G:$L,\"基準値需要抑制計画（アセス用）▲\",DE:DF)","v":3200},null,{"$f":"SUMIF($G:$L,\"基準値需要抑制計画（アセス用）▲\",DG:DH)","v":3200}]
[null,null,null,null,null,null,"基準値需要抑制計画（調整電力量用・機器端）",null,null,null,null,null,{"$f":"SUMIF($G:$L,\"基準値需要抑制計画（調整電力量用・機器端）▲\",M:N)","v":0},null,{"$f":"SUMIF($G:$L,\"基準値需要抑制計画（調整電力量用・機器端）▲\",O:P)","v":0},null,{"$f":"SUMIF($G:$L,\"基準値需要抑制計画（調整電力量用・機器端）▲\",Q:R)","v":3200},null,{"$f":"SUMIF($G:$L,\"基準値需要抑制計画（調整電力量用・機器端）▲\",S:T)","v":3200},null,{"$f":"SUMIF($G:$L,\"基準値需要抑制計画（調整電力量用・機器端）▲\",U:V)","v":3200},null,{"$f":"SUMIF($G:$L,\"基準値需要抑制計画（調整電力量用・機器端）▲\",W:X)","v":3200},null,{"$f":"SUMIF($G:$L,\"基準値需要抑制計画（調整電力量用・機器端）▲\",Y:Z)","v":3200},null,{"$f":"SUMIF($G:$L,\"基準値需要抑制計画（調整電力量用・機器端）▲\",AA:AB)","v":3200},null,{"$f":"SUMIF($G:$L,\"基準値需要抑制計画（調整電力量用・機器端）▲\",AC:AD)","v":3200},null,{"$f":"SUMIF($G:$L,\"基準値需要抑制計画（調整電力量用・機器端）▲\",AE:AF)","v":3200},null,{"$f":"SUMIF($G:$L,\"基準値需要抑制計画（調整電力量用・機器端）▲\",AG:AH)","v":3200},null,{"$f":"SUMIF($G:$L,\"基準値需要抑制計画（調整電力量用・機器端）▲\",AI:AJ)","v":3200},null,{"$f":"SUMIF($G:$L,\"基準値需要抑制計画（調整電力量用・機器端）▲\",AK:AL)","v":3200},null,{"$f":"SUMIF($G:$L,\"基準値需要抑制計画（調整電力量用・機器端）▲\",AM:AN)","v":3200},null,{"$f":"SUMIF($G:$L,\"基準値需要抑制計画（調整電力量用・機器端）▲\",AO:AP)","v":3200},null,{"$f":"SUMIF($G:$L,\"基準値需要抑制計画（調整電力量用・機器端）▲\",AQ:AR)","v":3200},null,{"$f":"SUMIF($G:$L,\"基準値需要抑制計画（調整電力量用・機器端）▲\",AS:AT)","v":3200},null,{"$f":"SUMIF($G:$L,\"基準値需要抑制計画（調整電力量用・機器端）▲\",AU:AV)","v":3200},null,{"$f":"SUMIF($G:$L,\"基準値需要抑制計画（調整電力量用・機器端）▲\",AW:AX)","v":3200},null,{"$f":"SUMIF($G:$L,\"基準値需要抑制計画（調整電力量用・機器端）▲\",AY:AZ)","v":3200},null,{"$f":"SUMIF($G:$L,\"基準値需要抑制計画（調整電力量用・機器端）▲\",BA:BB)","v":3200},null,{"$f":"SUMIF($G:$L,\"基準値需要抑制計画（調整電力量用・機器端）▲\",BC:BD)","v":3200},null,{"$f":"SUMIF($G:$L,\"基準値需要抑制計画（調整電力量用・機器端）▲\",BE:BF)","v":3200},null,{"$f":"SUMIF($G:$L,\"基準値需要抑制計画（調整電力量用・機器端）▲\",BG:BH)","v":3200},null,{"$f":"SUMIF($G:$L,\"基準値需要抑制計画（調整電力量用・機器端）▲\",BI:BJ)","v":3200},null,{"$f":"SUMIF($G:$L,\"基準値需要抑制計画（調整電力量用・機器端）▲\",BK:BL)","v":3200},null,{"$f":"SUMIF($G:$L,\"基準値需要抑制計画（調整電力量用・機器端）▲\",BM:BN)","v":3200},null,{"$f":"SUMIF($G:$L,\"基準値需要抑制計画（調整電力量用・機器端）▲\",BO:BP)","v":3200},null,{"$f":"SUMIF($G:$L,\"基準値需要抑制計画（調整電力量用・機器端）▲\",BQ:BR)","v":3200},null,{"$f":"SUMIF($G:$L,\"基準値需要抑制計画（調整電力量用・機器端）▲\",BS:BT)","v":3200},null,{"$f":"SUMIF($G:$L,\"基準値需要抑制計画（調整電力量用・機器端）▲\",BU:BV)","v":3200},null,{"$f":"SUMIF($G:$L,\"基準値需要抑制計画（調整電力量用・機器端）▲\",BW:BX)","v":3200},null,{"$f":"SUMIF($G:$L,\"基準値需要抑制計画（調整電力量用・機器端）▲\",BY:BZ)","v":3200},null,{"$f":"SUMIF($G:$L,\"基準値需要抑制計画（調整電力量用・機器端）▲\",CA:CB)","v":3200},null,{"$f":"SUMIF($G:$L,\"基準値需要抑制計画（調整電力量用・機器端）▲\",CC:CD)","v":3200},null,{"$f":"SUMIF($G:$L,\"基準値需要抑制計画（調整電力量用・機器端）▲\",CE:CF)","v":3200},null,{"$f":"SUMIF($G:$L,\"基準値需要抑制計画（調整電力量用・機器端）▲\",CG:CH)","v":3200},null,{"$f":"SUMIF($G:$L,\"基準値需要抑制計画（調整電力量用・機器端）▲\",CI:CJ)","v":3200},null,{"$f":"SUMIF($G:$L,\"基準値需要抑制計画（調整電力量用・機器端）▲\",CK:CL)","v":3200},null,{"$f":"SUMIF($G:$L,\"基準値需要抑制計画（調整電力量用・機器端）▲\",CM:CN)","v":3200},null,{"$f":"SUMIF($G:$L,\"基準値需要抑制計画（調整電力量用・機器端）▲\",CO:CP)","v":3200},null,{"$f":"SUMIF($G:$L,\"基準値需要抑制計画（調整電力量用・機器端）▲\",CQ:CR)","v":3200},null,{"$f":"SUMIF($G:$L,\"基準値需要抑制計画（調整電力量用・機器端）▲\",CS:CT)","v":3200},null,{"$f":"SUMIF($G:$L,\"基準値需要抑制計画（調整電力量用・機器端）▲\",CU:CV)","v":3200},null,{"$f":"SUMIF($G:$L,\"基準値需要抑制計画（調整電力量用・機器端）▲\",CW:CX)","v":3200},null,{"$f":"SUMIF($G:$L,\"基準値需要抑制計画（調整電力量用・機器端）▲\",CY:CZ)","v":3200},null,{"$f":"SUMIF($G:$L,\"基準値需要抑制計画（調整電力量用・機器端）▲\",DA:DB)","v":3200},null,{"$f":"SUMIF($G:$L,\"基準値需要抑制計画（調整電力量用・機器端）▲\",DC:DD)","v":3200},null,{"$f":"SUMIF($G:$L,\"基準値需要抑制計画（調整電力量用・機器端）▲\",DE:DF)","v":3200},null,{"$f":"SUMIF($G:$L,\"基準値需要抑制計画（調整電力量用・機器端）▲\",DG:DH)","v":3200}]
[null,null,null,null,null,null,"発電基準値需要抑制計画（アセス用）",null,null,null,null,null,{"$f":"SUMIF($G:$L,\"発電基準値需要抑制計画（アセス用）▲\",M:N)","v":0},null,{"$f":"SUMIF($G:$L,\"発電基準値需要抑制計画（アセス用）▲\",O:P)","v":0},null,{"$f":"SUMIF($G:$L,\"発電基準値需要抑制計画（アセス用）▲\",Q:R)","v":3300},null,{"$f":"SUMIF($G:$L,\"発電基準値需要抑制計画（アセス用）▲\",S:T)","v":3300},null,{"$f":"SUMIF($G:$L,\"発電基準値需要抑制計画（アセス用）▲\",U:V)","v":3300},null,{"$f":"SUMIF($G:$L,\"発電基準値需要抑制計画（アセス用）▲\",W:X)","v":3300},null,{"$f":"SUMIF($G:$L,\"発電基準値需要抑制計画（アセス用）▲\",Y:Z)","v":3300},null,{"$f":"SUMIF($G:$L,\"発電基準値需要抑制計画（アセス用）▲\",AA:AB)","v":3300},null,{"$f":"SUMIF($G:$L,\"発電基準値需要抑制計画（アセス用）▲\",AC:AD)","v":3300},null,{"$f":"SUMIF($G:$L,\"発電基準値需要抑制計画（アセス用）▲\",AE:AF)","v":3300},null,{"$f":"SUMIF($G:$L,\"発電基準値需要抑制計画（アセス用）▲\",AG:AH)","v":3300},null,{"$f":"SUMIF($G:$L,\"発電基準値需要抑制計画（アセス用）▲\",AI:AJ)","v":3300},null,{"$f":"SUMIF($G:$L,\"発電基準値需要抑制計画（アセス用）▲\",AK:AL)","v":3300},null,{"$f":"SUMIF($G:$L,\"発電基準値需要抑制計画（アセス用）▲\",AM:AN)","v":3300},null,{"$f":"SUMIF($G:$L,\"発電基準値需要抑制計画（アセス用）▲\",AO:AP)","v":3300},null,{"$f":"SUMIF($G:$L,\"発電基準値需要抑制計画（アセス用）▲\",AQ:AR)","v":3300},null,{"$f":"SUMIF($G:$L,\"発電基準値需要抑制計画（アセス用）▲\",AS:AT)","v":3300},null,{"$f":"SUMIF($G:$L,\"発電基準値需要抑制計画（アセス用）▲\",AU:AV)","v":3300},null,{"$f":"SUMIF($G:$L,\"発電基準値需要抑制計画（アセス用）▲\",AW:AX)","v":3300},null,{"$f":"SUMIF($G:$L,\"発電基準値需要抑制計画（アセス用）▲\",AY:AZ)","v":3300},null,{"$f":"SUMIF($G:$L,\"発電基準値需要抑制計画（アセス用）▲\",BA:BB)","v":3300},null,{"$f":"SUMIF($G:$L,\"発電基準値需要抑制計画（アセス用）▲\",BC:BD)","v":3300},null,{"$f":"SUMIF($G:$L,\"発電基準値需要抑制計画（アセス用）▲\",BE:BF)","v":3300},null,{"$f":"SUMIF($G:$L,\"発電基準値需要抑制計画（アセス用）▲\",BG:BH)","v":3300},null,{"$f":"SUMIF($G:$L,\"発電基準値需要抑制計画（アセス用）▲\",BI:BJ)","v":3300},null,{"$f":"SUMIF($G:$L,\"発電基準値需要抑制計画（アセス用）▲\",BK:BL)","v":3300},null,{"$f":"SUMIF($G:$L,\"発電基準値需要抑制計画（アセス用）▲\",BM:BN)","v":3300},null,{"$f":"SUMIF($G:$L,\"発電基準値需要抑制計画（アセス用）▲\",BO:BP)","v":3300},null,{"$f":"SUMIF($G:$L,\"発電基準値需要抑制計画（アセス用）▲\",BQ:BR)","v":3300},null,{"$f":"SUMIF($G:$L,\"発電基準値需要抑制計画（アセス用）▲\",BS:BT)","v":3300},null,{"$f":"SUMIF($G:$L,\"発電基準値需要抑制計画（アセス用）▲\",BU:BV)","v":3300},null,{"$f":"SUMIF($G:$L,\"発電基準値需要抑制計画（アセス用）▲\",BW:BX)","v":3300},null,{"$f":"SUMIF($G:$L,\"発電基準値需要抑制計画（アセス用）▲\",BY:BZ)","v":3300},null,{"$f":"SUMIF($G:$L,\"発電基準値需要抑制計画（アセス用）▲\",CA:CB)","v":3300},null,{"$f":"SUMIF($G:$L,\"発電基準値需要抑制計画（アセス用）▲\",CC:CD)","v":3300},null,{"$f":"SUMIF($G:$L,\"発電基準値需要抑制計画（アセス用）▲\",CE:CF)","v":3300},null,{"$f":"SUMIF($G:$L,\"発電基準値需要抑制計画（アセス用）▲\",CG:CH)","v":3300},null,{"$f":"SUMIF($G:$L,\"発電基準値需要抑制計画（アセス用）▲\",CI:CJ)","v":3300},null,{"$f":"SUMIF($G:$L,\"発電基準値需要抑制計画（アセス用）▲\",CK:CL)","v":3300},null,{"$f":"SUMIF($G:$L,\"発電基準値需要抑制計画（アセス用）▲\",CM:CN)","v":3300},null,{"$f":"SUMIF($G:$L,\"発電基準値需要抑制計画（アセス用）▲\",CO:CP)","v":3300},null,{"$f":"SUMIF($G:$L,\"発電基準値需要抑制計画（アセス用）▲\",CQ:CR)","v":3300},null,{"$f":"SUMIF($G:$L,\"発電基準値需要抑制計画（アセス用）▲\",CS:CT)","v":3300},null,{"$f":"SUMIF($G:$L,\"発電基準値需要抑制計画（アセス用）▲\",CU:CV)","v":3300},null,{"$f":"SUMIF($G:$L,\"発電基準値需要抑制計画（アセス用）▲\",CW:CX)","v":3300},null,{"$f":"SUMIF($G:$L,\"発電基準値需要抑制計画（アセス用）▲\",CY:CZ)","v":3300},null,{"$f":"SUMIF($G:$L,\"発電基準値需要抑制計画（アセス用）▲\",DA:DB)","v":3300},null,{"$f":"SUMIF($G:$L,\"発電基準値需要抑制計画（アセス用）▲\",DC:DD)","v":3300},null,{"$f":"SUMIF($G:$L,\"発電基準値需要抑制計画（アセス用）▲\",DE:DF)","v":3300},null,{"$f":"SUMIF($G:$L,\"発電基準値需要抑制計画（アセス用）▲\",DG:DH)","v":3300}]
["明細番号",null,"機器点特定番号",null,null,null,"発電基準値需要抑制計画（調整電力量用・機器端）",null,null,null,null,null,{"$f":"SUMIF($G:$L,\"発電基準値需要抑制計画（調整電力量用・機器端）▲\",M:N)","v":0},null,{"$f":"SUMIF($G:$L,\"発電基準値需要抑制計画（調整電力量用・機器端）▲\",O:P)","v":0},null,{"$f":"SUMIF($G:$L,\"発電基準値需要抑制計画（調整電力量用・機器端）▲\",Q:R)","v":3300},null,{"$f":"SUMIF($G:$L,\"発電基準値需要抑制計画（調整電力量用・機器端）▲\",S:T)","v":3300},null,{"$f":"SUMIF($G:$L,\"発電基準値需要抑制計画（調整電力量用・機器端）▲\",U:V)","v":3300},null,{"$f":"SUMIF($G:$L,\"発電基準値需要抑制計画（調整電力量用・機器端）▲\",W:X)","v":3300},null,{"$f":"SUMIF($G:$L,\"発電基準値需要抑制計画（調整電力量用・機器端）▲\",Y:Z)","v":3300},null,{"$f":"SUMIF($G:$L,\"発電基準値需要抑制計画（調整電力量用・機器端）▲\",AA:AB)","v":3300},null,{"$f":"SUMIF($G:$L,\"発電基準値需要抑制計画（調整電力量用・機器端）▲\",AC:AD)","v":3300},null,{"$f":"SUMIF($G:$L,\"発電基準値需要抑制計画（調整電力量用・機器端）▲\",AE:AF)","v":3300},null,{"$f":"SUMIF($G:$L,\"発電基準値需要抑制計画（調整電力量用・機器端）▲\",AG:AH)","v":3300},null,{"$f":"SUMIF($G:$L,\"発電基準値需要抑制計画（調整電力量用・機器端）▲\",AI:AJ)","v":3300},null,{"$f":"SUMIF($G:$L,\"発電基準値需要抑制計画（調整電力量用・機器端）▲\",AK:AL)","v":3300},null,{"$f":"SUMIF($G:$L,\"発電基準値需要抑制計画（調整電力量用・機器端）▲\",AM:AN)","v":3300},null,{"$f":"SUMIF($G:$L,\"発電基準値需要抑制計画（調整電力量用・機器端）▲\",AO:AP)","v":3300},null,{"$f":"SUMIF($G:$L,\"発電基準値需要抑制計画（調整電力量用・機器端）▲\",AQ:AR)","v":3300},null,{"$f":"SUMIF($G:$L,\"発電基準値需要抑制計画（調整電力量用・機器端）▲\",AS:AT)","v":3300},null,{"$f":"SUMIF($G:$L,\"発電基準値需要抑制計画（調整電力量用・機器端）▲\",AU:AV)","v":3300},null,{"$f":"SUMIF($G:$L,\"発電基準値需要抑制計画（調整電力量用・機器端）▲\",AW:AX)","v":3300},null,{"$f":"SUMIF($G:$L,\"発電基準値需要抑制計画（調整電力量用・機器端）▲\",AY:AZ)","v":3300},null,{"$f":"SUMIF($G:$L,\"発電基準値需要抑制計画（調整電力量用・機器端）▲\",BA:BB)","v":3300},null,{"$f":"SUMIF($G:$L,\"発電基準値需要抑制計画（調整電力量用・機器端）▲\",BC:BD)","v":3300},null,{"$f":"SUMIF($G:$L,\"発電基準値需要抑制計画（調整電力量用・機器端）▲\",BE:BF)","v":3300},null,{"$f":"SUMIF($G:$L,\"発電基準値需要抑制計画（調整電力量用・機器端）▲\",BG:BH)","v":3300},null,{"$f":"SUMIF($G:$L,\"発電基準値需要抑制計画（調整電力量用・機器端）▲\",BI:BJ)","v":3300},null,{"$f":"SUMIF($G:$L,\"発電基準値需要抑制計画（調整電力量用・機器端）▲\",BK:BL)","v":3300},null,{"$f":"SUMIF($G:$L,\"発電基準値需要抑制計画（調整電力量用・機器端）▲\",BM:BN)","v":3300},null,{"$f":"SUMIF($G:$L,\"発電基準値需要抑制計画（調整電力量用・機器端）▲\",BO:BP)","v":3300},null,{"$f":"SUMIF($G:$L,\"発電基準値需要抑制計画（調整電力量用・機器端）▲\",BQ:BR)","v":3300},null,{"$f":"SUMIF($G:$L,\"発電基準値需要抑制計画（調整電力量用・機器端）▲\",BS:BT)","v":3300},null,{"$f":"SUMIF($G:$L,\"発電基準値需要抑制計画（調整電力量用・機器端）▲\",BU:BV)","v":3300},null,{"$f":"SUMIF($G:$L,\"発電基準値需要抑制計画（調整電力量用・機器端）▲\",BW:BX)","v":3300},null,{"$f":"SUMIF($G:$L,\"発電基準値需要抑制計画（調整電力量用・機器端）▲\",BY:BZ)","v":3300},null,{"$f":"SUMIF($G:$L,\"発電基準値需要抑制計画（調整電力量用・機器端）▲\",CA:CB)","v":3300},null,{"$f":"SUMIF($G:$L,\"発電基準値需要抑制計画（調整電力量用・機器端）▲\",CC:CD)","v":3300},null,{"$f":"SUMIF($G:$L,\"発電基準値需要抑制計画（調整電力量用・機器端）▲\",CE:CF)","v":3300},null,{"$f":"SUMIF($G:$L,\"発電基準値需要抑制計画（調整電力量用・機器端）▲\",CG:CH)","v":3300},null,{"$f":"SUMIF($G:$L,\"発電基準値需要抑制計画（調整電力量用・機器端）▲\",CI:CJ)","v":3300},null,{"$f":"SUMIF($G:$L,\"発電基準値需要抑制計画（調整電力量用・機器端）▲\",CK:CL)","v":3300},null,{"$f":"SUMIF($G:$L,\"発電基準値需要抑制計画（調整電力量用・機器端）▲\",CM:CN)","v":3300},null,{"$f":"SUMIF($G:$L,\"発電基準値需要抑制計画（調整電力量用・機器端）▲\",CO:CP)","v":3300},null,{"$f":"SUMIF($G:$L,\"発電基準値需要抑制計画（調整電力量用・機器端）▲\",CQ:CR)","v":3300},null,{"$f":"SUMIF($G:$L,\"発電基準値需要抑制計画（調整電力量用・機器端）▲\",CS:CT)","v":3300},null,{"$f":"SUMIF($G:$L,\"発電基準値需要抑制計画（調整電力量用・機器端）▲\",CU:CV)","v":3300},null,{"$f":"SUMIF($G:$L,\"発電基準値需要抑制計画（調整電力量用・機器端）▲\",CW:CX)","v":3300},null,{"$f":"SUMIF($G:$L,\"発電基準値需要抑制計画（調整電力量用・機器端）▲\",CY:CZ)","v":3300},null,{"$f":"SUMIF($G:$L,\"発電基準値需要抑制計画（調整電力量用・機器端）▲\",DA:DB)","v":3300},null,{"$f":"SUMIF($G:$L,\"発電基準値需要抑制計画（調整電力量用・機器端）▲\",DC:DD)","v":3300},null,{"$f":"SUMIF($G:$L,\"発電基準値需要抑制計画（調整電力量用・機器端）▲\",DE:DF)","v":3300},null,{"$f":"SUMIF($G:$L,\"発電基準値需要抑制計画（調整電力量用・機器端）▲\",DG:DH)","v":3300}]
[null,null,"1005496244029937581901",null,null,null,"基準値（アセス用）▲",null,null,null,null,null,null,null,null,null,3500,null,3500,null,3500,null,3500,null,3500,null,3500,null,3500,null,3500,null,3500,null,3500,null,3500,null,3500,null,3500,null,3500,null,3500,null,3500,null,3500,null,3500,null,3500,null,3500,null,3500,null,3500,null,3500,null,3500,null,3500,null,3500,null,3500,null,3500,null,3500,null,3500,null,3500,null,3500,null,3500,null,3500,null,3500,null,3500,null,3500,null,3500,null,3500,null,3500,null,3500,null,3500,null,3500,null,3500,null,3500,null,3500,null,3500,null,3500]
[null,null,null,null,null,null,"基準値（調整電力量用・機器端）▲",null,null,null,null,null,null,null,null,null,3500,null,3500,null,3500,null,3500,null,3500,null,3500,null,3500,null,3500,null,3500,null,3500,null,3500,null,3500,null,3500,null,3500,null,3500,null,3500,null,3500,null,3500,null,3500,null,3500,null,3500,null,3500,null,3500,null,3500,null,3500,null,3500,null,3500,null,3500,null,3500,null,3500,null,3500,null,3500,null,3500,null,3500,null,3500,null,3500,null,3500,null,3500,null,3500,null,3500,null,3500,null,3500,null,3500,null,3500,null,3500,null,3500,null,3500,null,3500]
[null,null,null,null,null,null,"発電基準値（アセス用）▲",null,null,null,null,null,null,null,null,null,3000,null,3000,null,3000,null,3000,null,3000,null,3000,null,3000,null,3000,null,3000,null,3000,null,3000,null,3000,null,3000,null,3000,null,3000,null,3000,null,3000,null,3000,null,3000,null,3000,null,3000,null,3000,null,3000,null,3000,null,3000,null,3000,null,3000,null,3000,null,3000,null,3000,null,3000,null,3000,null,3000,null,3000,null,3000,null,3000,null,3000,null,3000,null,3000,null,3000,null,3000,null,3000,null,3000,null,3000,null,3000,null,3000,null,3000,null,3000]
[null,null,null,null,null,null,"発電基準値（調整電力量用・機器端）▲",null,null,null,null,null,null,null,null,null,3000,null,3000,null,3000,null,3000,null,3000,null,3000,null,3000,null,3000,null,3000,null,3000,null,3000,null,3000,null,3000,null,3000,null,3000,null,3000,null,3000,null,3000,null,3000,null,3000,null,3000,null,3000,null,3000,null,3000,null,3000,null,3000,null,3000,null,3000,null,3000,null,3000,null,3000,null,3000,null,3000,null,3000,null,3000,null,3000,null,3000,null,3000,null,3000,null,3000,null,3000,null,3000,null,3000,null,3000,null,3000,null,3000,null,3000,null,3000]
[1,null,null,null,null,null,"発電上限▲",null,null,null,null,null,null,null,null,null,3500,null,3500,null,3500,null,3500,null,3500,null,3500,null,3500,null,3500,null,3500,null,3500,null,3500,null,3500,null,3500,null,3500,null,3500,null,3500,null,3500,null,3500,null,3500,null,3500,null,3500,null,3500,null,3500,null,3500,null,3500,null,3500,null,3500,null,3500,null,3500,null,3500,null,3500,null,3500,null,3500,null,3500,null,3500,null,3500,null,3500,null,3500,null,3500,null,3500,null,3500,null,3500,null,3500,null,3500,null,3500,null,3500,null,3500,null,3500]
[null,null,null,null,null,null,"基準値需要抑制計画（アセス用）▲",null,null,null,null,null,null,null,null,null,3200,null,3200,null,3200,null,3200,null,3200,null,3200,null,3200,null,3200,null,3200,null,3200,null,3200,null,3200,null,3200,null,3200,null,3200,null,3200,null,3200,null,3200,null,3200,null,3200,null,3200,null,3200,null,3200,null,3200,null,3200,null,3200,null,3200,null,3200,null,3200,null,3200,null,3200,null,3200,null,3200,null,3200,null,3200,null,3200,null,3200,null,3200,null,3200,null,3200,null,3200,null,3200,null,3200,null,3200,null,3200,null,3200,null,3200,null,3200]
[null,null,null,null,null,null,"基準値需要抑制計画（調整電力量用・機器端）▲",null,null,null,null,null,null,null,null,null,3200,null,3200,null,3200,null,3200,null,3200,null,3200,null,3200,null,3200,null,3200,null,3200,null,3200,null,3200,null,3200,null,3200,null,3200,null,3200,null,3200,null,3200,null,3200,null,3200,null,3200,null,3200,null,3200,null,3200,null,3200,null,3200,null,3200,null,3200,null,3200,null,3200,null,3200,null,3200,null,3200,null,3200,null,3200,null,3200,null,3200,null,3200,null,3200,null,3200,null,3200,null,3200,null,3200,null,3200,null,3200,null,3200,null,3200,null,3200]
[null,null,null,null,null,null,"発電基準値需要抑制計画（アセス用）▲",null,null,null,null,null,null,null,null,null,3300,null,3300,null,3300,null,3300,null,3300,null,3300,null,3300,null,3300,null,3300,null,3300,null,3300,null,3300,null,3300,null,3300,null,3300,null,3300,null,3300,null,3300,null,3300,null,3300,null,3300,null,3300,null,3300,null,3300,null,3300,null,3300,null,3300,null,3300,null,3300,null,3300,null,3300,null,3300,null,3300,null,3300,null,3300,null,3300,null,3300,null,3300,null,3300,null,3300,null,3300,null,3300,null,3300,null,3300,null,3300,null,3300,null,3300,null,3300]
[null,null,null,null,null,null,"発電基準値需要抑制計画（調整電力量用・機器端）▲",null,null,null,null,null,null,null,null,null,3300,null,3300,null,3300,null,3300,null,3300,null,3300,null,3300,null,3300,null,3300,null,3300,null,3300,null,3300,null,3300,null,3300,null,3300,null,3300,null,3300,null,3300,null,3300,null,3300,null,3300,null,3300,null,3300,null,3300,null,3300,null,3300,null,3300,null,3300,null,3300,null,3300,null,3300,null,3300,null,3300,null,3300,null,3300,null,3300,null,3300,null,3300,null,3300,null,3300,null,3300,null,3300,null,3300,null,3300,null,3300,null,3300,null,3300,null,3300]
[]
["採用は、当該時刻コード時間帯の基準値計画の採用有無を空白または『採用』を入力。"]
["機器点特定番号は、機器点参入リソースを識別するための番号を半角数字22桁で入力。"]
["高圧機器点基準値(アセス用)(kWh)は、高圧以上機器点の需要計画を受電点に換算した需要計画を機器点特定番号かつ30分コマ単位に半角整数で入力。"]
["高圧機器点基準値(調整電力量用・機器端)(kWh)は、高圧以上機器点の需要計画を機器点特定番号かつ30分コマ単位に半角整数で入力。"]
["高圧機器点発電基準値(アセス用)(kWh)は、高圧以上機器点の発電計画を受電点に換算した発電計画を機器点特定番号かつ30分コマ単位に半角整数で入力。"]
["高圧機器点発電基準値(調整電力量用・機器端)(kWh)は、高圧以上機器点の発電計画を機器点特定番号かつ30分コマ単位に半角整数で入力。"]
["高圧機器点発電上限(kWh)は、高圧以上機器点の発電上限を受電点に換算した発電上限を機器点特定番号かつ30分コマ単位に半角整数で入力。"]
["高圧機器点基準値需要抑制計画(アセス用)(kWh)は、高圧以上機器ネガリソースで参入する機器点毎の受電点に換算した需要抑制計画を機器点特定番号かつ30分コマ単位に半角整数で入力。"]
["高圧機器点基準値需要抑制計画(調整電力量用・機器端)(kWh)は、高圧以上機器ネガリソースで参入する機器点毎の需要抑制計画を機器点特定番号かつ30分コマ単位に半角整数で入力。"]
["高圧機器点発電基準値需要抑制計画(アセス用)(kWh)は、高圧以上機器ポジリソースで参入する機器点毎の受電点に換算した需要抑制計画を機器点特定番号かつ30分コマ単位に半角整数で入力。"]
["高圧機器点発電基準値需要抑制計画(調整電力量用・機器端)(kWh)は、高圧以上機器ポジリソースで参入する機器点毎の需要抑制計画を機器点特定番号かつ30分コマ単位に半角整数で入力。"]
[]
["②－６ 低圧機器点基準値計画の入力"]
["低圧機器点基準値計画の具体的な入力規則は下記の通りです。"]
[null,null,null,null,null,null,null,null,null,null,null,"採用",null,null,null,null,null,null,"採用",null,"採用",null,"採用"]
[null,null,null,null,null,null,null,null,null,null,null,"#",null,null,"Y7",null,"Y8",null,"01",null,"02",null,"03",null,"04",null,"05",null,"06",null,"07",null,"08",null,"09",null,10,null,11,null,12,null,13,null,14,null,15,null,16,null,17,null,18,null,19,null,20,null,21,null,22,null,23,null,24,null,25,null,26,null,27,null,28,null,29,null,30,null,31,null,32,null,33,null,34,null,35,null,36,null,37,null,38,null,39,null,40,null,41,null,42,null,43,null,44,null,45,null,46,null,47,null,48]
[null,null,null,null,null,null,null,null,null,null,null,"時間帯",null,null,"23:00～23:30",null,"23:30～24:00",null,"0:00～0:30",null,"0:30～1:00",null,"1:00～1:30",null,"1:30～2:00",null,"2:00～2:30",null,"2:30～3:00",null,"3:00～3:30",null,"3:30～4:00",null,"4:00～4:30",null,"4:30～5:00",null,"5:00～5:30",null,"5:30～6:00",null,"6:00～6:30",null,"6:30～7:00",null,"7:00～7:30",null,"7:30～8:00",null,"8:00～8:30",null,"8:30～9:00",null,"9:00～9:30",null,"9:30～10:00",null,"10:00～10:30",null,"10:30～11:00",null,"11:00～11:30",null,"11:30～12:00",null,"12:00～12:30",null,"12:30～13:00",null,"13:00～13:30",null,"13:30～14:00",null,"14:00～14:30",null,"14:30～15:00",null,"15:00～15:30",null,"15:30～16:00",null,"16:00～16:30",null,"16:30～17:00",null,"17:00～17:30",null,"17:30～18:00",null,"18:00～18:30",null,"18:30～19:00",null,"19:00～19:30",null,"19:30～20:00",null,"20:00～20:30",null,"20:30～21:00",null,"21:00～21:30",null,"21:30～22:00",null,"22:00～22:30",null,"22:30～23:00",null,"23:00～23:30",null,"23:30～24:00"]
["合計基準値＝Σ基準値内訳",null,null,null,null,"低圧機器点(kWh)",null,null,null,null,null,"基準値",null,null,{"$f":"SUMIF($L:$N,\"基準値▲\",O:P)","v":0},null,{"$f":"SUMIF($L:$N,\"基準値▲\",Q:R)","v":0},null,{"$f":"SUMIF($L:$N,\"基準値▲\",S:T)","v":2500},null,{"$f":"SUMIF($L:$N,\"基準値▲\",U:V)","v":2500},null,{"$f":"SUMIF($L:$N,\"基準値▲\",W:X)","v":2500},null,{"$f":"SUMIF($L:$N,\"基準値▲\",Y:Z)","v":2500},null,{"$f":"SUMIF($L:$N,\"基準値▲\",AA:AB)","v":2500},null,{"$f":"SUMIF($L:$N,\"基準値▲\",AC:AD)","v":2500},null,{"$f":"SUMIF($L:$N,\"基準値▲\",AE:AF)","v":2500},null,{"$f":"SUMIF($L:$N,\"基準値▲\",AG:AH)","v":2500},null,{"$f":"SUMIF($L:$N,\"基準値▲\",AI:AJ)","v":2500},null,{"$f":"SUMIF($L:$N,\"基準値▲\",AK:AL)","v":2500},null,{"$f":"SUMIF($L:$N,\"基準値▲\",AM:AN)","v":2500},null,{"$f":"SUMIF($L:$N,\"基準値▲\",AO:AP)","v":2500},null,{"$f":"SUMIF($L:$N,\"基準値▲\",AQ:AR)","v":2500},null,{"$f":"SUMIF($L:$N,\"基準値▲\",AS:AT)","v":2500},null,{"$f":"SUMIF($L:$N,\"基準値▲\",AU:AV)","v":2500},null,{"$f":"SUMIF($L:$N,\"基準値▲\",AW:AX)","v":2500},null,{"$f":"SUMIF($L:$N,\"基準値▲\",AY:AZ)","v":2500},null,{"$f":"SUMIF($L:$N,\"基準値▲\",BA:BB)","v":2500},null,{"$f":"SUMIF($L:$N,\"基準値▲\",BC:BD)","v":2500},null,{"$f":"SUMIF($L:$N,\"基準値▲\",BE:BF)","v":2500},null,{"$f":"SUMIF($L:$N,\"基準値▲\",BG:BH)","v":2500},null,{"$f":"SUMIF($L:$N,\"基準値▲\",BI:BJ)","v":2500},null,{"$f":"SUMIF($L:$N,\"基準値▲\",BK:BL)","v":2500},null,{"$f":"SUMIF($L:$N,\"基準値▲\",BM:BN)","v":2500},null,{"$f":"SUMIF($L:$N,\"基準値▲\",BO:BP)","v":2500},null,{"$f":"SUMIF($L:$N,\"基準値▲\",BQ:BR)","v":2500},null,{"$f":"SUMIF($L:$N,\"基準値▲\",BS:BT)","v":2500},null,{"$f":"SUMIF($L:$N,\"基準値▲\",BU:BV)","v":2500},null,{"$f":"SUMIF($L:$N,\"基準値▲\",BW:BX)","v":2500},null,{"$f":"SUMIF($L:$N,\"基準値▲\",BY:BZ)","v":2500},null,{"$f":"SUMIF($L:$N,\"基準値▲\",CA:CB)","v":2500},null,{"$f":"SUMIF($L:$N,\"基準値▲\",CC:CD)","v":2500},null,{"$f":"SUMIF($L:$N,\"基準値▲\",CE:CF)","v":2500},null,{"$f":"SUMIF($L:$N,\"基準値▲\",CG:CH)","v":2500},null,{"$f":"SUMIF($L:$N,\"基準値▲\",CI:CJ)","v":2500},null,{"$f":"SUMIF($L:$N,\"基準値▲\",CK:CL)","v":2500},null,{"$f":"SUMIF($L:$N,\"基準値▲\",CM:CN)","v":2500},null,{"$f":"SUMIF($L:$N,\"基準値▲\",CO:CP)","v":2500},null,{"$f":"SUMIF($L:$N,\"基準値▲\",CQ:CR)","v":2500},null,{"$f":"SUMIF($L:$N,\"基準値▲\",CS:CT)","v":2500},null,{"$f":"SUMIF($L:$N,\"基準値▲\",CU:CV)","v":2500},null,{"$f":"SUMIF($L:$N,\"基準値▲\",CW:CX)","v":2500},null,{"$f":"SUMIF($L:$N,\"基準値▲\",CY:CZ)","v":2500},null,{"$f":"SUMIF($L:$N,\"基準値▲\",DA:DB)","v":2500},null,{"$f":"SUMIF($L:$N,\"基準値▲\",DC:DD)","v":2500},null,{"$f":"SUMIF($L:$N,\"基準値▲\",DE:DF)","v":2500},null,{"$f":"SUMIF($L:$N,\"基準値▲\",DG:DH)","v":2500},null,{"$f":"SUMIF($L:$N,\"基準値▲\",DI:DJ)","v":2500}]
["明細番号",null,"小売電気事業者コード",null,null,"小売電気事業者名称▲",null,null,"発電BGコード▲",null,null,"発電基準値",null,null,{"$f":"SUMIF($L:$N,\"発電基準値▲\",O:P)","v":0},null,{"$f":"SUMIF($L:$N,\"発電基準値▲\",Q:R)","v":0},null,{"$f":"SUMIF($L:$N,\"発電基準値▲\",S:T)","v":2000},null,{"$f":"SUMIF($L:$N,\"発電基準値▲\",U:V)","v":2000},null,{"$f":"SUMIF($L:$N,\"発電基準値▲\",W:X)","v":2000},null,{"$f":"SUMIF($L:$N,\"発電基準値▲\",Y:Z)","v":2000},null,{"$f":"SUMIF($L:$N,\"発電基準値▲\",AA:AB)","v":2000},null,{"$f":"SUMIF($L:$N,\"発電基準値▲\",AC:AD)","v":2000},null,{"$f":"SUMIF($L:$N,\"発電基準値▲\",AE:AF)","v":2000},null,{"$f":"SUMIF($L:$N,\"発電基準値▲\",AG:AH)","v":2000},null,{"$f":"SUMIF($L:$N,\"発電基準値▲\",AI:AJ)","v":2000},null,{"$f":"SUMIF($L:$N,\"発電基準値▲\",AK:AL)","v":2000},null,{"$f":"SUMIF($L:$N,\"発電基準値▲\",AM:AN)","v":2000},null,{"$f":"SUMIF($L:$N,\"発電基準値▲\",AO:AP)","v":2000},null,{"$f":"SUMIF($L:$N,\"発電基準値▲\",AQ:AR)","v":2000},null,{"$f":"SUMIF($L:$N,\"発電基準値▲\",AS:AT)","v":2000},null,{"$f":"SUMIF($L:$N,\"発電基準値▲\",AU:AV)","v":2000},null,{"$f":"SUMIF($L:$N,\"発電基準値▲\",AW:AX)","v":2000},null,{"$f":"SUMIF($L:$N,\"発電基準値▲\",AY:AZ)","v":2000},null,{"$f":"SUMIF($L:$N,\"発電基準値▲\",BA:BB)","v":2000},null,{"$f":"SUMIF($L:$N,\"発電基準値▲\",BC:BD)","v":2000},null,{"$f":"SUMIF($L:$N,\"発電基準値▲\",BE:BF)","v":2000},null,{"$f":"SUMIF($L:$N,\"発電基準値▲\",BG:BH)","v":2000},null,{"$f":"SUMIF($L:$N,\"発電基準値▲\",BI:BJ)","v":2000},null,{"$f":"SUMIF($L:$N,\"発電基準値▲\",BK:BL)","v":2000},null,{"$f":"SUMIF($L:$N,\"発電基準値▲\",BM:BN)","v":2000},null,{"$f":"SUMIF($L:$N,\"発電基準値▲\",BO:BP)","v":2000},null,{"$f":"SUMIF($L:$N,\"発電基準値▲\",BQ:BR)","v":2000},null,{"$f":"SUMIF($L:$N,\"発電基準値▲\",BS:BT)","v":2000},null,{"$f":"SUMIF($L:$N,\"発電基準値▲\",BU:BV)","v":2000},null,{"$f":"SUMIF($L:$N,\"発電基準値▲\",BW:BX)","v":2000},null,{"$f":"SUMIF($L:$N,\"発電基準値▲\",BY:BZ)","v":2000},null,{"$f":"SUMIF($L:$N,\"発電基準値▲\",CA:CB)","v":2000},null,{"$f":"SUMIF($L:$N,\"発電基準値▲\",CC:CD)","v":2000},null,{"$f":"SUMIF($L:$N,\"発電基準値▲\",CE:CF)","v":2000},null,{"$f":"SUMIF($L:$N,\"発電基準値▲\",CG:CH)","v":2000},null,{"$f":"SUMIF($L:$N,\"発電基準値▲\",CI:CJ)","v":2000},null,{"$f":"SUMIF($L:$N,\"発電基準値▲\",CK:CL)","v":2000},null,{"$f":"SUMIF($L:$N,\"発電基準値▲\",CM:CN)","v":2000},null,{"$f":"SUMIF($L:$N,\"発電基準値▲\",CO:CP)","v":2000},null,{"$f":"SUMIF($L:$N,\"発電基準値▲\",CQ:CR)","v":2000},null,{"$f":"SUMIF($L:$N,\"発電基準値▲\",CS:CT)","v":2000},null,{"$f":"SUMIF($L:$N,\"発電基準値▲\",CU:CV)","v":2000},null,{"$f":"SUMIF($L:$N,\"発電基準値▲\",CW:CX)","v":2000},null,{"$f":"SUMIF($L:$N,\"発電基準値▲\",CY:CZ)","v":2000},null,{"$f":"SUMIF($L:$N,\"発電基準値▲\",DA:DB)","v":2000},null,{"$f":"SUMIF($L:$N,\"発電基準値▲\",DC:DD)","v":2000},null,{"$f":"SUMIF($L:$N,\"発電基準値▲\",DE:DF)","v":2000},null,{"$f":"SUMIF($L:$N,\"発電基準値▲\",DG:DH)","v":2000},null,{"$f":"SUMIF($L:$N,\"発電基準値▲\",DI:DJ)","v":2000}]
[null,null,"42A93",null,null,"関東でんき",null,null,"55B36",null,null,"基準値▲",null,null,null,null,null,null,2500,null,2500,null,2500,null,2500,null,2500,null,2500,null,2500,null,2500,null,2500,null,2500,null,2500,null,2500,null,2500,null,2500,null,2500,null,2500,null,2500,null,2500,null,2500,null,2500,null,2500,null,2500,null,2500,null,2500,null,2500,null,2500,null,2500,null,2500,null,2500,null,2500,null,2500,null,2500,null,2500,null,2500,null,2500,null,2500,null,2500,null,2500,null,2500,null,2500,null,2500,null,2500,null,2500,null,2500,null,2500,null,2500,null,2500,null,2500]
[null,null,null,null,null,null,null,null,null,null,null,"発電基準値▲",null,null,null,null,null,null,2000,null,2000,null,2000,null,2000,null,2000,null,2000,null,2000,null,2000,null,2000,null,2000,null,2000,null,2000,null,2000,null,2000,null,2000,null,2000,null,2000,null,2000,null,2000,null,2000,null,2000,null,2000,null,2000,null,2000,null,2000,null,2000,null,2000,null,2000,null,2000,null,2000,null,2000,null,2000,null,2000,null,2000,null,2000,null,2000,null,2000,null,2000,null,2000,null,2000,null,2000,null,2000,null,2000,null,2000,null,2000,null,2000,null,2000,null,2000]
[1,null,null,null,null,null,null,null,null,null,null,"発電上限▲",null,null,null,null,null,null,2600,null,2600,null,2600,null,2600,null,2600,null,2600,null,2600,null,2600,null,2600,null,2600,null,2600,null,2600,null,2600,null,2600,null,2600,null,2600,null,2600,null,2600,null,2600,null,2600,null,2600,null,2600,null,2600,null,2600,null,2600,null,2600,null,2600,null,2600,null,2600,null,2600,null,2600,null,2600,null,2600,null,2600,null,2600,null,2600,null,2600,null,2600,null,2600,null,2600,null,2600,null,2600,null,2600,null,2600,null,2600,null,2600,null,2600,null,2600]
[null,null,null,null,null,null,null,null,null,null,null,"基準値需要抑制計画▲",null,null,null,null,null,null,1900,null,1900,null,1900,null,1900,null,1900,null,1900,null,1900,null,1900,null,1900,null,1900,null,1900,null,1900,null,1900,null,1900,null,1900,null,1900,null,1900,null,1900,null,1900,null,1900,null,1900,null,1900,null,1900,null,1900,null,1900,null,1900,null,1900,null,1900,null,1900,null,1900,null,1900,null,1900,null,1900,null,1900,null,1900,null,1900,null,1900,null,1900,null,1900,null,1900,null,1900,null,1900,null,1900,null,1900,null,1900,null,1900,null,1900,null,1900]
[null,null,null,null,null,null,null,null,null,null,null,"発電基準値需要抑制計画▲",null,null,null,null,null,null,1950,null,1950,null,1950,null,1950,null,1950,null,1950,null,1950,null,1950,null,1950,null,1950,null,1950,null,1950,null,1950,null,1950,null,1950,null,1950,null,1950,null,1950,null,1950,null,1950,null,1950,null,1950,null,1950,null,1950,null,1950,null,1950,null,1950,null,1950,null,1950,null,1950,null,1950,null,1950,null,1950,null,1950,null,1950,null,1950,null,1950,null,1950,null,1950,null,1950,null,1950,null,1950,null,1950,null,1950,null,1950,null,1950,null,1950,null,1950]
[]
["採用は、当該時刻コード時間帯の基準値計画の採用有無を空白または『採用』を入力。"]
["小売電気事業者コードは，需要リソースに電気を供給している小売電気事業者を識別するコードを半角英数字5桁で入力。"]
["小売電気事業者名称は，需要リソースに電気を供給している小売電気事業者名称を50文字以内で任意入力。"]
["発電BGコードは，発電リソースが所属する発電BGを示すコードを半角英数字5桁で任意入力。"]
["低圧機器点基準値(kWh)は、低圧機器点の需要計画を受電点に換算した需要計画を小売電気事業者かつ30分コマ単位に半角整数で入力。"]
["低圧機器点発電基準値(kWh)は、低圧機器点の発電計画を受電点に換算した発電計画を小売電気事業者かつ30分コマ単位に半角整数で入力。"]
["低圧機器点発電上限(kWh)は、低圧機器点の発電上限を受電点に換算した発電上限を小売電気事業者かつ30分コマ単位に半角整数で入力。"]
["低圧機器点基準値需要抑制計画(kWh)は、低圧機器ネガリソースで参入する機器点の受電点に換算した需要抑制計画を小売電気事業者かつ30分コマ単位に半角整数で入力。"]
["低圧機器点発電基準値需要抑制計画(kWh)は、低圧機器ポジリソースで参入する機器点の需要抑制計画を小売電気事業者かつ30分コマ単位に半角整数で入力。"]
[]
["②－７ 機器点1分基準値電力の入力"]
["機器点1分基準値電力の具体的な入力規則は下記の通りです。"]
[]
[]
[]
[]
[]
[]
[]
[]
[]
[]
[]
[]
[]
[]
[]
[]
[]
[]
[]
[]
[]
[]
[]
[]
[]
[]
[]
[]
[]
[]
[]
[]
[]
[]
[]
[]
[]
[]
[]
[]
["1分接続電力(kW)を30分コマ1分単位に半角整数で入力。"]
[]
["②－８ 機器点属地周期基準値電力の入力"]
["機器点属地周期基準値電力の具体的な入力規則は下記の通りです。"]
[]
[]
[]
[]
[]
[]
[]
[]
[]
[]
[]
[]
[]
[]
[]
[]
[]
[]
[]
[]
[]
[]
[]
[]
[]
[]
[]
[]
[]
[]
[]
[]
[]
[]
[]
[]
[]
[]
[]
[]
[]
[]
[]
[]
["n秒接続電力(kW)を1分コマn秒単位に半角整数で入力。n：属地エリアごとに異なる。"]
[]
["②－９ 機器点1秒基準値電力の入力"]
["機器点1秒基準値電力の具体的な入力規則は下記の通りです。"]
[]
[]
[]
[]
[]
[]
[]
[]
[]
[]
[]
[]
[]
[]
[]
[]
[]
[]
[]
[]
[]
[]
[]
[]
[]
[]
[]
[]
[]
[]
[]
[]
[]
[]
[]
[]
[]
[]
[]
[]
[]
[]
[]
[]
["1秒接続電力(kW)を1分コマ1秒単位に半角整数で入力。"]
[]
["②－１０ 機器点1分発電計画電力の入力"]
["機器点1分発電計画電力の具体的な入力規則は下記の通りです。"]
[]
[]
[]
[]
[]
[]
[]
[]
[]
[]
[]
[]
[]
[]
[]
[]
[]
[]
[]
[]
[]
[]
[]
[]
[]
[]
[]
[]
[]
[]
[]
[]
[]
[]
[]
[]
[]
[]
[]
[]
["機器点1分発電計画電力(kW）は発電リソースが出力調整を実施しなかった場合の接続対象電力(kW)をタイムスロット単位に半角整数で入力。"]
[]
["②－１１ 機器点属地周期発電計画電力の入力"]
["機器点属地周期発電計画電力の具体的な入力規則は下記の通りです。"]
[]
[]
[]
[]
[]
[]
[]
[]
[]
[]
[]
[]
[]
[]
[]
[]
[]
[]
[]
[]
[]
[]
[]
[]
[]
[]
[]
[]
[]
[]
[]
[]
[]
[]
[]
[]
[]
[]
[]
[]
[]
[]
[]
[]
["機器点属地周期発電計画電力(kW）は発電リソースが出力調整を実施しなかった場合の接続対象電力(kW)をタイムスロット単位に半角整数で入力。"]
[]
["②－１２ 機器点1秒発電計画電力の入力"]
["機器点1秒発電計画電力の具体的な入力規則は下記の通りです。"]
[]
[]
[]
[]
[]
[]
[]
[]
[]
[]
[]
[]
[]
[]
[]
[]
[]
[]
[]
[]
[]
[]
[]
[]
[]
[]
[]
[]
[]
[]
[]
[]
[]
[]
[]
[]
[]
[]
[]
[]
[]
[]
[]
[]
["機器点1秒発電計画電力(kW）は発電リソースが出力調整を実施しなかった場合の接続対象電力(kW)をタイムスロット単位に半角整数で入力。"]

{"sheet":"エラーメッセージ一覧","index":12,"n_rows":106,"n_cols":6,"rows_kept":106,"cut":false,"hidden":false,"merged":[]}
["■機器点計画入力支援ツール エラーメッセージ一覧"]
[]
[null,"No.","操作","エラー種別","エラーメッセージ","対処方法"]
[null,{"$f":"ROW()-3","v":1},"「基準値XML読込」ボタン押下\n「XMLファイル妥当性検証」ボタン押下","XMLエラー","読み込んだXMLファイルは下記の理由で規格に違反しているため、読込を中止します。\nエラー理由：　\n　　　　～","・エラー理由を参照しXMLファイルの指摘箇所を修正してください。"]
[null,2,"「基準値XML出力」ボタン押下","入力エラー","入力データを保存してからXML出力を行ってください。","・入力データを保存してください。"]
[null,3,null,"入力エラー","対象年月日は『YYYYMMDD』形式の半角数字8桁で入力してください。","【ファイル情報】_対象年月日\n・入力値を見直してください。"]
[null,4,null,"入力エラー","対象年月日は存在する日付で入力してください。","【ファイル情報】_対象年月日\n・存在する日付を入力してください。"]
[null,5,null,"入力エラー","提出先事業者コードは半角英数字5桁で入力してください。","【基本情報】_提出先事業者（コード）\n・入力値を見直してください。"]
[null,6,null,"入力エラー","提出先事業者名称は50文字以内で入力してください。","【基本情報】_提出先事業者（名称▲）\n・入力値を見直してください。"]
[null,7,null,"入力エラー","送信事業者コードは半角英数字5桁で入力してください。","【基本情報】_送信事業者（コード）\n・入力値を見直してください。"]
[null,8,null,"入力エラー","送信事業者名称は50文字以内で入力してください。","【基本情報】_送信事業者（名称▲）\n・入力値を見直してください。"]
[null,9,null,"入力エラー","提出者コード（アグリゲータ用系統コード）は半角英数字5桁（2桁目『Y』)で入力してください。","【基本情報】_提出者（アグリゲータ用系統コード）（コード）\n・入力値を見直してください。"]
[null,10,null,"入力エラー","提出者名称は50文字以内で入力してください。","【基本情報】_提出者（アグリゲータ用系統コード）（名称▲）\n・入力値を見直してください。"]
[null,11,null,"入力エラー","電源等コードは半角英数字10桁以内で入力してください。","【出力ファイル名情報】_電源等コード\n・入力値を見直してください。"]
[null,12,null,"入力エラー","受電点需要計画明細番号nに誤りがあります。\n供給地点特定番号は半角数字22桁で入力してください。","【受電点需要計画】_供給地点特定番号\n・入力値を見直してください。"]
[null,13,null,"入力エラー","受電点需要計画明細番号nにおける〇〇の受電点需要計画に誤りがあります。\n受電点需要計画は半角数字9桁以内の正の整数で入力してください。","【受電点需要計画】_受電点需要計画(kWh)▲\n・入力値を見直してください。\n※〇〇は時刻コード"]
[null,14,null,"入力エラー","高圧機器点基準値計画明細番号nに誤りがあります。\n機器点特定番号は半角数字22桁で入力してください。","【高圧機器点基準値計画】_機器点特定番号\n・入力値を見直してください。"]
[null,15,null,"入力エラー","高圧機器点基準値明細番号nにおける〇〇の高圧機器点基準値(アセス用)に誤りがあります。\n高圧機器点基準値(アセス用)は半角数字9桁以内の正の整数で入力してください。","【高圧機器点基準値計画】_高圧機器点基準値(アセス用)▲\n・入力値を見直してください。\n※〇〇は時刻コード"]
[null,16,null,"入力エラー","高圧機器点基準値明細番号nにおける〇〇の高圧機器点基準値(調整電力量用・機器端)に誤りがあります。\n高圧機器点基準値(調整電力量用・機器端)は半角数字9桁以内の正の整数で入力してください。","【高圧機器点基準値計画】_高圧機器点基準値(調整電力量用・機器端)▲\n・入力値を見直してください。\n※〇〇は時刻コード"]
[null,17,null,"入力エラー","高圧機器点基準値明細番号nにおける〇〇の高圧機器点発電基準値(アセス用)に誤りがあります。\n高圧機器点発電基準値(アセス用)は半角数字9桁以内の正の整数で入力してください。","【高圧機器点基準値計画】_高圧機器点発電基準値(アセス用)▲\n・入力値を見直してください。\n※〇〇は時刻コード"]
[null,18,null,"入力エラー","高圧機器点基準値明細番号nにおける〇〇の高圧機器点発電基準値(調整電力量用・機器端)に誤りがあります。\n高圧機器点発電基準値(調整電力量用・機器端)は半角数字9桁以内の正の整数で入力してください。","【高圧機器点基準値計画】_高圧機器点発電基準値(調整電力量用・機器端)▲\n・入力値を見直してください。\n※〇〇は時刻コード"]
[null,19,null,"入力エラー","高圧機器点基準値明細番号nにおける〇〇の高圧機器点発電上限に誤りがあります。\n高圧機器点発電上限は半角数字9桁以内の正の整数で入力してください。","【高圧機器点基準値計画】_高圧機器点発電上限▲\n・入力値を見直してください。\n※〇〇は時刻コード"]
[null,20,null,"入力エラー","高圧機器点基準値明細番号nにおける〇〇の高圧機器点基準値需要抑制計画(アセス用に誤りがあります。\n高圧機器点基準値需要抑制計画(アセス用は半角数字9桁以内の正の整数で入力してください。","【高圧機器点基準値計画】_高圧機器点基準値需要抑制計画(アセス用)▲\n・入力値を見直してください。\n※〇〇は時刻コード"]
[null,21,null,"入力エラー","高圧機器点基準値明細番号nにおける〇〇の高圧機器点基準値需要抑制計画(調整電力量用・機器端)に誤りがあります。\n高圧機器点基準値需要抑制計画(調整電力量用・機器端)は半角数字9桁以内の正の整数で入力してください。","【高圧機器点基準値計画】_高圧機器点基準値需要抑制計画(調整電力量用・機器端)▲\n・入力値を見直してください。\n※〇〇は時刻コード"]
[null,22,null,"入力エラー","高圧機器点基準値明細番号nにおける〇〇の高圧機器点発電基準値需要抑制計画(アセス用)に誤りがあります。\n高圧機器点発電基準値需要抑制計画(アセス用)は半角数字9桁以内の正の整数で入力してください。","【高圧機器点基準値計画】_高圧機器点発電基準値需要抑制計画(アセス用)▲\n・入力値を見直してください。\n※〇〇は時刻コード"]
[null,23,null,"入力エラー","高圧機器点基準値明細番号nにおける〇〇の高圧機器点発電基準値需要抑制計画(調整電力量用・機器端)に誤りがあります。\n高圧機器点発電基準値需要抑制計画(調整電力量用・機器端)は半角数字9桁以内の正の整数で入力してください。","【高圧機器点基準値計画】_高圧機器点発電基準値需要抑制計画(調整電力量用・機器端)▲\n・入力値を見直してください。\n※〇〇は時刻コード"]
[null,24,null,"入力エラー","低圧機器点基準値計画明細番号nに誤りがあります。\n小売電気事業者コードは半角英数字5桁で入力してください。","【低圧機器点基準値計画】_小売電気事業者コード\n・入力値を見直してください。"]
[null,25,null,"入力エラー","低圧機器点基準値計画明細番号nに誤りがあります。\n発電BGコードは半角英数字5桁で入力してください。","【低圧機器点基準値計画】_発電BGコード▲\n・入力値を見直してください。"]
[null,26,null,"入力エラー","低圧機器点基準値計画明細番号nにおける〇〇の低圧機器点基準値に誤りがあります。\n低圧機器点基準値は半角数字9桁以内の正の整数で入力してください。","【低圧機器点基準値計画】_低圧機器点基準値▲\n・入力値を見直してください。\n※〇〇は時刻コード"]
[null,27,null,"入力エラー","低圧機器点基準値計画明細番号nにおける〇〇の低圧機器点発電基準値に誤りがあります。\n低圧機器点発電基準値は半角数字9桁以内の正の整数で入力してください。","【低圧機器点基準値計画】_低圧機器点発電基準値▲\n・入力値を見直してください。\n※〇〇は時刻コード"]
[null,28,null,"入力エラー","低圧機器点基準値計画明細番号nにおける〇〇の低圧機器点発電上限に誤りがあります。\n低圧機器点発電上限は半角数字9桁以内の正の整数で入力してください。","【低圧機器点基準値計画】_低圧機器点発電上限▲\n・入力値を見直してください。\n※〇〇は時刻コード"]
[null,29,null,"入力エラー","低圧機器点基準値計画明細番号nにおける〇〇の低圧機器点基準値需要抑制計画に誤りがあります。\n低圧機器点基準値需要抑制計画は半角数字9桁以内の正の整数で入力してください。","【低圧機器点基準値計画】_低圧機器点基準値需要抑制計画▲\n・入力値を見直してください。\n※〇〇は時刻コード"]
[null,30,null,"入力エラー","低圧機器点基準値計画明細番号nにおける〇〇の低圧機器点発電基準値需要抑制計画に誤りがあります。\n低圧機器点発電基準値需要抑制計画は半角数字9桁以内の正の整数で入力してください。","【低圧機器点基準値計画】_低圧機器点発電基準値需要抑制計画▲\n・入力値を見直してください。\n※〇〇は時刻コード"]
[null,31,null,"入力エラー","〇〇におけるアグリゲーションコーディネータ合計基準値との間に差異があります。","【機器点1分基準値電力】_機器点1分基準値電力(kW)\n・30分平均基準値電力と30分基準値電力の値を同値にしてください。\n※〇〇は時刻コード"]
[null,32,null,"入力エラー","タイムスロットxxにおける〇〇の基準値に誤りがあります。\n機器点1分基準値電力(kW)は半角数字9桁以内の正の整数で入力してください。","【機器点1分基準値電力】_機器点1分基準値電力(kW)\n・入力値を見直してください。\n※〇〇は時刻コード\n※xxはタイムスロット"]
[null,33,null,"入力エラー","xx～xxにおける合計基準値との間に差異があります。","【機器点属地周期基準値電力】_機器点属地周期基準値電力(kW)\n・1分平均基準値電力と機器点1分基準値電力の値を同値にしてください。\n※xx～xxは時間帯"]
[null,34,null,"入力エラー","タイムビートxxにおける〇〇の基準値に誤りがあります。\n機器点属地周期基準値電力(kW)は半角数字9桁以内の正の整数で入力してください。","【機器点属地周期基準値電力】_機器点属地周期基準値電力(kW)\n・入力値を見直してください。\n※〇〇は時刻コード\n※xxはタイムビート"]
[null,35,null,"入力エラー","xx～xxにおける合計基準値との間に差異があります。","【機器点1秒基準値電力】_機器点1秒基準値電力(kW)\n・1分平均基準値電力と機器点1分基準値電力の値を同値にしてください。\n※xx～xxは時間帯"]
[null,36,null,"入力エラー","セカンドスロットxxにおける〇〇の基準値に誤りがあります。\n機器点1秒基準値電力(kW)は半角数字9桁以内の正の整数で入力してください。","【機器点1秒基準値電力】_機器点1秒基準値電力(kW)\n・入力値を見直してください。\n※〇〇は時刻コード\n※xxはセカンドスロット"]
[null,37,null,"入力エラー","〇〇におけるアグリゲーションコーディネータ合計発電計画との間に差異があります。","【機器点1分発電計画電力】_機器点1分発電計画電力(kW)\n・30分平均発電計画電力と30分発電計画電力の値を同値にしてください。\n※〇〇は時刻コード"]
[null,38,null,"入力エラー","タイムスロットxxにおける〇〇の基準値に誤りがあります。\n機器点1分発電計画電力(kW)は半角数字9桁以内の正の整数で入力してください。","【機器点1分発電計画電力】_機器点1分発電計画電力(kW)\n・入力値を見直してください。\n※〇〇は時刻コード\n※xxはタイムスロット"]
[null,39,null,"入力エラー","xx～xxにおける合計発電計画との間に差異があります。","【機器点属地周期発電計画電力】_機器点属地周期発電計画電力(kW)\n・1分平均発電計画電力と機器点1分発電計画電力の値を同値にしてください。\n※xx～xxは時間帯"]
[null,40,null,"入力エラー","タイムビートxxにおける〇〇の基準値に誤りがあります。\n機器点属地周期発電計画電力(kW)は半角数字9桁以内の正の整数で入力してください。","【機器点属地周期発電計画電力】_機器点属地周期発電計画電力(kW)\n・入力値を見直してください。\n※〇〇は時刻コード\n※xxはタイムビート"]
[null,41,null,"入力エラー","xx～xxにおける合計発電計画との間に差異があります。","【機器点1秒発電計画電力】_機器点1秒発電計画電力(kW)\n・1分平均発電計画電力と機器点1分発電計画電力の値を同値にしてください。\n※xx～xxは時間帯"]
[null,42,null,"入力エラー","セカンドスロットxxにおける〇〇の基準値に誤りがあります。\n機器点1秒発電計画電力(kW)は半角数字9桁以内の正の整数で入力してください。","【機器点1秒発電計画電力】_機器点1秒発電計画電力(kW)\n・入力値を見直してください。\n※〇〇は時刻コード\n※xxはセカンドスロット"]
[null,43,"「入力データ編集・保存」ボタン押下","入力エラー","xxxxの時間帯〇〇の「採用」が重複しています。","【入力データ保存】_採用\n・入力値を見直してください。\n※〇〇は時刻コード\n※xxxxはシート名"]
[null,44,null,"入力エラー","xxxxの「採用」している時間帯〇〇の基準値を入力してください。","【入力データ保存】_基準値\n・入力値を見直してください。\n※〇〇は時刻コード\n※xxxxはシート名"]
[null,{"$f":"ROW()-3","v":45},"「供給地点特定番号数変更」ボタン押下","入力エラー","現在，供給地点特定番号数は100000個存在するため，これ以上増加できません。","【供給地点特定番号数の増加】\n・供給地点特定番号数の最大は100000です。"]
[null,{"$f":"ROW()-3","v":46},null,"入力エラー","増加させる供給地点特定番号数を1以上かつxxxxx以下の整数で入力して下さい。","【供給地点特定番号数の増加】\n・増加する供給地点特定番号数を見直してください。（max100000）"]
[null,47,null,"入力エラー","削除する明細番号を入力して下さい。","【供給地点特定番号数減少】供給地点特定番号を1個選択して削除\n・削除する明細番号を入力して下さい。"]
[null,48,null,"入力エラー","現在，供給地点特定番号数は1個しか存在しないため，これ以上削除できません。","【供給地点特定番号数減少】供給地点特定番号を1個選択して削除／連続した複数の供給地点特定番号を削除\n・供給地点特定番号数は1個は残す必要があります。供給地点特定番号数情報を確認してください。"]
[null,49,null,"入力エラー","削除する明細番号を1～xxxxxの整数で入力して下さい。","【供給地点特定番号数減少】供給地点特定番号を1個選択して削除／連続した複数の供給地点特定番号を削除\n・削除する明細番号を見直してください。"]
[null,50,null,"入力エラー","削除する明細番号の開始と終了番号を入力して下さい。","【供給地点特定番号数減少】連続した複数の供給地点特定番号を削除\n・削除する明細番号を入力して下さい。"]
[null,51,null,"入力エラー","すべての供給地点特定番号を削除することはできません。\n減少数を1以上xxxxx未満になるように入力して下さい。","【供給地点特定番号数減少】連続した複数の供給地点特定番号を削除\n・供給地点特定番号数は1個は残す必要があります。削除する明細番号の開始番号と終了番号を見直してください。"]
[null,52,null,"入力エラー","削除終了の明細番号は，削除開始の明細番号より同じか後にして下さい。","【供給地点特定番号数減少】連続した複数の供給地点特定番号を削除\n・削除する明細番号の開始番号と終了番号を見直してください。"]
[null,53,"「機器点特定番号数変更」ボタン押下","入力エラー","現在，機器点特定番号数は100000個存在するため，これ以上増加できません。","【機器点特定番号数の増加】\n・機器点特定番号数の最大は100000です。"]
[null,54,null,"入力エラー","増加させる機器点特定番号数を1以上かつxxxxx以下の整数で入力して下さい。","【機器点特定番号数の増加】\n・増加する機器点特定番号数を見直してください。（max100000）"]
[null,55,null,"入力エラー","削除する明細番号を入力して下さい。","【機器点特定番号数減少】機器点特定番号を1個選択して削除\n・削除する明細番号を入力して下さい。"]
[null,56,null,"入力エラー","現在，機器点特定番号数は1個しか存在しないため，これ以上削除できません。","【機器点特定番号数減少】機器点特定番号を1個選択して削除／連続した複数の機器点特定番号を削除\n・機器点特定番号数は1個は残す必要があります。機器点特定番号数情報を確認してください。"]
[null,57,null,"入力エラー","削除する明細番号を1～xxxxxの整数で入力して下さい。","【機器点特定番号数減少】機器点特定番号を1個選択して削除／連続した複数の機器点特定番号を削除\n・削除する明細番号を見直してください。"]
[null,58,null,"入力エラー","削除する明細番号の開始と終了番号を入力して下さい。","【機器点特定番号数減少】連続した複数の機器点特定番号を削除\n・削除する明細番号を入力して下さい。"]
[null,59,null,"入力エラー","すべての機器点特定番号を削除することはできません。\n減少数を1以上xxxxx未満になるように入力して下さい。","【機器点特定番号数減少】連続した複数の機器点特定番号を削除\n・機器点特定番号数は1個は残す必要があります。削除する明細番号の開始番号と終了番号を見直してください。"]
[null,60,null,"入力エラー","削除終了の明細番号は，削除開始の明細番号より同じか後にして下さい。","【機器点特定番号数減少】連続した複数の機器点特定番号を削除\n・削除する明細番号の開始番号と終了番号を見直してください。"]
[null,61,"「小売電気事業者数変更」ボタン押下","入力エラー","現在，小売電気事業者数は100000個存在するため，これ以上増加できません。","【小売電気事業者数の増加】\n・小売電気事業者数の最大は100000です。"]
[null,62,null,"入力エラー","増加させる小売電気事業者数を1以上かつxxxxx以下の整数で入力して下さい。","【小売電気事業者数の増加】\n・増加する小売電気事業者数を見直してください。（max100000）"]
[null,63,null,"入力エラー","削除する小売電気事業者番号を入力して下さい。","【小売電気事業者数減少】小売電気事業者を1個選択して削除\n・削除する小売電気事業者番号を入力して下さい。"]
[null,64,null,"入力エラー","現在，小売電気事業者数は1個しか存在しないため，これ以上削除できません。","【小売電気事業者数減少】小売電気事業者を1個選択して削除／連続した複数の小売電気事業者を削除\n・小売電気事業者数は1個は残す必要があります。小売電気事業者数情報を確認してください。"]
[null,65,null,"入力エラー","削除する小売電気事業者番号を1～xxxxxの整数で入力して下さい。","【小売電気事業者数減少】小売電気事業者を1個選択して削除／連続した複数の小売電気事業者を削除\n・削除する小売電気事業者番号を見直してください。"]
[null,66,null,"入力エラー","削除する小売電気事業者番号の開始と終了番号を入力して下さい。","【小売電気事業者数減少】連続した複数の小売電気事業者を削除\n・削除する小売電気事業者番号を入力して下さい。"]
[null,67,null,"入力エラー","すべての小売電気事業者を削除することはできません。\n減少数を1以上xxxxx未満になるように入力して下さい。","【小売電気事業者数減少】連続した複数の小売電気事業者を削除\n・小売電気事業者数は1個は残す必要があります。削除する小売電気事業者番号の開始番号と終了番号を見直してください。"]
[null,68,null,"入力エラー","削除終了の小売電気事業者番号は，削除開始の小売電気事業者番号より同じか後にして下さい。","【小売電気事業者数減少】連続した複数の小売電気事業者を削除\n・削除する小売電気事業者番号の開始番号と終了番号を見直してください。"]
[null,69,"画面項目入力（入力規制）","入力エラー","対象年月日は『YYYYMMDD』形式の半角数字8桁で入力してください。","【ファイル情報】対象年月日\n・入力値を見直してください。"]
[null,70,null,"入力エラー","提出先事業者コードは半角英数字5桁で入力してください。","【基本情報】_提出先事業者（コード）\n・入力値を見直してください。"]
[null,71,null,"入力エラー","提出先事業者名称は50文字以内で入力してください。","【基本情報】_提出先事業者（名称▲）\n・入力値を見直してください。"]
[null,72,null,"入力エラー","送信事業者コードは半角英数字5桁で入力してください。","【基本情報】_送信事業者（コード）\n・入力値を見直してください。"]
[null,73,null,"入力エラー","送信事業者名称は50文字以内で入力してください。","【基本情報】_送信事業者（名称▲）\n・入力値を見直してください。"]
[null,74,null,"入力エラー","提出者コードは，アグリゲータ用系統コード（半角英数字5桁）を入力してください。","【基本情報】_提出者（アグリゲータ用系統コード）（コード）\n・入力値を見直してください。"]
[null,75,null,"入力エラー","提出者名称は50文字以内で入力してください。","【基本情報】_提出者（アグリゲータ用系統コード）（名称▲）\n・入力値を見直してください。"]
[null,76,null,"入力エラー","リストから選択してください。","【基本情報】_受電点需要有無/高圧機器点有無/低圧機器点有無/1分周期基準値/属地周期基準値/1秒周期基準値/1分周期発電計画/属地周期発電計画/1秒周期発電計画\n・リストから選択してください。"]
[null,77,null,"入力エラー","電源等コードは半角英数字10桁以内で入力してください。","【出力ファイル名情報】_電源等コード\n・入力値を見直してください。"]
[null,78,null,"入力エラー","供給地点特定番号は半角数字22桁で入力してください。","【受電点需要計画】_供給地点特定番号\n・入力値を見直してください。"]
[null,79,null,"入力エラー","受電点需要計画は半角数字9桁以内の正の整数で入力してください。","【受電点需要計画】_受電点需要計画(kWh)▲\n・入力値を見直してください。"]
[null,80,null,"入力エラー","機器点特定番号は半角数字22桁で入力してください。","【高圧機器点基準値計画】_機器点特定番号\n・入力値を見直してください。"]
[null,81,null,"入力エラー","高圧機器点基準値(アセス用)は半角数字9桁以内の正の整数で入力してください。","【高圧機器点基準値計画】_高圧機器点基準値(アセス用)▲\n・入力値を見直してください。"]
[null,82,null,"入力エラー","高圧機器点基準値(調整電力量用・機器端)は半角数字9桁以内の正の整数で入力してください。","【高圧機器点基準値計画】_高圧機器点基準値(調整電力量用・機器端)▲\n・入力値を見直してください。"]
[null,83,null,"入力エラー","高圧機器点基準値明細番号nにおける〇〇の高圧機器点発電基準値(アセス用)に誤りがあります。\n高圧機器点発電基準値(アセス用)は半角数字9桁以内の正の整数で入力してください。","【高圧機器点基準値計画】_高圧機器点発電基準値(アセス用)▲\n・入力値を見直してください。\n※〇〇は時刻コード"]
[null,84,null,"入力エラー","高圧機器点発電基準値(調整電力量用・機器端)は半角数字9桁以内の正の整数で入力してください。","【高圧機器点基準値計画】_高圧機器点発電基準値(調整電力量用・機器端)▲\n・入力値を見直してください。"]
[null,85,null,"入力エラー","高圧機器点発電上限は半角数字9桁以内の正の整数で入力してください。","【高圧機器点基準値計画】_高圧機器点発電上限▲\n・入力値を見直してください。"]
[null,86,null,"入力エラー","高圧機器点基準値需要抑制計画(アセス用は半角数字9桁以内の正の整数で入力してください。","【高圧機器点基準値計画】_高圧機器点基準値需要抑制計画(アセス用)▲\n・入力値を見直してください。"]
[null,87,null,"入力エラー","高圧機器点基準値需要抑制計画(調整電力量用・機器端)は半角数字9桁以内の正の整数で入力してください。","【高圧機器点基準値計画】_高圧機器点基準値需要抑制計画(調整電力量用・機器端)▲\n・入力値を見直してください。"]
[null,88,null,"入力エラー","高圧機器点発電基準値需要抑制計画(アセス用)は半角数字9桁以内の正の整数で入力してください。","【高圧機器点基準値計画】_高圧機器点発電基準値需要抑制計画(アセス用)▲\n・入力値を見直してください。"]
[null,89,null,"入力エラー","高圧機器点発電基準値需要抑制計画(調整電力量用・機器端)は半角数字9桁以内の正の整数で入力してください。","【高圧機器点基準値計画】_高圧機器点発電基準値需要抑制計画(調整電力量用・機器端)▲\n・入力値を見直してください。"]
[null,90,null,"入力エラー","小売電気事業者コードは半角英数字5桁で入力してください。","【低圧機器点基準値計画】_小売電気事業者コード\n・入力値を見直してください。"]
[null,91,null,"入力エラー","小売電気事業者名称は50文字以内で入力してください。","【低圧機器点基準値計画】_小売電気事業者名称▲\n・入力値を見直してください。"]
[null,92,null,"入力エラー","発電BGコードは半角英数字5桁で入力してください。","【低圧機器点基準値計画】_発電BGコード▲\n・入力値を見直してください。"]
[null,93,null,"入力エラー","低圧機器点基準値は半角数字9桁以内の正の整数で入力してください。","【低圧機器点基準値計画】_低圧機器点基準値▲\n・入力値を見直してください。"]
[null,94,null,"入力エラー","低圧機器点発電基準値は半角数字9桁以内の正の整数で入力してください。","【低圧機器点基準値計画】_低圧機器点発電基準値▲\n・入力値を見直してください。"]
[null,95,null,"入力エラー","低圧機器点発電上限は半角数字9桁以内の正の整数で入力してください。","【低圧機器点基準値計画】_低圧機器点発電上限▲\n・入力値を見直してください。"]
[null,96,null,"入力エラー","低圧機器点基準値需要抑制計画は半角数字9桁以内の正の整数で入力してください。","【低圧機器点基準値計画】_低圧機器点基準値需要抑制計画▲\n・入力値を見直してください。"]
[null,97,null,"入力エラー","低圧機器点発電基準値需要抑制計画は半角数字9桁以内の正の整数で入力してください。","【低圧機器点基準値計画】_低圧機器点発電基準値需要抑制計画▲\n・入力値を見直してください。"]
[null,98,null,"入力エラー","機器点1分基準値電力(kW)は半角数字9桁以内の正の整数で入力してください。","【機器点1分基準値電力】_機器点1分基準値電力(kW)\n・入力値を見直してください。"]
[null,99,null,"入力エラー","機器点属地周期基準値電力(kW)は半角数字9桁以内の正の整数で入力してください。","【機器点属地周期基準値電力】_機器点属地周期基準値電力(kW)\n・入力値を見直してください。"]
[null,100,null,"入力エラー","機器点1秒基準値電力(kW)は半角数字9桁以内の正の整数で入力してください。","【機器点1秒基準値電力】_機器点1秒基準値電力(kW)\n・入力値を見直してください。"]
[null,101,null,"入力エラー","機器点1分発電計画電力(kW)は半角数字9桁以内の正の整数で入力してください。","【機器点1分発電計画電力】_機器点1分発電計画電力(kW)\n・入力値を見直してください。"]
[null,102,null,"入力エラー","機器点属地周期発電計画電力(kW)は半角数字9桁以内の正の整数で入力してください。","【機器点属地周期発電計画電力】_機器点属地周期発電計画電力(kW)\n・入力値を見直してください。"]
[null,103,null,"入力エラー","機器点1秒発電計画電力(kW)は半角数字9桁以内の正の整数で入力してください。","【機器点1秒発電計画電力】_機器点1秒発電計画電力(kW)\n・入力値を見直してください。"]

{"sheet":"OCTO-W9-0532-001.xsd","index":13,"n_rows":533,"n_cols":4,"rows_kept":533,"cut":false,"hidden":true,"merged":[]}
["<?xml version=\"1.0\" encoding=\"UTF-8\" ?>"]
["<xsd:schema xmlns:xsd=\"http://www.w3.org/2001/XMLSchema\" elementFormDefault=\"qualified\" attributeFormDefault=\"unqualified\">"]
[]
["<!-- 機器点計画(0532) -->"]
["<!-- 機器点計画 2026.4 rev 1.3 Release -->"]
[]
["<!-- メッセージグループヘッダ -->"]
[null,"<xsd:element name=\"MMS-MSG\" type=\"TypeMMS-MSG\" />"]
[null,"<xsd:complexType name=\"TypeMMS-MSG\">"]
[null,null,"<xsd:sequence>"]
[null,null,null,"<xsd:element name=\"JPMGRP\" type=\"TypeJPMGRP\" />"]
[null,null,"</xsd:sequence>"]
[null,null,"<!-- BPID機関コード -->"]
[null,null,"<xsd:attribute name=\"BPID\"    type=\"CdC10-OCTO\"   use=\"required\" />"]
[null,null,"<!-- BPID副機関コード -->"]
[null,null,"<xsd:attribute name=\"BPIDSUB\" type=\"CdC11-W9\"     use=\"required\" />"]
[null,null,"<!-- 各BP標準の版 -->"]
[null,null,"<xsd:attribute name=\"BPIDVER\" type=\"CdC12-3A\"     use=\"required\" />"]
[null,null,"<!-- 情報区分コード -->"]
[null,null,"<xsd:attribute name=\"MSGID\"   type=\"CdC14\"        use=\"required\" />"]
[null,null,"<!-- マッピング規則の版 -->"]
[null,null,"<xsd:attribute name=\"MAPVER\"  type=\"CdC21\"        use=\"required\" />"]
[null,"</xsd:complexType>"]
[]
[null,"<!-- メッセージ定義 -->"]
[null,"<xsd:complexType name=\"TypeJPMGRP\">"]
[null,null,"<xsd:sequence>"]
[null,null,null,"<!-- メッセージグループヘッダ -->"]
[null,null,null,"<xsd:element name=\"JPMGH\" type=\"TypeJPMGH\" />"]
[null,null,null,"<!-- 業務メッセージ -->"]
[null,null,null,"<xsd:element name=\"JPTRM\" type=\"TypeJPTRM\" />"]
[null,null,"</xsd:sequence>"]
[null,null,"<!-- メッセージグループの属性定義 -->"]
[null,null,"<!-- メッセージグループのシーケンス番号 -->"]
[null,null,"<xsd:attribute name=\"SEQ\" type=\"NI5\" use=\"required\" />"]
[null,"</xsd:complexType>"]
[]
["<!-- メッセージグループヘッダ -->"]
[null,"<xsd:complexType name=\"TypeJPMGH\">"]
[null,null,"<xsd:sequence>"]
[null,null,null,"<!-- 運用モード -->"]
[null,null,null,"<xsd:element name=\"JPC03\" type=\"CdC03\" />"]
[null,null,null,"<!-- 発信者コード -->"]
[null,null,null,"<xsd:element name=\"JPC06\" type=\"CdC06\" />"]
[null,null,null,"<!-- 受信者コード -->"]
[null,null,null,"<xsd:element name=\"JPC09\" type=\"CdC09\" />"]
[null,null,null,"<!-- BPID機関コード -->"]
[null,null,null,"<xsd:element name=\"JPC10\" type=\"CdC10-OCTO\" />"]
[null,null,null,"<!-- BPID副機関コード -->"]
[null,null,null,"<xsd:element name=\"JPC11\" type=\"CdC11-W9\" />"]
[null,null,null,"<!-- BPIDVER -->"]
[null,null,null,"<xsd:element name=\"JPC12\" type=\"CdC12-3A\" />"]
[null,null,null,"<!-- 情報区分コード -->"]
[null,null,null,"<xsd:element name=\"JPC14\" type=\"CdC14\" />"]
[null,null,null,"<!-- 作成日付時刻 -->"]
[null,null,null,"<xsd:element name=\"JPC19\" type=\"DT_YYMMDDHHMMSS\" />"]
[null,null,null,"<!-- 構文規則識別版数 -->"]
[null,null,null,"<xsd:element name=\"JPC21\" type=\"CdC21\" />"]
[null,null,"</xsd:sequence>"]
[null,"</xsd:complexType>"]
[]
["<!-- 業務メッセージ -->"]
[null,"<xsd:complexType name=\"TypeJPTRM\">"]
[null,null,"<xsd:sequence>"]
[null,null,null,"<!-- 情報区分コード -->"]
[null,null,null,"<xsd:element name=\"JP00002\" type=\"STR4S\" />"]
[null,null,null,"<!-- 情報区分名称 -->"]
[null,null,null,"<xsd:element name=\"JP06170\" type=\"STR50\" minOccurs=\"0\" maxOccurs=\"1\" />"]
[null,null,null,"<!-- 送信者コード -->"]
[null,null,null,"<xsd:element name=\"JP06110\" type=\"STR5S\" />"]
[null,null,null,"<!-- 送信者名称 -->"]
[null,null,null,"<xsd:element name=\"JP06111\" type=\"STR50\" minOccurs=\"0\" maxOccurs=\"1\" />"]
[null,null,null,"<!-- 提出先事業者コード -->"]
[null,null,null,"<xsd:element name=\"JP06358\" type=\"STR5S\" />"]
[null,null,null,"<!-- 提出先事業者 -->"]
[null,null,null,"<xsd:element name=\"JP06359\" type=\"STR50\" minOccurs=\"0\" maxOccurs=\"1\" />"]
[null,null,null,"<!-- アグリゲーションコーディネータ用系統コード -->"]
[null,null,null,"<xsd:element name=\"JP06700\" type=\"CD06700\" />"]
[null,null,null,"<!-- アグリゲーションコーディネータ名称 -->"]
[null,null,null,"<xsd:element name=\"JP06701\" type=\"STR50\" minOccurs=\"0\" maxOccurs=\"1\" />"]
[null,null,null,"<!-- 対象期間開始年月日 -->"]
[null,null,null,"<xsd:element name=\"JP06171\" type=\"DT_YYYYMMDD\" />"]
[null,null,null,"<!-- 基準値設定方法 -->"]
[null,null,null,"<xsd:element name=\"JP06751\" type=\"CD06751\" minOccurs=\"0\" maxOccurs=\"1\" />"]
[]
[null,null,null,"<!-- M10ループ -->"]
[null,null,null,"<xsd:element name=\"JPM00010\" type=\"TypeJPM00010\" />"]
[null,null,null,"<!-- M15ループ -->"]
[null,null,null,"<xsd:element name=\"JPM00015\" type=\"TypeJPM00015\" />"]
[null,null,null,"<!-- M16ループ -->"]
[null,null,null,"<xsd:element name=\"JPM00016\" type=\"TypeJPM00016\" minOccurs=\"0\" maxOccurs=\"1\"/>"]
[null,null,"</xsd:sequence>"]
[null,"<!-- メッセージの属性（シーケンス番号） -->"]
[null,null,"<xsd:attribute name=\"SEQ\" type=\"NI5\" use=\"required\" />"]
[null,"</xsd:complexType>"]
[]
[null,"<!-- M10ループ -->"]
[null,"<xsd:complexType name=\"TypeJPM00010\">"]
[null,null,"<xsd:sequence>"]
[null,null,null,"<xsd:element name=\"JPMR00010\" type=\"TypeJPMR00010\" minOccurs=\"1\" maxOccurs=\"500\" />"]
[null,null,"</xsd:sequence>"]
[null,"</xsd:complexType>"]
[null,"<!-- M10ループ中身 -->"]
[null,"<xsd:complexType name=\"TypeJPMR00010\">"]
[null,null,"<xsd:sequence>"]
[null,null,null,"<!-- パターン番号 -->"]
[null,null,null,"<xsd:element name=\"JP06703\" type=\"CD06703\" />"]
[null,null,null,"<!-- M11ループ -->"]
[null,null,null,"<xsd:element name=\"JPM00011\" type=\"TypeJPM00011\" />"]
[null,null,"</xsd:sequence>"]
[null,"</xsd:complexType>"]
[]
[null,"<!-- M11ループ -->"]
[null,"<xsd:complexType name=\"TypeJPM00011\">"]
[null,null,"<xsd:sequence>"]
[null,null,null,"<xsd:element name=\"JPMR00011\" type=\"TypeJPMR00011\" minOccurs=\"50\" maxOccurs=\"50\" />"]
[null,null,"</xsd:sequence>"]
[null,"</xsd:complexType>"]
[null,"<!-- M11ループ中身 -->"]
[null,"<xsd:complexType name=\"TypeJPMR00011\">"]
[null,null,"<xsd:sequence>"]
[null,null,null,"<!-- 時刻コード -->"]
[null,null,null,"<xsd:element name=\"JP06219\" type=\"CD06252_50\" />"]
[null,null,null,"<!-- M12ループ -->"]
[null,null,null,"<xsd:element name=\"JPM00012\" type=\"TypeJPM00012\" minOccurs=\"0\" maxOccurs=\"1\" />"]
[null,null,null,"<!-- M13ループ -->"]
[null,null,null,"<xsd:element name=\"JPM00013\" type=\"TypeJPM00013\" minOccurs=\"0\" maxOccurs=\"1\" />"]
[null,null,null,"<!-- M14ループ -->"]
[null,null,null,"<xsd:element name=\"JPM00014\" type=\"TypeJPM00014\" minOccurs=\"0\" maxOccurs=\"1\" />"]
[null,null,"</xsd:sequence>"]
[null,"</xsd:complexType>"]
[]
[null,"<!-- M12ループ -->"]
[null,"<xsd:complexType name=\"TypeJPM00012\">"]
[null,null,"<xsd:sequence>"]
[null,null,null,"<xsd:element name=\"JPMR00012\" type=\"TypeJPMR00012\" minOccurs=\"0\" maxOccurs=\"100000\" />"]
[null,null,"</xsd:sequence>"]
[null,"</xsd:complexType>"]
[null,"<!-- M12ループ中身 -->"]
[null,"<xsd:complexType name=\"TypeJPMR00012\">"]
[null,null,"<xsd:sequence>"]
[null,null,null,"<!--供給地点特定番号-->"]
[null,null,null,"<xsd:element name=\"JP06400\" type=\"STR22S\" />"]
[null,null,null,"<!--受電点需要計画-->"]
[null,null,null,"<xsd:element name=\"JP06752\" type=\"NI9\" minOccurs=\"0\" maxOccurs=\"1\" />"]
[null,null,"</xsd:sequence>"]
[null,"</xsd:complexType>"]
[]
[null,"<!-- M13ループ -->"]
[null,"<xsd:complexType name=\"TypeJPM00013\">"]
[null,null,"<xsd:sequence>"]
[null,null,null,"<xsd:element name=\"JPMR00013\" type=\"TypeJPMR00013\" minOccurs=\"0\" maxOccurs=\"100000\" />"]
[null,null,"</xsd:sequence>"]
[null,"</xsd:complexType>"]
[null,"<!-- M13ループ中身 -->"]
[null,"<xsd:complexType name=\"TypeJPMR00013\">"]
[null,null,"<xsd:sequence>"]
[null,null,null,"<!--機器点特定番号-->"]
[null,null,null,"<xsd:element name=\"JP06753\" type=\"STR22S\" />"]
[null,null,null,"<!--高圧機器点基準値（アセス用）-->"]
[null,null,null,"<xsd:element name=\"JP06754\" type=\"NI9\" minOccurs=\"0\" maxOccurs=\"1\" />"]
[null,null,null,"<!--高圧機器点基準値（調整電力量用・機器端）-->"]
[null,null,null,"<xsd:element name=\"JP06755\" type=\"NI9\" minOccurs=\"0\" maxOccurs=\"1\" />"]
[null,null,null,"<!--高圧機器点発電基準値（アセス用）-->"]
[null,null,null,"<xsd:element name=\"JP06756\" type=\"NI9\" minOccurs=\"0\" maxOccurs=\"1\" />"]
[null,null,null,"<!--高圧機器点発電基準値（調整電力量用・機器端）-->"]
[null,null,null,"<xsd:element name=\"JP06757\" type=\"NI9\" minOccurs=\"0\" maxOccurs=\"1\" />"]
[null,null,null,"<!--高圧機器点発電上限-->"]
[null,null,null,"<xsd:element name=\"JP06758\" type=\"NI9\" minOccurs=\"0\" maxOccurs=\"1\" />"]
[null,null,null,"<!--高圧機器点基準値需要抑制計画（アセス用）-->"]
[null,null,null,"<xsd:element name=\"JP06769\" type=\"NI9\" minOccurs=\"0\" maxOccurs=\"1\" />"]
[null,null,null,"<!--高圧機器点基準値需要抑制計画（調整電力量用・機器端）-->"]
[null,null,null,"<xsd:element name=\"JP06770\" type=\"NI9\" minOccurs=\"0\" maxOccurs=\"1\" />"]
[null,null,null,"<!--高圧機器点発電基準値需要抑制計画（アセス用）-->"]
[null,null,null,"<xsd:element name=\"JP06771\" type=\"NI9\" minOccurs=\"0\" maxOccurs=\"1\" />"]
[null,null,null,"<!--高圧機器点発電基準値需要抑制計画（調整電力量用・機器端）-->"]
[null,null,null,"<xsd:element name=\"JP06772\" type=\"NI9\" minOccurs=\"0\" maxOccurs=\"1\" />"]
[null,null,"</xsd:sequence>"]
[null,"</xsd:complexType>"]
[]
[null,"<!-- M14ループ -->"]
[null,"<xsd:complexType name=\"TypeJPM00014\">"]
[null,null,"<xsd:sequence>"]
[null,null,null,"<xsd:element name=\"JPMR00014\" type=\"TypeJPMR00014\" minOccurs=\"0\" maxOccurs=\"100000\" />"]
[null,null,"</xsd:sequence>"]
[null,"</xsd:complexType>"]
[null,"<!-- M14ループ中身 -->"]
[null,"<xsd:complexType name=\"TypeJPMR00014\">"]
[null,null,"<xsd:sequence>"]
[null,null,null,"<!-- 事業者コード -->"]
[null,null,null,"<xsd:element name=\"JP06316\" type=\"STR5S\" />"]
[null,null,null,"<!-- 発電BGコード -->"]
[null,null,null,"<xsd:element name=\"JP06300\" type=\"STR5S\" minOccurs=\"0\" maxOccurs=\"1\" />"]
[null,null,null,"<!--低圧機器点基準値-->"]
[null,null,null,"<xsd:element name=\"JP06759\" type=\"NI9\" minOccurs=\"0\" maxOccurs=\"1\" />"]
[null,null,null,"<!--低圧機器点発電基準値-->"]
[null,null,null,"<xsd:element name=\"JP06760\" type=\"NI9\" minOccurs=\"0\" maxOccurs=\"1\" />"]
[null,null,null,"<!--低圧機器点発電上限-->"]
[null,null,null,"<xsd:element name=\"JP06761\" type=\"NI9\" minOccurs=\"0\" maxOccurs=\"1\" />"]
[null,null,null,"<!--低圧機器点基準値需要抑制計画-->"]
[null,null,null,"<xsd:element name=\"JP06775\" type=\"NI9\" minOccurs=\"0\" maxOccurs=\"1\" />"]
[null,null,null,"<!--低圧機器点発電基準値需要抑制計画-->"]
[null,null,null,"<xsd:element name=\"JP06776\" type=\"NI9\" minOccurs=\"0\" maxOccurs=\"1\" />"]
[null,null,"</xsd:sequence>"]
[null,"</xsd:complexType>"]
[]
[null,"<!-- M15ループ -->"]
[null,"<xsd:complexType name=\"TypeJPM00015\">"]
[null,null,"<xsd:sequence>"]
[null,null,null,"<xsd:element name=\"JPMR00015\" type=\"TypeJPMR00015\" minOccurs=\"48\" maxOccurs=\"48\" />"]
[null,null,"</xsd:sequence>"]
[null,"</xsd:complexType>"]
[null,"<!-- M15ループ中身 -->"]
[null,"<xsd:complexType name=\"TypeJPMR00015\">"]
[null,null,"<xsd:sequence>"]
[null,null,null,"<!-- 時刻コード -->"]
[null,null,null,"<xsd:element name=\"JP06219\" type=\"CD06252_48\" />"]
[null,null,null,"<!-- 基準値採用パターン番号 -->"]
[null,null,null,"<xsd:element name=\"JP06724\" type=\"CD06724\" minOccurs=\"0\" maxOccurs=\"1\" />"]
[null,null,"</xsd:sequence>"]
[null,"</xsd:complexType>"]
[]
[null,"<!-- M16ループ -->"]
[null,"<xsd:complexType name=\"TypeJPM00016\">"]
[null,null,"<xsd:sequence>"]
[null,null,null,"<xsd:element name=\"JPMR00016\" type=\"TypeJPMR00016\" minOccurs=\"0\" maxOccurs=\"48\" />"]
[null,null,"</xsd:sequence>"]
[null,"</xsd:complexType>"]
[null,"<!-- M16ループ中身 -->"]
[null,"<xsd:complexType name=\"TypeJPMR00016\">"]
[null,null,"<xsd:sequence>"]
[null,null,null,"<!-- 時刻コード -->"]
[null,null,null,"<xsd:element name=\"JP06219\" type=\"CD06252_48\" />"]
[null,null,null,"<!-- M17ループ -->"]
[null,null,null,"<xsd:element name=\"JPM00017\" type=\"TypeJPM00017\" minOccurs=\"0\" maxOccurs=\"1\" />"]
[null,null,null,"<!-- M20ループ -->"]
[null,null,null,"<xsd:element name=\"JPM00020\" type=\"TypeJPM00020\" minOccurs=\"0\" maxOccurs=\"1\" />"]
[null,null,"</xsd:sequence>"]
[null,"</xsd:complexType>"]
[]
[null,"<!-- M17ループ -->"]
[null,"<xsd:complexType name=\"TypeJPM00017\">"]
[null,null,"<xsd:sequence>"]
[null,null,null,"<xsd:element name=\"JPMR00017\" type=\"TypeJPMR00017\" minOccurs=\"0\" maxOccurs=\"30\" />"]
[null,null,"</xsd:sequence>"]
[null,"</xsd:complexType>"]
[null,"<!-- M17ループ中身 -->"]
[null,"<xsd:complexType name=\"TypeJPMR00017\">"]
[null,null,"<xsd:sequence>"]
[null,null,null,"<!-- タイムスロット -->"]
[null,null,null,"<xsd:element name=\"JP06713\" type=\"CD06713\" />"]
[null,null,null,"<!-- 機器点1分基準値電力(事前予測型) -->"]
[null,null,null,"<xsd:element name=\"JP06762\" type=\"NI9\" />"]
[null,null,null,"<!-- M18ループ -->"]
[null,null,null,"<xsd:element name=\"JPM00018\" type=\"TypeJPM00018\" minOccurs=\"0\" maxOccurs=\"1\" />"]
[null,null,null,"<!-- M19ループ -->"]
[null,null,null,"<xsd:element name=\"JPM00019\" type=\"TypeJPM00019\" minOccurs=\"0\" maxOccurs=\"1\" />"]
[null,null,"</xsd:sequence>"]
[null,"</xsd:complexType>"]
[]
[null,"<!-- M18ループ -->"]
[null,"<xsd:complexType name=\"TypeJPM00018\">"]
[null,null,"<xsd:sequence>"]
[null,null,null,"<xsd:element name=\"JPMR00018\" type=\"TypeJPMR00018\" minOccurs=\"0\" maxOccurs=\"60\" />"]
[null,null,"</xsd:sequence>"]
[null,"</xsd:complexType>"]
[null,"<!-- M18ループ中身 -->"]
[null,"<xsd:complexType name=\"TypeJPMR00018\">"]
[null,null,"<xsd:sequence>"]
[null,null,null,"<!-- タイムビート -->"]
[null,null,null,"<xsd:element name=\"JP06718\" type=\"CD06718\" />"]
[null,null,null,"<!-- 機器点属地周期基準値電力(事前予測型) -->"]
[null,null,null,"<xsd:element name=\"JP06763\" type=\"NI9\" />"]
[null,null,"</xsd:sequence>"]
[null,"</xsd:complexType>"]
[]
[null,"<!-- M19ループ -->"]
[null,"<xsd:complexType name=\"TypeJPM00019\">"]
[null,null,"<xsd:sequence>"]
[null,null,null,"<xsd:element name=\"JPMR00019\" type=\"TypeJPMR00019\" minOccurs=\"0\" maxOccurs=\"60\" />"]
[null,null,"</xsd:sequence>"]
[null,"</xsd:complexType>"]
[null,"<!-- M19ループ中身 -->"]
[null,"<xsd:complexType name=\"TypeJPMR00019\">"]
[null,null,"<xsd:sequence>"]
[null,null,null,"<!-- セカンドスロット -->"]
[null,null,null,"<xsd:element name=\"JP06719\" type=\"CD06719\" />"]
[null,null,null,"<!-- 機器点1秒基準値電力(事前予測型) -->"]
[null,null,null,"<xsd:element name=\"JP06764\" type=\"NI9\" />"]
[null,null,"</xsd:sequence>"]
[null,"</xsd:complexType>"]
[]
[null,"<!-- M20ループ -->"]
[null,"<xsd:complexType name=\"TypeJPM00020\">"]
[null,null,"<xsd:sequence>"]
[null,null,null,"<xsd:element name=\"JPMR00020\" type=\"TypeJPMR00020\" minOccurs=\"0\" maxOccurs=\"30\" />"]
[null,null,"</xsd:sequence>"]
[null,"</xsd:complexType>"]
[null,"<!-- M20ループ中身 -->"]
[null,"<xsd:complexType name=\"TypeJPMR00020\">"]
[null,null,"<xsd:sequence>"]
[null,null,null,"<!-- タイムスロット -->"]
[null,null,null,"<xsd:element name=\"JP06713\" type=\"CD06713\" />"]
[null,null,null,"<!-- 機器点1分発電計画電力 -->"]
[null,null,null,"<xsd:element name=\"JP06765\" type=\"NI9\" />"]
[null,null,null,"<!-- M21ループ -->"]
[null,null,null,"<xsd:element name=\"JPM00021\" type=\"TypeJPM00021\" minOccurs=\"0\" maxOccurs=\"1\" />"]
[null,null,null,"<!-- M22ループ -->"]
[null,null,null,"<xsd:element name=\"JPM00022\" type=\"TypeJPM00022\" minOccurs=\"0\" maxOccurs=\"1\" />"]
[null,null,"</xsd:sequence>"]
[null,"</xsd:complexType>"]
[]
[null,"<!-- M21ループ -->"]
[null,"<xsd:complexType name=\"TypeJPM00021\">"]
[null,null,"<xsd:sequence>"]
[null,null,null,"<xsd:element name=\"JPMR00021\" type=\"TypeJPMR00021\" minOccurs=\"0\" maxOccurs=\"60\" />"]
[null,null,"</xsd:sequence>"]
[null,"</xsd:complexType>"]
[null,"<!-- M21ループ中身 -->"]
[null,"<xsd:complexType name=\"TypeJPMR00021\">"]
[null,null,"<xsd:sequence>"]
[null,null,null,"<!-- タイムビート -->"]
[null,null,null,"<xsd:element name=\"JP06718\" type=\"CD06718\" />"]
[null,null,null,"<!-- 機器点属地周期発電計画電力 -->"]
[null,null,null,"<xsd:element name=\"JP06766\" type=\"NI9\" />"]
[null,null,"</xsd:sequence>"]
[null,"</xsd:complexType>"]
[]
[null,"<!-- M22ループ -->"]
[null,"<xsd:complexType name=\"TypeJPM00022\">"]
[null,null,"<xsd:sequence>"]
[null,null,null,"<xsd:element name=\"JPMR00022\" type=\"TypeJPMR00022\" minOccurs=\"0\" maxOccurs=\"60\" />"]
[null,null,"</xsd:sequence>"]
[null,"</xsd:complexType>"]
[null,"<!-- M22ループ中身 -->"]
[null,"<xsd:complexType name=\"TypeJPMR00022\">"]
[null,null,"<xsd:sequence>"]
[null,null,null,"<!-- セカンドスロット -->"]
[null,null,null,"<xsd:element name=\"JP06719\" type=\"CD06719\" />"]
[null,null,null,"<!-- 機器点1秒発電計画電力 -->"]
[null,null,null,"<xsd:element name=\"JP06767\" type=\"NI9\" />"]
[null,null,"</xsd:sequence>"]
[null,"</xsd:complexType>"]
[]
["<!-- JPC10:BPID機関コード(OCTO) -->"]
["<xsd:simpleType name=\"CdC10-OCTO\">"]
[null,"<xsd:restriction base=\"xsd:string\">"]
[null,null,"<xsd:enumeration value=\"OCTO\" />"]
[null,"</xsd:restriction>"]
["</xsd:simpleType>"]
[]
["<!-- JPC11:BPID副機関コード(W9) -->"]
["<xsd:simpleType name=\"CdC11-W9\">"]
[null,"<xsd:restriction base=\"xsd:string\">"]
[null,null,"<xsd:enumeration value=\"W9\" />"]
[null,"</xsd:restriction>"]
["</xsd:simpleType>"]
[]
["<!-- JPC12:BPID版(3A) -->"]
["<xsd:simpleType name=\"CdC12-3A\">"]
[null,"<xsd:restriction base=\"xsd:string\">"]
[null,null,"<xsd:enumeration value=\"3A\" />"]
[null,"</xsd:restriction>"]
["</xsd:simpleType>"]
[]
["<!-- 情報区分コード -->"]
["<xsd:simpleType name=\"CdC14\">"]
[null,"<xsd:restriction base=\"xsd:string\">"]
[null,null,"<xsd:enumeration value=\"0532\" />"]
[null,"</xsd:restriction>"]
["</xsd:simpleType>"]
[]
["<!-- JPC21:構文規則識別版数 -->"]
["<xsd:simpleType name=\"CdC21\">"]
[null,"<xsd:restriction base=\"xsd:string\">"]
[null,null,"<xsd:enumeration value=\"1.0-1A\" />"]
[null,"</xsd:restriction>"]
["</xsd:simpleType>"]
[]
["<!-- JPC03:運用モード -->"]
["<xsd:simpleType name=\"CdC03\">"]
[null,"<xsd:restriction base=\"xsd:string\">"]
[null,null,"<xsd:enumeration value=\"\" />"]
[null,null,"<xsd:enumeration value=\"0\" />"]
[null,null,"<xsd:enumeration value=\"1\" />"]
[null,"</xsd:restriction>"]
["</xsd:simpleType>"]
[]
["<!-- JPC06:発信者コード -->"]
["<xsd:simpleType name=\"CdC06\">"]
[null,"<xsd:restriction base=\"xsd:string\">"]
[null,null,"<xsd:pattern value=\"\\w{5}[0]{7}\" />"]
[null,"</xsd:restriction>"]
["</xsd:simpleType>"]
[]
["<!-- JPC09:受信者コード -->"]
["<xsd:simpleType name=\"CdC09\">"]
[null,"<xsd:restriction base=\"xsd:string\">"]
[null,null,"<xsd:pattern value=\"\\w{5}[0]{7}\" />"]
[null,"</xsd:restriction>"]
["</xsd:simpleType>"]
[]
["<!-- 日付関連 -->"]
["<xsd:simpleType name=\"DT_YYYYMMDD\">"]
[null,"<xsd:restriction base=\"xsd:string\">"]
[null,null,"<xsd:pattern value=\"\\d{8}\" />"]
[null,"</xsd:restriction>"]
["</xsd:simpleType>"]
[]
["<!-- 日付関連 -->"]
["<xsd:simpleType name=\"DT_YYMMDDHHMMSS\">"]
[null,"<xsd:restriction base=\"xsd:string\">"]
[null,null,"<xsd:pattern value=\"\\d{12}\" />"]
[null,"</xsd:restriction>"]
["</xsd:simpleType>"]
[]
["<!-- アグリゲーター用系統コード -->"]
["<xsd:simpleType name=\"CD06700\">"]
[null,"<xsd:restriction base=\"xsd:string\">"]
[null,null,"<xsd:pattern value=\"[0-9]Y[&#x20;-&#x7e;]{3}\" />"]
[null,"</xsd:restriction>"]
["</xsd:simpleType>"]
[]
["<!-- パターン番号 -->"]
["<xsd:simpleType name=\"CD06703\">"]
[null,"<xsd:restriction base=\"xsd:string\">"]
[null,null,"<xsd:pattern value=\"00[1-9]|0[1-9][0-9]|[1-4][0-9][0-9]|500\" />"]
[null,"</xsd:restriction>"]
["</xsd:simpleType>"]
[]
["<!-- 採用パターン番号 -->"]
["<xsd:simpleType name=\"CD06724\">"]
[null,"<xsd:restriction base=\"xsd:string\">"]
[null,null,"<xsd:pattern value=\"00[1-9]|0[1-9][0-9]|[1-4][0-9][0-9]|500\" />"]
[null,"</xsd:restriction>"]
["</xsd:simpleType>"]
[]
["<!-- JP06252:時刻コード48 -->"]
["<xsd:simpleType name=\"CD06252_48\">"]
[null,"<xsd:restriction base=\"xsd:string\">"]
[null,null,"<xsd:pattern value=\"0[1-9]|[1-3][0-9]|4[0-8]\" />"]
[null,"</xsd:restriction>"]
["</xsd:simpleType>"]
[]
["<!-- JP06252:時刻コード50 -->"]
["<xsd:simpleType name=\"CD06252_50\">"]
[null,"<xsd:restriction base=\"xsd:string\">"]
[null,null,"<xsd:pattern value=\"0[1-9]|[1-3][0-9]|4[0-8]|Y7|Y8\" />"]
[null,"</xsd:restriction>"]
["</xsd:simpleType>"]
[]
["<!-- JP06713:タイムスロット -->"]
["<xsd:simpleType name=\"CD06713\">"]
[null,"<xsd:restriction base=\"xsd:string\">"]
[null,null,"<xsd:pattern value=\"0[1-9]|[1-2][0-9]|30\" />"]
[null,"</xsd:restriction>"]
["</xsd:simpleType>"]
[]
["<!-- JP06718:タイムビート -->"]
["<xsd:simpleType name=\"CD06718\">"]
[null,"<xsd:restriction base=\"xsd:string\">"]
[null,null,"<xsd:pattern value=\"0[1-9]|[1-5][0-9]|60\" />"]
[null,"</xsd:restriction>"]
["</xsd:simpleType>"]
[]
["<!-- JP06719:セカンドスロット -->"]
["<xsd:simpleType name=\"CD06719\">"]
[null,"<xsd:restriction base=\"xsd:string\">"]
[null,null,"<xsd:pattern value=\"0[1-9]|[1-5][0-9]|60\" />"]
[null,"</xsd:restriction>"]
["</xsd:simpleType>"]
[]
["<!-- JP06751:基準値設定方法 -->"]
["<xsd:simpleType name=\"CD06751\">"]
[null,"<xsd:restriction base=\"xsd:string\">"]
[null,null,"<xsd:enumeration value=\"1\" /> <!-- 1:事前予測型-->"]
[null,null,"<xsd:enumeration value=\"2\" /> <!-- 2:直前計測型-->"]
[null,null,"<xsd:enumeration value=\"3\" /> <!-- 3:逐次計測型-->"]
[null,"</xsd:restriction>"]
["</xsd:simpleType>"]
[]
["<!-- 数値型 -->"]
["<!-- ５桁 -->"]
["<xsd:simpleType name=\"NI5\">"]
[null,"<xsd:restriction base=\"xsd:nonNegativeInteger\">"]
[null,null,"<xsd:totalDigits value=\"5\" />"]
[null,"</xsd:restriction>"]
["</xsd:simpleType>"]
[]
["<!-- ９桁 -->"]
["<xsd:simpleType name=\"NI9\">"]
[null,"<xsd:restriction base=\"xsd:nonNegativeInteger\">"]
[null,null,"<xsd:totalDigits value=\"9\" />"]
[null,"</xsd:restriction>"]
["</xsd:simpleType>"]
[]
["<!-- 文字型 -->"]
["<!-- 50文字 -->"]
["<xsd:simpleType name=\"STR50\">"]
[null,"<xsd:restriction base=\"xsd:string\">"]
[null,null,"<xsd:minLength value=\"1\" />"]
[null,null,"<xsd:maxLength value=\"50\" />"]
[null,"</xsd:restriction>"]
["</xsd:simpleType>"]
[]
["<!-- ４文字・半角 -->"]
["<xsd:simpleType name=\"STR4S\">"]
[null,"<xsd:restriction base=\"xsd:string\">"]
[null,null,"<xsd:pattern value=\"[&#x20;-&#x7e;]+\" />"]
[null,null,"<xsd:minLength value=\"4\" />"]
[null,null,"<xsd:maxLength value=\"4\" />"]
[null,"</xsd:restriction>"]
["</xsd:simpleType>"]
[]
["<!-- ５文字・半角 -->"]
["<xsd:simpleType name=\"STR5S\">"]
[null,"<xsd:restriction base=\"xsd:string\">"]
[null,null,"<xsd:pattern value=\"[&#x20;-&#x7e;]+\" />"]
[null,null,"<xsd:minLength value=\"5\" />"]
[null,null,"<xsd:maxLength value=\"5\" />"]
[null,"</xsd:restriction>"]
["</xsd:simpleType>"]
[]
["<!-- ２２文字・半角 -->"]
["<xsd:simpleType name=\"STR22S\">"]
[null,"<xsd:restriction base=\"xsd:string\">"]
[null,null,"<xsd:pattern value=\"[&#x20;-&#x7e;]+\" />"]
[null,null,"<xsd:minLength value=\"22\" />"]
[null,null,"<xsd:maxLength value=\"22\" />"]
[null,"</xsd:restriction>"]
["</xsd:simpleType>"]
[]
["</xsd:schema>"]