Workbook
Name リプレース: 'プルダウンテーブル(非表示)'!$B$2:$B$4
Name 新設: 'プルダウンテーブル(非表示)'!$A$2:$A$4
Name 水力: 'プルダウンテーブル(非表示)'!$E$2
Name 太陽光: 'プルダウンテーブル(非表示)'!$D$2
Name 風力: 'プルダウンテーブル(非表示)'!$C$2:$C$3

Sheet （記入例）
B1: 入力箇所(電源等情報登録時)
B3: 対象電源種 | C3: 変動電源
B4: 本様式の利用方法： | C4: 1.本シートのH列に、参加登録する事業者および電源の情報を記入してください。
C5: 2.セルの背景がグレーとなっているものは入力不要の項目です。また黄色のセルについても、該当する入力対象がない場合は入力不要です。ただし、容量を入力するセル（#43-51）については、該当する容量が存在しない場合は「０」を記載してください。
C6: 3.本シートの記入完了後、「事業計画書」・「電源等情報登録様式」シートの全項目が埋まっていることを確認してください。
B7: 留意事項： | C7: 1.「事業計画書」の情報は、その時点での確度の高い情報をもとに作成し、電源等情報の登録受付期間中に提出してください。なお「未定」の部分が多数ある等、事業の実施能力や事業の確実性が認められない場合、応札が認められない場合があります。
C8: 2.登録期間終了後の電源等情報の変更は、約定結果の公表までは原則認められません。
H10: 参加登録申請者記入箇所
A11: # | B11: 入力項目 | G11: 単位 | H11: 入力欄 | I11: 入力規則・備考 | J11: *
A12: =ROW()-11 -> 1 | B12: 事業者に係る情報 | C12: 参加登録する事業者の単位(単一事業者またはコンソーシアム) | G12: - | H12: 単一事業者による参加登録 | I12: 参加登録する事業者の単位を選択(プルダウン) | J12: *
A13: =ROW()-11 -> 2 | C13: 単一事業者の場合 | E13: 事業者コード | G13: - | H13: 9999 | I13: 容量市場システムの事業者情報登録にて採番された番号を入力 | J13: *
A14: =ROW()-11 -> 3 | E14: 事業者名 | G14: - | H14: ○○株式会社 | I14: 事業者名を入力 | J14: *
A15: =ROW()-11 -> 4 | E15: 住所 | G15: - | H15: 東京都千代田区○-○-○ | I15: 事業者の住所を入力 | J15: *
A16: =ROW()-11 -> 5 | E16: 法人番号 | G16: - | H16: 9999999999999 | I16: 数字13桁の法人番号を入力 | J16: *
A17: =ROW()-11 -> 6 | C17: コンソーシアムの場合 | D17: 代表企業 | E17: 事業者コード | G17: - | I17: 容量市場システムの事業者情報登録にて採番された番号を入力 | J17: *
A18: =ROW()-11 -> 7 | E18: 事業者名 | G18: - | I18: 事業者名を入力 | J18: *
A19: =ROW()-11 -> 8 | E19: 住所 | G19: - | I19: 事業者の住所を入力 | J19: *
A20: =ROW()-11 -> 9 | E20: 法人番号 | G20: - | I20: 数字13桁の法人番号を入力 | J20: *
A21: =ROW()-11 -> 10 | E21: 出資比率(予定) | G21: % | I21: 0以上100以下の数値(整数または小数を含む数)を入力 | J21: *
A22: =ROW()-11 -> 11 | E22: 議決権保有割合(予定) | G22: % | I22: 0以上100以下の数値(整数または小数を含む数)を入力 | J22: *
A23: =ROW()-11 -> 12 | D23: 構成員① | E23: 事業者名 | G23: - | I23: 事業者名を入力 | J23: *
A24: =ROW()-11 -> 13 | E24: 住所 | G24: - | I24: 事業者の住所を入力 | J24: *
A25: =ROW()-11 -> 14 | E25: 法人番号 | G25: - | I25: 数字13桁の法人番号を入力 | J25: *
A26: =ROW()-11 -> 15 | E26: 出資比率(予定) | G26: % | I26: 0以上100以下の数値(整数または小数を含む数)を入力 | J26: *
A27: =ROW()-11 -> 16 | E27: 議決権保有割合(予定) | G27: % | I27: 0以上100以下の数値(整数または小数を含む数)を入力 | J27: *
A28: =ROW()-11 -> 17 | D28: 構成員② | E28: 事業者名 | G28: - | I28: 事業者名を入力 | J28: *
A29: =ROW()-11 -> 18 | E29: 住所 | G29: - | I29: 事業者の住所を入力 | J29: *
A30: =ROW()-11 -> 19 | E30: 法人番号 | G30: - | I30: 数字13桁の法人番号を入力 | J30: *
A31: =ROW()-11 -> 20 | E31: 出資比率(予定) | G31: % | I31: 0以上100以下の数値(整数または小数を含む数)を入力 | J31: *
A32: =ROW()-11 -> 21 | E32: 議決権保有割合(予定) | G32: % | I32: 0以上100以下の数値(整数または小数を含む数)を入力 | J32: *
A33: =ROW()-11 -> 22 | D33: 構成員③ | E33: 事業者名 | G33: - | I33: 事業者名を入力 | J33: *
A34: =ROW()-11 -> 23 | E34: 住所 | G34: - | I34: 事業者の住所を入力 | J34: *
A35: =ROW()-11 -> 24 | E35: 法人番号 | G35: - | I35: 数字13桁の法人番号を入力 | J35: *
A36: =ROW()-11 -> 25 | E36: 出資比率(予定) | G36: % | I36: 0以上100以下の数値(整数または小数を含む数)を入力 | J36: *
A37: =ROW()-11 -> 26 | E37: 議決権保有割合(予定) | G37: % | I37: 0以上100以下の数値(整数または小数を含む数)を入力 | J37: *
A38: =ROW()-11 -> 27 | B38: 電源に係る情報 | C38: 基本情報 | D38: 容量を提供する電源等の区分 | G38: - | H38: 変動電源 | I38: 変動電源(固定) | J38: *
A39: =ROW()-11 -> 28 | D39: 制度適用期間開始年度 | G39: 年度 | H39: 2033 | I39: 長期脱炭素電源オークションの制度適用を開始する年度を入力 | J39: *
A40: =ROW()-11 -> 29 | D40: 電源等の名称 | G40: - | H40: ABC発電所 | I40: 電源等の名称を入力(形式任意) | J40: *
A41: =ROW()-11 -> 30 | D41: 電源等識別番号 | H41: 0000018401 | I41: 容量市場システムで発番後に記入※電源等情報登録時点では空欄で登録可能ですが、期待容量の登録期間終了までに登録してください | J41: *
A42: =ROW()-11 -> 31 | D42: 設置場所 | G42: - | H42: 千葉県柏市XX1-1-1 | I42: 電源等の設置場所を入力(形式任意) | J42: *
...

Sheet 参加登録申請者記入シート
B1: 入力箇所(電源等情報登録時)
B3: 対象電源種 | C3: 変動電源
B4: 本様式の利用方法： | C4: 1.本シートのH列に、参加登録する事業者および電源の情報を記入してください。
C5: 2.セルの背景がグレーとなっているものは入力不要の項目です。また黄色のセルについても、該当する入力対象がない場合は入力不要です。ただし、容量を入力するセル（#43-51）については、該当する容量が存在しない場合は「０」を記載してください。
C6: 3.本シートの記入完了後、「事業計画書」・「電源等情報登録様式」シートの全項目が埋まっていることを確認してください。
B7: 留意事項： | C7: 1.「事業計画書」の情報は、その時点での確度の高い情報をもとに作成し、電源等情報の登録受付期間中に提出してください。なお「未定」の部分が多数ある等、事業の実施能力や事業の確実性が認められない場合、応札が認められない場合があります。
C8: 2.登録期間終了後の電源等情報の変更は、約定結果の公表までは原則認められません。
H10: 参加登録申請者記入箇所
A11: # | B11: 入力項目 | G11: 単位 | H11: 入力欄 | I11: 入力規則・備考 | J11: *
A12: =ROW()-11 -> 1 | B12: 事業者に係る情報 | C12: 参加登録する事業者の単位(単一事業者またはコンソーシアム) | G12: - | I12: 参加登録する事業者の単位を選択(プルダウン) | J12: *
A13: =ROW()-11 -> 2 | C13: 単一事業者の場合 | E13: 事業者コード | G13: - | I13: 容量市場システムの事業者情報登録にて採番された番号を入力 | J13: *
A14: =ROW()-11 -> 3 | E14: 事業者名 | G14: - | I14: 事業者名を入力 | J14: *
A15: =ROW()-11 -> 4 | E15: 住所 | G15: - | I15: 事業者の住所を入力 | J15: *
A16: =ROW()-11 -> 5 | E16: 法人番号 | G16: - | I16: 数字13桁の法人番号を入力 | J16: *
A17: =ROW()-11 -> 6 | C17: コンソーシアムの場合 | D17: 代表企業 | E17: 事業者コード | G17: - | I17: 容量市場システムの事業者情報登録にて採番された番号を入力 | J17: *
A18: =ROW()-11 -> 7 | E18: 事業者名 | G18: - | I18: 事業者名を入力 | J18: *
A19: =ROW()-11 -> 8 | E19: 住所 | G19: - | I19: 事業者の住所を入力 | J19: *
A20: =ROW()-11 -> 9 | E20: 法人番号 | G20: - | I20: 数字13桁の法人番号を入力 | J20: *
A21: =ROW()-11 -> 10 | E21: 出資比率(予定) | G21: % | I21: 0以上100以下の数値(整数または小数を含む数)を入力 | J21: *
A22: =ROW()-11 -> 11 | E22: 議決権保有割合(予定) | G22: % | I22: 0以上100以下の数値(整数または小数を含む数)を入力 | J22: *
A23: =ROW()-11 -> 12 | D23: 構成員① | E23: 事業者名 | G23: - | I23: 事業者名を入力 | J23: *
A24: =ROW()-11 -> 13 | E24: 住所 | G24: - | I24: 事業者の住所を入力 | J24: *
A25: =ROW()-11 -> 14 | E25: 法人番号 | G25: - | I25: 数字13桁の法人番号を入力 | J25: *
A26: =ROW()-11 -> 15 | E26: 出資比率(予定) | G26: % | I26: 0以上100以下の数値(整数または小数を含む数)を入力 | J26: *
A27: =ROW()-11 -> 16 | E27: 議決権保有割合(予定) | G27: % | I27: 0以上100以下の数値(整数または小数を含む数)を入力 | J27: *
A28: =ROW()-11 -> 17 | D28: 構成員② | E28: 事業者名 | G28: - | I28: 事業者名を入力 | J28: *
A29: =ROW()-11 -> 18 | E29: 住所 | G29: - | I29: 事業者の住所を入力 | J29: *
A30: =ROW()-11 -> 19 | E30: 法人番号 | G30: - | I30: 数字13桁の法人番号を入力 | J30: *
A31: =ROW()-11 -> 20 | E31: 出資比率(予定) | G31: % | I31: 0以上100以下の数値(整数または小数を含む数)を入力 | J31: *
A32: =ROW()-11 -> 21 | E32: 議決権保有割合(予定) | G32: % | I32: 0以上100以下の数値(整数または小数を含む数)を入力 | J32: *
A33: =ROW()-11 -> 22 | D33: 構成員③ | E33: 事業者名 | G33: - | I33: 事業者名を入力 | J33: *
A34: =ROW()-11 -> 23 | E34: 住所 | G34: - | I34: 事業者の住所を入力 | J34: *
A35: =ROW()-11 -> 24 | E35: 法人番号 | G35: - | I35: 数字13桁の法人番号を入力 | J35: *
A36: =ROW()-11 -> 25 | E36: 出資比率(予定) | G36: % | I36: 0以上100以下の数値(整数または小数を含む数)を入力 | J36: *
A37: =ROW()-11 -> 26 | E37: 議決権保有割合(予定) | G37: % | I37: 0以上100以下の数値(整数または小数を含む数)を入力 | J37: *
A38: =ROW()-11 -> 27 | B38: 電源に係る情報 | C38: 基本情報 | D38: 容量を提供する電源等の区分 | G38: - | H38: 変動電源 | I38: 変動電源(固定) | J38: *
A39: =ROW()-11 -> 28 | D39: 制度適用期間開始年度 | G39: 年度 | I39: 長期脱炭素電源オークションの制度適用を開始する年度を入力 | J39: *
A40: =ROW()-11 -> 29 | D40: 電源等の名称 | G40: - | I40: 電源等の名称を入力(形式任意) | J40: *
A41: =ROW()-11 -> 30 | D41: 電源等識別番号 | I41: 容量市場システムで発番後に記入※電源等情報登録時点では空欄で登録可能ですが、期待容量の登録期間終了までに登録してください | J41: *
A42: =ROW()-11 -> 31 | D42: 設置場所 | G42: - | I42: 電源等の設置場所を入力(形式任意) | J42: *
...

Sheet 事業計画書
E3: ="応札事業者名："&IF(E14<>"-",E14,IF(E20<>"-",E20,"")) -> 応札事業者名：
E7: ="発電設備名："&IF(E44<>"",E44,"") -> 発電設備名：
A9: 事業計画書
A11: 1.応札事業者
A12: コンソーシアム以外の場合
A13: 事業者コード | E13: =IF(参加登録申請者記入シート!$H$12="単一事業者による参加登録", IF(参加登録申請者記入シート!H13="", "-", 参加登録申請者記入シート!H13), "-") -> - | F13: * | O13: =IF(J13=0,"",COUNTIF(電源等情報登録項目!$K$6:$L$63,J13))
A14: 事業者名 | E14: =IF(参加登録申請者記入シート!$H$12="単一事業者による参加登録", IF(参加登録申請者記入シート!H14="", "-", 参加登録申請者記入シート!H14), "-") -> - | F14: * | O14: =IF(J14=0,"",COUNTIF(電源等情報登録項目!$K$6:$L$63,J14))
A15: 住所 | E15: =IF(参加登録申請者記入シート!$H$12="単一事業者による参加登録", IF(参加登録申請者記入シート!H15="", "-", 参加登録申請者記入シート!H15), "-") -> - | F15: * | O15: =IF(J15=0,"",COUNTIF(電源等情報登録項目!$K$6:$L$63,J15))
A16: 法人番号 | E16: =IF(参加登録申請者記入シート!$H$12="単一事業者による参加登録", IF(参加登録申請者記入シート!H16="", "-", 参加登録申請者記入シート!H16), "-") -> - | F16: * | O16: =IF(J16=0,"",COUNTIF(電源等情報登録項目!$K$6:$L$63,J16))
O17: =IF(J17=0,"",COUNTIF(電源等情報登録項目!$K$6:$L$63,J17))
A18: コンソーシアムの場合 | O18: =IF(J18=0,"",COUNTIF(電源等情報登録項目!$K$6:$L$63,J18))
A19: 代表企業 | C19: 事業者コード | E19: =IF(参加登録申請者記入シート!$H$12="単一事業者による参加登録", "-", IF(参加登録申請者記入シート!H17<>"",参加登録申請者記入シート!H17,"-")) -> - | F19: * | O19: =IF(J19=0,"",COUNTIF(電源等情報登録項目!$K$6:$L$63,J19))
C20: 事業者名 | E20: =IF(参加登録申請者記入シート!$H$12="単一事業者による参加登録", "-", IF(参加登録申請者記入シート!H18<>"",参加登録申請者記入シート!H18,"-")) -> - | F20: * | O20: =IF(J20=0,"",COUNTIF(電源等情報登録項目!$K$6:$L$63,J20))
C21: 住所 | E21: =IF(参加登録申請者記入シート!$H$12="単一事業者による参加登録", "-", IF(参加登録申請者記入シート!H19<>"",参加登録申請者記入シート!H19,"-")) -> - | F21: * | O21: =IF(J21=0,"",COUNTIF(電源等情報登録項目!$K$6:$L$63,J21))
C22: 法人番号 | E22: =IF(参加登録申請者記入シート!$H$12="単一事業者による参加登録", "-", IF(参加登録申請者記入シート!H20<>"",参加登録申請者記入シート!H20,"-")) -> - | F22: * | O22: =IF(J22=0,"",COUNTIF(電源等情報登録項目!$K$6:$L$63,J22))
C23: 出資比率（予定） | E23: =IF(参加登録申請者記入シート!$H$12="単一事業者による参加登録", "-", IF(参加登録申請者記入シート!H21<>"",参加登録申請者記入シート!H21,"-")) -> - | F23: * | O23: =IF(J23=0,"",COUNTIF(電源等情報登録項目!$K$6:$L$63,J23))
C24: 議決権保有割合（予定） | E24: =IF(参加登録申請者記入シート!$H$12="単一事業者による参加登録", "-", IF(参加登録申請者記入シート!H22<>"",参加登録申請者記入シート!H22,"-")) -> - | F24: * | O24: =IF(J24=0,"",COUNTIF(電源等情報登録項目!$K$6:$L$63,J24))
A25: 構成員① | C25: 事業者名 | E25: =IF(参加登録申請者記入シート!$H$12="単一事業者による参加登録", "-", IF(参加登録申請者記入シート!H23<>"",参加登録申請者記入シート!H23,"-")) -> - | F25: * | O25: =IF(J25=0,"",COUNTIF(電源等情報登録項目!$K$6:$L$63,J25))
C26: 住所 | E26: =IF(参加登録申請者記入シート!$H$12="単一事業者による参加登録", "-", IF(参加登録申請者記入シート!H24<>"",参加登録申請者記入シート!H24,"-")) -> - | F26: * | O26: =IF(J26=0,"",COUNTIF(電源等情報登録項目!$K$6:$L$63,J26))
C27: 法人番号 | E27: =IF(参加登録申請者記入シート!$H$12="単一事業者による参加登録", "-", IF(参加登録申請者記入シート!H25<>"",参加登録申請者記入シート!H25,"-")) -> - | F27: * | O27: =IF(J27=0,"",COUNTIF(電源等情報登録項目!$K$6:$L$63,J27))
C28: 出資比率（予定） | E28: =IF(参加登録申請者記入シート!$H$12="単一事業者による参加登録", "-", IF(参加登録申請者記入シート!H26<>"",参加登録申請者記入シート!H26,"-")) -> - | F28: * | O28: =IF(J28=0,"",COUNTIF(電源等情報登録項目!$K$6:$L$63,J28))
C29: 議決権保有割合（予定） | E29: =IF(参加登録申請者記入シート!$H$12="単一事業者による参加登録", "-", IF(参加登録申請者記入シート!H27<>"",参加登録申請者記入シート!H27,"-")) -> - | F29: * | O29: =IF(J29=0,"",COUNTIF(電源等情報登録項目!$K$6:$L$63,J29))
A30: 構成員② | C30: 事業者名 | E30: =IF(参加登録申請者記入シート!$H$12="単一事業者による参加登録", "-", IF(参加登録申請者記入シート!H28<>"",参加登録申請者記入シート!H28,"-")) -> - | F30: * | O30: =IF(J30=0,"",COUNTIF(電源等情報登録項目!$K$6:$L$63,J30))
C31: 住所 | E31: =IF(参加登録申請者記入シート!$H$12="単一事業者による参加登録", "-", IF(参加登録申請者記入シート!H29<>"",参加登録申請者記入シート!H29,"-")) -> - | F31: * | O31: =IF(J31=0,"",COUNTIF(電源等情報登録項目!$K$6:$L$63,J31))
C32: 法人番号 | E32: =IF(参加登録申請者記入シート!$H$12="単一事業者による参加登録", "-", IF(参加登録申請者記入シート!H30<>"",参加登録申請者記入シート!H30,"-")) -> - | F32: * | O32: =IF(J32=0,"",COUNTIF(電源等情報登録項目!$K$6:$L$63,J32))
C33: 出資比率（予定） | E33: =IF(参加登録申請者記入シート!$H$12="単一事業者による参加登録", "-", IF(参加登録申請者記入シート!H31<>"",参加登録申請者記入シート!H31,"-")) -> - | F33: * | O33: =IF(J33=0,"",COUNTIF(電源等情報登録項目!$K$6:$L$63,J33))
C34: 議決権保有割合（予定） | E34: =IF(参加登録申請者記入シート!$H$12="単一事業者による参加登録", "-", IF(参加登録申請者記入シート!H32<>"",参加登録申請者記入シート!H32,"-")) -> - | F34: * | O34: =IF(J34=0,"",COUNTIF(電源等情報登録項目!$K$6:$L$63,J34))
A35: 構成員③ | C35: 事業者名 | E35: =IF(参加登録申請者記入シート!$H$12="単一事業者による参加登録", "-", IF(参加登録申請者記入シート!H33<>"",参加登録申請者記入シート!H33,"-")) -> - | F35: * | O35: =IF(J35=0,"",COUNTIF(電源等情報登録項目!$K$6:$L$63,J35))
C36: 住所 | E36: =IF(参加登録申請者記入シート!$H$12="単一事業者による参加登録", "-", IF(参加登録申請者記入シート!H34<>"",参加登録申請者記入シート!H34,"-")) -> - | F36: * | O36: =IF(J36=0,"",COUNTIF(電源等情報登録項目!$K$6:$L$63,J36))
C37: 法人番号 | E37: =IF(参加登録申請者記入シート!$H$12="単一事業者による参加登録", "-", IF(参加登録申請者記入シート!H35<>"",参加登録申請者記入シート!H35,"-")) -> - | F37: * | O37: =IF(J37=0,"",COUNTIF(電源等情報登録項目!$K$6:$L$63,J37))
C38: 出資比率（予定） | E38: =IF(参加登録申請者記入シート!$H$12="単一事業者による参加登録", "-", IF(参加登録申請者記入シート!H36<>"",参加登録申請者記入シート!H36,"-")) -> - | F38: * | O38: =IF(J38=0,"",COUNTIF(電源等情報登録項目!$K$6:$L$63,J38))
C39: 議決権保有割合（予定） | E39: =IF(参加登録申請者記入シート!$H$12="単一事業者による参加登録", "-", IF(参加登録申請者記入シート!H37<>"",参加登録申請者記入シート!H37,"-")) -> - | F39: * | O39: =IF(J39=0,"",COUNTIF(電源等情報登録項目!$K$6:$L$63,J39))
O40: =IF(J40=0,"",COUNTIF(電源等情報登録項目!$K$6:$L$63,J40))
A41: 2.応札電源の名称等 | O41: =IF(J41=0,"",COUNTIF(電源等情報登録項目!$K$6:$L$63,J41))
A42: 容量を提供する電源等の区分 | E42: 変動電源 | F42: * | O42: =IF(J42=0,"",COUNTIF(電源等情報登録項目!$K$6:$L$63,J42))
A43: 新設・リプレース | E43: =IF(参加登録申請者記入シート!H51<>"",参加登録申請者記入シート!H51,"") | F43: * | O43: =IF(J43=0,"",COUNTIF(電源等情報登録項目!$K$6:$L$63,J43))
A44: 電源等の名称 | E44: =IF(参加登録申請者記入シート!H40<>"",参加登録申請者記入シート!H40,"") | F44: * | O44: =IF(J44=0,"",COUNTIF(電源等情報登録項目!$K$6:$L$63,J44))
A45: 電源種別 | E45: =IF(参加登録申請者記入シート!H52<>"",参加登録申請者記入シート!H52,"") | F45: * | O45: =IF(J45=0,"",COUNTIF(電源等情報登録項目!$K$6:$L$63,J45))
A46: 設置場所 | E46: =IF(参加登録申請者記入シート!H42<>"",参加登録申請者記入シート!H42,"") | F46: * | O46: =IF(J46=0,"",COUNTIF(電源等情報登録項目!$K$6:$L$63,J46))
A47: 発電設備の所有者 | C47: 事業者名 | E47: =IF(参加登録申請者記入シート!H43<>"",参加登録申請者記入シート!H43,"") | F47: * | O47: =IF(J47=0,"",COUNTIF(電源等情報登録項目!$K$6:$L$63,J47))
...

Sheet 電源等情報登録項目
G1: G列：広域使用欄 | H1: H列：広域使用欄
A2: 電源等情報登録様式(2026年度長期脱炭素電源オークション向け) | G2: 総合審査結果
G3: =IF(COUNTIF(電源等情報登録項目!G6:G63,"不合格")>0,"不合格",IF(COUNTIF(電源等情報登録項目!G6:G63,"仮合格")>0,"条件付き合格",IF(COUNTIF(電源等情報登録項目!G6:G63,"合格")>0,"合格","")))
A4: 情報分類 | B4: # | C4: 項目 | E4: 単位 | F4: 「参加登録申請者記入」シートからのデータ連携欄 | G4: 広域機関審査結果 | H4: 備考（不合格理由等） | I4: *
I5: *
A6: 基本情報 | B6: =ROW()-5 -> 1 | C6: 容量オークション区分 | E6: - | F6: 長期脱炭素電源オークション | I6: *
B7: =ROW()-5 -> 2 | C7: 容量を提供する電源等の区分 | E7: - | F7: 変動電源 | I7: *
B8: =ROW()-5 -> 3 | C8: 制度適用期間開始年度 | E8: 年度 | F8: =IF(参加登録申請者記入シート!H39<>"",参加登録申請者記入シート!H39,"") | I8: *
B9: =ROW()-5 -> 4 | C9: 事業者名（コンソーシアムの場合は代表企業の事業者名） | E9: - | F9: =IF(参加登録申請者記入シート!H12="単一事業者による参加登録",IF(参加登録申請者記入シート!H14<>"",参加登録申請者記入シート!H14,""),IF(参加登録申請者記入シート!H18<>"",参加登録申請者記入シート!H18,"")) | I9: *
B10: =ROW()-5 -> 5 | C10: 事業者コード | E10: - | F10: =IF(参加登録申請者記入シート!H12="単一事業者による参加登録",IF(参加登録申請者記入シート!H13<>"",参加登録申請者記入シート!H13,""),IF(参加登録申請者記入シート!H17<>"",参加登録申請者記入シート!H17,"")) | I10: *
B11: =ROW()-5 -> 6 | C11: 電源等の名称 | E11: - | F11: =IF(参加登録申請者記入シート!H40<>"",参加登録申請者記入シート!H40,"") | I11: *
B12: =ROW()-5 -> 7 | C12: 電源等識別番号 | E12: - | F12: =IF(参加登録申請者記入シート!H41<>"",参加登録申請者記入シート!H41,"") | I12: *
B13: =ROW()-5 -> 8 | C13: 受電地点特定番号 | E13: - | F13: =IF(参加登録申請者記入シート!H46<>"",参加登録申請者記入シート!H46,"") | I13: *
B14: =ROW()-5 -> 9 | C14: 系統コード | E14: - | F14: =IF(参加登録申請者記入シート!H47<>"",参加登録申請者記入シート!H47,"") | I14: *
B15: =ROW()-5 -> 10 | C15: エリア名 | E15: - | F15: =IF(参加登録申請者記入シート!H48<>"",参加登録申請者記入シート!H48,"") | I15: *
A16: 詳細情報 | B16: =ROW()-5 -> 11 | C16: 号機単位の名称 | E16: - | F16: =IF(参加登録申請者記入シート!H49<>"",参加登録申請者記入シート!H49,"") | I16: *
B17: =ROW()-5 -> 12 | C17: 号機単位の所有者 | E17: - | F17: =IF(参加登録申請者記入シート!H50<>"",参加登録申請者記入シート!H50,"") | I17: *
B18: =ROW()-5 -> 13 | C18: 新設・リプレース | E18: - | F18: =IF(参加登録申請者記入シート!H51<>"",参加登録申請者記入シート!H51,"") | I18: *
B19: =ROW()-5 -> 14 | C19: 電源種別 | E19: - | F19: =IF(参加登録申請者記入シート!H52<>"",参加登録申請者記入シート!H52,"") | I19: *
B20: =ROW()-5 -> 15 | C20: 発電方式の区分 | E20: - | F20: =IF(参加登録申請者記入シート!H53<>"",参加登録申請者記入シート!H53,"") | I20: *
B21: =ROW()-5 -> 16 | C21: 設備容量(発電端) | E21: kW | F21: =IF(参加登録申請者記入シート!H54<>"",参加登録申請者記入シート!H54,"") | I21: *
B22: =ROW()-5 -> 17 | C22: 所内消費に供出する容量 | E22: kW | F22: =IF(参加登録申請者記入シート!H55<>"",参加登録申請者記入シート!H55,"") | I22: *
B23: =ROW()-5 -> 18 | C23: 自家消費に供出する容量(ベース分) | E23: kW | F23: =IF(参加登録申請者記入シート!H56<>"",参加登録申請者記入シート!H56,"") | I23: *
B24: =ROW()-5 -> 19 | C24: 設備容量(送電端) | E24: kW | F24: =IF(参加登録申請者記入シート!H57<>"",参加登録申請者記入シート!H57,"") | I24: *
B25: =ROW()-5 -> 20 | C25: 自家消費に供出する容量(変動分) | E25: kW | F25: =IF(参加登録申請者記入シート!H58<>"",参加登録申請者記入シート!H58,"") | I25: *
B26: =ROW()-5 -> 21 | C26: 自己託送に供出する容量 | E26: kW | F26: =IF(参加登録申請者記入シート!H59<>"",参加登録申請者記入シート!H59,"") | I26: *
B27: =ROW()-5 -> 22 | C27: 特定供給に供出する容量 | E27: kW | F27: =IF(参加登録申請者記入シート!H60<>"",参加登録申請者記入シート!H60,"") | I27: *
B28: =ROW()-5 -> 23 | C28: 特定送配電事業者に供出する容量 | E28: kW | F28: =IF(参加登録申請者記入シート!H61<>"",参加登録申請者記入シート!H61,"") | I28: *
... B43: =ROW()-5 -> 38 | C43: 同時落札条件に係る共用設備の有無 | E43: - | F43: =IF(参加登録申請者記入シート!H76<>"",参加登録申請者記入シート!H76,"") | I43: *
B44: =ROW()-5 -> 39 | C44: 同時落札条件の対象となる相手先電源(1) | D44: 相手先電源を提供する事業者の事業者コード | E44: - | F44: =IF(参加登録申請者記入シート!H77<>"",参加登録申請者記入シート!H77,"") | I44: *
B45: =ROW()-5 -> 40 | D45: 相手先電源の名称 | E45: - | F45: =IF(参加登録申請者記入シート!H78<>"",参加登録申請者記入シート!H78,"") | I45: *
B46: =ROW()-5 -> 41 | D46: 相手先の電源等識別番号 | E46: - | F46: =IF(参加登録申請者記入シート!H79<>"",参加登録申請者記入シート!H79,"") | I46: *
B47: =ROW()-5 -> 42 | C47: 同時落札条件の対象となる相手先電源(2) | D47: 相手先電源を提供する事業者の事業者コード | E47: - | F47: =IF(参加登録申請者記入シート!H80<>"",参加登録申請者記入シート!H80,"") | I47: *
B48: =ROW()-5 -> 43 | D48: 相手先電源の名称 | E48: - | F48: =IF(参加登録申請者記入シート!H81<>"",参加登録申請者記入シート!H81,"") | I48: *
B49: =ROW()-5 -> 44 | D49: 相手先の電源等識別番号 | E49: - | F49: =IF(参加登録申請者記入シート!H82<>"",参加登録申請者記入シート!H82,"") | I49: *
B50: =ROW()-5 -> 45 | C50: 同時落札条件の対象となる相手先電源(3) | D50: 相手先電源を提供する事業者の事業者コード | E50: - | F50: =IF(参加登録申請者記入シート!H83<>"",参加登録申請者記入シート!H83,"") | I50: *
B51: =ROW()-5 -> 46 | D51: 相手先電源の名称 | E51: - | F51: =IF(参加登録申請者記入シート!H84<>"",参加登録申請者記入シート!H84,"") | I51: *
B52: =ROW()-5 -> 47 | D52: 相手先の電源等識別番号 | E52: - | F52: =IF(参加登録申請者記入シート!H85<>"",参加登録申請者記入シート!H85,"") | I52: *
B53: =ROW()-5 -> 48 | C53: 同時落札条件の対象となる相手先電源(4) | D53: 相手先電源を提供する事業者の事業者コード | E53: - | F53: =IF(参加登録申請者記入シート!H86<>"",参加登録申請者記入シート!H86,"") | I53: *
B54: =ROW()-5 -> 49 | D54: 相手先電源の名称 | E54: - | F54: =IF(参加登録申請者記入シート!H87<>"",参加登録申請者記入シート!H87,"") | I54: *
...

Sheet プルダウンテーブル(非表示)
A1: 新設 | B1: リプレース | C1: 風力 | D1: 太陽光 | E1: 水力
A2: 太陽光 | B2: 太陽光 | C2: 陸上風力 | D2: なし | E2: なし
A3: 風力 | B3: 風力 | C3: 洋上風力
A4: 水力 | B4: 水力

Sheet 電源等情報登録様式_ツール取込用(非表示) 
A2: 電源等情報登録様式(2023年度長期脱炭素電源オークション向け) | G2: 総合審査結果
G3: =IF(COUNTIF('電源等情報登録様式_ツール取込用(非表示) '!G6:G72,"不合格")>0,"不合格",IF(COUNTIF('電源等情報登録様式_ツール取込用(非表示) '!G6:G72,"仮合格")>0,"条件付き合格",IF(COUNTIF('電源等情報登録様式_ツール取込用(非表示) '!G6:G72,"合格")>0,"合格","")))
A4: 情報分類 | B4: # | C4: 項目 | E4: 単位 | F4: 「参加登録申請者記入」シートからのデータ連携欄 | G4: 広域機関審査結果 | H4: 備考（不合格理由等） | I4: *
I5: *
A6: 基本情報 | B6: =ROW()-5 -> 1 | C6: 容量オークション区分 | E6: - | F6: 長期脱炭素電源オークション | H6: - | I6: *
B7: =ROW()-5 -> 2 | C7: 容量を提供する電源等の区分 | E7: - | F7: =IF(#REF!<>"",#REF!,"") -> #REF! | I7: *
B8: =ROW()-5 -> 3 | C8: 制度適用開始年度 | E8: 年度 | F8: =IF(#REF!<>"",#REF!,"") -> #REF! | I8: *
B9: =ROW()-5 -> 4 | C9: 制度適用期間 | E9: 年間 | F9: - | I9: *
B10: 5 | C10: 事業者名（コンソーシアムの場合は代表企業の事業者名） | E10: - | F10: =_xlfn.IFS(#REF!="単一事業者による参加登録",#REF!,#REF!="コンソーシアムによる参加登録",#REF!,#REF!="","") -> #REF! | I10: *
B11: =ROW()-5 -> 6 | C11: 事業者コード | E11: - | F11: =IF(#REF!<>"",#REF!&"",#REF!&"") -> #REF! | I11: *
B12: =ROW()-5 -> 7 | C12: 電源等の名称 | E12: - | F12: =IF(#REF!<>"",#REF!,"") -> #REF! | I12: *
B13: =ROW()-5 -> 8 | C13: 電源等識別番号 | E13: - | F13: =IF(#REF!<>"",#REF!,"") -> #REF! | I13: *
B14: =ROW()-5 -> 9 | C14: 受電地点特定番号 | E14: - | F14: =IF(#REF!<>"",#REF!,"") -> #REF! | I14: *
B15: =ROW()-5 -> 10 | C15: 系統コード | E15: - | F15: =IF(#REF!<>"",#REF!,"") -> #REF! | I15: *
B16: =ROW()-5 -> 11 | C16: エリア名 | E16: - | F16: =IF(#REF!<>"",#REF!,"") -> #REF! | I16: *
A17: 詳細情報 | B17: =ROW()-5 -> 12 | C17: 号機単位の名称 | E17: - | F17: =IF(#REF!<>"",#REF!,"") -> #REF! | I17: *
B18: =ROW()-5 -> 13 | C18: 号機単位の所有者 | E18: - | F18: =IF(#REF!<>"",#REF!,"") -> #REF! | I18: *
B19: =ROW()-5 -> 14 | C19: 新設/リプレース等/既設火力の改修の区分 | E19: - | F19: =IF(#REF!<>"",#REF!,"") -> #REF! | I19: *
B20: =ROW()-5 -> 15 | C20: 電源種別 | E20: - | F20: =IF(#REF!<>"",#REF!,"") -> #REF! | I20: *
B21: =ROW()-5 -> 16 | C21: 発電方式の区分 | E21: - | F21: =IF(#REF!<>"",#REF!,"") -> #REF! | I21: *
B22: =ROW()-5 -> 17 | C22: リプレースに係る補足情報 | E22: - | F22: - | I22: *
B23: =ROW()-5 -> 18 | C23: 混焼率 | E23: % | F23: - | I23: *
B24: =ROW()-5 -> 19 | C24: 設備容量(発電端) | E24: kW | F24: =IF(#REF!<>"",#REF!,"") -> #REF!
B25: =ROW()-5 -> 20 | C25: 所内消費に供出する容量 | E25: kW | F25: =IF(#REF!<>"",#REF!,"-") -> #REF!
B26: =ROW()-5 -> 21 | C26: 自家消費に供出する容量(ベース分) | E26: kW | F26: =IF(#REF!<>"",#REF!,"-") -> #REF! | I26: *
B27: =ROW()-5 -> 22 | C27: 設備容量(送電端) | E27: kW | F27: =IF(#REF!<>"",#REF!,"") -> #REF! | I27: *
B28: =ROW()-5 -> 23 | C28: 自家消費に供出する容量(変動分) | E28: kW | F28: =IF(#REF!<>"",#REF!,"") -> #REF! | I28: *
B29: =ROW()-5 -> 24 | C29: 自己託送に供出する容量 | E29: kW | F29: =IF(#REF!<>"",#REF!,"") -> #REF! | I29: *
B30: =ROW()-5 -> 25 | C30: 特定供給に供出する容量 | E30: kW | F30: =IF(#REF!<>"",#REF!,"") -> #REF! | I30: *
B31: =ROW()-5 -> 26 | C31: 特定送配電事業者に供出する容量 | E31: kW | F31: =IF(#REF!<>"",#REF!,"") -> #REF! | I31: *
B32: =ROW()-5 -> 27 | C32: 本オークションの参加要件を満たさない発電容量 | E32: kW | F32: =IF(#REF!<>"",#REF!,"") -> #REF!
B33: =ROW()-5 -> 28 | C33: FIT/FIPに供出する容量 | E33: kW | F33: =IF(#REF!<>"",#REF!,"") -> #REF!
B34: =ROW()-5 -> 29 | C34: 本オークションに参加可能な設備容量(送電端) | E34: kW | F34: =IF(#REF!<>"",#REF!,"") -> #REF! | I34: *
B35: =ROW()-5 -> 30 | C35: 供給力提供開始時期 | E35: YYYYMM | F35: =IF(#REF!<>"",#REF!,"") -> #REF! | I35: *
B36: =ROW()-5 -> 31 | C36: 調整機能の有無 | E36: - | I36: *
B37: =ROW()-5 -> 32 | C37: 発電用の自家用電気工作物(余剰の該当有無) | E37: - | I37: *
B38: =ROW()-5 -> 33 | C38: FIT/FIP認定ID | E38: - | F38: =IF(#REF!<>"",#REF!,"") -> #REF! | I38: *
B39: =ROW()-5 -> 34 | C39: 特定契約の終了年月 | E39: YYYYMM | F39: =IF(#REF!<>"",#REF!,"-") -> #REF! | I39: *
B40: =ROW()-5 -> 35 | C40: 相対契約上の契約変更締切期間 | E40: YYYYMM | F40: =IF(#REF!<>"",#REF!,"-") -> #REF! | I40: *
B41: =ROW()-5 -> 36 | C41: 発電BGコード(1) | E41: - | F41: =IF(#REF!<>"",#REF!,"-") -> #REF! | I41: *
...
