Workbook
Name 安定電源リプレース等: 'プルダウンテーブル_安定電源(非表示)'!$B$2
Name 安定電源リプレース等火力: 'プルダウンテーブル_安定電源(非表示)'!$E$2:$E$4
Name 安定電源既設火力の改修: 'プルダウンテーブル_安定電源(非表示)'!$C$2
Name 安定電源既設火力の改修火力: 'プルダウンテーブル_安定電源(非表示)'!$F$2:$F$6
Name 安定電源新設: 'プルダウンテーブル_安定電源(非表示)'!$A$2
Name 安定電源新設火力: 'プルダウンテーブル_安定電源(非表示)'!$D$2:$D$4

Sheet 契約単価の補正方法_全電源共通
B2: 物価・金利変動等に伴う契約単価の補正方法
B3: ■ 記載手順
B4: 1. 事業者情報及び電源等情報の登録手続きにて登録した内容をもとに、参加登録申請者・電源に係る情報を入力してください。
B5: 2. 物価・金利変動等に伴う契約単価の補正式を参照し、応札価格に含まれる費用ごとの補正要否を入力してください。
B6: ※ 物価・金利変動等に伴う契約単価の補正方法及び応札フォーマットに記載されている応札価格に含まれる費用を契約情報として扱い、当該情報をもとに契約単価の補正を行います。
B7: ※ グレーセルの項目は入力不要です。
B9: ■ 参加登録申請者・電源に係る情報
B10: 情報項目 | C10: 入力箇所 | D10: 備考
B11: 参加登録申請者名 | D11: 電源等情報登録様式（D1）に登録した内容を入力してください
B12: 容量を提供する電源等の区分 | C12: 安定電源 | D12: 入力不要です
B13: 新設・リプレース等/既設火力の改修の区分 | D13: 電源等情報登録様式（D1）に登録した内容を入力してください
B14: 電源種別 | C14: 火力 | D14: 入力不要です
B15: 発電方式の区分 | D15: 電源等情報登録様式（D1）に登録した内容を入力してください ※電源等識別番号は10桁で入力してください
B16: 電源等の名称
B17: 電源等識別番号
B19: ■ 応札価格に含まれる費用ごとの補正要否
B20: 情報項目 | C20: 入力箇所 | D20: 備考
B21: 資本費 | D21: 補正要否を選択してください
B22: 運転維持費 | D22: 補正要否を選択してください
B23: 資本コスト | C23: =IF(OR(C24="要", C25="要"), "要", IF(AND(C24="不要", C25="不要"), "不要", IF(OR(C24="", C25=""), "", C23))) | D23: 入力不要です
B24: 建設工事費デフレーターによる補正 | D24: 補正要否を選択してください
B25: 金利による補正 | D25: 補正要否を選択してください
B26: 可変費 | D26: 補正要否を選択してください
B27: 契約単価全体 ※消費者物価指数（コアCPI）による補正 | C27: =IF(COUNTIF($C$21:$C$26,"不要")=6,"要","") | D27: 入力不要です 資本費・運転維持費・可変費・資本コストの補正要否がすべて「不要」の場合は 契約単価全体での補正が適用されます
B28: ※ 選択した補正要否は、容量確保契約書において対象/対象外に読み替えます
B30: ■（参考）物価・金利変動等に伴う契約単価の補正式
B31: 補正する契約単価の内訳 | C31: 補正式 | E31: 補正指標/費用項目 | F31: 補正指標取得先 ※1
B32: 資本費 | C32: （建設費＋廃棄費用＋系統接続費）×（供給力提供開始年度前年度の建設工事費デフレーター / 応札年度前年度の建設工事費デフレーター） | E32: ・建設工事費デフレーター (電力、年度平均値） | F32: 国土交通省HP （https://www.mlit.go.jp/sogoseisaku/jouhouka/sosei_jouhouka_tk4_000112.html）
E33: ・資本費 （建設費、廃棄費用、系統接続費） | F33: 事業者が応札時に申告した情報を応札フォーマットより取得
B34: 運転維持費 | C34: 運転維持費（可変費を除く） ×（対象実需給年度前年の企業物価指数 / 応札年度前年の企業物価指数） | E34: ・企業物価指数 (総平均、年平均値、消費税を除く） | F34: 日本銀行時系列統計データ検索サイト （https://www.stat-search.boj.or.jp/index.html）
E35: ・運転維持費（可変費を除く） | F35: 事業者が応札時に申告した情報を応札フォーマットより取得
B36: 資本コスト | C36: 資本コスト ×（供給力提供開始年度前年度の建設工事費デフレーター / 応札年度前年度の建設工事費デフレーター）×（（応札年度のベースのWACC5.5%＋（対象実需給年度前年の金利ー応札年度前年の金利）） / 応札年度のベースのWACC5.5%） | E36: ・建設工事費デフレーター (電力、年度平均値） ・金利 ※日本銀行の貸出約定平均金利 (新規・長期、国内銀行、年平均値） | F36: 建設工事費デフレーターは資本費を参照 日本銀行時系列統計データ検索サイト （https://www.stat-search.boj.or.jp/index.html）
E37: ・資本コスト | F37: 事業者が応札時に申告した情報を応札フォーマットより取得
B38: 可変費 水素・アンモニア専焼火力もしくは混焼火力 | C38: 補正後の水素・アンモニアの燃料費 ー LNG・石炭の燃料費 | E38: 詳細は後続シートを参照
B39: 契約単価全体 資本費・運転維持費・可変費・資本コストの費用ごとの補正を選択しない場合に限る | C39: 契約単価 × （対象実需給年度前年の消費者物価指数 / 応札年度前年の消費者物価指数） | E39: ・消費者物価指数 (コアCPI、年平均値） | F39: 総務省統計局HP （https://www.stat.go.jp/data/cpi/1.html）
E40: ・契約単価 | F40: 容量確保契約書より取得
B41: ※1 補正方法の変更等により補正指標取得先も変更となる可能性がある

Sheet 契約単価の補正方法_可変費の補正
B2: 可変費の補正要否「要」を選択した場合の諸情報
B3: 水素・アンモニアの専焼火力もしくは混焼火力について、可変費の補正要否「要」を選択した場合のみ以下を入力してください。
B5: ■ 記載手順
B6: 1. 水素・アンモニアの燃料費の補正式をもとに、可変費の補正に係る情報を入力してください。
B7: 2. 原料代・電気代及び水素・アンモニア製造・輸送費及びそのうちのCAPEXの補正要否を選択してください。
B8: ※ グレーセルの項目は原則入力不要です。ただし、選択内容により入力が必要な場合があります。また、入力内容が赤字になった項目は入力しないでください。
B10: ■ 可変費の補正に係る情報
B11: 情報項目 | D11: 入力箇所 | E11: 備考
B12: ① 水素・アンモニアの種別 | E12: 化石燃料由来/再生可能エネルギー由来を 選択してください
B13: ② 補正の種別 | E13: 化石燃料由来の場合のみ選択してください
B14: ③ 天然ガス価格指標 | E14: 天然ガスマーケット連動を選択した場合のみ入力してください
B15: ④ 水素・アンモニアの調達国 | E15: 国・地域を選択してください
B16: ⑤ 補正に用いる貿易統計価格の燃料種 | E16: LNGまたは石炭を選択してください
B18: ■ 原料代・電気代及び水素・アンモニア製造・輸送費に係る補正要否の選択
B19: 情報項目 | D19: 入力箇所 | E19: 備考
B20: ⑥ 調達国の消費者物価指数による補正要否 | E20: 要否を選択してください
B21: ⑦ 米ドル為替レートによる補正要否 | E21: 要否を選択してください
B22: ※ 選択した補正要否は、容量確保契約書において対象/対象外に読み替えます
B24: ■ 水素・アンモニアの製造・輸送費のうちのCAPEXに係る補正要否の選択
B25: 情報項目 | D25: 入力箇所 | E25: 備考
B26: ⑧ （水素・アンモニアの燃料費ー天然ガスの燃料費）のうちのCAPEXについて調達国の消費者物価指数による補正要否 | E26: ⑥で「要」を選択した場合のみ、 要否を選択してください
B27: ⑨ （水素・アンモニアの燃料費ー天然ガスの燃料費）のうちのCAPEXについて米ドル為替レートによる補正要否 | E27: ⑦で「要」を選択した場合のみ、 要否を選択してください
B28: ⑩ （水素・アンモニアの燃料費ー電気代）のうちの CAPEXについて調達国の消費者物価指数による補正要否 | E28: ⑥で「要」を選択した場合のみ、 要否を選択してください
B29: ⑪ （水素・アンモニアの燃料費ー電気代）のうちの CAPEXにについて米ドル為替レートによる補正要否 | E29: ⑦で「要」を選択した場合のみ、 要否を選択してください
B30: ※ 選択した補正要否は、容量確保契約書において対象/対象外に読み替えます
B32: ■（参考）水素・アンモニアの燃料費の補正式
B33: 水素・アンモニアの補正ケース | E33: 補正ケースごとの水素・アンモニアの燃料費（下記の合計） | G33: LNG・石炭の燃料費
B34: 水素・アンモニアの種別 | C34: 補正の種別 | D34: 天然ガスの価格指標 | E34: 原料代・電気代 | F34: 水素・アンモニアの製造・輸送費
B35: 化石燃料由来の 水素・アンモニア | C35: 天然ガス マーケット連動 | D35: HH （ヘンリーハブ） | E35: 天然ガスの燃料費 ×天然ガス価格指標（HH）の変化率 ×米ドル為替レートの変化率※1 | F35: （水素・アンモニアの燃料費ー天然ガスの燃料費）のうちのCAPEX ×（供給力提供開始年度前年の調達国の消費者物価指数 / 応札年度前年の調達国の消費者物価指数）※1 ×米ドル為替レートの変化率※1 ＋ （水素・アンモニアの燃料費ー天然ガスの燃料費）のうちのOPEX ×調達国の消費者物価指数の変化率※1 ×米ドル為替レートの変化率※1 | G35: LNG・石炭の燃料費 ×LNG・石炭貿易統計価格の変化率 ×水素・アンモニアとLNG・石炭の発熱量比率
D36: ブレント （原油価格連動） | E36: 天然ガスの燃料費 ×天然ガス価格指標（ブレント）の変化率 ×米ドル為替レートの変化率※1
C37: 天然ガス エスカレ補正 | D37: ー | E37: 天然ガスの燃料費 ×調達国の消費者物価指数の変化率※1 ×米ドル為替レートの変化率※1
B38: 再生可能エネルギー由来の水素・アンモニア | C38: 電気料金 マーケット連動 | D38: ー | E38: 電気代 ×米ドル為替レートの変化率※1 | F38: （水素・アンモニアの燃料費ー電気代）のうちのCAPEX ×（供給力提供開始年度前年の調達国の消費者物価指数 / 応札年度前年の調達国の消費者物価指数）※1 ×米ドル為替レートの変化率※1 ＋ （水素・アンモニアの燃料費ー電気代）のうちのOPEX ×調達国の消費者物価指数の変化率※1 ×米ドル為替レートの変化率※1
B39: ※1 応札時に当該指標による補正を不要と選択した場合は、1とする
B41: ■（参考）価格情報
B42: 天然ガスマーケット連動を選択した場合
B43: 情報項目 | D43: 情報取得先 ※
B44: 天然ガスの燃料費 | D44: 事業者が応札時に申告した情報を応札フォーマットより取得
B45: （水素・アンモニアの燃料費ー天然ガスの燃料費）のうちのCAPEX
B46: （水素・アンモニアの燃料費ー天然ガスの燃料費）のうちのOPEX
B47: LNG・石炭の燃料費
...

Sheet 補正後の応札価格
B2: 補正後の応札価格における可変費の算定方法に係る諸情報
B3: 水素・アンモニアの専焼火力もしくは混焼火力について、可変費の補正要否「要」を選択し、（水素・アンモニアの燃料費ー天然ガスの燃料費）及び
B4: （水素・アンモニアの燃料費ー電気代）のうちのOPEXについて、調達国の消費者物価指数での補正要否「要」を選択した場合に入力してください。
B6: ■ 記載手順
B7: 補正後の応札価格における可変費の補正式や価格情報を参考に、補正後の応札価格の算定に係る情報を入力してください。
B8: ※ グレーセルの項目は原則入力不要です。ただし、選択内容により入力が必要な場合があります。また、入力内容が赤字になった項目は入力しないでください。
B10: ■ 補正後の応札価格の算定に係る情報
B11: 情報項目 | D11: 入力箇所 | E11: 備考
B12: ① 水素・アンモニアの種別 | D12: =IF(契約単価の補正方法_可変費の補正!$D$12="","",契約単価の補正方法_可変費の補正!$D$12) | E12: 契約単価の補正方法_可変費の補正シートで 選択した内容を参照しています
B13: ② 補正の種別 | D13: =IF(契約単価の補正方法_可変費の補正!$D$13="","ー",契約単価の補正方法_可変費の補正!$D$13) -> ー | E13: 契約単価の補正方法_可変費の補正シートで 選択した内容を参照しています
B14: ③ 天然ガスまたは水素・アンモニアの調達国 | D14: =IF(契約単価の補正方法_可変費の補正!D15="","",契約単価の補正方法_可変費の補正!D15) | E14: 契約単価の補正方法_可変費の補正シートで 選択した調達国を参照しています ※赤セル表示となった場合は、調達国に対する補正後の応札価格の算出に必要な諸元が不足しているため本機関まで連絡してください
B15: ④ 天然ガスの燃料費 [円/kW/年] | E15: 応札情報をもとに入力してください ※①から③で選択した内容により、入力が必要な内容が異なります ※入力内容に誤りがあると、補正後の応札価格を適切に算定できず、応札が認められない場合があります。応札フォーマットと整合するように十分確認し、正確に入力してください ※制度適用期間は、期待容量等算定諸元一覧及び応札フォーマットと整合する形で、20以上40以下の整数を記載してください。
B16: ⑤ 電気代 [円/kW/年]
B17: ⑥ （水素・アンモニアの燃料費ー天然ガスの燃料費）のうちの OPEX [円/kW/年]
B18: ⑦ （水素・アンモニアの燃料費ー天然ガスの燃料費）のうちの CAPEX [円/kW/年]
B19: ⑧ （水素・アンモニアの燃料費ー電気代）のうちの OPEX [円/kW/年]
B20: ⑨ （水素・アンモニアの燃料費ー電気代）のうちの CAPEX [円/kW/年]
B21: ⑩ LNG・石炭の燃料費 [円/kW/年]
B22: ⑪ 制度適用期間の年数 [年]
B23: ⑫ 資本費 [円/kW/年]
B24: ⑬ 運転維持費 [円/kW/年]
B25: ⑭ 資本コスト [円/kW/年]
B26: ⑮ 補正後の可変費 [円/kW/年] | D26: ='調達国の消費者物価指数管理シート_CPI(非表示)'!$H$25 | E26: 自動計算です ※エラーとなる場合でも入力不要です
B27: ⑯ 補正後の応札価格 [円/kW/年] | D27: ='調達国の消費者物価指数管理シート_CPI(非表示)'!$H$26 -> 0
B28: ※ 補正後の応札価格の端数処理については、容量確保契約約款の第5条と同等の要件を適用します
B30: ■（参考）補正後の応札価格における可変費の補正式
B31: 水素・アンモニアの補正ケース | D31: 補正後の応札価格における可変費の補正式
B32: 水素・アンモニアの種別 | C32: 補正の種別
B33: 化石燃料由来の 水素・アンモニア | C33: 天然ガス マーケット連動 | D33: 天然ガスの燃料費 ＋ (水素・アンモニアの燃料費 ー 天然ガスの燃料費) のうちのOPEX × {(1＋r)＋(1＋r)2＋…＋(1＋r)s} / s ＋ (水素・アンモニアの燃料費 ー 天然ガスの燃料費)のうちのCAPEX ー LNG・石炭の燃料費
C34: 天然ガス エスカレ補正 | D34: {天然ガスの燃料費 ＋ (水素・アンモニアの燃料費 ー 天然ガスの燃料費) のうちのOPEX} × {(1＋r)＋(1＋r)2＋…＋(1＋r)s} / s ＋ (水素・アンモニアの燃料費 ー 天然ガスの燃料費)のうちのCAPEX ー LNG・石炭の燃料費
B35: 再生可能エネルギー由来の 水素・アンモニア | C35: 電気料金 マーケット連動 | D35: 電気代＋ (水素・アンモニアの燃料費 ー 電気代) のうちのOPEX × {(1＋r)＋(1＋r)2＋…＋(1＋r)s} / s ＋ (水素・アンモニアの燃料費 ー 電気代)のうちのCAPEX ー LNG・石炭の燃料費
B36: r：調達国の消費者物価指数の上昇率の過去10年平均と日本の消費者物価指数の上昇率の過去10年平均の差
B37: s：制度適用期間の年数
B39: ■（参考）価格情報
B40: 情報項目 | D40: 情報取得先 ※
B41: 調達国の消費者物価指数の上昇率の過去10年平均 | D41: INTERNATIONAL MONETARY FUND 及び 政府統計局 HPより取得
B42: 日本の消費者物価指数の上昇率の過去10年平均 | D42: INTERNATIONAL MONETARY FUND HPより取得
B43: ※ 補正方法の変更等により補正指標取得先も変更となる可能性がある
B44: ※ 一部の調達国において、各情報取得先で取得した諸元に基づいて本機関で算出した指数を用います
B45: ※ アメリカ合衆国の2025年の消費者物価指数は、2025年10月の指数が公表されていないため、当該月を除いた月次の指数に基づき本機関にて算出した値を用います

Sheet プルダウンテーブル_安定電源(非表示)
A1: 安定電源新設 | B1: 安定電源リプレース等 | C1: 安定電源既設火力の改修 | D1: 安定電源新設火力 | E1: 安定電源リプレース等火力 | F1: 安定電源既設火力の改修火力 | G1: 調達国・貯留対象国
A2: 火力 | B2: 火力 | C2: 火力 | D2: 水素_専焼 | E2: 水素_専焼 | F2: 水素10%以上の混焼にするための改修 | G2: 0.日本
D3: 水素_混焼 | E3: 水素_混焼 | F3: 水素専焼にするための改修 | G3: 1.アイスランド
D4: アンモニア_専焼 | E4: アンモニア_専焼 | F4: 水素混焼のガスタービン発電設備を追設するための改修 | G4: 2.アイルランド
F5: アンモニア20%以上の混焼にするための改修 | G5: 3.アゼルバイジャン共和国
F6: アンモニア専焼にするための改修 | G6: 4.アフガニスタン・イスラム共和国
G7: 5.アメリカ合衆国
G8: 6.アラブ首長国連邦
G9: 7.アルジェリア民主人民共和国
G10: 8.アルゼンチン共和国
G11: 9.アルバニア共和国
G12: 10.アルメニア共和国
G13: 11.アンゴラ共和国
G14: 12.アンティグア・バーブーダ
G15: 13.アンドラ公国
G16: 14.イエメン共和国
G17: 15.イスラエル国
G18: 16.イタリア共和国
... G204: 202.南極

Sheet 調達国の消費者物価指数管理シート_CPI(非表示)
A1: 調達国 | B1: 2015年 | C1: 2025年 | D1: 取得元 | F1: ■補正用のCPI抽出とrの計算
A2: 0.日本 | B2: 98.225 | C2: 111.925 | D2: IMF | G2: 開始年CPI | H2: 終了年CPI
A3: 1.アイスランド | B3: 64.285472 | C3: 98.094239 | D3: IMF | F3: 調達国 | G3: =_xlfn.XLOOKUP(補正後の応札価格!$D$14,$A:$A,$B:$B) -> #N/A | H3: =_xlfn.XLOOKUP(補正後の応札価格!$D$14,$A:$A,$C:$C) -> #N/A
A4: 2.アイルランド | B4: 82.816667 | C4: 102.88333 | D4: IMF | F4: 日本 | G4: =$B$2 -> 98.225 | H4: =$C$2 -> 111.925
A5: 3.アゼルバイジャン共和国 | B5: 117.73333 | C5: 229.90833 | D5: IMF | F5: r：上昇率の10年平均の差 | H5: =((H3/G3)^(1/10)-1)-((H4/G4)^(1/10)-1) -> #N/A
A6: 5.アメリカ合衆国 | B6: 108.69572 | C6: 147.64269 | D6: IMF | F6: s：制度適用期間の年数 | H6: =補正後の応札価格!$D$22 -> 0
A7: 6.アラブ首長国連邦 | B7: 96.901641 | C7: 109.65652 | D7: IMF | F7: r：調達国の消費者物価指数の上昇率の過去10年平均と日本の消費者物価指数の上昇率の過去10年平均の差
A8: 7.アルジェリア民主人民共和国 | B8: 172.65333 | C8: 285.42167 | D8: IMF | F8: s：制度適用期間の年数
A9: 9.アルバニア共和国 | B9: 77.390539 | C9: 100.11433 | D9: IMF
A10: 10.アルメニア共和国 | B10: 124.23134 | C10: 160.13554 | D10: IMF | F10: ■補正係数の計算
A11: 11.アンゴラ共和国 | B11: 31.10644 | C11: 241.60146 | D11: IMF | F11: {(1＋r)＋(1＋r)2＋…＋(1＋r)s}/s =((1+r)*((1+r)s-1)/r)/s
A12: 12.アンティグア・バーブーダ | B12: 96.561272 | C12: 126.21083 | D12: IMF | F12: 補正係数の計算式をもとに等比数列の和を用いて計算
A13: 15.イスラエル国 | B13: 87.2 | C13: 103.05 | D13: IMF | F13: 補正係数 | G13: =IF(H5=0,1,((1+H5)*((1+H5)^H6-1)/H5)/H6) -> #N/A
A14: 16.イタリア共和国 | B14: 81.540817 | C14: 100.0272 | D14: IMF
A15: 17.イラク共和国 | B15: 88.510989 | C15: 107.425 | D15: IMF | F15: ■補正後の可変費
A16: 18.イラン・イスラム共和国 | B16: 25.599043 | C16: 358.28333 | D16: IMF | F16: 補正の種別 | H16: =IF(補正後の応札価格!$D$12="再生可能エネルギー由来","電気料金マーケット連動",IF(補正後の応札価格!$D$12="化石燃料由来",補正後の応札価格!$D$13,""))
A17: 19.インド | B17: 64.717809 | C17: 102.75417 | D17: IMF | F17: 天然ガスマーケット連動 | H17: =補正後の応札価格!$D$15+(補正後の応札価格!$D$17)*$G$13+補正後の応札価格!$D$18-補正後の応札価格!$D$21 -> #N/A
A18: 20.インドネシア共和国 | B18: 81.259043 | C18: 108.1275 | D18: IMF | F18: 天然ガスエスカレ補正 | H18: =(補正後の応札価格!$D$15+(補正後の応札価格!$D$17))*$G$13+補正後の応札価格!$D$18-補正後の応札価格!$D$21 -> #N/A
A19: 21.ウガンダ共和国 | B19: 91.173985 | C19: 136.59741 | D19: IMF | F19: 電気料金マーケット連動 | H19: =補正後の応札価格!$D$16+(補正後の応札価格!$D$19)*$G$13+補正後の応札価格!$D$20-補正後の応札価格!$D$21 -> #N/A
A20: 22.ウクライナ | B20: 173.94167 | C20: 496.55833 | D20: IMF
A21: 23.ウズベキスタン共和国 | B21: 53.458763 | C21: 162.0159 | D21: IMF | F21: ■補正後の応札価格
A22: 24.ウルグアイ東方共和国 | B22: 55.939614 | C22: 113.35167 | D22: IMF | F22: 資本費 | H22: =補正後の応札価格!$D$23 -> 0
A23: 25.英国（グレートブリテン及び北アイルランド連合王国） | B23: 99.991667 | C23: 138 | D23: IMF | F23: 運転維持費 | H23: =補正後の応札価格!$D$24 -> 0
A24: 26.エクアドル共和国 | B24: 103.22038 | C24: 113.85663 | D24: IMF | F24: 資本コスト | H24: =補正後の応札価格!$D$25 -> 0
A25: 27.エジプト・アラブ共和国 | B25: 55.875498 | C25: 253.61394 | D25: IMF | F25: 補正後の可変費 | H25: =IFERROR(_xlfn.XLOOKUP(H16,$F$17:$F$19,$H$17:$H$19),"")
A26: 28.エストニア共和国 | B26: 195.048 | C26: 314.92092 | D26: IMF | F26: 補正後の応札価格 | H26: =ROUNDDOWN(SUM($H$22:$H$25),0) -> 0 | I26: ←端数切捨て
A27: 30.エチオピア連邦民主共和国 | B27: 92.457756 | C27: 524.74863 | D27: IMF
A28: 32.エルサルバドル共和国 | B28: 109.37333 | C28: 130.72083 | D28: IMF
A29: 33.オーストラリア連邦 | B29: 74.754482 | C29: 99.048333 | D29: IMF
A30: 34.オーストリア共和国 | B30: 72.174163 | C30: 100.0253 | D30: IMF
A31: 35.オマーン国 | B31: 96.482531 | C31: 106.94167 | D31: IMF
A32: 36.オランダ王国 | B32: 74.356667 | C32: 99.999167 | D32: IMF
A33: 37.ガーナ共和国 | B33: 54.997282 | C33: 257.69333 | D33: IMF
A34: 38.カーボベルデ共和国 | B34: 99.389177 | C34: 119.95833 | D34: IMF
A35: 39.ガイアナ協同共和国 | B35: 111.61794 | C35: 145.97503 | D35: IMF
A36: 40.カザフスタン共和国 | B36: 66.016064 | C36: 166.725 | D36: IMF
A37: 41.カタール国 | B37: 96.67 | C37: 108.75 | D37: 統計局
A38: 42.カナダ | B38: 126.56667 | C38: 164.18333 | D38: IMF
... A174: 200.マカオ | B174: 89.209847 | C174: 101.1784 | D174: IMF
