Workbook
Name 安定電源既設火力の改修火力: 'プルダウンテーブル_安定電源(非表示)'!$A$2:$A$8

Sheet 契約単価の補正方法_全電源共通
B2: 物価・金利変動等に伴う契約単価の補正方法
B3: ■ 記載手順
B4: 1. 事業者情報及び電源等情報の登録手続きにて登録した内容をもとに、参加登録申請者・電源に係る情報を入力してください。
B5: 2. 物価・金利変動等に伴う契約単価の補正式を参照し、応札価格に含まれる費用ごとの補正要否を入力してください。
B6: ※ 物価・金利変動等に伴う契約単価の補正方法及び応札フォーマットに記載されている応札価格に含まれる費用を契約情報として扱い、当該情報をもとに契約単価の補正を行います。
B7: ※ グレーセルの項目は入力不要です。
B9: ■ 参加登録申請者・電源に係る情報
B10: 情報項目 | C10: 入力箇所 | D10: 備考
B11: 参加登録申請者名 | D11: 電源等情報登録様式（D1）に登録した内容を入力してください
B12: 容量を提供する電源等の区分 | C12: 安定電源 | D12: 入力不要です
B13: 新設・リプレース等/既設火力の改修の区分 | C13: 既設火力の改修
B14: 電源種別 | C14: 火力
B15: 発電方式の区分 | D15: 電源等情報登録様式（D1）に登録した内容を入力してください ※電源等識別番号は10桁で入力してください
B16: 電源等の名称
B17: 電源等識別番号
B19: ■ 応札価格に含まれる費用ごとの補正要否
B20: 情報項目 | C20: 入力箇所 | D20: 備考
B21: 資本費 | D21: 補正要否を選択してください
B22: 運転維持費 | D22: 補正要否を選択してください
B23: 資本コスト | C23: =IF(OR(C24="要", C25="要"), "要", IF(AND(C24="不要", C25="不要"), "不要", IF(OR(C24="", C25=""), "", C23))) | D23: 入力不要です
B24: 建設工事費デフレーターによる補正 | D24: 補正要否を選択してください
B25: 金利による補正 | D25: 補正要否を選択してください
B26: 可変費 | D26: 補正要否を選択してください
B27: 契約単価全体 ※消費者物価指数（コアCPI）による補正 | C27: =IF(COUNTIF($C$21:$C$26,"不要")=6,"要","") | D27: 入力不要です 資本費・運転維持費・可変費・資本コストの補正要否がすべて「不要」の場合は 契約単価全体での補正が適用されます
B28: ※ 選択した補正要否は、容量確保契約書において対象/対象外に読み替えます
B30: （参考）物価・金利変動等に伴う契約単価の補正式
B31: 補正する契約単価の内訳 | C31: 補正式 | E31: 補正指標/費用項目 | F31: 補正指標取得先 ※1
B32: 資本費 | C32: （建設費＋廃棄費用＋系統接続費）×（供給力提供開始年度前年度の建設工事費デフレーター / 応札年度前年度の建設工事費デフレーター） | E32: ・建設工事費デフレーター （電力、年度平均値） | F32: 国土交通省HP （https://www.mlit.go.jp/sogoseisaku/jouhouka/sosei_jouhouka_tk4_000112.html）
E33: ・資本費 （建設費、廃棄費用、系統接続費） | F33: 事業者が応札時に申告した情報を応札フォーマットより取得
B34: 運転維持費 | C34: 運転維持費（可変費を除く） ×（対象実需給年度前年の企業物価指数 / 応札年度前年の企業物価指数） | E34: ・企業物価指数 （総平均、年平均値、消費税を除く） | F34: 日本銀行時系列統計データ検索サイト （https://www.stat-search.boj.or.jp/index.html）
E35: ・運転維持費（可変費を除く） | F35: 事業者が応札時に申告した情報を応札フォーマットより取得
B36: 資本コスト | C36: 資本コスト ×（供給力提供開始年度前年度の建設工事費デフレーター / 応札年度前年度の建設工事費デフレーター）×（（応札年度のベースのWACC5.5%＋（対象実需給年度前年の金利－応札年度前年の金利）） / 応札年度のベースのWACC5.5%） | E36: ・建設工事費デフレーター （電力、年度平均値） ・金利 ※日本銀行の貸出約定平均金利（新規・長期、国内銀行、年平均値） | F36: 建設工事費デフレーターは資本費を参照 日本銀行時系列統計データ検索サイト （https://www.stat-search.boj.or.jp/index.html）
E37: ・資本コスト | F37: 事業者が応札時に申告した情報を応札フォーマットより取得
B38: 可変費 CCS付火力 | C38: 補正後の分離回収費用（燃料費、電気代）＋ 補正後の分離回収費用（CO2吸収液等のその他費用）＋ 輸送・貯留費用 | E38: 詳細は後続シートを参照
B39: 契約単価全体 資本費・運転維持費・可変費・資本コストの費用ごとの補正を選択しない場合に限る | C39: 契約単価 ×（対象実需給年度前年の消費者物価指数 / 応札年度前年の消費者物価指数） | E39: ・消費者物価指数 （コアCPI、年平均値） | F39: 総務省統計局HP （https://www.stat.go.jp/data/cpi/1.html）
E40: ・契約単価 | F40: 容量確保契約書より取得
B41: ※1 補正方法の変更等により補正指標取得先も変更となる可能性がある

Sheet 契約単価の補正方法_可変費の補正
B2: 可変費の補正要否「要」を選択した場合の諸情報
B3: CCS付火力について、可変費の補正要否「要」を選択した場合のみ以下を入力してください。
B5: ■ 記載手順
B6: 1. CCS付火力の分離回収費用及び輸送・貯留費用の算定式をもとに、可変費の補正に係る情報を入力してください。
B7: 2. 国内貯留又は海外貯留に係る補正要否を選択してください。
B8: ※ グレーセルの項目は原則入力不要です。ただし、選択内容により入力が必要な場合があります。また、入力内容が赤字になった項目は入力しないでください。
B10: ■ 可変費の補正に係る情報
B11: 情報項目 | D11: 入力箇所 | E11: 備考
B12: ① 貯留方法 | E12: 国内貯留/海外貯留を選択してください
B13: ② CO2分離回収に要する燃料費と （外部調達する場合の）蒸気代の合計について 補正に用いる貿易統計価格の燃料種 | E13: LNG、石炭または石油を選択してください
B14: ③ 輸送・貯留費用（OPEXのうち燃料費に限る。）について補正に用いる貿易統計価格の燃料種 | E14: LNG、石炭または石油を選択してください
B15: ④ 貯留対象国 | E15: 海外貯留を選択した場合のみ選択してください
B17: ■ 国内貯留に係る補正要否の選択
B18: 情報項目 | D18: 入力箇所 | E18: 備考
B19: ⑤ 輸送・貯留費用（CAPEXに限る。）について国内企業物価指数による補正要否 | E19: 補正要否を選択してください
B20: ※ 選択した補正要否は、容量確保契約書において対象/対象外に読み替えます
B22: ■ 海外貯留に係る補正要否の選択
B23: 情報項目 | D23: 入力箇所 | E23: 備考
B24: ⑥ 米国生産者物価指数による補正要否 | E24: 補正要否を選択してください
B25: ⑦ 輸送費用（CAPEXに限る。）について 米国生産者物価指数による補正要否 | E25: ⑥で「要」を選択した場合のみ、 補正要否を選択してください
B26: ⑧ 貯留対象国の企業物価指数による補正要否 | E26: 補正要否を選択してください
B27: ⑨ 貯留費用（CAPEXに限る。）について 貯留対象国の企業物価指数による補正要否 | E27: ⑧で「要」を選択した場合のみ、 補正要否を選択してください
B28: ⑩ 米ドル為替レートの変化率による補正要否 | E28: 補正要否を選択してください
B29: ⑪ 輸送費用（CAPEXに限る。）について 米ドル為替レートの変化率による補正要否 | E29: ⑩で「要」を選択した場合のみ、 補正要否を選択してください
B30: ⑫ 貯留費用（CAPEXに限る。）について 米ドル為替レートの変化率による補正要否 | E30: ⑩で「要」を選択した場合のみ、 補正要否を選択してください
B31: ※ 選択した補正要否は、容量確保契約書において対象/対象外に読み替えます
B33: ■（参考）CCSの可変費の補正式
B34: 補正ケース | C34: 貯留方法ごとの分離回収費用及び輸送・貯留費用（下記の合計）
B35: 貯留方法 | C35: 分離回収費用（燃料費、電気代） | E35: 分離回収費用 （CO2吸収液等のその他費用） | F35: 輸送・貯留費用
B36: 国内貯留 | C36: CO2分離回収に要する燃料費 と（外部調達する場合の）蒸気代の合計 ×LNG・石炭・石油貿易統計価格の変化率 ＋ （外部からCO2分離回収のための電気を調達する場合の）CO2分離回収に要する電気代 ×国内スポット市場価格（システムプライス）の変化率 | E36: 輸送・貯留費用（CAPEXに限る） ×（供給力提供開始年度前年の国内企業物価指数 / 応札年度前年の国内企業物価指数）※1 ＋ 輸送・貯留費用（OPEXのうち燃料費に限る）× LNG・石炭・石油貿易統計価格の変化率 ＋ 輸送・貯留費用（OPEXのうち電気代に限る）× 国内スポット市場価格（システムプライス）の変化率 ＋ 分離回収費用（その他費用）と輸送・貯留費用（OPEXのうち燃料費・電気代を除いた費用に限る）の合計 × 国内企業物価指数の変化率※1
B37: 海外貯留 | E37: 分離回収費用（その他費用） ×国内企業物価指数の変化率 | F37: 輸送費用（CAPEXに限る） ×（供給力提供開始年度前年の米国生産者物価指数 / 応札年度前年の米国生産者物価指数）※1 × 米ドル為替レート変化率※1 ＋ 輸送費用（OPEXのうち燃料費・電気代を除いた費用に限る） × 米国生産者物価指数の変化率※1 × 米ドル為替レート変化率※1 ＋ 貯留費用（CAPEXに限る） ×（供給力提供開始年度前年の貯留対象国の企業物価指数 / 応札年度前年の貯留対象国の企業物価指数）※1× 米ドル為替レート変化率※1 ＋ 貯留費用（OPEXのうち燃料費・電気代を除いた費用に限る） × 貯留対象国の企業物価指数の変化率※1 × 米ドル為替レートの変化率※1 ＋ 輸送・貯留費用（OPEXのうち燃料費に限る）× LNG・石炭・石油貿易統計価格の変化率 ＋ 輸送・貯留費用（OPEXのうち電気代に限る）× 米ドル為替レートの変化率※1
B38: ※1 応札時に当該指標による補正を不要と選択した場合は、1とする
B40: ■（参考） 価格情報
B41: 国内貯留を選択した場合
B42: 情報項目 | D42: 情報取得先 ※1
B43: CO2分離回収に要する燃料費と（外部調達する場合の）蒸気代の合計 | D43: 事業者が応札時に申告した情報を応札フォーマットより取得
B44: 外部からCO2分離回収のための電気を調達する場合のCO2分離回収に要する電気代
B45: 輸送・貯留費用（CAPEXに限る）
B46: 輸送・貯留費用（OPEXのうち燃料費に限る）
B47: 輸送・貯留費用（OPEXのうち電気代に限る）
...

Sheet 補正後の応札価格_海外貯留の場合
B2: 補正後の応札価格における可変費の算定方法に係る諸情報
B3: CCS付火力について、可変費の補正要否「要」かつ海外貯留を選択し、輸送費用（OPEXのうち燃料費・電気代を除いた費用に限る。）について米国の生産者物価指数及び
B4: 貯留費用（OPEXのうち燃料費・電気代を除いた費用に限る。）について貯留対象国の企業物価指数の両方又は片方による補正要否「要」を選択した場合のみ以下を入力してください。
B5: ※ グレーセルの項目は原則入力不要です。ただし、選択内容により入力が必要な場合があります。また、入力内容が赤字になった項目は入力しないでください。
B7: ■ 記載手順
B8: 補正後の応札価格における可変費の補正式や価格情報を参考に、補正後の応札価格の算定に係る情報を入力してください。
B10: ■補正後の応札価格の算定に係る情報
B11: 情報項目 | D11: 入力箇所 | E11: 備考
B12: ① 輸送費用（OPEXのうち燃料費・電気代を除いた費用に限る。）について 米国の生産者物価指数に係る補正要否 | D12: =IF(契約単価の補正方法_可変費の補正!$D$24="","",契約単価の補正方法_可変費の補正!$D$24) | E12: 契約単価の補正方法_可変費の補正シートで 選択した補正要否を参照しています
B13: ② 貯留費用（OPEXのうち燃料費・電気代を除いた費用に限る。）について 貯留対象国の企業物価指数による補正要否 | D13: =IF(契約単価の補正方法_可変費の補正!$D$26="","",契約単価の補正方法_可変費の補正!$D$26) | E13: 契約単価の補正方法_可変費の補正シートで 選択した補正要否を参照しています
B14: ③ 貯留対象国 | D14: =IF(契約単価の補正方法_可変費の補正!$D$15="","",契約単価の補正方法_可変費の補正!$D$15) | E14: 契約単価の補正方法_可変費の補正シートで 選択した貯留対象国を参照しています ※赤セル表示となった場合は、貯留対象国に対する補正後の応札価格の算出に必要な諸元が不足しているため本機関まで連絡してください
B15: ④ 分離回収費用（燃料費、電気代）[円/kW/年] | E15: 応札情報をもとに入力してください
B16: ⑤ 分離回収費用（CO2吸収液等のその他費用）[円/kW/年]
B17: ⑥ 分離回収費用（合計）[円/kW/年] | D17: =IF($D$15="","",SUM(D15+D16)) | E17: 自動計算です
B18: ⑦ 輸送費用（OPEXのうち燃料費・電気代を除いた費用に限る。）[円/kW/年] | E18: 応札情報をもとに入力してください ※入力内容に誤りがあると、補正後の応札価格を適切に算定できず、応札が認められない場合があります。応札フォーマットと整合するように十分確認し、正確に入力してください ※制度適用期間は、期待容量等算定諸元一覧及び応札フォーマットと整合する形で、20以上40以下の整数を記載してください。
B19: ⑧ 輸送費用（CAPEXに限る。）[円/kW/年]
B20: ⑨ 貯留費用（OPEXのうち燃料費・電気代を除いた費用に限る。）[円/kW/年]
B21: ⑩ 貯留費用（CAPEXに限る。）[円/kW/年]
B22: ⑪ 輸送・貯留費用（OPEXのうち燃料費・電気代に限る。）[円/kW/年]
B23: ⑫ 制度適用期間の年数 [年]
B24: ⑬ 資本費 [円/kW/年]
B25: ⑭ 運転維持費 [円/kW/年]
B26: ⑮ 資本コスト [円/kW/年]
B27: ⑯ 補正後の可変費 [円/kW/年] | D27: =IF($D$15="","",'貯留国の企業物価指数管理シート_PPI(非表示)'!H35) | E27: 自動計算です ※エラーとなる場合でも入力不要です
B28: ⑰ 補正後の応札価格 [円/kW/年] | D28: =IF($D$15="","",'貯留国の企業物価指数管理シート_PPI(非表示)'!$H$36) | E28: 自動計算です ※エラーとなる場合でも入力不要です
B29: ※ 補正後の応札価格の端数処理については、容量確保契約約款の第5条と同等の要件を適用します
B31: ■（参考）補正後の応札価格における可変費の補正式
B32: 補正ケース | C32: 制度適用期間にわたって貯留対象国の生産者物価指数及び企業物価指数での可変費の補正式
B33: 海外貯留 | C33: 分離回収費用（合計） ＋ 輸送費用（OPEXのうち燃料費・電気代を除いた費用に限る） × {(1＋x)＋(1＋x)2＋…＋(1＋x)s}/s ＋ 輸送費用（CAPEXに限る） ＋ 貯留費用（OPEXのうち燃料費・電気代を除いた費用に限る） × {(1＋y)＋(1＋y)2＋…＋(1＋y)s}/s ＋ 貯留費用（CAPEXに限る） ＋ 輸送・貯留費用（OPEXのうち燃料費・電気代に限る）
B34: x : 米国の生産者物価指数の上昇率の過去10年平均と日本の生産者物価指数の上昇 率の過去10年平均の差
B35: ※ 輸送費用（OPEXのうち燃料費・電気代を除いた費用に限る）について、米国の生産者物価指数による補正を選択していない場合は0とします。
B36: y : 貯留対象国の企業物価指数の上昇率の過去10年平均と日本の企業物価指数の上 昇率の過去10年平均の差
B37: ※ 貯留費用（OPEXのうち燃料費・電気代を除いた費用に限る）について、貯留対象国の企業物価指数による補正を選択していない場合は0とします。
B38: s : 制度適用期間の年数
B40: ■（参考） 価格情報
B41: 情報項目 | D41: 情報取得先 ※1※2
B42: 米国の生産者物価指数の上昇率の過去10年平均 | D42: INTERNATIONAL MONETARY FUND 及び 政府統計局 HPより取得
B43: 日本の生産者物価指数の上昇率の過去10年平均
B44: 貯留対象国の企業物価指数の上昇率の過去10年平均
B45: 日本の企業物価指数の上昇率の過去10年平均
...

Sheet プルダウンテーブル_安定電源(非表示)
A1: 安定電源既設火力の改修火力 | B1: 貯留対象国
A2: 既設石炭火力をCCS付きにするための改修 | B2: 0.日本
A3: 既設LNG火力をCCS付きにするための改修 | B3: 1.アイスランド
B4: 2.アイルランド
B5: 3.アゼルバイジャン共和国
B6: 4.アフガニスタン・イスラム共和国
B7: 5.アメリカ合衆国
B8: 6.アラブ首長国連邦
B9: 7.アルジェリア民主人民共和国
B10: 8.アルゼンチン共和国
B11: 9.アルバニア共和国
B12: 10.アルメニア共和国
B13: 11.アンゴラ共和国
B14: 12.アンティグア・バーブーダ
B15: 13.アンドラ公国
... B204: 202.南極

Sheet 貯留国の企業物価指数管理シート_PPI(非表示)
A1: 貯留対象国 | B1: 2015年 | C1: 2025年 | D1: 取得元 | F1: ■補正用のxの計算
A2: 0.日本 | B2: 99.708333 | C2: 126.775 | D2: 統計局 | G2: 開始年PPI | H2: 終了年PPI
A3: 2.アイルランド | B3: 106.21336 | C3: 94.989721 | D3: IMF | F3: アメリカ | G3: =_xlfn.XLOOKUP("5.アメリカ合衆国",$A:$A,$B:$B) -> 110.89511 | H3: =_xlfn.XLOOKUP("5.アメリカ合衆国",$A:$A,$C:$C) -> 150.53538
A4: 5.アメリカ合衆国 | B4: 110.89511 | C4: 150.53538 | D4: IMF | F4: 日本 | G4: =_xlfn.XLOOKUP("0.日本",$A:$A,$B:$B) -> 99.708333 | H4: =_xlfn.XLOOKUP("0.日本",$A:$A,$C:$C) -> 126.775
A5: 9.アルバニア共和国 | B5: 100.7185 | C5: 146.87262 | D5: IMF | F5: x：上昇率の10年平均の差 | H5: =IF(補正後の応札価格_海外貯留の場合!$D$12="不要",0,((H3/G3)^(1/10)-1)-((H4/G4)^(1/10)-1)) -> 0.0067259493
A6: 16.イタリア共和国 | B6: 102.96614 | C6: 141.61183 | D6: IMF | F6: s：制度適用期間の年数 | H6: =補正後の応札価格_海外貯留の場合!$D$23 -> 0
A7: 20.インドネシア共和国 | B7: 127.5725 | C7: 176.42835 | D7: 統計局 | F7: x：米国の生産者物価指数の上昇率の過去10年平均と日本の生産者物価指数の上昇率の過去10年平均の差
A8: 23.ウズベキスタン共和国 | B8: 197.45601 | C8: 1097.6088 | D8: IMF | F8: s：制度適用期間の年数
A9: 25.英国（グレートブリテン及び北アイルランド連合王国） | B9: 99.991667 | C9: 143.15 | D9: 統計局
A10: 28.エストニア共和国 | B10: 107.2314 | C10: 158.09917 | D10: IMF | F10: ■補正用のPPI抽出とyの計算
A11: 33.オーストラリア連邦 | B11: 105.35 | C11: 135.925 | D11: 統計局 | G11: 開始年PPI | H11: 終了年PPI
A12: 34.オーストリア共和国 | B12: 101.38322 | C12: 116.27364 | D12: IMF | F12: 貯留対象国 | G12: =_xlfn.XLOOKUP(補正後の応札価格_海外貯留の場合!$D$14,$A:$A,$B:$B) -> #N/A | H12: =_xlfn.XLOOKUP(補正後の応札価格_海外貯留の場合!$D$14,$A:$A,$C:$C) -> #N/A
A13: 36.オランダ王国 | B13: 102.91595 | C13: 138.77064 | D13: IMF | F13: 日本 | G13: =_xlfn.XLOOKUP("0.日本",$A:$A,$B:$B) -> 99.708333 | H13: =_xlfn.XLOOKUP("0.日本",$A:$A,$C:$C) -> 126.775
A14: 42.カナダ | B14: 93.725 | C14: 131.325 | D14: 統計局 | F14: y：上昇率の10年平均の差 | H14: =IF(補正後の応札価格_海外貯留の場合!$D$13="不要",0,((H12/G12)^(1/10)-1)-((H13/G13)^(1/10)-1)) -> #N/A
A15: 47.北マケドニア共和国 | B15: 105.40318 | C15: 151.07345 | D15: IMF | F15: s：制度適用期間の年数 | H15: =補正後の応札価格_海外貯留の場合!$D$23 -> 0
A16: 50.キプロス共和国 | B16: 101.32819 | C16: 132.47779 | D16: IMF | F16: y：貯留対象国の企業物価指数の上昇率の過去10年平均と日本の企業物価指数の上昇率の過去10年平均の差
A17: 52.ギリシャ共和国 | B17: 102.49977 | C17: 137.88971 | D17: IMF | F17: s：制度適用期間の年数
A18: 59.クロアチア共和国 | B18: 105.71826 | C18: 135.69972 | D18: IMF
A19: 62.コスタリカ共和国 | B19: 120.80862 | C19: 163.5616 | D19: IMF | F19: ■補正係数の計算
F20: {(1＋x)＋(1＋x)2＋…＋(1＋x)s}/s =((1+x)*((1+x)s-1)/x)/s
A21: 76.ジョージア | B21: 124.24121 | C21: 246.60831 | D21: IMF | F21: 補正係数の計算式をもとに等比数列の和を用いて計算
A22: 80.スイス連邦 | B22: 94.221671 | C22: 97.549058 | D22: IMF | F22: 補正係数 | G22: =IF(H5=0,1,((1+H5)*((1+H5)^H6-1)/H5)/H6) -> #DIV/0!
A23: 81.スウェーデン王国 | B23: 98.091072 | C23: 142.8614 | D23: IMF
A24: 83.スペイン王国 | B24: 106.80057 | C24: 151.03997 | D24: IMF | F24: {(1＋y)＋(1＋y)2＋…＋(1＋y)s}/s =((1+y)*((1+y)s-1)/y)/s
A25: 86.スロバキア共和国 | B25: 98.830094 | C25: 134.46724 | D25: IMF | F25: 補正係数の計算式をもとに等比数列の和を用いて計算
A26: 87.スロベニア共和国 | B26: 104.61714 | C26: 143.3213 | D26: IMF | F26: 補正係数 | G26: =IF(H14=0,1,((1+H14)*((1+H14)^H15-1)/H14)/H15) -> #N/A
A27: 91.セルビア共和国 | B27: 126.62561 | C27: 174.04951 | D27: IMF
A28: 97.タイ王国 | B28: 102.59935 | C28: 109.50846 | D28: IMF | F28: ■補正後の可変費の計算
A29: 101.チェコ共和国 | B29: 104.37658 | C29: 150.62212 | D29: IMF | F29: 補正後の可変費 | H29: =補正後の応札価格_海外貯留の場合!$D$17+補正後の応札価格_海外貯留の場合!$D$18*'貯留国の企業物価指数管理シート_PPI(非表示)'!$G$22+補正後の応札価格_海外貯留の場合!$D$19+補正後の応札価格_海外貯留の場合!$D$20*'貯留国の企業物価指数管理シート_PPI(非表示)'!$G$26+補正後の応札価格_海外貯留の場合!$D$21+補正後の応札価格_海外貯留の場合!$D$22 -> #VALUE!
A30: 104.中華人民共和国 | B30: 94.8 | C30: 104.69151 | D30: 統計局
A31: 108.デンマーク王国 | B31: 107.68671 | C31: 176.08809 | D31: IMF | F31: ■補正後の応札価格
A32: 109.ドイツ連邦共和国 | B32: 104.60058 | C32: 141.9153 | D32: IMF | F32: 資本費 | H32: =補正後の応札価格_海外貯留の場合!$D$24 -> 0
A33: 125.ノルウェー王国 | B33: 108.93973 | C33: 176.19405 | D33: IMF | F33: 運転維持費 | H33: =補正後の応札価格_海外貯留の場合!$D$25 -> 0
A34: 137.ハンガリー | B34: 107.79598 | C34: 206.6109 | D34: IMF | F34: 資本コスト | H34: =補正後の応札価格_海外貯留の場合!$D$26 -> 0
A35: 144.ブラジル連邦共和国 | B35: 82.648143 | C35: 168.38493 | D35: 統計局 | F35: 補正後の可変費 | H35: =$H$29 -> #VALUE!
A36: 146.ブルガリア共和国 | B36: 108.5412 | C36: 180.04454 | D36: IMF | F36: 補正後の応札価格 | H36: =ROUNDDOWN(SUM($H$32:$H$35),0) -> #VALUE! | I36: ←端数切捨て
A37: 153.ベラルーシ共和国 | B37: 103.13628 | C37: 251.91221 | D37: IMF
A38: 156.ベルギー王国 | B38: 103.11224 | C38: 156.83699 | D38: IMF
A39: 158.ボスニア・ヘルツェゴビナ | B39: 100.64399 | C39: 139.5732 | D39: IMF
A40: 161.ポルトガル共和国 | B40: 105.62001 | C40: 132.36021 | D40: IMF
...
