Workbook
Name エリア: '[1]プルダウンテーブル(非表示)'!$A$2:$A$10
Name エリア: 'プルダウンテーブル(非表示)'!$A$2:$A$10
Name リプレース等: 'プルダウンテーブル(非表示)'!$C$2:$C$5
Name 新設: 'プルダウンテーブル(非表示)'!$B$2:$B$5
Name 電源種: 'プルダウンテーブル(非表示)'!$B$1:$C$1

Sheet 各項目の解説
B2: 期待容量・応札容量の考え方
B19: No. | C19: 項目 | D19: 記載内容
B20: 1 | C20: =入力シート!C10 -> 電源等識別番号 | D20: 容量市場システムの「期待容量情報一覧画面」の「期待容量情報一覧」に表示される電源等識別番号を入力してください
B21: =B20+1 -> 2 | C21: =入力シート!C11 -> 容量を提供する電源等の区分 | D21: 入力不要（「安定電源」が自動設定されます） ※入力シート上部の対象電源種に記載されている電源に当てはまる電源のためのフォーマットです。当てはまらない場合は、広域機関HPより対象電源に当てはまる期待容量等算定諸元一覧をダウンロードしてください
B22: =B21+1 -> 3 | C22: =入力シート!C12 -> 新設・リプレース等 | D22: 新設又はリプレース等を選択してください
B23: =B22+1 -> 4 | C23: =入力シート!C13 -> 電源種別 | D23: 当該の電源が発電する方式を以下の例に従ってプルダウンから選択してください 新設：蓄電池（リチウムイオン蓄電池）、蓄電池（リチウムイオン蓄電池以外の蓄電池）、揚水、長期エネルギー貯蔵システム リプレース等：蓄電池（リチウムイオン蓄電池）、蓄電池（リチウムイオン蓄電池以外の蓄電池）、揚水、長期エネルギー貯蔵システム
B24: =B23+1 -> 5 | C24: =入力シート!C14 -> エリア名 | D24: 北海道、東北、東京、中部、北陸、関西、中国、四国、九州から電源が電力を提供する属地エリアを選択してください
B25: =B24+1 -> 6 | C25: =入力シート!C15 -> 本オークションに参加可能な設備容量 (送電端) | D25: 設備容量（送電端）から自家消費(ベース分)、自己託送、特定供給、特定送配電事業者に供出する容量、FIT/FIPに供出する容量を差し引いたものを入力してください
B26: =B25+1 -> 7 | C26: =入力シート!C16 -> 各月の発電可能電力 (期待容量算出用) | D26: 本オークションに参加可能な設備容量(送電端)から大気温及びダム水位低下等の影響による能力減分を差し引いた値を記載してください。
B27: =B26+1 -> 8 | C27: =入力シート!C18 -> 各月の連続発電可能時間 (期待容量算出用) | D27: 電源が上池満水位時もしくは満充電時において、各月の発電可能電力(期待容量算出用)で発電した場合に連続運転が可能な時間を記載してください。
B28: =B27+1 -> 9 | C28: 連続発電可能時間 (年平均値) | D28: 入力不要（自動計算されます）
B29: =B28+1 -> 10 | C29: =入力シート!C21 -> 各月の上池容量又は蓄電容量 (期待容量算出用) | D29: 入力不要（自動計算されます）
B30: =B29+1 -> 11 | C30: =入力シート!C23 -> 各月の調整係数 (期待容量算出用) | D30: 入力不要（自動計算・設定されます）
B31: =B30+1 -> 12 | C31: =入力シート!C25 -> 期待容量 | D31: 入力不要（自動計算されます）
B32: =B31+1 -> 13 | C32: =入力シート!C26 -> 各月の管理容量 | D32: 応札容量を計算する際に、各月の発電可能電力(期待容量算出用)を上限に入力してください ※この値が、各月のアセスメント対象容量となります。
B33: =B32+1 -> 14 | C33: =入力シート!C28 -> 各月の連続発電可能時間 (応札容量算出用) | D33: 応札容量を計算する際に、各月の発電可能時間を上限に入力してください
B34: =B33+1 -> 15 | C34: 連続発電可能時間 (年平均値) | D34: 入力不要（自動計算されます）
B35: =B34+1 -> 16 | C35: =入力シート!C31 -> 各月の上池容量又は蓄電容量 (応札容量算出用) | D35: 入力不要（自動計算されます）
B36: =B35+1 -> 17 | C36: =入力シート!C33 -> 各月の調整係数 (応札容量算出用) | D36: 入力不要（自動計算・設定されます）
B37: =B36+1 -> 18 | C37: =入力シート!C35 -> 応札容量 | D37: 入力不要（自動計算されます）
B38: =B37+1 -> 19 | C38: 制度適用期間 | D38: 制度を適用する期間を20以上40以下の整数値で入力してください。 ※揚水式（新設に限る）、長期エネルギー貯蔵システムの制度適用期間は30年が上限となるため、20以上30以下の整数を記載してください。

Sheet 記載例
C1: 入力箇所(期待容量登録時) | D1: 追加入力箇所(応札容量登録時) | G1: エラー時
C4: 期待容量等算定諸元一覧（対象応札年度：2026年度）
C6: 対象電源種 | D6: 【新設・リプレース等】：水力（揚水式のみ）、蓄電池、長期エネルギー貯蔵システム
K8: 会社名： | L8: 広域エネルギー株式会社
C9: 項目 | D9: 事業者入力 | P9: 単位
C10: 電源等識別番号 | D10: 12345
C11: 容量を提供する電源等の区分 | D11: 安定電源
C12: 新設・リプレース等 | D12: 新設
C13: 電源種別 | D13: 蓄電池（リチウムイオン蓄電池）
C14: エリア名 | D14: 東京
C15: 本オークションに参加可能な設備容量 (送電端) | D15: 50000 | P15: kW
C16: 各月の発電可能電力 (期待容量算出用) | D16: 4月 | E16: 5月 | F16: 6月 | G16: 7月 | H16: 8月 | I16: 9月 | J16: 10月 | K16: 11月 | L16: 12月 | M16: 1月 | N16: 2月 | O16: 3月
D17: 50000 | E17: 40000 | F17: 50000 | G17: 50000 | H17: 50000 | I17: 50000 | J17: 50000 | K17: 50000 | L17: 50000 | M17: 50000 | N17: 50000 | O17: 40000 | P17: kW
C18: 各月の連続発電可能時間 (期待容量算出用) | D18: 4月 | E18: 5月 | F18: 6月 | G18: 7月 | H18: 8月 | I18: 9月 | J18: 10月 | K18: 11月 | L18: 12月 | M18: 1月 | N18: 2月 | O18: 3月
D19: 8 | E19: 6 | F19: 7 | G19: 7 | H19: 7 | I19: 7 | J19: 7 | K19: 7 | L19: 7 | M19: 7 | N19: 8 | O19: 8 | P19: h
C20: 連続発電可能時間 (年平均値) | D20: 7 | P20: h
C21: 各月の上池容量又は蓄電容量 (期待容量算出用) | D21: 4月 | E21: 5月 | F21: 6月 | G21: 7月 | H21: 8月 | I21: 9月 | J21: 10月 | K21: 11月 | L21: 12月 | M21: 1月 | N21: 2月 | O21: 3月
D22: 400000 | E22: 240000 | F22: 350000 | G22: 350000 | H22: 350000 | I22: 350000 | J22: 350000 | K22: 350000 | L22: 350000 | M22: 350000 | N22: 400000 | O22: 320000 | P22: kWh
C23: 各月の調整係数 (期待容量算出用) | D23: 4月 | E23: 5月 | F23: 6月 | G23: 7月 | H23: 8月 | I23: 9月 | J23: 10月 | K23: 11月 | L23: 12月 | M23: 1月 | N23: 2月 | O23: 3月
D24: 1 | E24: 0.81017951 | F24: 0.92213169 | G24: 0.99916299 | H24: 0.98813738 | I24: 0.98345138 | J24: 0.95380401 | K24: 0.85011388 | L24: 0.88800829 | M24: 0.90995341 | N24: 0.94974016 | O24: 0.96028429 | P24: %
C25: 期待容量 | D25: 45254 | P25: kW
C26: 各月の管理容量 | D26: 4月 | E26: 5月 | F26: 6月 | G26: 7月 | H26: 8月 | I26: 9月 | J26: 10月 | K26: 11月 | L26: 12月 | M26: 1月 | N26: 2月 | O26: 3月
D27: 50000 | E27: 40000 | F27: 50000 | G27: 50000 | H27: 50000 | I27: 50000 | J27: 50000 | K27: 50000 | L27: 50000 | M27: 50000 | N27: 50000 | O27: 40000 | P27: kW
C28: 各月の連続発電可能時間 (応札容量算出用) | D28: 4月 | E28: 5月 | F28: 6月 | G28: 7月 | H28: 8月 | I28: 9月 | J28: 10月 | K28: 11月 | L28: 12月 | M28: 1月 | N28: 2月 | O28: 3月
D29: 8 | E29: 6 | F29: 7 | G29: 7 | H29: 7 | I29: 7 | J29: 7 | K29: 7 | L29: 7 | M29: 7 | N29: 8 | O29: 8 | P29: h
C30: 連続発電可能時間 (年平均値) | D30: 7 | P30: h
C31: 各月の上池容量又は蓄電容量 (応札容量算出用) | D31: 4月 | E31: 5月 | F31: 6月 | G31: 7月 | H31: 8月 | I31: 9月 | J31: 10月 | K31: 11月 | L31: 12月 | M31: 1月 | N31: 2月 | O31: 3月
D32: 400000 | E32: 240000 | F32: 350000 | G32: 350000 | H32: 350000 | I32: 350000 | J32: 350000 | K32: 350000 | L32: 350000 | M32: 350000 | N32: 400000 | O32: 320000 | P32: kWh
C33: 各月の調整係数 (応札容量算出用) | D33: 4月 | E33: 5月 | F33: 6月 | G33: 7月 | H33: 8月 | I33: 9月 | J33: 10月 | K33: 11月 | L33: 12月 | M33: 1月 | N33: 2月 | O33: 3月
D34: 1 | E34: 0.81017951 | F34: 0.92213169 | G34: 0.99916299 | H34: 0.98813738 | I34: 0.98345138 | J34: 0.95380401 | K34: 0.85011388 | L34: 0.88800829 | M34: 0.90995341 | N34: 0.94974016 | O34: 0.96028429 | P34: %
C35: 応札容量 | D35: 45254 | P35: kW
C36: 制度適用期間 | D36: 20 | P36: 年間
B37: （記載要領）
B38: 1．以下の項目については、期待容量の登録期間中(2026/12/9～12/15)に容量市場システムに登録してください。
C39: ・電源等識別番号については、電源等情報に登録した後に、容量市場システムで付番された番号を記載してください。
C40: ・容量を提供する電源等の区分については、安定電源で固定です。
C41: ・新設・リプレース等及び電源種別については、電源等情報に登録した内容を記載してください。
C42: ・エリア名については、電源等情報に登録した「エリア名」を記載してください。
C43: ・本オークションに参加可能な設備容量(送電端)については、電源等情報登録様式に記載した値としてください。
C44: ・各月の発電可能電力(期待容量算出用)については、本オークションに参加可能な設備容量(送電端)から大気温及びダム水位低下等の影響による能力減分を差し引いた値を記載ください。
C45: ・各月の連続発電可能時間(期待容量算出用)については、各月の上池容量又は蓄電容量(期待容量算出用)の範囲内で最大出力で発電した場合に
C46: 運転可能な継続時間(3以上の整数)を記載してください。
C47: ・連続発電可能時間(年平均値)については、自動計算されます。
C48: ・各月の上池容量又は蓄電容量(期待容量算出用)については、自動計算されます。
C49: ・各月の調整係数(期待容量算出用)については、自動計算されます。
C50: ・期待容量については、自動計算されます。 ※この値が応札容量の上限値になります。
B52: 2．以下の項目については、応札容量算定に用いた期待容量等算定諸元一覧登録受付期間中(2027/1/27～2/3)に容量市場システムに登録してください。
C53: ・各月の管理容量については、制度適用年数の間でのダム、蓄電池若しくは長期エネルギー貯蔵システムの運用のリスクを踏まえ、同月の各月の発電可能電力を上限に任意に記載してください。
C54: ※この値がアセスメント対象容量となり、当該容量にはあらゆる運用のリスクが織り込まれているものと見なし、アセスメントを実施いたします。
C55: ・各月の連続発電可能時間(応札容量算出用)については、ダム、蓄電池若しくは長期エネルギー貯蔵システムの運用のリスクを踏まえ、任意の継続時間(3以上の整数)を記載してください。
C56: 当該時間にはあらゆる運用のリスクが織り込まれているものと見做し、アセスメントを実施いたします。
C57: ※ただし、その際には各月の上池容量または蓄電容量(応札容量算出用)が、同月の各月の上池容量又は蓄電容量(期待容量算出用)以下となるようにする必要があります
C58: ※運用のリスクの例 下池の制約、劣化による容量低下、早期連系追加対策による充電制限（時間・量）、充放電時の電流量、充放電可能量（kWh）、
C59: 満充電維持時間、充放電サイクル数（1日1サイクル未満）による制約等。なお、満充電からの全量放電、全量放電からの満充電までの充放電量を１サイクルと見做します。
C60: また、原則として余力活用契約に基づく一般送配電事業者からの指令においても1日1サイクルを超える運用は行われませんが、
C61: 契約期間の総サイクル数を超えない範囲で、一時的に1日1サイクルを超える場合があります。
C62: ・連続発電可能時間(年平均値)については、自動計算されます。
C63: ・各月の上池容量又は蓄電容量(応札容量算出用)については、自動計算されます。
C64: ・各月の調整係数(応札容量算出用)については、自動計算されます。
... C67: ※揚水式（新設に限る）、長期エネルギー貯蔵システムの制度適用期間は30年が上限となるため、20以上30以下の整数を記載してください。

Sheet 入力シート
C1: 入力箇所(期待容量登録時) | D1: 追加入力箇所(応札容量登録時) | G1: エラー時
C4: 期待容量等算定諸元一覧（対象応札年度：2026年度）
C6: 対象電源種 | D6: 【新設・リプレース等】：水力（揚水式のみ）、蓄電池、長期エネルギー貯蔵システム
K8: 会社名：
C9: 項目 | D9: 事業者入力 | P9: 単位
C10: 電源等識別番号
C11: 容量を提供する電源等の区分 | D11: 安定電源
C12: 新設・リプレース等
C13: 電源種別
C14: エリア名
C15: 本オークションに参加可能な設備容量 (送電端) | P15: kW
C16: 各月の発電可能電力 (期待容量算出用) | D16: 4月 | E16: 5月 | F16: 6月 | G16: 7月 | H16: 8月 | I16: 9月 | J16: 10月 | K16: 11月 | L16: 12月 | M16: 1月 | N16: 2月 | O16: 3月
P17: kW
C18: 各月の連続発電可能時間 (期待容量算出用) | D18: 4月 | E18: 5月 | F18: 6月 | G18: 7月 | H18: 8月 | I18: 9月 | J18: 10月 | K18: 11月 | L18: 12月 | M18: 1月 | N18: 2月 | O18: 3月
P19: h
C20: 連続発電可能時間 (年平均値) | D20: =IF(入力!E22<6,"年平均値が6h以上となるようにしてください。",入力!E22) -> 年平均値が6h以上となるようにしてください。 | P20: h
C21: 各月の上池容量又は蓄電容量 (期待容量算出用) | D21: 4月 | E21: 5月 | F21: 6月 | G21: 7月 | H21: 8月 | I21: 9月 | J21: 10月 | K21: 11月 | L21: 12月 | M21: 1月 | N21: 2月 | O21: 3月
D22: =入力!E24 -> 0 | E22: =入力!F24 -> 0 | F22: =入力!G24 -> 0 | G22: =入力!H24 -> 0 | H22: =入力!I24 -> 0 | I22: =入力!J24 -> 0 | J22: =入力!K24 -> 0 | K22: =入力!L24 -> 0 | ... O22: =入力!P24 -> 0 | P22: kWh
C23: 各月の調整係数 (期待容量算出用) | D23: 4月 | E23: 5月 | F23: 6月 | G23: 7月 | H23: 8月 | I23: 9月 | J23: 10月 | K23: 11月 | L23: 12月 | M23: 1月 | N23: 2月 | O23: 3月
D24: =入力!E26 -> #N/A | E24: =入力!F26 -> #N/A | F24: =入力!G26 -> #N/A | G24: =入力!H26 -> #N/A | H24: =入力!I26 -> #N/A | I24: =入力!J26 -> #N/A | J24: =入力!K26 -> #N/A | K24: =入力!L26 -> #N/A | ... O24: =入力!P26 -> #N/A | P24: %
C25: 期待容量 | D25: =入力!E27 -> 0 | P25: kW
C26: 各月の管理容量 | D26: 4月 | E26: 5月 | F26: 6月 | G26: 7月 | H26: 8月 | I26: 9月 | J26: 10月 | K26: 11月 | L26: 12月 | M26: 1月 | N26: 2月 | O26: 3月
P27: kW
C28: 各月の連続発電可能時間 (応札容量算出用) | D28: 4月 | E28: 5月 | F28: 6月 | G28: 7月 | H28: 8月 | I28: 9月 | J28: 10月 | K28: 11月 | L28: 12月 | M28: 1月 | N28: 2月 | O28: 3月
P29: h
C30: 連続発電可能時間 (年平均値) | D30: =IF(入力!E32<6,"年平均値が6h以上となるようにしてください。",入力!E32) -> 年平均値が6h以上となるようにしてください。 | P30: h
C31: 各月の上池容量又は蓄電容量 (応札容量算出用) | D31: 4月 | E31: 5月 | F31: 6月 | G31: 7月 | H31: 8月 | I31: 9月 | J31: 10月 | K31: 11月 | L31: 12月 | M31: 1月 | N31: 2月 | O31: 3月
D32: =入力!E34 -> 0 | E32: =入力!F34 -> 0 | F32: =入力!G34 -> 0 | G32: =入力!H34 -> 0 | H32: =入力!I34 -> 0 | I32: =入力!J34 -> 0 | J32: =入力!K34 -> 0 | K32: =入力!L34 -> 0 | ... O32: =入力!P34 -> 0 | P32: kWh
C33: 各月の調整係数 (応札容量算出用) | D33: 4月 | E33: 5月 | F33: 6月 | G33: 7月 | H33: 8月 | I33: 9月 | J33: 10月 | K33: 11月 | L33: 12月 | M33: 1月 | N33: 2月 | O33: 3月
D34: =入力!E36 -> #N/A | E34: =入力!F36 -> #N/A | F34: =入力!G36 -> #N/A | G34: =入力!H36 -> #N/A | H34: =入力!I36 -> #N/A | I34: =入力!J36 -> #N/A | J34: =入力!K36 -> #N/A | K34: =入力!L36 -> #N/A | ... O34: =入力!P36 -> #N/A | P34: %
C35: 応札容量 | D35: =入力!E37 -> 0 | P35: kW
C36: 制度適用期間 | P36: 年間
B37: （記載要領）
B38: 1．以下の項目については、期待容量の登録期間中(2026/12/9～12/15)に容量市場システムに登録してください。
C39: ・電源等識別番号については、電源等情報に登録した後に、容量市場システムで付番された番号を記載してください。
C40: ・容量を提供する電源等の区分については、安定電源で固定です。
C41: ・新設・リプレース等及び電源種別については、電源等情報に登録した内容を記載してください。
C42: ・エリア名については、電源等情報に登録した「エリア名」を記載してください。
C43: ・本オークションに参加可能な設備容量(送電端)については、電源等情報登録様式に記載した値としてください。
C44: ・各月の発電可能電力(期待容量算出用)については、本オークションに参加可能な設備容量(送電端)から大気温及びダム水位低下等の影響による能力減分を差し引いた値を記載ください。
C45: ・各月の連続発電可能時間(期待容量算出用)については、各月の上池容量又は蓄電容量(期待容量算出用)の範囲内で最大出力で発電した場合に
C46: 運転可能な継続時間(3以上の整数)を記載してください。
C47: ・連続発電可能時間(年平均値)については、自動計算されます。
C48: ・各月の上池容量又は蓄電容量(期待容量算出用)については、自動計算されます。
C49: ・各月の調整係数(期待容量算出用)については、自動計算されます。
C50: ・期待容量については、自動計算されます。 ※この値が応札容量の上限値になります。
B52: 2．以下の項目については、応札容量算定に用いた期待容量等算定諸元一覧登録受付期間中(2027/1/27～2/3)に容量市場システムに登録してください。
C53: ・各月の管理容量については、制度適用年数の間でのダム、蓄電池若しくは長期エネルギー貯蔵システムの運用のリスクを踏まえ、同月の各月の発電可能電力を上限に任意に記載してください。
C54: ※この値がアセスメント対象容量となり、当該容量にはあらゆる運用のリスクが織り込まれているものと見なし、アセスメントを実施いたします。
C55: ・各月の連続発電可能時間(応札容量算出用)については、ダム、蓄電池若しくは長期エネルギー貯蔵システムの運用のリスクを踏まえ、任意の継続時間(3以上の整数)を記載してください。
C56: 当該時間にはあらゆる運用のリスクが織り込まれているものと見做し、アセスメントを実施いたします。
C57: ※ただし、その際には各月の上池容量または蓄電容量(応札容量算出用)が、同月の各月の上池容量又は蓄電容量(期待容量算出用)以下となるようにする必要があります
C58: ※運用のリスクの例 下池の制約、劣化による容量低下、早期連系追加対策による充電制限（時間・量）、充放電時の電流量、充放電可能量（kWh）、
C59: 満充電維持時間、充放電サイクル数（1日1サイクル未満）による制約等。なお、満充電からの全量放電、全量放電からの満充電までの充放電量を１サイクルと見做します。
C60: また、原則として余力活用契約に基づく一般送配電事業者からの指令においても1日1サイクルを超える運用は行われませんが、
C61: 契約期間の総サイクル数を超えない範囲で、一時的に1日1サイクルを超える場合があります。
C62: ・連続発電可能時間(年平均値)については、自動計算されます。
C63: ・各月の上池容量又は蓄電容量(応札容量算出用)については、自動計算されます。
C64: ・各月の調整係数(応札容量算出用)については、自動計算されます。
... C67: ※揚水式（新設に限る）、長期エネルギー貯蔵システムの制度適用期間は30年が上限となるため、20以上30以下の整数を記載してください。

Sheet webにUP時は非表示にする⇒
B2: 年度更新時に数値をアップデートする必要があるのは、以下の2シート
C3: 計算用(期待容量)
C4: 調整係数一覧
B6: また、以下のシートの注釈を修正する必要があるので注意(現状、変更すべき箇所は朱太字としている)
C7: 記載例
C8: 入力

Sheet 入力
A1: 入力箇所(期待容量登録時) | F1: 追加入力箇所(応札容量登録時) | I1: エラー時
A2: 様式2
A4: 期待容量等算定諸元一覧
A8: ※期待容量の登録申込の際、チェックしてください
B9: 電源等情報に実需給年度の時点で想定される情報が登録されていることを確認しました。
M11: <会社名>
A12: 項目 | E12: 事業者入力 | Q12: 単位
A13: 電源等識別番号 | E13: =入力シート!D10 -> 0
A14: 容量を提供する 電源等の区分
A15: 発電方式の区分
A16: エリア名 | E16: =入力シート!D14 -> 0
A17: 本オークションに参加可能な設備容量(送電端) | E17: =入力シート!D15 -> 0 | Q17: kW
A18: 各月の送電または 放電可能電力 | E18: 4月 | F18: 5月 | G18: 6月 | H18: 7月 | I18: 8月 | J18: 9月 | K18: 10月 | L18: 11月 | M18: 12月 | N18: 1月 | O18: 2月 | P18: 3月
E19: =ROUND(入力シート!D17,0) -> 0 | F19: =ROUND(入力シート!E17,0) -> 0 | G19: =ROUND(入力シート!F17,0) -> 0 | H19: =ROUND(入力シート!G17,0) -> 0 | I19: =ROUND(入力シート!H17,0) -> 0 | J19: =ROUND(入力シート!I17,0) -> 0 | K19: =ROUND(入力シート!J17,0) -> 0 | L19: =ROUND(入力シート!K17,0) -> 0 | ... P19: =ROUND(入力シート!O17,0) -> 0 | Q19: kW
A20: 各月の運転または 放電継続時間 (期待容量算出用) | E20: 4月 | F20: 5月 | G20: 6月 | H20: 7月 | I20: 8月 | J20: 9月 | K20: 10月 | L20: 11月 | M20: 12月 | N20: 1月 | O20: 2月 | P20: 3月
E21: =ROUND(入力シート!D19,0) -> 0 | F21: =ROUND(入力シート!E19,0) -> 0 | G21: =ROUND(入力シート!F19,0) -> 0 | H21: =ROUND(入力シート!G19,0) -> 0 | I21: =ROUND(入力シート!H19,0) -> 0 | J21: =ROUND(入力シート!I19,0) -> 0 | K21: =ROUND(入力シート!J19,0) -> 0 | L21: =ROUND(入力シート!K19,0) -> 0 | ... P21: =ROUND(入力シート!O19,0) -> 0 | Q21: h
A22: 連続発電可能時間 (年平均値) | E22: =ROUNDDOWN(AVERAGE(E21:P21),0) -> 0
A23: 各月の上池容量または 各月の蓄電池容量 (期待容量算出用) | E23: 4月 | F23: 5月 | G23: 6月 | H23: 7月 | I23: 8月 | J23: 9月 | K23: 10月 | L23: 11月 | M23: 12月 | N23: 1月 | O23: 2月 | P23: 3月
E24: =E21*E19 -> 0 | F24: =F21*F19 -> 0 | G24: =G21*G19 -> 0 | H24: =H21*H19 -> 0 | I24: =I21*I19 -> 0 | J24: =J21*J19 -> 0 | K24: =K21*K19 -> 0 | L24: =L21*L19 -> 0 | ... P24: =P21*P19 -> 0 | Q24: kWh
A25: 各月の調整係数 (期待容量算出用) | E25: 4月 | F25: 5月 | G25: 6月 | H25: 7月 | I25: 8月 | J25: 9月 | K25: 10月 | L25: 11月 | M25: 12月 | N25: 1月 | O25: 2月 | P25: 3月
E26: =IF(E$21>=MAX(調整係数一覧!$A$202:$A$221),VLOOKUP(MAX(調整係数一覧!$A$202:$A$221),調整係数一覧!$A$202:$M$221,COLUMN(E$26)-3,0),VLOOKUP(E$21,調整係数一覧!$A$202:$M$221,COLUMN(E$26)-3,0)) -> #N/A | F26: =IF(F$21>=MAX(調整係数一覧!$A$202:$A$221),VLOOKUP(MAX(調整係数一覧!$A$202:$A$221),調整係数一覧!$A$202:$M$221,COLUMN(F$26)-3,0),VLOOKUP(F$21,調整係数一覧!$A$202:$M$221,COLUMN(F$26)-3,0)) -> #N/A | G26: =IF(G$21>=MAX(調整係数一覧!$A$202:$A$221),VLOOKUP(MAX(調整係数一覧!$A$202:$A$221),調整係数一覧!$A$202:$M$221,COLUMN(G$26)-3,0),VLOOKUP(G$21,調整係数一覧!$A$202:$M$221,COLUMN(G$26)-3,0)) -> #N/A | H26: =IF(H$21>=MAX(調整係数一覧!$A$202:$A$221),VLOOKUP(MAX(調整係数一覧!$A$202:$A$221),調整係数一覧!$A$202:$M$221,COLUMN(H$26)-3,0),VLOOKUP(H$21,調整係数一覧!$A$202:$M$221,COLUMN(H$26)-3,0)) -> #N/A | I26: =IF(I$21>=MAX(調整係数一覧!$A$202:$A$221),VLOOKUP(MAX(調整係数一覧!$A$202:$A$221),調整係数一覧!$A$202:$M$221,COLUMN(I$26)-3,0),VLOOKUP(I$21,調整係数一覧!$A$202:$M$221,COLUMN(I$26)-3,0)) -> #N/A | J26: =IF(J$21>=MAX(調整係数一覧!$A$202:$A$221),VLOOKUP(MAX(調整係数一覧!$A$202:$A$221),調整係数一覧!$A$202:$M$221,COLUMN(J$26)-3,0),VLOOKUP(J$21,調整係数一覧!$A$202:$M$221,COLUMN(J$26)-3,0)) -> #N/A | K26: =IF(K$21>=MAX(調整係数一覧!$A$202:$A$221),VLOOKUP(MAX(調整係数一覧!$A$202:$A$221),調整係数一覧!$A$202:$M$221,COLUMN(K$26)-3,0),VLOOKUP(K$21,調整係数一覧!$A$202:$M$221,COLUMN(K$26)-3,0)) -> #N/A | L26: =IF(L$21>=MAX(調整係数一覧!$A$202:$A$221),VLOOKUP(MAX(調整係数一覧!$A$202:$A$221),調整係数一覧!$A$202:$M$221,COLUMN(L$26)-3,0),VLOOKUP(L$21,調整係数一覧!$A$202:$M$221,COLUMN(L$26)-3,0)) -> #N/A | ... P26: =IF(P$21>=MAX(調整係数一覧!$A$202:$A$221),VLOOKUP(MAX(調整係数一覧!$A$202:$A$221),調整係数一覧!$A$202:$M$221,COLUMN(P$26)-3,0),VLOOKUP(P$21,調整係数一覧!$A$202:$M$221,COLUMN(P$26)-3,0)) -> #N/A | Q26: %
A27: 期待容量 | E27: =ROUND('計算用(期待容量)'!B93,0) -> 0 | Q27: kW
A28: 各月の管理容量 | E28: 4月 | F28: 5月 | G28: 6月 | H28: 7月 | I28: 8月 | J28: 9月 | K28: 10月 | L28: 11月 | M28: 12月 | N28: 1月 | O28: 2月 | P28: 3月
E29: =ROUND(入力シート!D27,0) -> 0 | F29: =ROUND(入力シート!E27,0) -> 0 | G29: =ROUND(入力シート!F27,0) -> 0 | H29: =ROUND(入力シート!G27,0) -> 0 | I29: =ROUND(入力シート!H27,0) -> 0 | J29: =ROUND(入力シート!I27,0) -> 0 | K29: =ROUND(入力シート!J27,0) -> 0 | L29: =ROUND(入力シート!K27,0) -> 0 | ... P29: =ROUND(入力シート!O27,0) -> 0 | Q29: kW
A30: 各月の運転または 放電継続時間 (応札容量算出用) | E30: 4月 | F30: 5月 | G30: 6月 | H30: 7月 | I30: 8月 | J30: 9月 | K30: 10月 | L30: 11月 | M30: 12月 | N30: 1月 | O30: 2月 | P30: 3月
E31: =ROUND(入力シート!D29,0) -> 0 | F31: =ROUND(入力シート!E29,0) -> 0 | G31: =ROUND(入力シート!F29,0) -> 0 | H31: =ROUND(入力シート!G29,0) -> 0 | I31: =ROUND(入力シート!H29,0) -> 0 | J31: =ROUND(入力シート!I29,0) -> 0 | K31: =ROUND(入力シート!J29,0) -> 0 | L31: =ROUND(入力シート!K29,0) -> 0 | ... P31: =ROUND(入力シート!O29,0) -> 0 | Q31: h
A32: 連続発電可能時間 (年平均値) | E32: =ROUNDDOWN(AVERAGE(E31:P31),0) -> 0
A33: 各月の上池容量または 各月の蓄電池容量 (応札容量算出用) | E33: 4月 | F33: 5月 | G33: 6月 | H33: 7月 | I33: 8月 | J33: 9月 | K33: 10月 | L33: 11月 | M33: 12月 | N33: 1月 | O33: 2月 | P33: 3月
E34: =E31*E29 -> 0 | F34: =F31*F29 -> 0 | G34: =G31*G29 -> 0 | H34: =H31*H29 -> 0 | I34: =I31*I29 -> 0 | J34: =J31*J29 -> 0 | K34: =K31*K29 -> 0 | L34: =L31*L29 -> 0 | ... P34: =P31*P29 -> 0 | Q34: kWh
A35: 各月の調整係数 (応札容量算出用) | E35: 4月 | F35: 5月 | G35: 6月 | H35: 7月 | I35: 8月 | J35: 9月 | K35: 10月 | L35: 11月 | M35: 12月 | N35: 1月 | O35: 2月 | P35: 3月
E36: =IF(E$31>=MAX(調整係数一覧!$A$202:$A$221),VLOOKUP(MAX(調整係数一覧!$A$202:$A$221),調整係数一覧!$A$202:$M$221,COLUMN(E$36)-3,0),VLOOKUP(E$31,調整係数一覧!$A$202:$M$221,COLUMN(E$36)-3,0)) -> #N/A | F36: =IF(F$31>=MAX(調整係数一覧!$A$202:$A$221),VLOOKUP(MAX(調整係数一覧!$A$202:$A$221),調整係数一覧!$A$202:$M$221,COLUMN(F$36)-3,0),VLOOKUP(F$31,調整係数一覧!$A$202:$M$221,COLUMN(F$36)-3,0)) -> #N/A | G36: =IF(G$31>=MAX(調整係数一覧!$A$202:$A$221),VLOOKUP(MAX(調整係数一覧!$A$202:$A$221),調整係数一覧!$A$202:$M$221,COLUMN(G$36)-3,0),VLOOKUP(G$31,調整係数一覧!$A$202:$M$221,COLUMN(G$36)-3,0)) -> #N/A | H36: =IF(H$31>=MAX(調整係数一覧!$A$202:$A$221),VLOOKUP(MAX(調整係数一覧!$A$202:$A$221),調整係数一覧!$A$202:$M$221,COLUMN(H$36)-3,0),VLOOKUP(H$31,調整係数一覧!$A$202:$M$221,COLUMN(H$36)-3,0)) -> #N/A | I36: =IF(I$31>=MAX(調整係数一覧!$A$202:$A$221),VLOOKUP(MAX(調整係数一覧!$A$202:$A$221),調整係数一覧!$A$202:$M$221,COLUMN(I$36)-3,0),VLOOKUP(I$31,調整係数一覧!$A$202:$M$221,COLUMN(I$36)-3,0)) -> #N/A | J36: =IF(J$31>=MAX(調整係数一覧!$A$202:$A$221),VLOOKUP(MAX(調整係数一覧!$A$202:$A$221),調整係数一覧!$A$202:$M$221,COLUMN(J$36)-3,0),VLOOKUP(J$31,調整係数一覧!$A$202:$M$221,COLUMN(J$36)-3,0)) -> #N/A | K36: =IF(K$31>=MAX(調整係数一覧!$A$202:$A$221),VLOOKUP(MAX(調整係数一覧!$A$202:$A$221),調整係数一覧!$A$202:$M$221,COLUMN(K$36)-3,0),VLOOKUP(K$31,調整係数一覧!$A$202:$M$221,COLUMN(K$36)-3,0)) -> #N/A | L36: =IF(L$31>=MAX(調整係数一覧!$A$202:$A$221),VLOOKUP(MAX(調整係数一覧!$A$202:$A$221),調整係数一覧!$A$202:$M$221,COLUMN(L$36)-3,0),VLOOKUP(L$31,調整係数一覧!$A$202:$M$221,COLUMN(L$36)-3,0)) -> #N/A | ... P36: =IF(P$31>=MAX(調整係数一覧!$A$202:$A$221),VLOOKUP(MAX(調整係数一覧!$A$202:$A$221),調整係数一覧!$A$202:$M$221,COLUMN(P$36)-3,0),VLOOKUP(P$31,調整係数一覧!$A$202:$M$221,COLUMN(P$36)-3,0)) -> #N/A | Q36: %
A37: 応札容量 | E37: =ROUND('計算用(応札容量)'!B93,0) -> 0 | Q37: kW

Sheet 計算用(期待容量)
J1: (MW) | M1: ：手入力(他ファイルよりマクロ貼り付け可能) | S1: ＜考え方＞
B2: 北海道 | C2: 東北 | D2: 東京 | E2: 中部 | F2: 北陸 | G2: 関西 | H2: 中国 | I2: 四国 | J2: 九州 | S2: 別ファイルの年間調整係数算定と同様の計算式であり、事業者による各月供給力を元に、
A3: ①必要供給力(安定電源) | S3: 年間調整係数を算定する仕組み。
A4: 4月 | B4: 4867.6376 | C4: 12233.749 | D4: 42414.712 | E4: 18194.105 | F4: 3655.4152 | G4: 17258.041 | H4: 7083.9253 | I4: 4690.2908 | J4: 12364.191
A5: 5月 | B5: 4399.3931 | C5: 11301.26 | D5: 41406.672 | E5: 18370.041 | F5: 3413.4356 | G5: 18448.708 | H5: 7106.457 | I5: 4852.0297 | J5: 13404.03 | S5: ＜入力手順＞
A6: 6月 | B6: 4563.0191 | C6: 12456.888 | D6: 49202.524 | E6: 20191.526 | F6: 4000.3689 | G6: 20967.443 | H6: 8087.23 | I6: 5660.6947 | J6: 15181.948 | S6: 揚水の供給力算定ファイルの年間調整係数シートの下記の値を入力する。
A7: 7月 | B7: 5407.9753 | C7: 14989.065 | D7: 62856.953 | E7: 23937.98 | F7: 4870.79 | G7: 26768.279 | H7: 10500.942 | I7: 6998.68 | J7: 19566.848
A8: 8月 | B8: 5446.804 | C8: 15367.67 | D8: 62855.924 | E8: 23937.98 | F8: 4870.79 | G8: 26773.29 | H8: 10498.358 | I8: 6998.68 | J8: 19566.848
A9: 9月 | B9: 4991.1939 | C9: 13683.935 | D9: 53787.096 | E9: 22892.701 | F9: 4278.6757 | G9: 23440.048 | H9: 9107.9082 | I9: 6234.1184 | J9: 17047.102
A10: 10月 | B10: 4765.3012 | C10: 11935.996 | D10: 44493.789 | E10: 19135.9 | F10: 3588.4825 | G10: 19036.509 | H10: 7560.9827 | I10: 5234.3055 | J10: 14294.799
A11: 11月 | B11: 5460.0793 | C11: 13428.963 | D11: 45287.875 | E11: 19177.289 | F11: 3881.9542 | G11: 18460.741 | H11: 7979.3412 | I11: 4999.0543 | J11: 14219.201
A12: 12月 | B12: 6091.3091 | C12: 15061.552 | D12: 50026.041 | E12: 22023.358 | F12: 4638.7743 | G12: 23659.721 | H12: 9981.4054 | I12: 6645.8031 | J12: 17034.711
A13: 1月 | B13: 6331.24 | C13: 15786.482 | D13: 54673.847 | E13: 23834.486 | F13: 5035.21 | G13: 24811.258 | H13: 10167.328 | I13: 6645.8031 | J13: 18024.355
A14: 2月 | B14: 6293.3369 | C14: 15752.981 | D14: 54675.222 | E14: 23834.486 | F14: 5035.21 | G14: 24817.28 | H14: 10167.542 | I14: 6645.8031 | J14: 18024.355
A15: 3月 | B15: 5700.3866 | C15: 14446.487 | D15: 48307.876 | E15: 20967.722 | F15: 4309.2712 | G15: 21128.942 | H15: 8506.2115 | I15: 5572.478 | J15: 14830.997
A17: ②容量市場調達量 | B17: 161167.57
A19: ③再エネ各月kW
A20: 4月 | B20: 879.90859 | C20: 4063.6504 | D20: 1866.3684 | E20: 1632.5613 | F20: 1306.8716 | G20: 1657.0418 | H20: 896.55563 | I20: 511.4597 | J20: 864.00265
A21: 5月 | B21: 1042.9629 | C21: 4569.2538 | D21: 3908.7588 | E21: 2803.6772 | F21: 1448.7083 | G21: 2610.7433 | H21: 1658.7421 | I21: 983.17758 | J21: 1304.436
A22: 6月 | B22: 1018.2352 | C22: 4603.0002 | D22: 5253.057 | E22: 3829.1855 | F22: 1210.8289 | G22: 3581.3079 | H22: 2141.1187 | I22: 1101.925 | J22: 2255.2417
A23: 7月 | B23: 897.83655 | C23: 4269.8572 | D23: 6224.9095 | E23: 4465.005 | F23: 1255.9632 | G23: 4151.8836 | H23: 2911.0939 | I23: 1298.1169 | J23: 2169.2342
A24: 8月 | B24: 852.01444 | C24: 4546.6067 | D24: 6276.6157 | E24: 3966.6173 | F24: 1105.9153 | G24: 3852.8269 | H24: 2799.5949 | I24: 1324.4027 | J24: 1901.486
A25: 9月 | B25: 711.03193 | C25: 3780.4984 | D25: 4682.0379 | E25: 3329.6137 | F25: 1007.6078 | G25: 3095.8119 | H25: 2042.5242 | I25: 1073.5106 | J25: 2068.6836
A26: 10月 | B26: 702.72166 | C26: 2977.648 | D26: 3061.4042 | E26: 2306.2639 | F26: 881.98043 | G26: 2042.2702 | H26: 1437.042 | I26: 771.56823 | J26: 1300.6914
A27: 11月 | B27: 827.43308 | C27: 2968.4079 | D27: 1125.8388 | E27: 885.04374 | F27: 869.48173 | G27: 828.31287 | H27: 440.51373 | I27: 408.11852 | J27: 956.21956
A28: 12月 | B28: 925.55473 | C28: 4657.9044 | D28: 1161.3454 | E28: 1092.4766 | F28: 1098.3057 | G28: 1115.0612 | H28: 664.44617 | I28: 469.60963 | J28: 1287.6762
A29: 1月 | B29: 661.86111 | C29: 4523.4551 | D29: 1619.096 | E29: 1452.288 | F29: 972.57422 | G29: 1330.9079 | H29: 1007.8147 | I29: 572.11723 | J29: 1212.8558
A30: 2月 | B30: 800.59365 | C30: 4241.5497 | D30: 1227.2499 | E30: 1176.0158 | F30: 933.31738 | G30: 1393.5273 | H30: 850.74645 | I30: 543.73331 | J30: 1268.1666
A31: 3月 | B31: 640.78115 | C31: 2793.3624 | D31: 1441.6649 | E31: 1249.7244 | F31: 1019.28 | G31: 1398.1092 | H31: 803.65374 | I31: 564.17485 | J31: 1053.0394
A33: ④必要供給力(再エネ除き)
A34: 4月 | B34: =B4-B20 -> 3987.729 | C34: =C4-C20 -> 8170.0984 | D34: =D4-D20 -> 40548.343 | E34: =E4-E20 -> 16561.544 | F34: =F4-F20 -> 2348.5436 | G34: =G4-G20 -> 15600.999 | H34: =H4-H20 -> 6187.3697 | I34: =I4-I20 -> 4178.8311 | J34: =J4-J20 -> 11500.189
A35: 5月 | B35: =B5-B21 -> 3356.4302 | C35: =C5-C21 -> 6732.006 | D35: =D5-D21 -> 37497.914 | E35: =E5-E21 -> 15566.364 | F35: =F5-F21 -> 1964.7273 | G35: =G5-G21 -> 15837.964 | H35: =H5-H21 -> 5447.7149 | I35: =I5-I21 -> 3868.8522 | J35: =J5-J21 -> 12099.594
A36: 6月 | B36: =B6-B22 -> 3544.784 | C36: =C6-C22 -> 7853.8878 | D36: =D6-D22 -> 43949.467 | E36: =E6-E22 -> 16362.34 | F36: =F6-F22 -> 2789.54 | G36: =G6-G22 -> 17386.136 | H36: =H6-H22 -> 5946.1113 | I36: =I6-I22 -> 4558.7697 | J36: =J6-J22 -> 12926.706
A37: 7月 | B37: =B7-B23 -> 4510.1387 | C37: =C7-C23 -> 10719.208 | D37: =D7-D23 -> 56632.044 | E37: =E7-E23 -> 19472.975 | F37: =F7-F23 -> 3614.8268 | G37: =G7-G23 -> 22616.395 | H37: =H7-H23 -> 7589.8482 | I37: =I7-I23 -> 5700.5631 | J37: =J7-J23 -> 17397.614
A38: 8月 | B38: =B8-B24 -> 4594.7896 | C38: =C8-C24 -> 10821.063 | D38: =D8-D24 -> 56579.308 | E38: =E8-E24 -> 19971.363 | F38: =F8-F24 -> 3764.8747 | G38: =G8-G24 -> 22920.463 | H38: =H8-H24 -> 7698.7631 | I38: =I8-I24 -> 5674.2773 | J38: =J8-J24 -> 17665.362
A39: 9月 | B39: =B9-B25 -> 4280.162 | C39: =C9-C25 -> 9903.4362 | D39: =D9-D25 -> 49105.059 | E39: =E9-E25 -> 19563.087 | F39: =F9-F25 -> 3271.0679 | G39: =G9-G25 -> 20344.236 | H39: =H9-H25 -> 7065.384 | I39: =I9-I25 -> 5160.6078 | J39: =J9-J25 -> 14978.418
A40: 10月 | B40: =B10-B26 -> 4062.5795 | C40: =C10-C26 -> 8958.3479 | D40: =D10-D26 -> 41432.385 | E40: =E10-E26 -> 16829.636 | F40: =F10-F26 -> 2706.5021 | G40: =G10-G26 -> 16994.239 | H40: =H10-H26 -> 6123.9407 | I40: =I10-I26 -> 4462.7373 | J40: =J10-J26 -> 12994.107
A41: 11月 | B41: =B11-B27 -> 4632.6462 | C41: =C11-C27 -> 10460.556 | D41: =D11-D27 -> 44162.037 | E41: =E11-E27 -> 18292.246 | F41: =F11-F27 -> 3012.4725 | G41: =G11-G27 -> 17632.428 | H41: =H11-H27 -> 7538.8274 | I41: =I11-I27 -> 4590.9358 | J41: =J11-J27 -> 13262.981
A42: 12月 | B42: =B12-B28 -> 5165.7544 | C42: =C12-C28 -> 10403.648 | D42: =D12-D28 -> 48864.696 | E42: =E12-E28 -> 20930.882 | F42: =F12-F28 -> 3540.4686 | G42: =G12-G28 -> 22544.66 | H42: =H12-H28 -> 9316.9592 | I42: =I12-I28 -> 6176.1935 | J42: =J12-J28 -> 15747.034
A43: 1月 | B43: =B13-B29 -> 5669.3789 | C43: =C13-C29 -> 11263.027 | D43: =D13-D29 -> 53054.751 | E43: =E13-E29 -> 22382.198 | F43: =F13-F29 -> 4062.6358 | G43: =G13-G29 -> 23480.35 | H43: =H13-H29 -> 9159.5131 | I43: =I13-I29 -> 6073.6859 | J43: =J13-J29 -> 16811.499
A44: 2月 | B44: =B14-B30 -> 5492.7432 | C44: =C14-C30 -> 11511.431 | D44: =D14-D30 -> 53447.972 | E44: =E14-E30 -> 22658.47 | F44: =F14-F30 -> 4101.8926 | G44: =G14-G30 -> 23423.752 | H44: =H14-H30 -> 9316.7957 | I44: =I14-I30 -> 6102.0698 | J44: =J14-J30 -> 16756.188
A45: 3月 | B45: =B15-B31 -> 5059.6054 | C45: =C15-C31 -> 11653.125 | D45: =D15-D31 -> 46866.211 | E45: =E15-E31 -> 19717.998 | F45: =F15-F31 -> 3289.9912 | G45: =G15-G31 -> 19730.833 | H45: =H15-H31 -> 7702.5577 | I45: =I15-I31 -> 5008.3031 | J45: =J15-J31 -> 13777.958
A47: ⑤揚水供給力 | K47: 合計
A48: 4月 | B48: =IF(入力!$E$16=B$2,入力!$E$26*入力!$E$19/1000,0) -> 0 | C48: =IF(入力!$E$16=C$2,入力!$E$26*入力!$E$19/1000,0) -> 0 | D48: =IF(入力!$E$16=D$2,入力!$E$26*入力!$E$19/1000,0) -> 0 | E48: =IF(入力!$E$16=E$2,入力!$E$26*入力!$E$19/1000,0) -> 0 | F48: =IF(入力!$E$16=F$2,入力!$E$26*入力!$E$19/1000,0) -> 0 | G48: =IF(入力!$E$16=G$2,入力!$E$26*入力!$E$19/1000,0) -> 0 | H48: =IF(入力!$E$16=H$2,入力!$E$26*入力!$E$19/1000,0) -> 0 | I48: =IF(入力!$E$16=I$2,入力!$E$26*入力!$E$19/1000,0) -> 0 | J48: =IF(入力!$E$16=J$2,入力!$E$26*入力!$E$19/1000,0) -> 0 | K48: =SUM(B48:J48) -> 0
A49: 5月 | B49: =IF(入力!$E$16=B$2,入力!$F$26*入力!$F$19/1000,0) -> 0 | C49: =IF(入力!$E$16=C$2,入力!$F$26*入力!$F$19/1000,0) -> 0 | D49: =IF(入力!$E$16=D$2,入力!$F$26*入力!$F$19/1000,0) -> 0 | E49: =IF(入力!$E$16=E$2,入力!$F$26*入力!$F$19/1000,0) -> 0 | F49: =IF(入力!$E$16=F$2,入力!$F$26*入力!$F$19/1000,0) -> 0 | G49: =IF(入力!$E$16=G$2,入力!$F$26*入力!$F$19/1000,0) -> 0 | H49: =IF(入力!$E$16=H$2,入力!$F$26*入力!$F$19/1000,0) -> 0 | I49: =IF(入力!$E$16=I$2,入力!$F$26*入力!$F$19/1000,0) -> 0 | J49: =IF(入力!$E$16=J$2,入力!$F$26*入力!$F$19/1000,0) -> 0 | K49: =SUM(B49:J49) -> 0
A50: 6月 | B50: =IF(入力!$E$16=B$2,入力!$G$26*入力!$G$19/1000,0) -> 0 | C50: =IF(入力!$E$16=C$2,入力!$G$26*入力!$G$19/1000,0) -> 0 | D50: =IF(入力!$E$16=D$2,入力!$G$26*入力!$G$19/1000,0) -> 0 | E50: =IF(入力!$E$16=E$2,入力!$G$26*入力!$G$19/1000,0) -> 0 | F50: =IF(入力!$E$16=F$2,入力!$G$26*入力!$G$19/1000,0) -> 0 | G50: =IF(入力!$E$16=G$2,入力!$G$26*入力!$G$19/1000,0) -> 0 | H50: =IF(入力!$E$16=H$2,入力!$G$26*入力!$G$19/1000,0) -> 0 | I50: =IF(入力!$E$16=I$2,入力!$G$26*入力!$G$19/1000,0) -> 0 | J50: =IF(入力!$E$16=J$2,入力!$G$26*入力!$G$19/1000,0) -> 0 | K50: =SUM(B50:J50) -> 0
A51: 7月 | B51: =IF(入力!$E$16=B$2,入力!$H$26*入力!$H$19/1000,0) -> 0 | C51: =IF(入力!$E$16=C$2,入力!$H$26*入力!$H$19/1000,0) -> 0 | D51: =IF(入力!$E$16=D$2,入力!$H$26*入力!$H$19/1000,0) -> 0 | E51: =IF(入力!$E$16=E$2,入力!$H$26*入力!$H$19/1000,0) -> 0 | F51: =IF(入力!$E$16=F$2,入力!$H$26*入力!$H$19/1000,0) -> 0 | G51: =IF(入力!$E$16=G$2,入力!$H$26*入力!$H$19/1000,0) -> 0 | H51: =IF(入力!$E$16=H$2,入力!$H$26*入力!$H$19/1000,0) -> 0 | I51: =IF(入力!$E$16=I$2,入力!$H$26*入力!$H$19/1000,0) -> 0 | J51: =IF(入力!$E$16=J$2,入力!$H$26*入力!$H$19/1000,0) -> 0 | K51: =SUM(B51:J51) -> 0
A52: 8月 | B52: =IF(入力!$E$16=B$2,入力!$I$26*入力!$I$19/1000,0) -> 0 | C52: =IF(入力!$E$16=C$2,入力!$I$26*入力!$I$19/1000,0) -> 0 | D52: =IF(入力!$E$16=D$2,入力!$I$26*入力!$I$19/1000,0) -> 0 | E52: =IF(入力!$E$16=E$2,入力!$I$26*入力!$I$19/1000,0) -> 0 | F52: =IF(入力!$E$16=F$2,入力!$I$26*入力!$I$19/1000,0) -> 0 | G52: =IF(入力!$E$16=G$2,入力!$I$26*入力!$I$19/1000,0) -> 0 | H52: =IF(入力!$E$16=H$2,入力!$I$26*入力!$I$19/1000,0) -> 0 | I52: =IF(入力!$E$16=I$2,入力!$I$26*入力!$I$19/1000,0) -> 0 | J52: =IF(入力!$E$16=J$2,入力!$I$26*入力!$I$19/1000,0) -> 0 | K52: =SUM(B52:J52) -> 0
A53: 9月 | B53: =IF(入力!$E$16=B$2,入力!$J$26*入力!$J$19/1000,0) -> 0 | C53: =IF(入力!$E$16=C$2,入力!$J$26*入力!$J$19/1000,0) -> 0 | D53: =IF(入力!$E$16=D$2,入力!$J$26*入力!$J$19/1000,0) -> 0 | E53: =IF(入力!$E$16=E$2,入力!$J$26*入力!$J$19/1000,0) -> 0 | F53: =IF(入力!$E$16=F$2,入力!$J$26*入力!$J$19/1000,0) -> 0 | G53: =IF(入力!$E$16=G$2,入力!$J$26*入力!$J$19/1000,0) -> 0 | H53: =IF(入力!$E$16=H$2,入力!$J$26*入力!$J$19/1000,0) -> 0 | I53: =IF(入力!$E$16=I$2,入力!$J$26*入力!$J$19/1000,0) -> 0 | J53: =IF(入力!$E$16=J$2,入力!$J$26*入力!$J$19/1000,0) -> 0 | K53: =SUM(B53:J53) -> 0
A54: 10月 | B54: =IF(入力!$E$16=B$2,入力!$K$26*入力!$K$19/1000,0) -> 0 | C54: =IF(入力!$E$16=C$2,入力!$K$26*入力!$K$19/1000,0) -> 0 | D54: =IF(入力!$E$16=D$2,入力!$K$26*入力!$K$19/1000,0) -> 0 | E54: =IF(入力!$E$16=E$2,入力!$K$26*入力!$K$19/1000,0) -> 0 | F54: =IF(入力!$E$16=F$2,入力!$K$26*入力!$K$19/1000,0) -> 0 | G54: =IF(入力!$E$16=G$2,入力!$K$26*入力!$K$19/1000,0) -> 0 | H54: =IF(入力!$E$16=H$2,入力!$K$26*入力!$K$19/1000,0) -> 0 | I54: =IF(入力!$E$16=I$2,入力!$K$26*入力!$K$19/1000,0) -> 0 | J54: =IF(入力!$E$16=J$2,入力!$K$26*入力!$K$19/1000,0) -> 0 | K54: =SUM(B54:J54) -> 0
A55: 11月 | B55: =IF(入力!$E$16=B$2,入力!$L$26*入力!$L$19/1000,0) -> 0 | C55: =IF(入力!$E$16=C$2,入力!$L$26*入力!$L$19/1000,0) -> 0 | D55: =IF(入力!$E$16=D$2,入力!$L$26*入力!$L$19/1000,0) -> 0 | E55: =IF(入力!$E$16=E$2,入力!$L$26*入力!$L$19/1000,0) -> 0 | F55: =IF(入力!$E$16=F$2,入力!$L$26*入力!$L$19/1000,0) -> 0 | G55: =IF(入力!$E$16=G$2,入力!$L$26*入力!$L$19/1000,0) -> 0 | H55: =IF(入力!$E$16=H$2,入力!$L$26*入力!$L$19/1000,0) -> 0 | I55: =IF(入力!$E$16=I$2,入力!$L$26*入力!$L$19/1000,0) -> 0 | J55: =IF(入力!$E$16=J$2,入力!$L$26*入力!$L$19/1000,0) -> 0 | K55: =SUM(B55:J55) -> 0
A56: 12月 | B56: =IF(入力!$E$16=B$2,入力!$M$26*入力!$M$19/1000,0) -> 0 | C56: =IF(入力!$E$16=C$2,入力!$M$26*入力!$M$19/1000,0) -> 0 | D56: =IF(入力!$E$16=D$2,入力!$M$26*入力!$M$19/1000,0) -> 0 | E56: =IF(入力!$E$16=E$2,入力!$M$26*入力!$M$19/1000,0) -> 0 | F56: =IF(入力!$E$16=F$2,入力!$M$26*入力!$M$19/1000,0) -> 0 | G56: =IF(入力!$E$16=G$2,入力!$M$26*入力!$M$19/1000,0) -> 0 | H56: =IF(入力!$E$16=H$2,入力!$M$26*入力!$M$19/1000,0) -> 0 | I56: =IF(入力!$E$16=I$2,入力!$M$26*入力!$M$19/1000,0) -> 0 | J56: =IF(入力!$E$16=J$2,入力!$M$26*入力!$M$19/1000,0) -> 0 | K56: =SUM(B56:J56) -> 0
A57: 1月 | B57: =IF(入力!$E$16=B$2,入力!$N$26*入力!$N$19/1000,0) -> 0 | C57: =IF(入力!$E$16=C$2,入力!$N$26*入力!$N$19/1000,0) -> 0 | D57: =IF(入力!$E$16=D$2,入力!$N$26*入力!$N$19/1000,0) -> 0 | E57: =IF(入力!$E$16=E$2,入力!$N$26*入力!$N$19/1000,0) -> 0 | F57: =IF(入力!$E$16=F$2,入力!$N$26*入力!$N$19/1000,0) -> 0 | G57: =IF(入力!$E$16=G$2,入力!$N$26*入力!$N$19/1000,0) -> 0 | H57: =IF(入力!$E$16=H$2,入力!$N$26*入力!$N$19/1000,0) -> 0 | I57: =IF(入力!$E$16=I$2,入力!$N$26*入力!$N$19/1000,0) -> 0 | J57: =IF(入力!$E$16=J$2,入力!$N$26*入力!$N$19/1000,0) -> 0 | K57: =SUM(B57:J57) -> 0
A58: 2月 | B58: =IF(入力!$E$16=B$2,入力!$O$26*入力!$O$19/1000,0) -> 0 | C58: =IF(入力!$E$16=C$2,入力!$O$26*入力!$O$19/1000,0) -> 0 | D58: =IF(入力!$E$16=D$2,入力!$O$26*入力!$O$19/1000,0) -> 0 | E58: =IF(入力!$E$16=E$2,入力!$O$26*入力!$O$19/1000,0) -> 0 | F58: =IF(入力!$E$16=F$2,入力!$O$26*入力!$O$19/1000,0) -> 0 | G58: =IF(入力!$E$16=G$2,入力!$O$26*入力!$O$19/1000,0) -> 0 | H58: =IF(入力!$E$16=H$2,入力!$O$26*入力!$O$19/1000,0) -> 0 | I58: =IF(入力!$E$16=I$2,入力!$O$26*入力!$O$19/1000,0) -> 0 | J58: =IF(入力!$E$16=J$2,入力!$O$26*入力!$O$19/1000,0) -> 0 | K58: =SUM(B58:J58) -> 0
A59: 3月 | B59: =IF(入力!$E$16=B$2,入力!$P$26*入力!$P$19/1000,0) -> 0 | C59: =IF(入力!$E$16=C$2,入力!$P$26*入力!$P$19/1000,0) -> 0 | D59: =IF(入力!$E$16=D$2,入力!$P$26*入力!$P$19/1000,0) -> 0 | E59: =IF(入力!$E$16=E$2,入力!$P$26*入力!$P$19/1000,0) -> 0 | F59: =IF(入力!$E$16=F$2,入力!$P$26*入力!$P$19/1000,0) -> 0 | G59: =IF(入力!$E$16=G$2,入力!$P$26*入力!$P$19/1000,0) -> 0 | H59: =IF(入力!$E$16=H$2,入力!$P$26*入力!$P$19/1000,0) -> 0 | I59: =IF(入力!$E$16=I$2,入力!$P$26*入力!$P$19/1000,0) -> 0 | J59: =IF(入力!$E$16=J$2,入力!$P$26*入力!$P$19/1000,0) -> 0 | K59: =SUM(B59:J59) -> 0
A61: ⑥最小期待量からの増分除き | M61: 厳気象対応
A62: 4月 | B62: =B34-(B48-MIN(B$48:B$59))+N62 -> 4266.2671 | C62: =C34-(C48-MIN(C$48:C$59))+O62 -> 8879.8805 | D62: =D34-(D48-MIN(D$48:D$59))+P62 -> 43597.596 | E62: =E34-(E48-MIN(E$48:E$59))+Q62 -> 17745.551 | F62: =F34-(F48-MIN(F$48:F$59))+R62 -> 2602.6558 | G62: =G34-(G48-MIN(G$48:G$59))+S62 -> 17001.884 | H62: =H34-(H48-MIN(H$48:H$59))+T62 -> 6757.2759 | I62: =I34-(I48-MIN(I$48:I$59))+U62 -> 4406.4949 | J62: =J34-(J48-MIN(J$48:J$59))+V62 -> 12324.259 | M62: 4月 | N62: 278.53809 | O62: 709.78207 | P62: 3049.2531 | Q62: 1184.0073 | R62: 254.11221 | S62: 1400.8843 | T62: 569.90626 | U62: 227.66379 | V62: 824.07033
A63: 5月 | B63: =B35-(B49-MIN(B$48:B$59))+N63 -> 3634.9683 | C63: =C35-(C49-MIN(C$48:C$59))+O63 -> 7441.7881 | D63: =D35-(D49-MIN(D$48:D$59))+P63 -> 40547.167 | E63: =E35-(E49-MIN(E$48:E$59))+Q63 -> 16750.371 | F63: =F35-(F49-MIN(F$48:F$59))+R63 -> 2218.8395 | G63: =G35-(G49-MIN(G$48:G$59))+S63 -> 17238.849 | H63: =H35-(H49-MIN(H$48:H$59))+T63 -> 6017.6211 | I63: =I35-(I49-MIN(I$48:I$59))+U63 -> 4096.516 | J63: =J35-(J49-MIN(J$48:J$59))+V63 -> 12923.665 | M63: 5月 | N63: 278.53809 | O63: 709.78207 | P63: 3049.2531 | Q63: 1184.0073 | R63: 254.11221 | S63: 1400.8843 | T63: 569.90626 | U63: 227.66379 | V63: 824.07033
A64: 6月 | B64: =B36-(B50-MIN(B$48:B$59))+N64 -> 3823.3221 | C64: =C36-(C50-MIN(C$48:C$59))+O64 -> 8563.6699 | D64: =D36-(D50-MIN(D$48:D$59))+P64 -> 46998.72 | E64: =E36-(E50-MIN(E$48:E$59))+Q64 -> 17546.348 | F64: =F36-(F50-MIN(F$48:F$59))+R64 -> 3043.6522 | G64: =G36-(G50-MIN(G$48:G$59))+S64 -> 18787.02 | H64: =H36-(H50-MIN(H$48:H$59))+T64 -> 6516.0176 | I64: =I36-(I50-MIN(I$48:I$59))+U64 -> 4786.4335 | J64: =J36-(J50-MIN(J$48:J$59))+V64 -> 13750.776 | M64: 6月 | N64: 278.53809 | O64: 709.78207 | P64: 3049.2531 | Q64: 1184.0073 | R64: 254.11221 | S64: 1400.8843 | T64: 569.90626 | U64: 227.66379 | V64: 824.07033
A65: 7月 | B65: =B37-(B51-MIN(B$48:B$59))+N65 -> 4510.1387 | C65: =C37-(C51-MIN(C$48:C$59))+O65 -> 10719.208 | D65: =D37-(D51-MIN(D$48:D$59))+P65 -> 56632.044 | E65: =E37-(E51-MIN(E$48:E$59))+Q65 -> 19472.975 | F65: =F37-(F51-MIN(F$48:F$59))+R65 -> 3614.8268 | G65: =G37-(G51-MIN(G$48:G$59))+S65 -> 22616.395 | H65: =H37-(H51-MIN(H$48:H$59))+T65 -> 7589.8482 | I65: =I37-(I51-MIN(I$48:I$59))+U65 -> 5700.5631 | J65: =J37-(J51-MIN(J$48:J$59))+V65 -> 17397.614 | M65: 7月 | N65: 0 | O65: 0 | P65: 0 | Q65: 0 | R65: 0 | S65: 0 | T65: 0 | U65: 0 | V65: 0
A66: 8月 | B66: =B38-(B52-MIN(B$48:B$59))+N66 -> 4594.7896 | C66: =C38-(C52-MIN(C$48:C$59))+O66 -> 10821.063 | D66: =D38-(D52-MIN(D$48:D$59))+P66 -> 56579.308 | E66: =E38-(E52-MIN(E$48:E$59))+Q66 -> 19971.363 | F66: =F38-(F52-MIN(F$48:F$59))+R66 -> 3764.8747 | G66: =G38-(G52-MIN(G$48:G$59))+S66 -> 22920.463 | H66: =H38-(H52-MIN(H$48:H$59))+T66 -> 7698.7631 | I66: =I38-(I52-MIN(I$48:I$59))+U66 -> 5674.2773 | J66: =J38-(J52-MIN(J$48:J$59))+V66 -> 17665.362 | M66: 8月 | N66: 0 | O66: 0 | P66: 0 | Q66: 0 | R66: 0 | S66: 0 | T66: 0 | U66: 0 | V66: 0
A67: 9月 | B67: =B39-(B53-MIN(B$48:B$59))+N67 -> 4280.162 | C67: =C39-(C53-MIN(C$48:C$59))+O67 -> 9903.4362 | D67: =D39-(D53-MIN(D$48:D$59))+P67 -> 49105.059 | E67: =E39-(E53-MIN(E$48:E$59))+Q67 -> 19563.087 | F67: =F39-(F53-MIN(F$48:F$59))+R67 -> 3271.0679 | G67: =G39-(G53-MIN(G$48:G$59))+S67 -> 20344.236 | H67: =H39-(H53-MIN(H$48:H$59))+T67 -> 7065.384 | I67: =I39-(I53-MIN(I$48:I$59))+U67 -> 5160.6078 | J67: =J39-(J53-MIN(J$48:J$59))+V67 -> 14978.418 | M67: 9月 | N67: 0 | O67: 0 | P67: 0 | Q67: 0 | R67: 0 | S67: 0 | T67: 0 | U67: 0 | V67: 0
A68: 10月 | B68: =B40-(B54-MIN(B$48:B$59))+N68 -> 4341.1176 | C68: =C40-(C54-MIN(C$48:C$59))+O68 -> 9668.13 | D68: =D40-(D54-MIN(D$48:D$59))+P68 -> 44481.638 | E68: =E40-(E54-MIN(E$48:E$59))+Q68 -> 18013.643 | F68: =F40-(F54-MIN(F$48:F$59))+R68 -> 2960.6143 | G68: =G40-(G54-MIN(G$48:G$59))+S68 -> 18395.123 | H68: =H40-(H54-MIN(H$48:H$59))+T68 -> 6693.847 | I68: =I40-(I54-MIN(I$48:I$59))+U68 -> 4690.4011 | J68: =J40-(J54-MIN(J$48:J$59))+V68 -> 13818.178 | M68: 10月 | N68: 278.53809 | O68: 709.78207 | P68: 3049.2531 | Q68: 1184.0073 | R68: 254.11221 | S68: 1400.8843 | T68: 569.90626 | U68: 227.66379 | V68: 824.07033
A69: 11月 | B69: =B41-(B55-MIN(B$48:B$59))+N69 -> 4911.1843 | C69: =C41-(C55-MIN(C$48:C$59))+O69 -> 11170.338 | D69: =D41-(D55-MIN(D$48:D$59))+P69 -> 47211.29 | E69: =E41-(E55-MIN(E$48:E$59))+Q69 -> 19476.253 | F69: =F41-(F55-MIN(F$48:F$59))+R69 -> 3266.5847 | G69: =G41-(G55-MIN(G$48:G$59))+S69 -> 19033.312 | H69: =H41-(H55-MIN(H$48:H$59))+T69 -> 8108.7337 | I69: =I41-(I55-MIN(I$48:I$59))+U69 -> 4818.5996 | J69: =J41-(J55-MIN(J$48:J$59))+V69 -> 14087.051 | M69: 11月 | N69: 278.53809 | O69: 709.78207 | P69: 3049.2531 | Q69: 1184.0073 | R69: 254.11221 | S69: 1400.8843 | T69: 569.90626 | U69: 227.66379 | V69: 824.07033
A70: 12月 | B70: =B42-(B56-MIN(B$48:B$59))+N70 -> 5165.7544 | C70: =C42-(C56-MIN(C$48:C$59))+O70 -> 10403.648 | D70: =D42-(D56-MIN(D$48:D$59))+P70 -> 48864.696 | E70: =E42-(E56-MIN(E$48:E$59))+Q70 -> 20930.882 | F70: =F42-(F56-MIN(F$48:F$59))+R70 -> 3540.4686 | G70: =G42-(G56-MIN(G$48:G$59))+S70 -> 22544.66 | H70: =H42-(H56-MIN(H$48:H$59))+T70 -> 9316.9592 | I70: =I42-(I56-MIN(I$48:I$59))+U70 -> 6176.1935 | J70: =J42-(J56-MIN(J$48:J$59))+V70 -> 15747.034 | M70: 12月 | N70: 0 | O70: 0 | P70: 0 | Q70: 0 | R70: 0 | S70: 0 | T70: 0 | U70: 0 | V70: 0
A71: 1月 | B71: =B43-(B57-MIN(B$48:B$59))+N71 -> 5669.3789 | C71: =C43-(C57-MIN(C$48:C$59))+O71 -> 11263.027 | D71: =D43-(D57-MIN(D$48:D$59))+P71 -> 53054.751 | E71: =E43-(E57-MIN(E$48:E$59))+Q71 -> 22382.198 | F71: =F43-(F57-MIN(F$48:F$59))+R71 -> 4062.6358 | G71: =G43-(G57-MIN(G$48:G$59))+S71 -> 23480.35 | H71: =H43-(H57-MIN(H$48:H$59))+T71 -> 9159.5131 | I71: =I43-(I57-MIN(I$48:I$59))+U71 -> 6073.6859 | J71: =J43-(J57-MIN(J$48:J$59))+V71 -> 16811.499 | M71: 1月 | N71: 0 | O71: 0 | P71: 0 | Q71: 0 | R71: 0 | S71: 0 | T71: 0 | U71: 0 | V71: 0
A72: 2月 | B72: =B44-(B58-MIN(B$48:B$59))+N72 -> 5492.7432 | C72: =C44-(C58-MIN(C$48:C$59))+O72 -> 11511.431 | D72: =D44-(D58-MIN(D$48:D$59))+P72 -> 53447.972 | E72: =E44-(E58-MIN(E$48:E$59))+Q72 -> 22658.47 | F72: =F44-(F58-MIN(F$48:F$59))+R72 -> 4101.8926 | G72: =G44-(G58-MIN(G$48:G$59))+S72 -> 23423.752 | H72: =H44-(H58-MIN(H$48:H$59))+T72 -> 9316.7957 | I72: =I44-(I58-MIN(I$48:I$59))+U72 -> 6102.0698 | J72: =J44-(J58-MIN(J$48:J$59))+V72 -> 16756.188 | M72: 2月 | N72: 0 | O72: 0 | P72: 0 | Q72: 0 | R72: 0 | S72: 0 | T72: 0 | U72: 0 | V72: 0
A73: 3月 | B73: =B45-(B59-MIN(B$48:B$59))+N73 -> 5338.1435 | C73: =C45-(C59-MIN(C$48:C$59))+O73 -> 12362.907 | D73: =D45-(D59-MIN(D$48:D$59))+P73 -> 49915.465 | E73: =E45-(E59-MIN(E$48:E$59))+Q73 -> 20902.005 | F73: =F45-(F59-MIN(F$48:F$59))+R73 -> 3544.1034 | G73: =G45-(G59-MIN(G$48:G$59))+S73 -> 21131.717 | H73: =H45-(H59-MIN(H$48:H$59))+T73 -> 8272.464 | I73: =I45-(I59-MIN(I$48:I$59))+U73 -> 5235.9669 | J73: =J45-(J59-MIN(J$48:J$59))+V73 -> 14602.028 | M73: 3月 | N73: 278.53809 | O73: 709.78207 | P73: 3049.2531 | Q73: 1184.0073 | R73: 254.11221 | S73: 1400.8843 | T73: 569.90626 | U73: 227.66379 | V73: 824.07033
A75: ⑦停止可能量 | B75: エリア合計
A76: 4月 | B76: =$B$17-SUM($B62:$J62) -> 43585.703
A77: 5月 | B77: =$B$17-SUM($B63:$J63) -> 50297.783
A78: 6月 | B78: =$B$17-SUM($B64:$J64) -> 37351.608
A79: 7月 | B79: =$B$17-SUM($B65:$J65) -> 12913.955
A80: 8月 | B80: =$B$17-SUM($B66:$J66) -> 11477.303
A81: 9月 | B81: =$B$17-SUM($B67:$J67) -> 27496.109
A82: 10月 | B82: =$B$17-SUM($B68:$J68) -> 38104.876
A83: 11月 | B83: =$B$17-SUM($B69:$J69) -> 29084.221
A84: 12月 | B84: =$B$17-SUM($B70:$J70) -> 18477.272
A85: 1月 | B85: =$B$17-SUM($B71:$J71) -> 9210.5292
A86: 2月 | B86: =$B$17-SUM($B72:$J72) -> 8356.2516
A87: 3月 | B87: =$B$17-SUM($B73:$J73) -> 19862.767
A88: 月換算 | B88: =SUM($B$76:$B$87)/$B$17 -> 1.9
A90: ⑧カウント可能な設備量 | B90: =(SUM($B$76:$B$87)-$D$91*$B$17)/12 -> -1.9402554e-11 | D90: (参考)基準値
A91: （最小期待量からの増分） | D91: 1.9
A93: ⑨期待容量(単位：kW) | B93: =(MIN($K$48:$K$59)+$B$90)*1000 -> -1.9402554e-08
A95: (参考)調整係数(%)

Sheet 計算用(応札容量)
J1: (MW) | M1: ：手入力(他ファイルよりマクロ貼り付け可能)
B2: 北海道 | C2: 東北 | D2: 東京 | E2: 中部 | F2: 北陸 | G2: 関西 | H2: 中国 | I2: 四国 | J2: 九州
A3: ①必要供給力(安定電源)
A4: 4月 | B4: ='計算用(期待容量)'!B4 -> 4867.6376 | C4: ='計算用(期待容量)'!C4 -> 12233.749 | D4: ='計算用(期待容量)'!D4 -> 42414.712 | E4: ='計算用(期待容量)'!E4 -> 18194.105 | F4: ='計算用(期待容量)'!F4 -> 3655.4152 | G4: ='計算用(期待容量)'!G4 -> 17258.041 | H4: ='計算用(期待容量)'!H4 -> 7083.9253 | I4: ='計算用(期待容量)'!I4 -> 4690.2908 | J4: ='計算用(期待容量)'!J4 -> 12364.191
A5: 5月 | B5: ='計算用(期待容量)'!B5 -> 4399.3931 | C5: ='計算用(期待容量)'!C5 -> 11301.26 | D5: ='計算用(期待容量)'!D5 -> 41406.672 | E5: ='計算用(期待容量)'!E5 -> 18370.041 | F5: ='計算用(期待容量)'!F5 -> 3413.4356 | G5: ='計算用(期待容量)'!G5 -> 18448.708 | H5: ='計算用(期待容量)'!H5 -> 7106.457 | I5: ='計算用(期待容量)'!I5 -> 4852.0297 | J5: ='計算用(期待容量)'!J5 -> 13404.03
A6: 6月 | B6: ='計算用(期待容量)'!B6 -> 4563.0191 | C6: ='計算用(期待容量)'!C6 -> 12456.888 | D6: ='計算用(期待容量)'!D6 -> 49202.524 | E6: ='計算用(期待容量)'!E6 -> 20191.526 | F6: ='計算用(期待容量)'!F6 -> 4000.3689 | G6: ='計算用(期待容量)'!G6 -> 20967.443 | H6: ='計算用(期待容量)'!H6 -> 8087.23 | I6: ='計算用(期待容量)'!I6 -> 5660.6947 | J6: ='計算用(期待容量)'!J6 -> 15181.948
A7: 7月 | B7: ='計算用(期待容量)'!B7 -> 5407.9753 | C7: ='計算用(期待容量)'!C7 -> 14989.065 | D7: ='計算用(期待容量)'!D7 -> 62856.953 | E7: ='計算用(期待容量)'!E7 -> 23937.98 | F7: ='計算用(期待容量)'!F7 -> 4870.79 | G7: ='計算用(期待容量)'!G7 -> 26768.279 | H7: ='計算用(期待容量)'!H7 -> 10500.942 | I7: ='計算用(期待容量)'!I7 -> 6998.68 | J7: ='計算用(期待容量)'!J7 -> 19566.848
A8: 8月 | B8: ='計算用(期待容量)'!B8 -> 5446.804 | C8: ='計算用(期待容量)'!C8 -> 15367.67 | D8: ='計算用(期待容量)'!D8 -> 62855.924 | E8: ='計算用(期待容量)'!E8 -> 23937.98 | F8: ='計算用(期待容量)'!F8 -> 4870.79 | G8: ='計算用(期待容量)'!G8 -> 26773.29 | H8: ='計算用(期待容量)'!H8 -> 10498.358 | I8: ='計算用(期待容量)'!I8 -> 6998.68 | J8: ='計算用(期待容量)'!J8 -> 19566.848
A9: 9月 | B9: ='計算用(期待容量)'!B9 -> 4991.1939 | C9: ='計算用(期待容量)'!C9 -> 13683.935 | D9: ='計算用(期待容量)'!D9 -> 53787.096 | E9: ='計算用(期待容量)'!E9 -> 22892.701 | F9: ='計算用(期待容量)'!F9 -> 4278.6757 | G9: ='計算用(期待容量)'!G9 -> 23440.048 | H9: ='計算用(期待容量)'!H9 -> 9107.9082 | I9: ='計算用(期待容量)'!I9 -> 6234.1184 | J9: ='計算用(期待容量)'!J9 -> 17047.102
A10: 10月 | B10: ='計算用(期待容量)'!B10 -> 4765.3012 | C10: ='計算用(期待容量)'!C10 -> 11935.996 | D10: ='計算用(期待容量)'!D10 -> 44493.789 | E10: ='計算用(期待容量)'!E10 -> 19135.9 | F10: ='計算用(期待容量)'!F10 -> 3588.4825 | G10: ='計算用(期待容量)'!G10 -> 19036.509 | H10: ='計算用(期待容量)'!H10 -> 7560.9827 | I10: ='計算用(期待容量)'!I10 -> 5234.3055 | J10: ='計算用(期待容量)'!J10 -> 14294.799
A11: 11月 | B11: ='計算用(期待容量)'!B11 -> 5460.0793 | C11: ='計算用(期待容量)'!C11 -> 13428.963 | D11: ='計算用(期待容量)'!D11 -> 45287.875 | E11: ='計算用(期待容量)'!E11 -> 19177.289 | F11: ='計算用(期待容量)'!F11 -> 3881.9542 | G11: ='計算用(期待容量)'!G11 -> 18460.741 | H11: ='計算用(期待容量)'!H11 -> 7979.3412 | I11: ='計算用(期待容量)'!I11 -> 4999.0543 | J11: ='計算用(期待容量)'!J11 -> 14219.201
A12: 12月 | B12: ='計算用(期待容量)'!B12 -> 6091.3091 | C12: ='計算用(期待容量)'!C12 -> 15061.552 | D12: ='計算用(期待容量)'!D12 -> 50026.041 | E12: ='計算用(期待容量)'!E12 -> 22023.358 | F12: ='計算用(期待容量)'!F12 -> 4638.7743 | G12: ='計算用(期待容量)'!G12 -> 23659.721 | H12: ='計算用(期待容量)'!H12 -> 9981.4054 | I12: ='計算用(期待容量)'!I12 -> 6645.8031 | J12: ='計算用(期待容量)'!J12 -> 17034.711
A13: 1月 | B13: ='計算用(期待容量)'!B13 -> 6331.24 | C13: ='計算用(期待容量)'!C13 -> 15786.482 | D13: ='計算用(期待容量)'!D13 -> 54673.847 | E13: ='計算用(期待容量)'!E13 -> 23834.486 | F13: ='計算用(期待容量)'!F13 -> 5035.21 | G13: ='計算用(期待容量)'!G13 -> 24811.258 | H13: ='計算用(期待容量)'!H13 -> 10167.328 | I13: ='計算用(期待容量)'!I13 -> 6645.8031 | J13: ='計算用(期待容量)'!J13 -> 18024.355
A14: 2月 | B14: ='計算用(期待容量)'!B14 -> 6293.3369 | C14: ='計算用(期待容量)'!C14 -> 15752.981 | D14: ='計算用(期待容量)'!D14 -> 54675.222 | E14: ='計算用(期待容量)'!E14 -> 23834.486 | F14: ='計算用(期待容量)'!F14 -> 5035.21 | G14: ='計算用(期待容量)'!G14 -> 24817.28 | H14: ='計算用(期待容量)'!H14 -> 10167.542 | I14: ='計算用(期待容量)'!I14 -> 6645.8031 | J14: ='計算用(期待容量)'!J14 -> 18024.355
A15: 3月 | B15: ='計算用(期待容量)'!B15 -> 5700.3866 | C15: ='計算用(期待容量)'!C15 -> 14446.487 | D15: ='計算用(期待容量)'!D15 -> 48307.876 | E15: ='計算用(期待容量)'!E15 -> 20967.722 | F15: ='計算用(期待容量)'!F15 -> 4309.2712 | G15: ='計算用(期待容量)'!G15 -> 21128.942 | H15: ='計算用(期待容量)'!H15 -> 8506.2115 | I15: ='計算用(期待容量)'!I15 -> 5572.478 | J15: ='計算用(期待容量)'!J15 -> 14830.997
A17: ②再エネ除きの調達量 | B17: ='計算用(期待容量)'!B17 -> 161167.57
A19: ③再エネ各月kW
A20: 4月 | B20: ='計算用(期待容量)'!B20 -> 879.90859 | C20: ='計算用(期待容量)'!C20 -> 4063.6504 | D20: ='計算用(期待容量)'!D20 -> 1866.3684 | E20: ='計算用(期待容量)'!E20 -> 1632.5613 | F20: ='計算用(期待容量)'!F20 -> 1306.8716 | G20: ='計算用(期待容量)'!G20 -> 1657.0418 | H20: ='計算用(期待容量)'!H20 -> 896.55563 | I20: ='計算用(期待容量)'!I20 -> 511.4597 | J20: ='計算用(期待容量)'!J20 -> 864.00265
A21: 5月 | B21: ='計算用(期待容量)'!B21 -> 1042.9629 | C21: ='計算用(期待容量)'!C21 -> 4569.2538 | D21: ='計算用(期待容量)'!D21 -> 3908.7588 | E21: ='計算用(期待容量)'!E21 -> 2803.6772 | F21: ='計算用(期待容量)'!F21 -> 1448.7083 | G21: ='計算用(期待容量)'!G21 -> 2610.7433 | H21: ='計算用(期待容量)'!H21 -> 1658.7421 | I21: ='計算用(期待容量)'!I21 -> 983.17758 | J21: ='計算用(期待容量)'!J21 -> 1304.436
A22: 6月 | B22: ='計算用(期待容量)'!B22 -> 1018.2352 | C22: ='計算用(期待容量)'!C22 -> 4603.0002 | D22: ='計算用(期待容量)'!D22 -> 5253.057 | E22: ='計算用(期待容量)'!E22 -> 3829.1855 | F22: ='計算用(期待容量)'!F22 -> 1210.8289 | G22: ='計算用(期待容量)'!G22 -> 3581.3079 | H22: ='計算用(期待容量)'!H22 -> 2141.1187 | I22: ='計算用(期待容量)'!I22 -> 1101.925 | J22: ='計算用(期待容量)'!J22 -> 2255.2417
A23: 7月 | B23: ='計算用(期待容量)'!B23 -> 897.83655 | C23: ='計算用(期待容量)'!C23 -> 4269.8572 | D23: ='計算用(期待容量)'!D23 -> 6224.9095 | E23: ='計算用(期待容量)'!E23 -> 4465.005 | F23: ='計算用(期待容量)'!F23 -> 1255.9632 | G23: ='計算用(期待容量)'!G23 -> 4151.8836 | H23: ='計算用(期待容量)'!H23 -> 2911.0939 | I23: ='計算用(期待容量)'!I23 -> 1298.1169 | J23: ='計算用(期待容量)'!J23 -> 2169.2342
A24: 8月 | B24: ='計算用(期待容量)'!B24 -> 852.01444 | C24: ='計算用(期待容量)'!C24 -> 4546.6067 | D24: ='計算用(期待容量)'!D24 -> 6276.6157 | E24: ='計算用(期待容量)'!E24 -> 3966.6173 | F24: ='計算用(期待容量)'!F24 -> 1105.9153 | G24: ='計算用(期待容量)'!G24 -> 3852.8269 | H24: ='計算用(期待容量)'!H24 -> 2799.5949 | I24: ='計算用(期待容量)'!I24 -> 1324.4027 | J24: ='計算用(期待容量)'!J24 -> 1901.486
A25: 9月 | B25: ='計算用(期待容量)'!B25 -> 711.03193 | C25: ='計算用(期待容量)'!C25 -> 3780.4984 | D25: ='計算用(期待容量)'!D25 -> 4682.0379 | E25: ='計算用(期待容量)'!E25 -> 3329.6137 | F25: ='計算用(期待容量)'!F25 -> 1007.6078 | G25: ='計算用(期待容量)'!G25 -> 3095.8119 | H25: ='計算用(期待容量)'!H25 -> 2042.5242 | I25: ='計算用(期待容量)'!I25 -> 1073.5106 | J25: ='計算用(期待容量)'!J25 -> 2068.6836
A26: 10月 | B26: ='計算用(期待容量)'!B26 -> 702.72166 | C26: ='計算用(期待容量)'!C26 -> 2977.648 | D26: ='計算用(期待容量)'!D26 -> 3061.4042 | E26: ='計算用(期待容量)'!E26 -> 2306.2639 | F26: ='計算用(期待容量)'!F26 -> 881.98043 | G26: ='計算用(期待容量)'!G26 -> 2042.2702 | H26: ='計算用(期待容量)'!H26 -> 1437.042 | I26: ='計算用(期待容量)'!I26 -> 771.56823 | J26: ='計算用(期待容量)'!J26 -> 1300.6914
A27: 11月 | B27: ='計算用(期待容量)'!B27 -> 827.43308 | C27: ='計算用(期待容量)'!C27 -> 2968.4079 | D27: ='計算用(期待容量)'!D27 -> 1125.8388 | E27: ='計算用(期待容量)'!E27 -> 885.04374 | F27: ='計算用(期待容量)'!F27 -> 869.48173 | G27: ='計算用(期待容量)'!G27 -> 828.31287 | H27: ='計算用(期待容量)'!H27 -> 440.51373 | I27: ='計算用(期待容量)'!I27 -> 408.11852 | J27: ='計算用(期待容量)'!J27 -> 956.21956
A28: 12月 | B28: ='計算用(期待容量)'!B28 -> 925.55473 | C28: ='計算用(期待容量)'!C28 -> 4657.9044 | D28: ='計算用(期待容量)'!D28 -> 1161.3454 | E28: ='計算用(期待容量)'!E28 -> 1092.4766 | F28: ='計算用(期待容量)'!F28 -> 1098.3057 | G28: ='計算用(期待容量)'!G28 -> 1115.0612 | H28: ='計算用(期待容量)'!H28 -> 664.44617 | I28: ='計算用(期待容量)'!I28 -> 469.60963 | J28: ='計算用(期待容量)'!J28 -> 1287.6762
A29: 1月 | B29: ='計算用(期待容量)'!B29 -> 661.86111 | C29: ='計算用(期待容量)'!C29 -> 4523.4551 | D29: ='計算用(期待容量)'!D29 -> 1619.096 | E29: ='計算用(期待容量)'!E29 -> 1452.288 | F29: ='計算用(期待容量)'!F29 -> 972.57422 | G29: ='計算用(期待容量)'!G29 -> 1330.9079 | H29: ='計算用(期待容量)'!H29 -> 1007.8147 | I29: ='計算用(期待容量)'!I29 -> 572.11723 | J29: ='計算用(期待容量)'!J29 -> 1212.8558
A30: 2月 | B30: ='計算用(期待容量)'!B30 -> 800.59365 | C30: ='計算用(期待容量)'!C30 -> 4241.5497 | D30: ='計算用(期待容量)'!D30 -> 1227.2499 | E30: ='計算用(期待容量)'!E30 -> 1176.0158 | F30: ='計算用(期待容量)'!F30 -> 933.31738 | G30: ='計算用(期待容量)'!G30 -> 1393.5273 | H30: ='計算用(期待容量)'!H30 -> 850.74645 | I30: ='計算用(期待容量)'!I30 -> 543.73331 | J30: ='計算用(期待容量)'!J30 -> 1268.1666
A31: 3月 | B31: ='計算用(期待容量)'!B31 -> 640.78115 | C31: ='計算用(期待容量)'!C31 -> 2793.3624 | D31: ='計算用(期待容量)'!D31 -> 1441.6649 | E31: ='計算用(期待容量)'!E31 -> 1249.7244 | F31: ='計算用(期待容量)'!F31 -> 1019.28 | G31: ='計算用(期待容量)'!G31 -> 1398.1092 | H31: ='計算用(期待容量)'!H31 -> 803.65374 | I31: ='計算用(期待容量)'!I31 -> 564.17485 | J31: ='計算用(期待容量)'!J31 -> 1053.0394
A33: ④必要供給力(再エネ除き)
A34: 4月 | B34: =B4-B20 -> 3987.729 | C34: =C4-C20 -> 8170.0984 | D34: =D4-D20 -> 40548.343 | E34: =E4-E20 -> 16561.544 | F34: =F4-F20 -> 2348.5436 | G34: =G4-G20 -> 15600.999 | H34: =H4-H20 -> 6187.3697 | I34: =I4-I20 -> 4178.8311 | J34: =J4-J20 -> 11500.189
A35: 5月 | B35: =B5-B21 -> 3356.4302 | C35: =C5-C21 -> 6732.006 | D35: =D5-D21 -> 37497.914 | E35: =E5-E21 -> 15566.364 | F35: =F5-F21 -> 1964.7273 | G35: =G5-G21 -> 15837.964 | H35: =H5-H21 -> 5447.7149 | I35: =I5-I21 -> 3868.8522 | J35: =J5-J21 -> 12099.594
A36: 6月 | B36: =B6-B22 -> 3544.784 | C36: =C6-C22 -> 7853.8878 | D36: =D6-D22 -> 43949.467 | E36: =E6-E22 -> 16362.34 | F36: =F6-F22 -> 2789.54 | G36: =G6-G22 -> 17386.136 | H36: =H6-H22 -> 5946.1113 | I36: =I6-I22 -> 4558.7697 | J36: =J6-J22 -> 12926.706
A37: 7月 | B37: =B7-B23 -> 4510.1387 | C37: =C7-C23 -> 10719.208 | D37: =D7-D23 -> 56632.044 | E37: =E7-E23 -> 19472.975 | F37: =F7-F23 -> 3614.8268 | G37: =G7-G23 -> 22616.395 | H37: =H7-H23 -> 7589.8482 | I37: =I7-I23 -> 5700.5631 | J37: =J7-J23 -> 17397.614
A38: 8月 | B38: =B8-B24 -> 4594.7896 | C38: =C8-C24 -> 10821.063 | D38: =D8-D24 -> 56579.308 | E38: =E8-E24 -> 19971.363 | F38: =F8-F24 -> 3764.8747 | G38: =G8-G24 -> 22920.463 | H38: =H8-H24 -> 7698.7631 | I38: =I8-I24 -> 5674.2773 | J38: =J8-J24 -> 17665.362
A39: 9月 | B39: =B9-B25 -> 4280.162 | C39: =C9-C25 -> 9903.4362 | D39: =D9-D25 -> 49105.059 | E39: =E9-E25 -> 19563.087 | F39: =F9-F25 -> 3271.0679 | G39: =G9-G25 -> 20344.236 | H39: =H9-H25 -> 7065.384 | I39: =I9-I25 -> 5160.6078 | J39: =J9-J25 -> 14978.418
A40: 10月 | B40: =B10-B26 -> 4062.5795 | C40: =C10-C26 -> 8958.3479 | D40: =D10-D26 -> 41432.385 | E40: =E10-E26 -> 16829.636 | F40: =F10-F26 -> 2706.5021 | G40: =G10-G26 -> 16994.239 | H40: =H10-H26 -> 6123.9407 | I40: =I10-I26 -> 4462.7373 | J40: =J10-J26 -> 12994.107
A41: 11月 | B41: =B11-B27 -> 4632.6462 | C41: =C11-C27 -> 10460.556 | D41: =D11-D27 -> 44162.037 | E41: =E11-E27 -> 18292.246 | F41: =F11-F27 -> 3012.4725 | G41: =G11-G27 -> 17632.428 | H41: =H11-H27 -> 7538.8274 | I41: =I11-I27 -> 4590.9358 | J41: =J11-J27 -> 13262.981
A42: 12月 | B42: =B12-B28 -> 5165.7544 | C42: =C12-C28 -> 10403.648 | D42: =D12-D28 -> 48864.696 | E42: =E12-E28 -> 20930.882 | F42: =F12-F28 -> 3540.4686 | G42: =G12-G28 -> 22544.66 | H42: =H12-H28 -> 9316.9592 | I42: =I12-I28 -> 6176.1935 | J42: =J12-J28 -> 15747.034
A43: 1月 | B43: =B13-B29 -> 5669.3789 | C43: =C13-C29 -> 11263.027 | D43: =D13-D29 -> 53054.751 | E43: =E13-E29 -> 22382.198 | F43: =F13-F29 -> 4062.6358 | G43: =G13-G29 -> 23480.35 | H43: =H13-H29 -> 9159.5131 | I43: =I13-I29 -> 6073.6859 | J43: =J13-J29 -> 16811.499
A44: 2月 | B44: =B14-B30 -> 5492.7432 | C44: =C14-C30 -> 11511.431 | D44: =D14-D30 -> 53447.972 | E44: =E14-E30 -> 22658.47 | F44: =F14-F30 -> 4101.8926 | G44: =G14-G30 -> 23423.752 | H44: =H14-H30 -> 9316.7957 | I44: =I14-I30 -> 6102.0698 | J44: =J14-J30 -> 16756.188
A45: 3月 | B45: =B15-B31 -> 5059.6054 | C45: =C15-C31 -> 11653.125 | D45: =D15-D31 -> 46866.211 | E45: =E15-E31 -> 19717.998 | F45: =F15-F31 -> 3289.9912 | G45: =G15-G31 -> 19730.833 | H45: =H15-H31 -> 7702.5577 | I45: =I15-I31 -> 5008.3031 | J45: =J15-J31 -> 13777.958
A47: ⑤揚水供給力 | K47: 合計
A48: 4月 | B48: =IF(入力!$E$16=B$2,入力!$E$36*入力!$E$29/1000,0) -> 0 | C48: =IF(入力!$E$16=C$2,入力!$E$36*入力!$E$29/1000,0) -> 0 | D48: =IF(入力!$E$16=D$2,入力!$E$36*入力!$E$29/1000,0) -> 0 | E48: =IF(入力!$E$16=E$2,入力!$E$36*入力!$E$29/1000,0) -> 0 | F48: =IF(入力!$E$16=F$2,入力!$E$36*入力!$E$29/1000,0) -> 0 | G48: =IF(入力!$E$16=G$2,入力!$E$36*入力!$E$29/1000,0) -> 0 | H48: =IF(入力!$E$16=H$2,入力!$E$36*入力!$E$29/1000,0) -> 0 | I48: =IF(入力!$E$16=I$2,入力!$E$36*入力!$E$29/1000,0) -> 0 | J48: =IF(入力!$E$16=J$2,入力!$E$36*入力!$E$29/1000,0) -> 0 | K48: =SUM(B48:J48) -> 0
A49: 5月 | B49: =IF(入力!$E$16=B$2,入力!$F$36*入力!$F$29/1000,0) -> 0 | C49: =IF(入力!$E$16=C$2,入力!$F$36*入力!$F$29/1000,0) -> 0 | D49: =IF(入力!$E$16=D$2,入力!$F$36*入力!$F$29/1000,0) -> 0 | E49: =IF(入力!$E$16=E$2,入力!$F$36*入力!$F$29/1000,0) -> 0 | F49: =IF(入力!$E$16=F$2,入力!$F$36*入力!$F$29/1000,0) -> 0 | G49: =IF(入力!$E$16=G$2,入力!$F$36*入力!$F$29/1000,0) -> 0 | H49: =IF(入力!$E$16=H$2,入力!$F$36*入力!$F$29/1000,0) -> 0 | I49: =IF(入力!$E$16=I$2,入力!$F$36*入力!$F$29/1000,0) -> 0 | J49: =IF(入力!$E$16=J$2,入力!$F$36*入力!$F$29/1000,0) -> 0 | K49: =SUM(B49:J49) -> 0
A50: 6月 | B50: =IF(入力!$E$16=B$2,入力!$G$36*入力!$G$29/1000,0) -> 0 | C50: =IF(入力!$E$16=C$2,入力!$G$36*入力!$G$29/1000,0) -> 0 | D50: =IF(入力!$E$16=D$2,入力!$G$36*入力!$G$29/1000,0) -> 0 | E50: =IF(入力!$E$16=E$2,入力!$G$36*入力!$G$29/1000,0) -> 0 | F50: =IF(入力!$E$16=F$2,入力!$G$36*入力!$G$29/1000,0) -> 0 | G50: =IF(入力!$E$16=G$2,入力!$G$36*入力!$G$29/1000,0) -> 0 | H50: =IF(入力!$E$16=H$2,入力!$G$36*入力!$G$29/1000,0) -> 0 | I50: =IF(入力!$E$16=I$2,入力!$G$36*入力!$G$29/1000,0) -> 0 | J50: =IF(入力!$E$16=J$2,入力!$G$36*入力!$G$29/1000,0) -> 0 | K50: =SUM(B50:J50) -> 0
A51: 7月 | B51: =IF(入力!$E$16=B$2,入力!$H$36*入力!$H$29/1000,0) -> 0 | C51: =IF(入力!$E$16=C$2,入力!$H$36*入力!$H$29/1000,0) -> 0 | D51: =IF(入力!$E$16=D$2,入力!$H$36*入力!$H$29/1000,0) -> 0 | E51: =IF(入力!$E$16=E$2,入力!$H$36*入力!$H$29/1000,0) -> 0 | F51: =IF(入力!$E$16=F$2,入力!$H$36*入力!$H$29/1000,0) -> 0 | G51: =IF(入力!$E$16=G$2,入力!$H$36*入力!$H$29/1000,0) -> 0 | H51: =IF(入力!$E$16=H$2,入力!$H$36*入力!$H$29/1000,0) -> 0 | I51: =IF(入力!$E$16=I$2,入力!$H$36*入力!$H$29/1000,0) -> 0 | J51: =IF(入力!$E$16=J$2,入力!$H$36*入力!$H$29/1000,0) -> 0 | K51: =SUM(B51:J51) -> 0
A52: 8月 | B52: =IF(入力!$E$16=B$2,入力!$I$36*入力!$I$29/1000,0) -> 0 | C52: =IF(入力!$E$16=C$2,入力!$I$36*入力!$I$29/1000,0) -> 0 | D52: =IF(入力!$E$16=D$2,入力!$I$36*入力!$I$29/1000,0) -> 0 | E52: =IF(入力!$E$16=E$2,入力!$I$36*入力!$I$29/1000,0) -> 0 | F52: =IF(入力!$E$16=F$2,入力!$I$36*入力!$I$29/1000,0) -> 0 | G52: =IF(入力!$E$16=G$2,入力!$I$36*入力!$I$29/1000,0) -> 0 | H52: =IF(入力!$E$16=H$2,入力!$I$36*入力!$I$29/1000,0) -> 0 | I52: =IF(入力!$E$16=I$2,入力!$I$36*入力!$I$29/1000,0) -> 0 | J52: =IF(入力!$E$16=J$2,入力!$I$36*入力!$I$29/1000,0) -> 0 | K52: =SUM(B52:J52) -> 0
A53: 9月 | B53: =IF(入力!$E$16=B$2,入力!$J$36*入力!$J$29/1000,0) -> 0 | C53: =IF(入力!$E$16=C$2,入力!$J$36*入力!$J$29/1000,0) -> 0 | D53: =IF(入力!$E$16=D$2,入力!$J$36*入力!$J$29/1000,0) -> 0 | E53: =IF(入力!$E$16=E$2,入力!$J$36*入力!$J$29/1000,0) -> 0 | F53: =IF(入力!$E$16=F$2,入力!$J$36*入力!$J$29/1000,0) -> 0 | G53: =IF(入力!$E$16=G$2,入力!$J$36*入力!$J$29/1000,0) -> 0 | H53: =IF(入力!$E$16=H$2,入力!$J$36*入力!$J$29/1000,0) -> 0 | I53: =IF(入力!$E$16=I$2,入力!$J$36*入力!$J$29/1000,0) -> 0 | J53: =IF(入力!$E$16=J$2,入力!$J$36*入力!$J$29/1000,0) -> 0 | K53: =SUM(B53:J53) -> 0
A54: 10月 | B54: =IF(入力!$E$16=B$2,入力!$K$36*入力!$K$29/1000,0) -> 0 | C54: =IF(入力!$E$16=C$2,入力!$K$36*入力!$K$29/1000,0) -> 0 | D54: =IF(入力!$E$16=D$2,入力!$K$36*入力!$K$29/1000,0) -> 0 | E54: =IF(入力!$E$16=E$2,入力!$K$36*入力!$K$29/1000,0) -> 0 | F54: =IF(入力!$E$16=F$2,入力!$K$36*入力!$K$29/1000,0) -> 0 | G54: =IF(入力!$E$16=G$2,入力!$K$36*入力!$K$29/1000,0) -> 0 | H54: =IF(入力!$E$16=H$2,入力!$K$36*入力!$K$29/1000,0) -> 0 | I54: =IF(入力!$E$16=I$2,入力!$K$36*入力!$K$29/1000,0) -> 0 | J54: =IF(入力!$E$16=J$2,入力!$K$36*入力!$K$29/1000,0) -> 0 | K54: =SUM(B54:J54) -> 0
A55: 11月 | B55: =IF(入力!$E$16=B$2,入力!$L$36*入力!$L$29/1000,0) -> 0 | C55: =IF(入力!$E$16=C$2,入力!$L$36*入力!$L$29/1000,0) -> 0 | D55: =IF(入力!$E$16=D$2,入力!$L$36*入力!$L$29/1000,0) -> 0 | E55: =IF(入力!$E$16=E$2,入力!$L$36*入力!$L$29/1000,0) -> 0 | F55: =IF(入力!$E$16=F$2,入力!$L$36*入力!$L$29/1000,0) -> 0 | G55: =IF(入力!$E$16=G$2,入力!$L$36*入力!$L$29/1000,0) -> 0 | H55: =IF(入力!$E$16=H$2,入力!$L$36*入力!$L$29/1000,0) -> 0 | I55: =IF(入力!$E$16=I$2,入力!$L$36*入力!$L$29/1000,0) -> 0 | J55: =IF(入力!$E$16=J$2,入力!$L$36*入力!$L$29/1000,0) -> 0 | K55: =SUM(B55:J55) -> 0
A56: 12月 | B56: =IF(入力!$E$16=B$2,入力!$M$36*入力!$M$29/1000,0) -> 0 | C56: =IF(入力!$E$16=C$2,入力!$M$36*入力!$M$29/1000,0) -> 0 | D56: =IF(入力!$E$16=D$2,入力!$M$36*入力!$M$29/1000,0) -> 0 | E56: =IF(入力!$E$16=E$2,入力!$M$36*入力!$M$29/1000,0) -> 0 | F56: =IF(入力!$E$16=F$2,入力!$M$36*入力!$M$29/1000,0) -> 0 | G56: =IF(入力!$E$16=G$2,入力!$M$36*入力!$M$29/1000,0) -> 0 | H56: =IF(入力!$E$16=H$2,入力!$M$36*入力!$M$29/1000,0) -> 0 | I56: =IF(入力!$E$16=I$2,入力!$M$36*入力!$M$29/1000,0) -> 0 | J56: =IF(入力!$E$16=J$2,入力!$M$36*入力!$M$29/1000,0) -> 0 | K56: =SUM(B56:J56) -> 0
A57: 1月 | B57: =IF(入力!$E$16=B$2,入力!$N$36*入力!$N$29/1000,0) -> 0 | C57: =IF(入力!$E$16=C$2,入力!$N$36*入力!$N$29/1000,0) -> 0 | D57: =IF(入力!$E$16=D$2,入力!$N$36*入力!$N$29/1000,0) -> 0 | E57: =IF(入力!$E$16=E$2,入力!$N$36*入力!$N$29/1000,0) -> 0 | F57: =IF(入力!$E$16=F$2,入力!$N$36*入力!$N$29/1000,0) -> 0 | G57: =IF(入力!$E$16=G$2,入力!$N$36*入力!$N$29/1000,0) -> 0 | H57: =IF(入力!$E$16=H$2,入力!$N$36*入力!$N$29/1000,0) -> 0 | I57: =IF(入力!$E$16=I$2,入力!$N$36*入力!$N$29/1000,0) -> 0 | J57: =IF(入力!$E$16=J$2,入力!$N$36*入力!$N$29/1000,0) -> 0 | K57: =SUM(B57:J57) -> 0
A58: 2月 | B58: =IF(入力!$E$16=B$2,入力!$O$36*入力!$O$29/1000,0) -> 0 | C58: =IF(入力!$E$16=C$2,入力!$O$36*入力!$O$29/1000,0) -> 0 | D58: =IF(入力!$E$16=D$2,入力!$O$36*入力!$O$29/1000,0) -> 0 | E58: =IF(入力!$E$16=E$2,入力!$O$36*入力!$O$29/1000,0) -> 0 | F58: =IF(入力!$E$16=F$2,入力!$O$36*入力!$O$29/1000,0) -> 0 | G58: =IF(入力!$E$16=G$2,入力!$O$36*入力!$O$29/1000,0) -> 0 | H58: =IF(入力!$E$16=H$2,入力!$O$36*入力!$O$29/1000,0) -> 0 | I58: =IF(入力!$E$16=I$2,入力!$O$36*入力!$O$29/1000,0) -> 0 | J58: =IF(入力!$E$16=J$2,入力!$O$36*入力!$O$29/1000,0) -> 0 | K58: =SUM(B58:J58) -> 0
A59: 3月 | B59: =IF(入力!$E$16=B$2,入力!$P$36*入力!$P$29/1000,0) -> 0 | C59: =IF(入力!$E$16=C$2,入力!$P$36*入力!$P$29/1000,0) -> 0 | D59: =IF(入力!$E$16=D$2,入力!$P$36*入力!$P$29/1000,0) -> 0 | E59: =IF(入力!$E$16=E$2,入力!$P$36*入力!$P$29/1000,0) -> 0 | F59: =IF(入力!$E$16=F$2,入力!$P$36*入力!$P$29/1000,0) -> 0 | G59: =IF(入力!$E$16=G$2,入力!$P$36*入力!$P$29/1000,0) -> 0 | H59: =IF(入力!$E$16=H$2,入力!$P$36*入力!$P$29/1000,0) -> 0 | I59: =IF(入力!$E$16=I$2,入力!$P$36*入力!$P$29/1000,0) -> 0 | J59: =IF(入力!$E$16=J$2,入力!$P$36*入力!$P$29/1000,0) -> 0 | K59: =SUM(B59:J59) -> 0
A61: ⑥最小期待量からの増分除き | M61: 厳気象対応
A62: 4月 | B62: =B34-(B48-MIN(B$48:B$59))+N62 -> 4266.2671 | C62: =C34-(C48-MIN(C$48:C$59))+O62 -> 8879.8805 | D62: =D34-(D48-MIN(D$48:D$59))+P62 -> 43597.596 | E62: =E34-(E48-MIN(E$48:E$59))+Q62 -> 17745.551 | F62: =F34-(F48-MIN(F$48:F$59))+R62 -> 2602.6558 | G62: =G34-(G48-MIN(G$48:G$59))+S62 -> 17001.884 | H62: =H34-(H48-MIN(H$48:H$59))+T62 -> 6757.2759 | I62: =I34-(I48-MIN(I$48:I$59))+U62 -> 4406.4949 | J62: =J34-(J48-MIN(J$48:J$59))+V62 -> 12324.259 | M62: 4月 | N62: ='計算用(期待容量)'!N62 -> 278.53809 | O62: ='計算用(期待容量)'!O62 -> 709.78207 | P62: ='計算用(期待容量)'!P62 -> 3049.2531 | Q62: ='計算用(期待容量)'!Q62 -> 1184.0073 | R62: ='計算用(期待容量)'!R62 -> 254.11221 | S62: ='計算用(期待容量)'!S62 -> 1400.8843 | T62: ='計算用(期待容量)'!T62 -> 569.90626 | U62: ='計算用(期待容量)'!U62 -> 227.66379 | V62: ='計算用(期待容量)'!V62 -> 824.07033
A63: 5月 | B63: =B35-(B49-MIN(B$48:B$59))+N63 -> 3634.9683 | C63: =C35-(C49-MIN(C$48:C$59))+O63 -> 7441.7881 | D63: =D35-(D49-MIN(D$48:D$59))+P63 -> 40547.167 | E63: =E35-(E49-MIN(E$48:E$59))+Q63 -> 16750.371 | F63: =F35-(F49-MIN(F$48:F$59))+R63 -> 2218.8395 | G63: =G35-(G49-MIN(G$48:G$59))+S63 -> 17238.849 | H63: =H35-(H49-MIN(H$48:H$59))+T63 -> 6017.6211 | I63: =I35-(I49-MIN(I$48:I$59))+U63 -> 4096.516 | J63: =J35-(J49-MIN(J$48:J$59))+V63 -> 12923.665 | M63: 5月 | N63: ='計算用(期待容量)'!N63 -> 278.53809 | O63: ='計算用(期待容量)'!O63 -> 709.78207 | P63: ='計算用(期待容量)'!P63 -> 3049.2531 | Q63: ='計算用(期待容量)'!Q63 -> 1184.0073 | R63: ='計算用(期待容量)'!R63 -> 254.11221 | S63: ='計算用(期待容量)'!S63 -> 1400.8843 | T63: ='計算用(期待容量)'!T63 -> 569.90626 | U63: ='計算用(期待容量)'!U63 -> 227.66379 | V63: ='計算用(期待容量)'!V63 -> 824.07033
A64: 6月 | B64: =B36-(B50-MIN(B$48:B$59))+N64 -> 3823.3221 | C64: =C36-(C50-MIN(C$48:C$59))+O64 -> 8563.6699 | D64: =D36-(D50-MIN(D$48:D$59))+P64 -> 46998.72 | E64: =E36-(E50-MIN(E$48:E$59))+Q64 -> 17546.348 | F64: =F36-(F50-MIN(F$48:F$59))+R64 -> 3043.6522 | G64: =G36-(G50-MIN(G$48:G$59))+S64 -> 18787.02 | H64: =H36-(H50-MIN(H$48:H$59))+T64 -> 6516.0176 | I64: =I36-(I50-MIN(I$48:I$59))+U64 -> 4786.4335 | J64: =J36-(J50-MIN(J$48:J$59))+V64 -> 13750.776 | M64: 6月 | N64: ='計算用(期待容量)'!N64 -> 278.53809 | O64: ='計算用(期待容量)'!O64 -> 709.78207 | P64: ='計算用(期待容量)'!P64 -> 3049.2531 | Q64: ='計算用(期待容量)'!Q64 -> 1184.0073 | R64: ='計算用(期待容量)'!R64 -> 254.11221 | S64: ='計算用(期待容量)'!S64 -> 1400.8843 | T64: ='計算用(期待容量)'!T64 -> 569.90626 | U64: ='計算用(期待容量)'!U64 -> 227.66379 | V64: ='計算用(期待容量)'!V64 -> 824.07033
A65: 7月 | B65: =B37-(B51-MIN(B$48:B$59))+N65 -> 4510.1387 | C65: =C37-(C51-MIN(C$48:C$59))+O65 -> 10719.208 | D65: =D37-(D51-MIN(D$48:D$59))+P65 -> 56632.044 | E65: =E37-(E51-MIN(E$48:E$59))+Q65 -> 19472.975 | F65: =F37-(F51-MIN(F$48:F$59))+R65 -> 3614.8268 | G65: =G37-(G51-MIN(G$48:G$59))+S65 -> 22616.395 | H65: =H37-(H51-MIN(H$48:H$59))+T65 -> 7589.8482 | I65: =I37-(I51-MIN(I$48:I$59))+U65 -> 5700.5631 | J65: =J37-(J51-MIN(J$48:J$59))+V65 -> 17397.614 | M65: 7月 | N65: ='計算用(期待容量)'!N65 -> 0 | O65: ='計算用(期待容量)'!O65 -> 0 | P65: ='計算用(期待容量)'!P65 -> 0 | Q65: ='計算用(期待容量)'!Q65 -> 0 | R65: ='計算用(期待容量)'!R65 -> 0 | S65: ='計算用(期待容量)'!S65 -> 0 | T65: ='計算用(期待容量)'!T65 -> 0 | U65: ='計算用(期待容量)'!U65 -> 0 | V65: ='計算用(期待容量)'!V65 -> 0
A66: 8月 | B66: =B38-(B52-MIN(B$48:B$59))+N66 -> 4594.7896 | C66: =C38-(C52-MIN(C$48:C$59))+O66 -> 10821.063 | D66: =D38-(D52-MIN(D$48:D$59))+P66 -> 56579.308 | E66: =E38-(E52-MIN(E$48:E$59))+Q66 -> 19971.363 | F66: =F38-(F52-MIN(F$48:F$59))+R66 -> 3764.8747 | G66: =G38-(G52-MIN(G$48:G$59))+S66 -> 22920.463 | H66: =H38-(H52-MIN(H$48:H$59))+T66 -> 7698.7631 | I66: =I38-(I52-MIN(I$48:I$59))+U66 -> 5674.2773 | J66: =J38-(J52-MIN(J$48:J$59))+V66 -> 17665.362 | M66: 8月 | N66: ='計算用(期待容量)'!N66 -> 0 | O66: ='計算用(期待容量)'!O66 -> 0 | P66: ='計算用(期待容量)'!P66 -> 0 | Q66: ='計算用(期待容量)'!Q66 -> 0 | R66: ='計算用(期待容量)'!R66 -> 0 | S66: ='計算用(期待容量)'!S66 -> 0 | T66: ='計算用(期待容量)'!T66 -> 0 | U66: ='計算用(期待容量)'!U66 -> 0 | V66: ='計算用(期待容量)'!V66 -> 0
A67: 9月 | B67: =B39-(B53-MIN(B$48:B$59))+N67 -> 4280.162 | C67: =C39-(C53-MIN(C$48:C$59))+O67 -> 9903.4362 | D67: =D39-(D53-MIN(D$48:D$59))+P67 -> 49105.059 | E67: =E39-(E53-MIN(E$48:E$59))+Q67 -> 19563.087 | F67: =F39-(F53-MIN(F$48:F$59))+R67 -> 3271.0679 | G67: =G39-(G53-MIN(G$48:G$59))+S67 -> 20344.236 | H67: =H39-(H53-MIN(H$48:H$59))+T67 -> 7065.384 | I67: =I39-(I53-MIN(I$48:I$59))+U67 -> 5160.6078 | J67: =J39-(J53-MIN(J$48:J$59))+V67 -> 14978.418 | M67: 9月 | N67: ='計算用(期待容量)'!N67 -> 0 | O67: ='計算用(期待容量)'!O67 -> 0 | P67: ='計算用(期待容量)'!P67 -> 0 | Q67: ='計算用(期待容量)'!Q67 -> 0 | R67: ='計算用(期待容量)'!R67 -> 0 | S67: ='計算用(期待容量)'!S67 -> 0 | T67: ='計算用(期待容量)'!T67 -> 0 | U67: ='計算用(期待容量)'!U67 -> 0 | V67: ='計算用(期待容量)'!V67 -> 0
A68: 10月 | B68: =B40-(B54-MIN(B$48:B$59))+N68 -> 4341.1176 | C68: =C40-(C54-MIN(C$48:C$59))+O68 -> 9668.13 | D68: =D40-(D54-MIN(D$48:D$59))+P68 -> 44481.638 | E68: =E40-(E54-MIN(E$48:E$59))+Q68 -> 18013.643 | F68: =F40-(F54-MIN(F$48:F$59))+R68 -> 2960.6143 | G68: =G40-(G54-MIN(G$48:G$59))+S68 -> 18395.123 | H68: =H40-(H54-MIN(H$48:H$59))+T68 -> 6693.847 | I68: =I40-(I54-MIN(I$48:I$59))+U68 -> 4690.4011 | J68: =J40-(J54-MIN(J$48:J$59))+V68 -> 13818.178 | M68: 10月 | N68: ='計算用(期待容量)'!N68 -> 278.53809 | O68: ='計算用(期待容量)'!O68 -> 709.78207 | P68: ='計算用(期待容量)'!P68 -> 3049.2531 | Q68: ='計算用(期待容量)'!Q68 -> 1184.0073 | R68: ='計算用(期待容量)'!R68 -> 254.11221 | S68: ='計算用(期待容量)'!S68 -> 1400.8843 | T68: ='計算用(期待容量)'!T68 -> 569.90626 | U68: ='計算用(期待容量)'!U68 -> 227.66379 | V68: ='計算用(期待容量)'!V68 -> 824.07033
A69: 11月 | B69: =B41-(B55-MIN(B$48:B$59))+N69 -> 4911.1843 | C69: =C41-(C55-MIN(C$48:C$59))+O69 -> 11170.338 | D69: =D41-(D55-MIN(D$48:D$59))+P69 -> 47211.29 | E69: =E41-(E55-MIN(E$48:E$59))+Q69 -> 19476.253 | F69: =F41-(F55-MIN(F$48:F$59))+R69 -> 3266.5847 | G69: =G41-(G55-MIN(G$48:G$59))+S69 -> 19033.312 | H69: =H41-(H55-MIN(H$48:H$59))+T69 -> 8108.7337 | I69: =I41-(I55-MIN(I$48:I$59))+U69 -> 4818.5996 | J69: =J41-(J55-MIN(J$48:J$59))+V69 -> 14087.051 | M69: 11月 | N69: ='計算用(期待容量)'!N69 -> 278.53809 | O69: ='計算用(期待容量)'!O69 -> 709.78207 | P69: ='計算用(期待容量)'!P69 -> 3049.2531 | Q69: ='計算用(期待容量)'!Q69 -> 1184.0073 | R69: ='計算用(期待容量)'!R69 -> 254.11221 | S69: ='計算用(期待容量)'!S69 -> 1400.8843 | T69: ='計算用(期待容量)'!T69 -> 569.90626 | U69: ='計算用(期待容量)'!U69 -> 227.66379 | V69: ='計算用(期待容量)'!V69 -> 824.07033
A70: 12月 | B70: =B42-(B56-MIN(B$48:B$59))+N70 -> 5165.7544 | C70: =C42-(C56-MIN(C$48:C$59))+O70 -> 10403.648 | D70: =D42-(D56-MIN(D$48:D$59))+P70 -> 48864.696 | E70: =E42-(E56-MIN(E$48:E$59))+Q70 -> 20930.882 | F70: =F42-(F56-MIN(F$48:F$59))+R70 -> 3540.4686 | G70: =G42-(G56-MIN(G$48:G$59))+S70 -> 22544.66 | H70: =H42-(H56-MIN(H$48:H$59))+T70 -> 9316.9592 | I70: =I42-(I56-MIN(I$48:I$59))+U70 -> 6176.1935 | J70: =J42-(J56-MIN(J$48:J$59))+V70 -> 15747.034 | M70: 12月 | N70: ='計算用(期待容量)'!N70 -> 0 | O70: ='計算用(期待容量)'!O70 -> 0 | P70: ='計算用(期待容量)'!P70 -> 0 | Q70: ='計算用(期待容量)'!Q70 -> 0 | R70: ='計算用(期待容量)'!R70 -> 0 | S70: ='計算用(期待容量)'!S70 -> 0 | T70: ='計算用(期待容量)'!T70 -> 0 | U70: ='計算用(期待容量)'!U70 -> 0 | V70: ='計算用(期待容量)'!V70 -> 0
A71: 1月 | B71: =B43-(B57-MIN(B$48:B$59))+N71 -> 5669.3789 | C71: =C43-(C57-MIN(C$48:C$59))+O71 -> 11263.027 | D71: =D43-(D57-MIN(D$48:D$59))+P71 -> 53054.751 | E71: =E43-(E57-MIN(E$48:E$59))+Q71 -> 22382.198 | F71: =F43-(F57-MIN(F$48:F$59))+R71 -> 4062.6358 | G71: =G43-(G57-MIN(G$48:G$59))+S71 -> 23480.35 | H71: =H43-(H57-MIN(H$48:H$59))+T71 -> 9159.5131 | I71: =I43-(I57-MIN(I$48:I$59))+U71 -> 6073.6859 | J71: =J43-(J57-MIN(J$48:J$59))+V71 -> 16811.499 | M71: 1月 | N71: ='計算用(期待容量)'!N71 -> 0 | O71: ='計算用(期待容量)'!O71 -> 0 | P71: ='計算用(期待容量)'!P71 -> 0 | Q71: ='計算用(期待容量)'!Q71 -> 0 | R71: ='計算用(期待容量)'!R71 -> 0 | S71: ='計算用(期待容量)'!S71 -> 0 | T71: ='計算用(期待容量)'!T71 -> 0 | U71: ='計算用(期待容量)'!U71 -> 0 | V71: ='計算用(期待容量)'!V71 -> 0
A72: 2月 | B72: =B44-(B58-MIN(B$48:B$59))+N72 -> 5492.7432 | C72: =C44-(C58-MIN(C$48:C$59))+O72 -> 11511.431 | D72: =D44-(D58-MIN(D$48:D$59))+P72 -> 53447.972 | E72: =E44-(E58-MIN(E$48:E$59))+Q72 -> 22658.47 | F72: =F44-(F58-MIN(F$48:F$59))+R72 -> 4101.8926 | G72: =G44-(G58-MIN(G$48:G$59))+S72 -> 23423.752 | H72: =H44-(H58-MIN(H$48:H$59))+T72 -> 9316.7957 | I72: =I44-(I58-MIN(I$48:I$59))+U72 -> 6102.0698 | J72: =J44-(J58-MIN(J$48:J$59))+V72 -> 16756.188 | M72: 2月 | N72: ='計算用(期待容量)'!N72 -> 0 | O72: ='計算用(期待容量)'!O72 -> 0 | P72: ='計算用(期待容量)'!P72 -> 0 | Q72: ='計算用(期待容量)'!Q72 -> 0 | R72: ='計算用(期待容量)'!R72 -> 0 | S72: ='計算用(期待容量)'!S72 -> 0 | T72: ='計算用(期待容量)'!T72 -> 0 | U72: ='計算用(期待容量)'!U72 -> 0 | V72: ='計算用(期待容量)'!V72 -> 0
A73: 3月 | B73: =B45-(B59-MIN(B$48:B$59))+N73 -> 5338.1435 | C73: =C45-(C59-MIN(C$48:C$59))+O73 -> 12362.907 | D73: =D45-(D59-MIN(D$48:D$59))+P73 -> 49915.465 | E73: =E45-(E59-MIN(E$48:E$59))+Q73 -> 20902.005 | F73: =F45-(F59-MIN(F$48:F$59))+R73 -> 3544.1034 | G73: =G45-(G59-MIN(G$48:G$59))+S73 -> 21131.717 | H73: =H45-(H59-MIN(H$48:H$59))+T73 -> 8272.464 | I73: =I45-(I59-MIN(I$48:I$59))+U73 -> 5235.9669 | J73: =J45-(J59-MIN(J$48:J$59))+V73 -> 14602.028 | M73: 3月 | N73: ='計算用(期待容量)'!N73 -> 278.53809 | O73: ='計算用(期待容量)'!O73 -> 709.78207 | P73: ='計算用(期待容量)'!P73 -> 3049.2531 | Q73: ='計算用(期待容量)'!Q73 -> 1184.0073 | R73: ='計算用(期待容量)'!R73 -> 254.11221 | S73: ='計算用(期待容量)'!S73 -> 1400.8843 | T73: ='計算用(期待容量)'!T73 -> 569.90626 | U73: ='計算用(期待容量)'!U73 -> 227.66379 | V73: ='計算用(期待容量)'!V73 -> 824.07033
A75: ⑦停止可能量 | B75: エリア合計
A76: 4月 | B76: =$B$17-SUM($B62:$J62) -> 43585.703
A77: 5月 | B77: =$B$17-SUM($B63:$J63) -> 50297.783
A78: 6月 | B78: =$B$17-SUM($B64:$J64) -> 37351.608
A79: 7月 | B79: =$B$17-SUM($B65:$J65) -> 12913.955
A80: 8月 | B80: =$B$17-SUM($B66:$J66) -> 11477.303
A81: 9月 | B81: =$B$17-SUM($B67:$J67) -> 27496.109
A82: 10月 | B82: =$B$17-SUM($B68:$J68) -> 38104.876
A83: 11月 | B83: =$B$17-SUM($B69:$J69) -> 29084.221
A84: 12月 | B84: =$B$17-SUM($B70:$J70) -> 18477.272
A85: 1月 | B85: =$B$17-SUM($B71:$J71) -> 9210.5292
A86: 2月 | B86: =$B$17-SUM($B72:$J72) -> 8356.2516
A87: 3月 | B87: =$B$17-SUM($B73:$J73) -> 19862.767
A88: 月換算 | B88: =SUM($B$76:$B$87)/$B$17 -> 1.9
A90: ⑧カウント可能な設備量 | B90: =(SUM($B$76:$B$87)-$D$91*$B$17)/12 -> -1.9402554e-11 | D90: (参考)基準値
A91: （最小期待量からの増分） | D91: ='計算用(期待容量)'!D91 -> 1.9
A93: ⑨期待容量(単位：kW) | B93: =(MIN($K$48:$K$59)+$B$90)*1000 -> -1.9402554e-08
A95: (参考)調整係数(%)

Sheet 調整係数一覧
A1: エリア別調整係数 | P1: ：手入力(他ファイルよりマクロ貼り付け可能)
A3: 北海道 | B3: 4 | C3: 5 | D3: 6 | E3: 7 | F3: 8 | G3: 9 | H3: 10 | I3: 11 | J3: 12 | K3: 1 | L3: 2 | M3: 3
A4: 20 | B4: 1 | C4: 0.99800028 | D4: 1 | E4: 1 | F4: 1 | G4: 1 | H4: 1 | I4: 1 | J4: 1 | K4: 1 | L4: 1 | M4: 1
A5: 19 | B5: 1 | C5: 0.99800028 | D5: 1 | E5: 1 | F5: 1 | G5: 1 | H5: 1 | I5: 1 | J5: 1 | K5: 1 | L5: 1 | M5: 1
A6: 18 | B6: 1 | C6: 0.99800028 | D6: 1 | E6: 1 | F6: 1 | G6: 1 | H6: 1 | I6: 1 | J6: 1 | K6: 1 | L6: 1 | M6: 1
A7: 17 | B7: 1 | C7: 0.99800028 | D7: 1 | E7: 1 | F7: 1 | G7: 1 | H7: 1 | I7: 1 | J7: 1 | K7: 1 | L7: 1 | M7: 1
A8: 16 | B8: 1 | C8: 0.99800028 | D8: 1 | E8: 1 | F8: 1 | G8: 1 | H8: 1 | I8: 1 | J8: 1 | K8: 1 | L8: 1 | M8: 1
A9: 15 | B9: 1 | C9: 0.99800028 | D9: 1 | E9: 1 | F9: 1 | G9: 1 | H9: 1 | I9: 1 | J9: 1 | K9: 1 | L9: 1 | M9: 1
A10: 14 | B10: 1 | C10: 0.99800028 | D10: 1 | E10: 1 | F10: 1 | G10: 1 | H10: 1 | I10: 1 | J10: 1 | K10: 1 | L10: 1 | M10: 1
A11: 13 | B11: 1 | C11: 0.99800028 | D11: 1 | E11: 1 | F11: 1 | G11: 1 | H11: 1 | I11: 1 | J11: 1 | K11: 1 | L11: 1 | M11: 1
A12: 12 | B12: 1 | C12: 0.99800028 | D12: 1 | E12: 1 | F12: 1 | G12: 1 | H12: 1 | I12: 1 | J12: 1 | K12: 1 | L12: 1 | M12: 1
A13: 11 | B13: 1 | C13: 0.99800028 | D13: 1 | E13: 1 | F13: 1 | G13: 1 | H13: 1 | I13: 1 | J13: 1 | K13: 1 | L13: 1 | M13: 1
A14: 10 | B14: 1 | C14: 0.99731023 | D14: 1 | E14: 1 | F14: 1 | G14: 1 | H14: 1 | I14: 1 | J14: 1 | K14: 1 | L14: 1 | M14: 1
A15: 9 | B15: 1 | C15: 0.98977392 | D15: 1 | E15: 1 | F15: 1 | G15: 1 | H15: 1 | I15: 1 | J15: 0.99840073 | K15: 0.99168062 | L15: 1 | M15: 1
... A23: 1 | B23: 0.66307457 | C23: 0.68301851 | D23: 0.54167537 | E23: 0.66301289 | F23: 0.67385862 | G23: 0.67938016 | H23: 0.65816464 | I23: 0.72909952 | J23: 0.61492305 | K23: 0.68830127 | L23: 0.61849392 | M23: 0.72771163
A25: 東北 | B25: 4 | C25: 5 | D25: 6 | E25: 7 | F25: 8 | G25: 9 | H25: 10 | I25: 11 | J25: 12 | K25: 1 | L25: 2 | M25: 3
A26: 20 | B26: 1 | C26: 1 | D26: 1 | E26: 1 | F26: 1 | G26: 1 | H26: 1 | I26: 1 | J26: 1 | K26: 1 | L26: 1 | M26: 1
A27: 19 | B27: 1 | C27: 1 | D27: 1 | E27: 1 | F27: 1 | G27: 1 | H27: 1 | I27: 1 | J27: 1 | K27: 1 | L27: 1 | M27: 1
A28: 18 | B28: 1 | C28: 1 | D28: 1 | E28: 1 | F28: 1 | G28: 1 | H28: 1 | I28: 1 | J28: 1 | K28: 1 | L28: 1 | M28: 1
A29: 17 | B29: 1 | C29: 1 | D29: 1 | E29: 1 | F29: 1 | G29: 1 | H29: 1 | I29: 1 | J29: 1 | K29: 1 | L29: 1 | M29: 1
A30: 16 | B30: 1 | C30: 1 | D30: 1 | E30: 1 | F30: 1 | G30: 1 | H30: 1 | I30: 1 | J30: 1 | K30: 1 | L30: 1 | M30: 1
A31: 15 | B31: 1 | C31: 1 | D31: 1 | E31: 1 | F31: 1 | G31: 1 | H31: 1 | I31: 1 | J31: 1 | K31: 1 | L31: 1 | M31: 1
A32: 14 | B32: 1 | C32: 1 | D32: 1 | E32: 1 | F32: 1 | G32: 1 | H32: 1 | I32: 1 | J32: 1 | K32: 1 | L32: 1 | M32: 1
A33: 13 | B33: 1 | C33: 1 | D33: 1 | E33: 1 | F33: 1 | G33: 1 | H33: 1 | I33: 1 | J33: 1 | K33: 1 | L33: 1 | M33: 1
A34: 12 | B34: 1 | C34: 1 | D34: 1 | E34: 1 | F34: 1 | G34: 1 | H34: 1 | I34: 1 | J34: 1 | K34: 1 | L34: 1 | M34: 1
A35: 11 | B35: 1 | C35: 1 | D35: 1 | E35: 1 | F35: 1 | G35: 1 | H35: 1 | I35: 1 | J35: 1 | K35: 1 | L35: 1 | M35: 1
A36: 10 | B36: 1 | C36: 0.99840337 | D36: 1 | E36: 1 | F36: 1 | G36: 1 | H36: 1 | I36: 1 | J36: 1 | K36: 0.99773707 | L36: 1 | M36: 1
A37: 9 | B37: 1 | C37: 0.99160202 | D37: 1 | E37: 1 | F37: 1 | G37: 1 | H37: 1 | I37: 1 | J37: 0.99993137 | K37: 0.98844578 | L37: 1 | M37: 1
... A45: 1 | B45: 0.70263327 | C45: 0.76621356 | D45: 0.56131729 | E45: 0.74228089 | F45: 0.76850924 | G45: 0.61462985 | H45: 0.7377892 | I45: 0.76215284 | J45: 0.62346133 | K45: 0.72220593 | L45: 0.65461354 | M45: 0.79656002
A47: 東京 | B47: 4 | C47: 5 | D47: 6 | E47: 7 | F47: 8 | G47: 9 | H47: 10 | I47: 11 | J47: 12 | K47: 1 | L47: 2 | M47: 3
A48: 20 | B48: 1 | C48: 1 | D48: 1 | E48: 1 | F48: 1 | G48: 1 | H48: 1 | I48: 1 | J48: 1 | K48: 1 | L48: 1 | M48: 1
A49: 19 | B49: 1 | C49: 1 | D49: 1 | E49: 1 | F49: 1 | G49: 1 | H49: 1 | I49: 1 | J49: 1 | K49: 1 | L49: 1 | M49: 1
A50: 18 | B50: 1 | C50: 1 | D50: 1 | E50: 1 | F50: 1 | G50: 1 | H50: 1 | I50: 1 | J50: 1 | K50: 1 | L50: 1 | M50: 1
A51: 17 | B51: 1 | C51: 1 | D51: 1 | E51: 1 | F51: 1 | G51: 1 | H51: 1 | I51: 1 | J51: 1 | K51: 1 | L51: 1 | M51: 1
A52: 16 | B52: 1 | C52: 1 | D52: 1 | E52: 1 | F52: 1 | G52: 1 | H52: 1 | I52: 1 | J52: 1 | K52: 1 | L52: 1 | M52: 1
A53: 15 | B53: 1 | C53: 1 | D53: 1 | E53: 1 | F53: 1 | G53: 1 | H53: 1 | I53: 1 | J53: 1 | K53: 1 | L53: 1 | M53: 1
A54: 14 | B54: 1 | C54: 1 | D54: 1 | E54: 1 | F54: 1 | G54: 1 | H54: 1 | I54: 1 | J54: 1 | K54: 1 | L54: 1 | M54: 1
A55: 13 | B55: 1 | C55: 1 | D55: 1 | E55: 1 | F55: 1 | G55: 1 | H55: 1 | I55: 1 | J55: 1 | K55: 1 | L55: 1 | M55: 1
A56: 12 | B56: 1 | C56: 1 | D56: 1 | E56: 1 | F56: 1 | G56: 1 | H56: 1 | I56: 1 | J56: 1 | K56: 1 | L56: 1 | M56: 1
A57: 11 | B57: 1 | C57: 1 | D57: 1 | E57: 1 | F57: 1 | G57: 1 | H57: 1 | I57: 1 | J57: 1 | K57: 1 | L57: 1 | M57: 1
A58: 10 | B58: 1 | C58: 1 | D58: 1 | E58: 1 | F58: 1 | G58: 1 | H58: 1 | I58: 1 | J58: 1 | K58: 1 | L58: 1 | M58: 1
A59: 9 | B59: 1 | C59: 1 | D59: 1 | E59: 1 | F59: 1 | G59: 1 | H59: 1 | I59: 0.98972824 | J59: 1 | K59: 0.98486529 | L59: 1 | M59: 1
... A67: 1 | B67: 0.40062661 | C67: 0.20364259 | D67: 0.20472475 | E67: 0.49356076 | F67: 0.43544856 | G67: 0.39896605 | H67: 0.45242501 | I67: 0.26999811 | J67: 0.35915558 | K67: 0.32683622 | L67: 0.36370362 | M67: 0.38259396
A69: 中部 | B69: 4 | C69: 5 | D69: 6 | E69: 7 | F69: 8 | G69: 9 | H69: 10 | I69: 11 | J69: 12 | K69: 1 | L69: 2 | M69: 3
A70: 20 | B70: 1 | C70: 1 | D70: 1 | E70: 1 | F70: 1 | G70: 1 | H70: 1 | I70: 1 | J70: 1 | K70: 1 | L70: 1 | M70: 1
A71: 19 | B71: 1 | C71: 1 | D71: 1 | E71: 1 | F71: 1 | G71: 1 | H71: 1 | I71: 1 | J71: 1 | K71: 1 | L71: 1 | M71: 1
A72: 18 | B72: 1 | C72: 1 | D72: 1 | E72: 1 | F72: 1 | G72: 1 | H72: 1 | I72: 1 | J72: 1 | K72: 1 | L72: 1 | M72: 1
A73: 17 | B73: 1 | C73: 1 | D73: 1 | E73: 1 | F73: 1 | G73: 1 | H73: 1 | I73: 1 | J73: 1 | K73: 1 | L73: 1 | M73: 1
A74: 16 | B74: 1 | C74: 1 | D74: 1 | E74: 1 | F74: 1 | G74: 1 | H74: 1 | I74: 1 | J74: 1 | K74: 1 | L74: 1 | M74: 1
A75: 15 | B75: 1 | C75: 1 | D75: 1 | E75: 1 | F75: 1 | G75: 1 | H75: 1 | I75: 1 | J75: 1 | K75: 1 | L75: 1 | M75: 1
A76: 14 | B76: 1 | C76: 1 | D76: 1 | E76: 1 | F76: 1 | G76: 1 | H76: 1 | I76: 1 | J76: 1 | K76: 1 | L76: 1 | M76: 1
A77: 13 | B77: 1 | C77: 1 | D77: 1 | E77: 1 | F77: 1 | G77: 1 | H77: 1 | I77: 1 | J77: 1 | K77: 1 | L77: 1 | M77: 1
A78: 12 | B78: 1 | C78: 1 | D78: 1 | E78: 1 | F78: 1 | G78: 1 | H78: 1 | I78: 1 | J78: 1 | K78: 1 | L78: 1 | M78: 1
A79: 11 | B79: 1 | C79: 1 | D79: 1 | E79: 1 | F79: 1 | G79: 1 | H79: 1 | I79: 1 | J79: 1 | K79: 1 | L79: 1 | M79: 1
A80: 10 | B80: 1 | C80: 1 | D80: 1 | E80: 1 | F80: 1 | G80: 1 | H80: 1 | I80: 1 | J80: 1 | K80: 1 | L80: 1 | M80: 1
A81: 9 | B81: 1 | C81: 1 | D81: 1 | E81: 1 | F81: 1 | G81: 1 | H81: 1 | I81: 1 | J81: 1 | K81: 1 | L81: 1 | M81: 1
... A89: 1 | B89: 0.67972352 | C89: 0.52156518 | D89: 0.47946598 | E89: 0.72065159 | F89: 0.69381666 | G89: 0.62495192 | H89: 0.72517302 | I89: 0.76268294 | J89: 0.59094812 | K89: 0.54963129 | L89: 0.6394722 | M89: 0.79341119
A91: 北陸 | B91: 4 | C91: 5 | D91: 6 | E91: 7 | F91: 8 | G91: 9 | H91: 10 | I91: 11 | J91: 12 | K91: 1 | L91: 2 | M91: 3
A92: 20 | B92: 1 | C92: 1 | D92: 1 | E92: 1 | F92: 1 | G92: 1 | H92: 1 | I92: 1 | J92: 1 | K92: 1 | L92: 1 | M92: 1
A93: 19 | B93: 1 | C93: 1 | D93: 1 | E93: 1 | F93: 1 | G93: 1 | H93: 1 | I93: 1 | J93: 1 | K93: 1 | L93: 1 | M93: 1
A94: 18 | B94: 1 | C94: 1 | D94: 1 | E94: 1 | F94: 1 | G94: 1 | H94: 1 | I94: 1 | J94: 1 | K94: 1 | L94: 1 | M94: 1
A95: 17 | B95: 1 | C95: 1 | D95: 1 | E95: 1 | F95: 1 | G95: 1 | H95: 1 | I95: 1 | J95: 1 | K95: 1 | L95: 1 | M95: 1
A96: 16 | B96: 1 | C96: 1 | D96: 1 | E96: 1 | F96: 1 | G96: 1 | H96: 1 | I96: 1 | J96: 1 | K96: 1 | L96: 1 | M96: 1
A97: 15 | B97: 1 | C97: 1 | D97: 1 | E97: 1 | F97: 1 | G97: 1 | H97: 1 | I97: 1 | J97: 1 | K97: 1 | L97: 1 | M97: 1
A98: 14 | B98: 1 | C98: 1 | D98: 1 | E98: 1 | F98: 1 | G98: 1 | H98: 1 | I98: 1 | J98: 1 | K98: 1 | L98: 1 | M98: 1
A99: 13 | B99: 1 | C99: 1 | D99: 1 | E99: 1 | F99: 1 | G99: 1 | H99: 1 | I99: 1 | J99: 1 | K99: 1 | L99: 1 | M99: 1
A100: 12 | B100: 1 | C100: 1 | D100: 1 | E100: 1 | F100: 1 | G100: 1 | H100: 1 | I100: 1 | J100: 1 | K100: 1 | L100: 1 | M100: 1
A101: 11 | B101: 1 | C101: 1 | D101: 1 | E101: 1 | F101: 1 | G101: 1 | H101: 1 | I101: 1 | J101: 1 | K101: 1 | L101: 1 | M101: 1
A102: 10 | B102: 1 | C102: 0.99793806 | D102: 1 | E102: 1 | F102: 1 | G102: 1 | H102: 1 | I102: 1 | J102: 1 | K102: 1 | L102: 1 | M102: 1
A103: 9 | B103: 1 | C103: 0.99060016 | D103: 1 | E103: 1 | F103: 1 | G103: 1 | H103: 1 | I103: 1 | J103: 0.9975083 | K103: 0.99796095 | L103: 1 | M103: 1
... A111: 1 | B111: 0.71304099 | C111: 0.77415786 | D111: 0.23529847 | E111: 0.77722757 | F111: 0.8145848 | G111: 0.36520744 | H111: 0.74834125 | I111: 0.78097004 | J111: 0.65440563 | K111: 0.62927259 | L111: 0.65918452 | M111: 0.77078731
A113: 関西 | B113: 4 | C113: 5 | D113: 6 | E113: 7 | F113: 8 | G113: 9 | H113: 10 | I113: 11 | J113: 12 | K113: 1 | L113: 2 | M113: 3
A114: 20 | B114: 1 | C114: 1 | D114: 1 | E114: 1 | F114: 1 | G114: 1 | H114: 1 | I114: 1 | J114: 1 | K114: 1 | L114: 1 | M114: 1
A115: 19 | B115: 1 | C115: 1 | D115: 1 | E115: 1 | F115: 1 | G115: 1 | H115: 1 | I115: 1 | J115: 1 | K115: 1 | L115: 1 | M115: 1
A116: 18 | B116: 1 | C116: 1 | D116: 1 | E116: 1 | F116: 1 | G116: 1 | H116: 1 | I116: 1 | J116: 1 | K116: 1 | L116: 1 | M116: 1
A117: 17 | B117: 1 | C117: 1 | D117: 1 | E117: 1 | F117: 1 | G117: 1 | H117: 1 | I117: 1 | J117: 1 | K117: 1 | L117: 1 | M117: 1
A118: 16 | B118: 1 | C118: 1 | D118: 1 | E118: 1 | F118: 1 | G118: 1 | H118: 1 | I118: 1 | J118: 1 | K118: 1 | L118: 1 | M118: 1
A119: 15 | B119: 1 | C119: 1 | D119: 1 | E119: 1 | F119: 1 | G119: 1 | H119: 1 | I119: 1 | J119: 1 | K119: 1 | L119: 1 | M119: 1
A120: 14 | B120: 1 | C120: 1 | D120: 1 | E120: 1 | F120: 1 | G120: 1 | H120: 1 | I120: 1 | J120: 1 | K120: 1 | L120: 1 | M120: 1
A121: 13 | B121: 1 | C121: 1 | D121: 1 | E121: 1 | F121: 1 | G121: 1 | H121: 1 | I121: 1 | J121: 1 | K121: 1 | L121: 1 | M121: 1
A122: 12 | B122: 1 | C122: 1 | D122: 1 | E122: 1 | F122: 1 | G122: 1 | H122: 1 | I122: 1 | J122: 1 | K122: 1 | L122: 1 | M122: 1
A123: 11 | B123: 1 | C123: 1 | D123: 1 | E123: 1 | F123: 1 | G123: 1 | H123: 1 | I123: 1 | J123: 1 | K123: 1 | L123: 1 | M123: 1
A124: 10 | B124: 1 | C124: 1 | D124: 1 | E124: 1 | F124: 1 | G124: 1 | H124: 1 | I124: 1 | J124: 1 | K124: 1 | L124: 1 | M124: 1
A125: 9 | B125: 1 | C125: 1 | D125: 1 | E125: 1 | F125: 1 | G125: 1 | H125: 1 | I125: 1 | J125: 1 | K125: 1 | L125: 1 | M125: 1
... A133: 1 | B133: 0.57346794 | C133: 0.57648468 | D133: 0.41443259 | E133: 0.68807445 | F133: 0.65579007 | G133: 0.56936201 | H133: 0.70652968 | I133: 0.71477714 | J133: 0.53730922 | K133: 0.42528921 | L133: 0.59853667 | M133: 0.75332812
A135: 中国 | B135: 4 | C135: 5 | D135: 6 | E135: 7 | F135: 8 | G135: 9 | H135: 10 | I135: 11 | J135: 12 | K135: 1 | L135: 2 | M135: 3
A136: 20 | B136: 1 | C136: 1 | D136: 1 | E136: 1 | F136: 1 | G136: 1 | H136: 1 | I136: 1 | J136: 1 | K136: 1 | L136: 1 | M136: 1
A137: 19 | B137: 1 | C137: 1 | D137: 1 | E137: 1 | F137: 1 | G137: 1 | H137: 1 | I137: 1 | J137: 1 | K137: 1 | L137: 1 | M137: 1
A138: 18 | B138: 1 | C138: 1 | D138: 1 | E138: 1 | F138: 1 | G138: 1 | H138: 1 | I138: 1 | J138: 1 | K138: 1 | L138: 1 | M138: 1
A139: 17 | B139: 1 | C139: 1 | D139: 1 | E139: 1 | F139: 1 | G139: 1 | H139: 1 | I139: 1 | J139: 1 | K139: 1 | L139: 1 | M139: 1
A140: 16 | B140: 1 | C140: 1 | D140: 1 | E140: 1 | F140: 1 | G140: 1 | H140: 1 | I140: 1 | J140: 1 | K140: 1 | L140: 1 | M140: 1
A141: 15 | B141: 1 | C141: 1 | D141: 1 | E141: 1 | F141: 1 | G141: 1 | H141: 1 | I141: 1 | J141: 1 | K141: 1 | L141: 1 | M141: 1
A142: 14 | B142: 1 | C142: 1 | D142: 1 | E142: 1 | F142: 1 | G142: 1 | H142: 1 | I142: 1 | J142: 1 | K142: 1 | L142: 1 | M142: 1
A143: 13 | B143: 1 | C143: 1 | D143: 1 | E143: 1 | F143: 1 | G143: 1 | H143: 1 | I143: 1 | J143: 1 | K143: 1 | L143: 1 | M143: 1
A144: 12 | B144: 1 | C144: 1 | D144: 1 | E144: 1 | F144: 1 | G144: 1 | H144: 1 | I144: 1 | J144: 1 | K144: 1 | L144: 1 | M144: 1
A145: 11 | B145: 1 | C145: 1 | D145: 1 | E145: 1 | F145: 1 | G145: 1 | H145: 1 | I145: 1 | J145: 1 | K145: 1 | L145: 1 | M145: 1
A146: 10 | B146: 1 | C146: 0.99873331 | D146: 1 | E146: 1 | F146: 1 | G146: 1 | H146: 1 | I146: 1 | J146: 1 | K146: 1 | L146: 1 | M146: 1
A147: 9 | B147: 1 | C147: 0.99228067 | D147: 1 | E147: 1 | F147: 1 | G147: 1 | H147: 1 | I147: 1 | J147: 1 | K147: 0.9946379 | L147: 1 | M147: 1
... A155: 1 | B155: 0.69935346 | C155: 0.75568575 | D155: 0.56172342 | E155: 0.74825062 | F155: 0.76373831 | G155: 0.65702476 | H155: 0.73201743 | I155: 0.76352995 | J155: 0.6209951 | K155: 0.60695982 | L155: 0.65403109 | M155: 0.7965229
A157: 四国 | B157: 4 | C157: 5 | D157: 6 | E157: 7 | F157: 8 | G157: 9 | H157: 10 | I157: 11 | J157: 12 | K157: 1 | L157: 2 | M157: 3
...

Sheet プルダウンテーブル(非表示)
A1: エリア | B1: 新設 | C1: リプレース等
A2: 北海道 | B2: 蓄電池（リチウムイオン蓄電池） | C2: 蓄電池（リチウムイオン蓄電池）
A3: 東北 | B3: 蓄電池（リチウムイオン蓄電池以外の蓄電池） | C3: 蓄電池（リチウムイオン蓄電池以外の蓄電池）
A4: 東京 | B4: 揚水 | C4: 揚水
A5: 中部 | B5: 長期エネルギー貯蔵システム | C5: 長期エネルギー貯蔵システム
A6: 北陸
A7: 関西
A8: 中国
A9: 四国
A10: 九州

Sheet 制度適用期間上限一覧_antei_long_yousui(非表
B2: 入力された電源における制度適用期間の上限 | C2: =VLOOKUP(入力シート!D12&入力シート!D13, B6:E14, 4, FALSE) -> #N/A
B4: antei_long_yousui用
B5: 検索用 | C5: 新設・リプレース等 | D5: 電源種別 | E5: 制度適用期間上限
B6: =C6&D6 -> 新設蓄電池（リチウムイオン蓄電池） | C6: 新設 | D6: 蓄電池（リチウムイオン蓄電池） | E6: 40
B7: =C7&D7 -> 新設蓄電池（リチウムイオン蓄電池以外の蓄電池） | C7: 新設 | D7: 蓄電池（リチウムイオン蓄電池以外の蓄電池） | E7: 40
B8: =C8&D8 -> 新設揚水 | C8: 新設 | D8: 揚水 | E8: 30
B9: =C9&D9 -> 新設長期エネルギー貯蔵システム | C9: 新設 | D9: 長期エネルギー貯蔵システム | E9: 30
B10: =C10&D10 -> リプレース等蓄電池（リチウムイオン蓄電池） | C10: リプレース等 | D10: 蓄電池（リチウムイオン蓄電池） | E10: 40
B11: =C11&D11 -> リプレース等蓄電池（リチウムイオン蓄電池以外の蓄電池） | C11: リプレース等 | D11: 蓄電池（リチウムイオン蓄電池以外の蓄電池） | E11: 40
B12: =C12&D12 -> リプレース等揚水 | C12: リプレース等 | D12: 揚水 | E12: 40
B13: =C13&D13 -> リプレース等長期エネルギー貯蔵システム | C13: リプレース等 | D13: 長期エネルギー貯蔵システム | E13: 30
