Workbook
Name エリア: '[1]プルダウンテーブル(非表示)'!$A$2:$A$10
Name エリア: 'プルダウンテーブル(非表示)'!$A$2:$A$10
Name リプレース等: 'プルダウンテーブル(非表示)'!$C$2:$C$5
Name 新設: 'プルダウンテーブル(非表示)'!$B$2:$B$5
Name 電源種: 'プルダウンテーブル(非表示)'!$B$1:$C$1

Sheet 各項目の解説
B2: 期待容量・応札容量の考え方
B19: No. | C19: 項目 | D19: 記載内容
B20: 1 | C20: =入力シート!C10 -> 電源等識別番号 | D20: 容量市場システムの「期待容量情報一覧画面」の「期待容量情報一覧」に表示される電源等識別番号を入力してください
B21: =B20+1 -> 2 | C21: =入力シート!C11 -> 容量を提供する電源等の区分 | D21: 入力不要（「安定電源」が自動設定されます） ※入力シート上部の対象電源種に記載されている電源に当てはまる電源のためのフォーマットです。当てはまらない場合は、広域機関HPより対象電源に当てはまる期待容量等算定諸元一覧をダウンロードしてください
B22: =B21+1 -> 3 | C22: =入力シート!C12 -> 新設・リプレース等 | D22: 新設又はリプレース等を選択してください
B23: =B22+1 -> 4 | C23: =入力シート!C13 -> 電源種別 | D23: 当該の電源が発電する方式を以下の例に従ってプルダウンから選択してください 新設：蓄電池（リチウムイオン蓄電池）、蓄電池（リチウムイオン蓄電池以外の蓄電池）、揚水、長期エネルギー貯蔵システム リプレース等：蓄電池（リチウムイオン蓄電池）、蓄電池（リチウムイオン蓄電池以外の蓄電池）、揚水、長期エネルギー貯蔵システム
B24: =B23+1 -> 5 | C24: =入力シート!C14 -> エリア名 | D24: 北海道、東北、東京、中部、北陸、関西、中国、四国、九州から電源が電力を提供する属地エリアを選択してください
B25: =B24+1 -> 6 | C25: =入力シート!C15 -> 本オークションに参加可能な設備容量 (送電端) | D25: 設備容量（送電端）から自家消費(ベース分)、自己託送、特定供給、特定送配電事業者に供出する容量、FIT/FIPに供出する容量を差し引いたものを入力してください
B26: =B25+1 -> 7 | C26: =入力シート!C16 -> 各月の発電可能電力 (期待容量算出用) | D26: 本オークションに参加可能な設備容量(送電端)から大気温及びダム水位低下等の影響による能力減分を差し引いた値を記載してください。
B27: =B26+1 -> 8 | C27: =入力シート!C18 -> 各月の連続発電可能時間 (期待容量算出用) | D27: 電源が上池満水位時もしくは満充電時において、各月の発電可能電力(期待容量算出用)で発電した場合に連続運転が可能な時間を記載してください。
B28: =B27+1 -> 9 | C28: 連続発電可能時間 (年平均値) | D28: 入力不要（自動計算されます）
B29: =B28+1 -> 10 | C29: =入力シート!C21 -> 各月の上池容量又は蓄電容量 (期待容量算出用) | D29: 入力不要（自動計算されます）
B30: =B29+1 -> 11 | C30: =入力シート!C23 -> 各月の調整係数 (期待容量算出用) | D30: 入力不要（自動計算・設定されます）
B31: =B30+1 -> 12 | C31: =入力シート!C25 -> 期待容量 | D31: 入力不要（自動計算されます）
B32: =B31+1 -> 13 | C32: =入力シート!C26 -> 各月の管理容量 | D32: 応札容量を計算する際に、各月の発電可能電力(期待容量算出用)を上限に入力してください ※この値が、各月のアセスメント対象容量となります。
B33: =B32+1 -> 14 | C33: =入力シート!C28 -> 各月の連続発電可能時間 (応札容量算出用) | D33: 応札容量を計算する際に、各月の発電可能時間を上限に入力してください
B34: =B33+1 -> 15 | C34: 連続発電可能時間 (年平均値) | D34: 入力不要（自動計算されます）
B35: =B34+1 -> 16 | C35: =入力シート!C31 -> 各月の上池容量又は蓄電容量 (応札容量算出用) | D35: 入力不要（自動計算されます）
B36: =B35+1 -> 17 | C36: =入力シート!C33 -> 各月の調整係数 (応札容量算出用) | D36: 入力不要（自動計算・設定されます）
B37: =B36+1 -> 18 | C37: =入力シート!C35 -> 応札容量 | D37: 入力不要（自動計算されます）
B38: =B37+1 -> 19 | C38: 制度適用期間 | D38: 制度を適用する期間を20以上40以下の整数値で入力してください。 ※揚水式（新設に限る）、長期エネルギー貯蔵システムの制度適用期間は30年が上限となるため、20以上30以下の整数を記載してください。

Sheet 記載例
C1: 入力箇所(期待容量登録時) | D1: 追加入力箇所(応札容量登録時) | G1: エラー時
C4: 期待容量等算定諸元一覧（対象応札年度：2026年度）
C6: 対象電源種 | D6: 【新設・リプレース等】：水力（揚水式のみ）、蓄電池、長期エネルギー貯蔵システム
K8: 会社名： | L8: 広域エネルギー株式会社
C9: 項目 | D9: 事業者入力 | P9: 単位
C10: 電源等識別番号 | D10: 12345
C11: 容量を提供する電源等の区分 | D11: 安定電源
C12: 新設・リプレース等 | D12: 新設
C13: 電源種別 | D13: 蓄電池（リチウムイオン蓄電池）
C14: エリア名 | D14: 東京
C15: 本オークションに参加可能な設備容量 (送電端) | D15: 50000 | P15: kW
C16: 各月の発電可能電力 (期待容量算出用) | D16: 4月 | E16: 5月 | F16: 6月 | G16: 7月 | H16: 8月 | I16: 9月 | J16: 10月 | K16: 11月 | L16: 12月 | M16: 1月 | N16: 2月 | O16: 3月
D17: 50000 | E17: 40000 | F17: 50000 | G17: 50000 | H17: 50000 | I17: 50000 | J17: 50000 | K17: 50000 | L17: 50000 | M17: 50000 | N17: 50000 | O17: 40000 | P17: kW
C18: 各月の連続発電可能時間 (期待容量算出用) | D18: 4月 | E18: 5月 | F18: 6月 | G18: 7月 | H18: 8月 | I18: 9月 | J18: 10月 | K18: 11月 | L18: 12月 | M18: 1月 | N18: 2月 | O18: 3月
D19: 8 | E19: 6 | F19: 7 | G19: 7 | H19: 7 | I19: 7 | J19: 7 | K19: 7 | L19: 7 | M19: 7 | N19: 8 | O19: 8 | P19: h
C20: 連続発電可能時間 (年平均値) | D20: 7 | P20: h
C21: 各月の上池容量又は蓄電容量 (期待容量算出用) | D21: 4月 | E21: 5月 | F21: 6月 | G21: 7月 | H21: 8月 | I21: 9月 | J21: 10月 | K21: 11月 | L21: 12月 | M21: 1月 | N21: 2月 | O21: 3月
D22: 400000 | E22: 240000 | F22: 350000 | G22: 350000 | H22: 350000 | I22: 350000 | J22: 350000 | K22: 350000 | L22: 350000 | M22: 350000 | N22: 400000 | O22: 320000 | P22: kWh
C23: 各月の調整係数 (期待容量算出用) | D23: 4月 | E23: 5月 | F23: 6月 | G23: 7月 | H23: 8月 | I23: 9月 | J23: 10月 | K23: 11月 | L23: 12月 | M23: 1月 | N23: 2月 | O23: 3月
D24: 1 | E24: 0.81017951 | F24: 0.92213169 | G24: 0.99916299 | H24: 0.98813738 | I24: 0.98345138 | J24: 0.95380401 | K24: 0.85011388 | L24: 0.88800829 | M24: 0.90995341 | N24: 0.94974016 | O24: 0.96028429 | P24: %
C25: 期待容量 | D25: 45254 | P25: kW
C26: 各月の管理容量 | D26: 4月 | E26: 5月 | F26: 6月 | G26: 7月 | H26: 8月 | I26: 9月 | J26: 10月 | K26: 11月 | L26: 12月 | M26: 1月 | N26: 2月 | O26: 3月
D27: 50000 | E27: 40000 | F27: 50000 | G27: 50000 | H27: 50000 | I27: 50000 | J27: 50000 | K27: 50000 | L27: 50000 | M27: 50000 | N27: 50000 | O27: 40000 | P27: kW
C28: 各月の連続発電可能時間 (応札容量算出用) | D28: 4月 | E28: 5月 | F28: 6月 | G28: 7月 | H28: 8月 | I28: 9月 | J28: 10月 | K28: 11月 | L28: 12月 | M28: 1月 | N28: 2月 | O28: 3月
D29: 8 | E29: 6 | F29: 7 | G29: 7 | H29: 7 | I29: 7 | J29: 7 | K29: 7 | L29: 7 | M29: 7 | N29: 8 | O29: 8 | P29: h
C30: 連続発電可能時間 (年平均値) | D30: 7 | P30: h
C31: 各月の上池容量又は蓄電容量 (応札容量算出用) | D31: 4月 | E31: 5月 | F31: 6月 | G31: 7月 | H31: 8月 | I31: 9月 | J31: 10月 | K31: 11月 | L31: 12月 | M31: 1月 | N31: 2月 | O31: 3月
D32: 400000 | E32: 240000 | F32: 350000 | G32: 350000 | H32: 350000 | I32: 350000 | J32: 350000 | K32: 350000 | L32: 350000 | M32: 350000 | N32: 400000 | O32: 320000 | P32: kWh
C33: 各月の調整係数 (応札容量算出用) | D33: 4月 | E33: 5月 | F33: 6月 | G33: 7月 | H33: 8月 | I33: 9月 | J33: 10月 | K33: 11月 | L33: 12月 | M33: 1月 | N33: 2月 | O33: 3月
D34: 1 | E34: 0.81017951 | F34: 0.92213169 | G34: 0.99916299 | H34: 0.98813738 | I34: 0.98345138 | J34: 0.95380401 | K34: 0.85011388 | L34: 0.88800829 | M34: 0.90995341 | N34: 0.94974016 | O34: 0.96028429 | P34: %
C35: 応札容量 | D35: 45254 | P35: kW
C36: 制度適用期間 | D36: 20 | P36: 年間
B37: （記載要領）
B38: 1．以下の項目については、期待容量の登録期間中(2026/12/9～12/15)に容量市場システムに登録してください。
C39: ・電源等識別番号については、電源等情報に登録した後に、容量市場システムで付番された番号を記載してください。
C40: ・容量を提供する電源等の区分については、安定電源で固定です。
C41: ・新設・リプレース等及び電源種別については、電源等情報に登録した内容を記載してください。
C42: ・エリア名については、電源等情報に登録した「エリア名」を記載してください。
C43: ・本オークションに参加可能な設備容量(送電端)については、電源等情報登録様式に記載した値としてください。
C44: ・各月の発電可能電力(期待容量算出用)については、本オークションに参加可能な設備容量(送電端)から大気温及びダム水位低下等の影響による能力減分を差し引いた値を記載ください。
...

Sheet 入力シート
C1: 入力箇所(期待容量登録時) | D1: 追加入力箇所(応札容量登録時) | G1: エラー時
C4: 期待容量等算定諸元一覧（対象応札年度：2026年度）
C6: 対象電源種 | D6: 【新設・リプレース等】：水力（揚水式のみ）、蓄電池、長期エネルギー貯蔵システム
K8: 会社名：
C9: 項目 | D9: 事業者入力 | P9: 単位
C10: 電源等識別番号
C11: 容量を提供する電源等の区分 | D11: 安定電源
C12: 新設・リプレース等
C13: 電源種別
C14: エリア名
C15: 本オークションに参加可能な設備容量 (送電端) | P15: kW
C16: 各月の発電可能電力 (期待容量算出用) | D16: 4月 | E16: 5月 | F16: 6月 | G16: 7月 | H16: 8月 | I16: 9月 | J16: 10月 | K16: 11月 | L16: 12月 | M16: 1月 | N16: 2月 | O16: 3月
P17: kW
C18: 各月の連続発電可能時間 (期待容量算出用) | D18: 4月 | E18: 5月 | F18: 6月 | G18: 7月 | H18: 8月 | I18: 9月 | J18: 10月 | K18: 11月 | L18: 12月 | M18: 1月 | N18: 2月 | O18: 3月
P19: h
C20: 連続発電可能時間 (年平均値) | D20: =IF(入力!E22<6,"年平均値が6h以上となるようにしてください。",入力!E22) -> 年平均値が6h以上となるようにしてください。 | P20: h
C21: 各月の上池容量又は蓄電容量 (期待容量算出用) | D21: 4月 | E21: 5月 | F21: 6月 | G21: 7月 | H21: 8月 | I21: 9月 | J21: 10月 | K21: 11月 | L21: 12月 | M21: 1月 | N21: 2月 | O21: 3月
D22: =入力!E24 -> 0 | E22: =入力!F24 -> 0 | F22: =入力!G24 -> 0 | G22: =入力!H24 -> 0 | H22: =入力!I24 -> 0 | I22: =入力!J24 -> 0 | J22: =入力!K24 -> 0 | K22: =入力!L24 -> 0 | ... O22: =入力!P24 -> 0 | P22: kWh
C23: 各月の調整係数 (期待容量算出用) | D23: 4月 | E23: 5月 | F23: 6月 | G23: 7月 | H23: 8月 | I23: 9月 | J23: 10月 | K23: 11月 | L23: 12月 | M23: 1月 | N23: 2月 | O23: 3月
D24: =入力!E26 -> #N/A | E24: =入力!F26 -> #N/A | F24: =入力!G26 -> #N/A | G24: =入力!H26 -> #N/A | H24: =入力!I26 -> #N/A | I24: =入力!J26 -> #N/A | J24: =入力!K26 -> #N/A | K24: =入力!L26 -> #N/A | ... O24: =入力!P26 -> #N/A | P24: %
C25: 期待容量 | D25: =入力!E27 -> 0 | P25: kW
C26: 各月の管理容量 | D26: 4月 | E26: 5月 | F26: 6月 | G26: 7月 | H26: 8月 | I26: 9月 | J26: 10月 | K26: 11月 | L26: 12月 | M26: 1月 | N26: 2月 | O26: 3月
P27: kW
C28: 各月の連続発電可能時間 (応札容量算出用) | D28: 4月 | E28: 5月 | F28: 6月 | G28: 7月 | H28: 8月 | I28: 9月 | J28: 10月 | K28: 11月 | L28: 12月 | M28: 1月 | N28: 2月 | O28: 3月
P29: h
C30: 連続発電可能時間 (年平均値) | D30: =IF(入力!E32<6,"年平均値が6h以上となるようにしてください。",入力!E32) -> 年平均値が6h以上となるようにしてください。 | P30: h
C31: 各月の上池容量又は蓄電容量 (応札容量算出用) | D31: 4月 | E31: 5月 | F31: 6月 | G31: 7月 | H31: 8月 | I31: 9月 | J31: 10月 | K31: 11月 | L31: 12月 | M31: 1月 | N31: 2月 | O31: 3月
D32: =入力!E34 -> 0 | E32: =入力!F34 -> 0 | F32: =入力!G34 -> 0 | G32: =入力!H34 -> 0 | H32: =入力!I34 -> 0 | I32: =入力!J34 -> 0 | J32: =入力!K34 -> 0 | K32: =入力!L34 -> 0 | ... O32: =入力!P34 -> 0 | P32: kWh
C33: 各月の調整係数 (応札容量算出用) | D33: 4月 | E33: 5月 | F33: 6月 | G33: 7月 | H33: 8月 | I33: 9月 | J33: 10月 | K33: 11月 | L33: 12月 | M33: 1月 | N33: 2月 | O33: 3月
D34: =入力!E36 -> #N/A | E34: =入力!F36 -> #N/A | F34: =入力!G36 -> #N/A | G34: =入力!H36 -> #N/A | H34: =入力!I36 -> #N/A | I34: =入力!J36 -> #N/A | J34: =入力!K36 -> #N/A | K34: =入力!L36 -> #N/A | ... O34: =入力!P36 -> #N/A | P34: %
C35: 応札容量 | D35: =入力!E37 -> 0 | P35: kW
C36: 制度適用期間 | P36: 年間
B37: （記載要領）
B38: 1．以下の項目については、期待容量の登録期間中(2026/12/9～12/15)に容量市場システムに登録してください。
C39: ・電源等識別番号については、電源等情報に登録した後に、容量市場システムで付番された番号を記載してください。
C40: ・容量を提供する電源等の区分については、安定電源で固定です。
C41: ・新設・リプレース等及び電源種別については、電源等情報に登録した内容を記載してください。
C42: ・エリア名については、電源等情報に登録した「エリア名」を記載してください。
C43: ・本オークションに参加可能な設備容量(送電端)については、電源等情報登録様式に記載した値としてください。
C44: ・各月の発電可能電力(期待容量算出用)については、本オークションに参加可能な設備容量(送電端)から大気温及びダム水位低下等の影響による能力減分を差し引いた値を記載ください。
...

Sheet webにUP時は非表示にする⇒
B2: 年度更新時に数値をアップデートする必要があるのは、以下の2シート
C3: 計算用(期待容量)
C4: 調整係数一覧
B6: また、以下のシートの注釈を修正する必要があるので注意(現状、変更すべき箇所は朱太字としている)
C7: 記載例
C8: 入力

Sheet 入力
A1: 入力箇所(期待容量登録時) | F1: 追加入力箇所(応札容量登録時) | I1: エラー時
A2: 様式2
A4: 期待容量等算定諸元一覧
A8: ※期待容量の登録申込の際、チェックしてください
B9: 電源等情報に実需給年度の時点で想定される情報が登録されていることを確認しました。
M11: <会社名>
A12: 項目 | E12: 事業者入力 | Q12: 単位
A13: 電源等識別番号 | E13: =入力シート!D10 -> 0
A14: 容量を提供する 電源等の区分
A15: 発電方式の区分
A16: エリア名 | E16: =入力シート!D14 -> 0
A17: 本オークションに参加可能な設備容量(送電端) | E17: =入力シート!D15 -> 0 | Q17: kW
A18: 各月の送電または 放電可能電力 | E18: 4月 | F18: 5月 | G18: 6月 | H18: 7月 | I18: 8月 | J18: 9月 | K18: 10月 | L18: 11月 | M18: 12月 | N18: 1月 | O18: 2月 | P18: 3月
E19: =ROUND(入力シート!D17,0) -> 0 | F19: =ROUND(入力シート!E17,0) -> 0 | G19: =ROUND(入力シート!F17,0) -> 0 | H19: =ROUND(入力シート!G17,0) -> 0 | I19: =ROUND(入力シート!H17,0) -> 0 | J19: =ROUND(入力シート!I17,0) -> 0 | K19: =ROUND(入力シート!J17,0) -> 0 | L19: =ROUND(入力シート!K17,0) -> 0 | ... P19: =ROUND(入力シート!O17,0) -> 0 | Q19: kW
A20: 各月の運転または 放電継続時間 (期待容量算出用) | E20: 4月 | F20: 5月 | G20: 6月 | H20: 7月 | I20: 8月 | J20: 9月 | K20: 10月 | L20: 11月 | M20: 12月 | N20: 1月 | O20: 2月 | P20: 3月
E21: =ROUND(入力シート!D19,0) -> 0 | F21: =ROUND(入力シート!E19,0) -> 0 | G21: =ROUND(入力シート!F19,0) -> 0 | H21: =ROUND(入力シート!G19,0) -> 0 | I21: =ROUND(入力シート!H19,0) -> 0 | J21: =ROUND(入力シート!I19,0) -> 0 | K21: =ROUND(入力シート!J19,0) -> 0 | L21: =ROUND(入力シート!K19,0) -> 0 | ... P21: =ROUND(入力シート!O19,0) -> 0 | Q21: h
A22: 連続発電可能時間 (年平均値) | E22: =ROUNDDOWN(AVERAGE(E21:P21),0) -> 0
A23: 各月の上池容量または 各月の蓄電池容量 (期待容量算出用) | E23: 4月 | F23: 5月 | G23: 6月 | H23: 7月 | I23: 8月 | J23: 9月 | K23: 10月 | L23: 11月 | M23: 12月 | N23: 1月 | O23: 2月 | P23: 3月
E24: =E21*E19 -> 0 | F24: =F21*F19 -> 0 | G24: =G21*G19 -> 0 | H24: =H21*H19 -> 0 | I24: =I21*I19 -> 0 | J24: =J21*J19 -> 0 | K24: =K21*K19 -> 0 | L24: =L21*L19 -> 0 | ... P24: =P21*P19 -> 0 | Q24: kWh
A25: 各月の調整係数 (期待容量算出用) | E25: 4月 | F25: 5月 | G25: 6月 | H25: 7月 | I25: 8月 | J25: 9月 | K25: 10月 | L25: 11月 | M25: 12月 | N25: 1月 | O25: 2月 | P25: 3月
E26: =IF(E$21>=MAX(調整係数一覧!$A$202:$A$221),VLOOKUP(MAX(調整係数一覧!$A$202:$A$221),調整係数一覧!$A$202:$M$221,COLUMN(E$26)-3,0),VLOOKUP(E$21,調整係数一覧!$A$202:$M$221,COLUMN(E$26)-3,0)) -> #N/A | F26: =IF(F$21>=MAX(調整係数一覧!$A$202:$A$221),VLOOKUP(MAX(調整係数一覧!$A$202:$A$221),調整係数一覧!$A$202:$M$221,COLUMN(F$26)-3,0),VLOOKUP(F$21,調整係数一覧!$A$202:$M$221,COLUMN(F$26)-3,0)) -> #N/A | G26: =IF(G$21>=MAX(調整係数一覧!$A$202:$A$221),VLOOKUP(MAX(調整係数一覧!$A$202:$A$221),調整係数一覧!$A$202:$M$221,COLUMN(G$26)-3,0),VLOOKUP(G$21,調整係数一覧!$A$202:$M$221,COLUMN(G$26)-3,0)) -> #N/A | H26: =IF(H$21>=MAX(調整係数一覧!$A$202:$A$221),VLOOKUP(MAX(調整係数一覧!$A$202:$A$221),調整係数一覧!$A$202:$M$221,COLUMN(H$26)-3,0),VLOOKUP(H$21,調整係数一覧!$A$202:$M$221,COLUMN(H$26)-3,0)) -> #N/A | I26: =IF(I$21>=MAX(調整係数一覧!$A$202:$A$221),VLOOKUP(MAX(調整係数一覧!$A$202:$A$221),調整係数一覧!$A$202:$M$221,COLUMN(I$26)-3,0),VLOOKUP(I$21,調整係数一覧!$A$202:$M$221,COLUMN(I$26)-3,0)) -> #N/A | J26: =IF(J$21>=MAX(調整係数一覧!$A$202:$A$221),VLOOKUP(MAX(調整係数一覧!$A$202:$A$221),調整係数一覧!$A$202:$M$221,COLUMN(J$26)-3,0),VLOOKUP(J$21,調整係数一覧!$A$202:$M$221,COLUMN(J$26)-3,0)) -> #N/A | K26: =IF(K$21>=MAX(調整係数一覧!$A$202:$A$221),VLOOKUP(MAX(調整係数一覧!$A$202:$A$221),調整係数一覧!$A$202:$M$221,COLUMN(K$26)-3,0),VLOOKUP(K$21,調整係数一覧!$A$202:$M$221,COLUMN(K$26)-3,0)) -> #N/A | L26: =IF(L$21>=MAX(調整係数一覧!$A$202:$A$221),VLOOKUP(MAX(調整係数一覧!$A$202:$A$221),調整係数一覧!$A$202:$M$221,COLUMN(L$26)-3,0),VLOOKUP(L$21,調整係数一覧!$A$202:$M$221,COLUMN(L$26)-3,0)) -> #N/A | ... P26: =IF(P$21>=MAX(調整係数一覧!$A$202:$A$221),VLOOKUP(MAX(調整係数一覧!$A$202:$A$221),調整係数一覧!$A$202:$M$221,COLUMN(P$26)-3,0),VLOOKUP(P$21,調整係数一覧!$A$202:$M$221,COLUMN(P$26)-3,0)) -> #N/A | Q26: %
A27: 期待容量 | E27: =ROUND('計算用(期待容量)'!B93,0) -> 0 | Q27: kW
A28: 各月の管理容量 | E28: 4月 | F28: 5月 | G28: 6月 | H28: 7月 | I28: 8月 | J28: 9月 | K28: 10月 | L28: 11月 | M28: 12月 | N28: 1月 | O28: 2月 | P28: 3月
E29: =ROUND(入力シート!D27,0) -> 0 | F29: =ROUND(入力シート!E27,0) -> 0 | G29: =ROUND(入力シート!F27,0) -> 0 | H29: =ROUND(入力シート!G27,0) -> 0 | I29: =ROUND(入力シート!H27,0) -> 0 | J29: =ROUND(入力シート!I27,0) -> 0 | K29: =ROUND(入力シート!J27,0) -> 0 | L29: =ROUND(入力シート!K27,0) -> 0 | ... P29: =ROUND(入力シート!O27,0) -> 0 | Q29: kW
A30: 各月の運転または 放電継続時間 (応札容量算出用) | E30: 4月 | F30: 5月 | G30: 6月 | H30: 7月 | I30: 8月 | J30: 9月 | K30: 10月 | L30: 11月 | M30: 12月 | N30: 1月 | O30: 2月 | P30: 3月
E31: =ROUND(入力シート!D29,0) -> 0 | F31: =ROUND(入力シート!E29,0) -> 0 | G31: =ROUND(入力シート!F29,0) -> 0 | H31: =ROUND(入力シート!G29,0) -> 0 | I31: =ROUND(入力シート!H29,0) -> 0 | J31: =ROUND(入力シート!I29,0) -> 0 | K31: =ROUND(入力シート!J29,0) -> 0 | L31: =ROUND(入力シート!K29,0) -> 0 | ... P31: =ROUND(入力シート!O29,0) -> 0 | Q31: h
A32: 連続発電可能時間 (年平均値) | E32: =ROUNDDOWN(AVERAGE(E31:P31),0) -> 0
A33: 各月の上池容量または 各月の蓄電池容量 (応札容量算出用) | E33: 4月 | F33: 5月 | G33: 6月 | H33: 7月 | I33: 8月 | J33: 9月 | K33: 10月 | L33: 11月 | M33: 12月 | N33: 1月 | O33: 2月 | P33: 3月
E34: =E31*E29 -> 0 | F34: =F31*F29 -> 0 | G34: =G31*G29 -> 0 | H34: =H31*H29 -> 0 | I34: =I31*I29 -> 0 | J34: =J31*J29 -> 0 | K34: =K31*K29 -> 0 | L34: =L31*L29 -> 0 | ... P34: =P31*P29 -> 0 | Q34: kWh
A35: 各月の調整係数 (応札容量算出用) | E35: 4月 | F35: 5月 | G35: 6月 | H35: 7月 | I35: 8月 | J35: 9月 | K35: 10月 | L35: 11月 | M35: 12月 | N35: 1月 | O35: 2月 | P35: 3月
E36: =IF(E$31>=MAX(調整係数一覧!$A$202:$A$221),VLOOKUP(MAX(調整係数一覧!$A$202:$A$221),調整係数一覧!$A$202:$M$221,COLUMN(E$36)-3,0),VLOOKUP(E$31,調整係数一覧!$A$202:$M$221,COLUMN(E$36)-3,0)) -> #N/A | F36: =IF(F$31>=MAX(調整係数一覧!$A$202:$A$221),VLOOKUP(MAX(調整係数一覧!$A$202:$A$221),調整係数一覧!$A$202:$M$221,COLUMN(F$36)-3,0),VLOOKUP(F$31,調整係数一覧!$A$202:$M$221,COLUMN(F$36)-3,0)) -> #N/A | G36: =IF(G$31>=MAX(調整係数一覧!$A$202:$A$221),VLOOKUP(MAX(調整係数一覧!$A$202:$A$221),調整係数一覧!$A$202:$M$221,COLUMN(G$36)-3,0),VLOOKUP(G$31,調整係数一覧!$A$202:$M$221,COLUMN(G$36)-3,0)) -> #N/A | H36: =IF(H$31>=MAX(調整係数一覧!$A$202:$A$221),VLOOKUP(MAX(調整係数一覧!$A$202:$A$221),調整係数一覧!$A$202:$M$221,COLUMN(H$36)-3,0),VLOOKUP(H$31,調整係数一覧!$A$202:$M$221,COLUMN(H$36)-3,0)) -> #N/A | I36: =IF(I$31>=MAX(調整係数一覧!$A$202:$A$221),VLOOKUP(MAX(調整係数一覧!$A$202:$A$221),調整係数一覧!$A$202:$M$221,COLUMN(I$36)-3,0),VLOOKUP(I$31,調整係数一覧!$A$202:$M$221,COLUMN(I$36)-3,0)) -> #N/A | J36: =IF(J$31>=MAX(調整係数一覧!$A$202:$A$221),VLOOKUP(MAX(調整係数一覧!$A$202:$A$221),調整係数一覧!$A$202:$M$221,COLUMN(J$36)-3,0),VLOOKUP(J$31,調整係数一覧!$A$202:$M$221,COLUMN(J$36)-3,0)) -> #N/A | K36: =IF(K$31>=MAX(調整係数一覧!$A$202:$A$221),VLOOKUP(MAX(調整係数一覧!$A$202:$A$221),調整係数一覧!$A$202:$M$221,COLUMN(K$36)-3,0),VLOOKUP(K$31,調整係数一覧!$A$202:$M$221,COLUMN(K$36)-3,0)) -> #N/A | L36: =IF(L$31>=MAX(調整係数一覧!$A$202:$A$221),VLOOKUP(MAX(調整係数一覧!$A$202:$A$221),調整係数一覧!$A$202:$M$221,COLUMN(L$36)-3,0),VLOOKUP(L$31,調整係数一覧!$A$202:$M$221,COLUMN(L$36)-3,0)) -> #N/A | ... P36: =IF(P$31>=MAX(調整係数一覧!$A$202:$A$221),VLOOKUP(MAX(調整係数一覧!$A$202:$A$221),調整係数一覧!$A$202:$M$221,COLUMN(P$36)-3,0),VLOOKUP(P$31,調整係数一覧!$A$202:$M$221,COLUMN(P$36)-3,0)) -> #N/A | Q36: %
A37: 応札容量 | E37: =ROUND('計算用(応札容量)'!B93,0) -> 0 | Q37: kW

Sheet 計算用(期待容量)
J1: (MW) | M1: ：手入力(他ファイルよりマクロ貼り付け可能) | S1: ＜考え方＞
B2: 北海道 | C2: 東北 | D2: 東京 | E2: 中部 | F2: 北陸 | G2: 関西 | H2: 中国 | I2: 四国 | J2: 九州 | S2: 別ファイルの年間調整係数算定と同様の計算式であり、事業者による各月供給力を元に、
A3: ①必要供給力(安定電源) | S3: 年間調整係数を算定する仕組み。
A4: 4月 | B4: 4867.6376 | C4: 12233.749 | D4: 42414.712 | E4: 18194.105 | F4: 3655.4152 | G4: 17258.041 | H4: 7083.9253 | I4: 4690.2908 | J4: 12364.191
A5: 5月 | B5: 4399.3931 | C5: 11301.26 | D5: 41406.672 | E5: 18370.041 | F5: 3413.4356 | G5: 18448.708 | H5: 7106.457 | I5: 4852.0297 | J5: 13404.03 | S5: ＜入力手順＞
A6: 6月 | B6: 4563.0191 | C6: 12456.888 | D6: 49202.524 | E6: 20191.526 | F6: 4000.3689 | G6: 20967.443 | H6: 8087.23 | I6: 5660.6947 | J6: 15181.948 | S6: 揚水の供給力算定ファイルの年間調整係数シートの下記の値を入力する。
A7: 7月 | B7: 5407.9753 | C7: 14989.065 | D7: 62856.953 | E7: 23937.98 | F7: 4870.79 | G7: 26768.279 | H7: 10500.942 | I7: 6998.68 | J7: 19566.848
A8: 8月 | B8: 5446.804 | C8: 15367.67 | D8: 62855.924 | E8: 23937.98 | F8: 4870.79 | G8: 26773.29 | H8: 10498.358 | I8: 6998.68 | J8: 19566.848
A9: 9月 | B9: 4991.1939 | C9: 13683.935 | D9: 53787.096 | E9: 22892.701 | F9: 4278.6757 | G9: 23440.048 | H9: 9107.9082 | I9: 6234.1184 | J9: 17047.102
A10: 10月 | B10: 4765.3012 | C10: 11935.996 | D10: 44493.789 | E10: 19135.9 | F10: 3588.4825 | G10: 19036.509 | H10: 7560.9827 | I10: 5234.3055 | J10: 14294.799
A11: 11月 | B11: 5460.0793 | C11: 13428.963 | D11: 45287.875 | E11: 19177.289 | F11: 3881.9542 | G11: 18460.741 | H11: 7979.3412 | I11: 4999.0543 | J11: 14219.201
A12: 12月 | B12: 6091.3091 | C12: 15061.552 | D12: 50026.041 | E12: 22023.358 | F12: 4638.7743 | G12: 23659.721 | H12: 9981.4054 | I12: 6645.8031 | J12: 17034.711
A13: 1月 | B13: 6331.24 | C13: 15786.482 | D13: 54673.847 | E13: 23834.486 | F13: 5035.21 | G13: 24811.258 | H13: 10167.328 | I13: 6645.8031 | J13: 18024.355
A14: 2月 | B14: 6293.3369 | C14: 15752.981 | D14: 54675.222 | E14: 23834.486 | F14: 5035.21 | G14: 24817.28 | H14: 10167.542 | I14: 6645.8031 | J14: 18024.355
A15: 3月 | B15: 5700.3866 | C15: 14446.487 | D15: 48307.876 | E15: 20967.722 | F15: 4309.2712 | G15: 21128.942 | H15: 8506.2115 | I15: 5572.478 | J15: 14830.997
A17: ②容量市場調達量 | B17: 161167.57
A19: ③再エネ各月kW
A20: 4月 | B20: 879.90859 | C20: 4063.6504 | D20: 1866.3684 | E20: 1632.5613 | F20: 1306.8716 | G20: 1657.0418 | H20: 896.55563 | I20: 511.4597 | J20: 864.00265
A21: 5月 | B21: 1042.9629 | C21: 4569.2538 | D21: 3908.7588 | E21: 2803.6772 | F21: 1448.7083 | G21: 2610.7433 | H21: 1658.7421 | I21: 983.17758 | J21: 1304.436
A22: 6月 | B22: 1018.2352 | C22: 4603.0002 | D22: 5253.057 | E22: 3829.1855 | F22: 1210.8289 | G22: 3581.3079 | H22: 2141.1187 | I22: 1101.925 | J22: 2255.2417
A23: 7月 | B23: 897.83655 | C23: 4269.8572 | D23: 6224.9095 | E23: 4465.005 | F23: 1255.9632 | G23: 4151.8836 | H23: 2911.0939 | I23: 1298.1169 | J23: 2169.2342
A24: 8月 | B24: 852.01444 | C24: 4546.6067 | D24: 6276.6157 | E24: 3966.6173 | F24: 1105.9153 | G24: 3852.8269 | H24: 2799.5949 | I24: 1324.4027 | J24: 1901.486
A25: 9月 | B25: 711.03193 | C25: 3780.4984 | D25: 4682.0379 | E25: 3329.6137 | F25: 1007.6078 | G25: 3095.8119 | H25: 2042.5242 | I25: 1073.5106 | J25: 2068.6836
A26: 10月 | B26: 702.72166 | C26: 2977.648 | D26: 3061.4042 | E26: 2306.2639 | F26: 881.98043 | G26: 2042.2702 | H26: 1437.042 | I26: 771.56823 | J26: 1300.6914
A27: 11月 | B27: 827.43308 | C27: 2968.4079 | D27: 1125.8388 | E27: 885.04374 | F27: 869.48173 | G27: 828.31287 | H27: 440.51373 | I27: 408.11852 | J27: 956.21956
A28: 12月 | B28: 925.55473 | C28: 4657.9044 | D28: 1161.3454 | E28: 1092.4766 | F28: 1098.3057 | G28: 1115.0612 | H28: 664.44617 | I28: 469.60963 | J28: 1287.6762
A29: 1月 | B29: 661.86111 | C29: 4523.4551 | D29: 1619.096 | E29: 1452.288 | F29: 972.57422 | G29: 1330.9079 | H29: 1007.8147 | I29: 572.11723 | J29: 1212.8558
A30: 2月 | B30: 800.59365 | C30: 4241.5497 | D30: 1227.2499 | E30: 1176.0158 | F30: 933.31738 | G30: 1393.5273 | H30: 850.74645 | I30: 543.73331 | J30: 1268.1666
A31: 3月 | B31: 640.78115 | C31: 2793.3624 | D31: 1441.6649 | E31: 1249.7244 | F31: 1019.28 | G31: 1398.1092 | H31: 803.65374 | I31: 564.17485 | J31: 1053.0394
A33: ④必要供給力(再エネ除き)
A34: 4月 | B34: =B4-B20 -> 3987.729 | C34: =C4-C20 -> 8170.0984 | D34: =D4-D20 -> 40548.343 | E34: =E4-E20 -> 16561.544 | F34: =F4-F20 -> 2348.5436 | G34: =G4-G20 -> 15600.999 | H34: =H4-H20 -> 6187.3697 | I34: =I4-I20 -> 4178.8311 | J34: =J4-J20 -> 11500.189
A35: 5月 | B35: =B5-B21 -> 3356.4302 | C35: =C5-C21 -> 6732.006 | D35: =D5-D21 -> 37497.914 | E35: =E5-E21 -> 15566.364 | F35: =F5-F21 -> 1964.7273 | G35: =G5-G21 -> 15837.964 | H35: =H5-H21 -> 5447.7149 | I35: =I5-I21 -> 3868.8522 | J35: =J5-J21 -> 12099.594
A36: 6月 | B36: =B6-B22 -> 3544.784 | C36: =C6-C22 -> 7853.8878 | D36: =D6-D22 -> 43949.467 | E36: =E6-E22 -> 16362.34 | F36: =F6-F22 -> 2789.54 | G36: =G6-G22 -> 17386.136 | H36: =H6-H22 -> 5946.1113 | I36: =I6-I22 -> 4558.7697 | J36: =J6-J22 -> 12926.706
A37: 7月 | B37: =B7-B23 -> 4510.1387 | C37: =C7-C23 -> 10719.208 | D37: =D7-D23 -> 56632.044 | E37: =E7-E23 -> 19472.975 | F37: =F7-F23 -> 3614.8268 | G37: =G7-G23 -> 22616.395 | H37: =H7-H23 -> 7589.8482 | I37: =I7-I23 -> 5700.5631 | J37: =J7-J23 -> 17397.614
A38: 8月 | B38: =B8-B24 -> 4594.7896 | C38: =C8-C24 -> 10821.063 | D38: =D8-D24 -> 56579.308 | E38: =E8-E24 -> 19971.363 | F38: =F8-F24 -> 3764.8747 | G38: =G8-G24 -> 22920.463 | H38: =H8-H24 -> 7698.7631 | I38: =I8-I24 -> 5674.2773 | J38: =J8-J24 -> 17665.362
A39: 9月 | B39: =B9-B25 -> 4280.162 | C39: =C9-C25 -> 9903.4362 | D39: =D9-D25 -> 49105.059 | E39: =E9-E25 -> 19563.087 | F39: =F9-F25 -> 3271.0679 | G39: =G9-G25 -> 20344.236 | H39: =H9-H25 -> 7065.384 | I39: =I9-I25 -> 5160.6078 | J39: =J9-J25 -> 14978.418
A40: 10月 | B40: =B10-B26 -> 4062.5795 | C40: =C10-C26 -> 8958.3479 | D40: =D10-D26 -> 41432.385 | E40: =E10-E26 -> 16829.636 | F40: =F10-F26 -> 2706.5021 | G40: =G10-G26 -> 16994.239 | H40: =H10-H26 -> 6123.9407 | I40: =I10-I26 -> 4462.7373 | J40: =J10-J26 -> 12994.107
A41: 11月 | B41: =B11-B27 -> 4632.6462 | C41: =C11-C27 -> 10460.556 | D41: =D11-D27 -> 44162.037 | E41: =E11-E27 -> 18292.246 | F41: =F11-F27 -> 3012.4725 | G41: =G11-G27 -> 17632.428 | H41: =H11-H27 -> 7538.8274 | I41: =I11-I27 -> 4590.9358 | J41: =J11-J27 -> 13262.981
A42: 12月 | B42: =B12-B28 -> 5165.7544 | C42: =C12-C28 -> 10403.648 | D42: =D12-D28 -> 48864.696 | E42: =E12-E28 -> 20930.882 | F42: =F12-F28 -> 3540.4686 | G42: =G12-G28 -> 22544.66 | H42: =H12-H28 -> 9316.9592 | I42: =I12-I28 -> 6176.1935 | J42: =J12-J28 -> 15747.034
A43: 1月 | B43: =B13-B29 -> 5669.3789 | C43: =C13-C29 -> 11263.027 | D43: =D13-D29 -> 53054.751 | E43: =E13-E29 -> 22382.198 | F43: =F13-F29 -> 4062.6358 | G43: =G13-G29 -> 23480.35 | H43: =H13-H29 -> 9159.5131 | I43: =I13-I29 -> 6073.6859 | J43: =J13-J29 -> 16811.499
...

Sheet 計算用(応札容量)
J1: (MW) | M1: ：手入力(他ファイルよりマクロ貼り付け可能)
B2: 北海道 | C2: 東北 | D2: 東京 | E2: 中部 | F2: 北陸 | G2: 関西 | H2: 中国 | I2: 四国 | J2: 九州
A3: ①必要供給力(安定電源)
A4: 4月 | B4: ='計算用(期待容量)'!B4 -> 4867.6376 | C4: ='計算用(期待容量)'!C4 -> 12233.749 | D4: ='計算用(期待容量)'!D4 -> 42414.712 | E4: ='計算用(期待容量)'!E4 -> 18194.105 | F4: ='計算用(期待容量)'!F4 -> 3655.4152 | G4: ='計算用(期待容量)'!G4 -> 17258.041 | H4: ='計算用(期待容量)'!H4 -> 7083.9253 | I4: ='計算用(期待容量)'!I4 -> 4690.2908 | J4: ='計算用(期待容量)'!J4 -> 12364.191
A5: 5月 | B5: ='計算用(期待容量)'!B5 -> 4399.3931 | C5: ='計算用(期待容量)'!C5 -> 11301.26 | D5: ='計算用(期待容量)'!D5 -> 41406.672 | E5: ='計算用(期待容量)'!E5 -> 18370.041 | F5: ='計算用(期待容量)'!F5 -> 3413.4356 | G5: ='計算用(期待容量)'!G5 -> 18448.708 | H5: ='計算用(期待容量)'!H5 -> 7106.457 | I5: ='計算用(期待容量)'!I5 -> 4852.0297 | J5: ='計算用(期待容量)'!J5 -> 13404.03
A6: 6月 | B6: ='計算用(期待容量)'!B6 -> 4563.0191 | C6: ='計算用(期待容量)'!C6 -> 12456.888 | D6: ='計算用(期待容量)'!D6 -> 49202.524 | E6: ='計算用(期待容量)'!E6 -> 20191.526 | F6: ='計算用(期待容量)'!F6 -> 4000.3689 | G6: ='計算用(期待容量)'!G6 -> 20967.443 | H6: ='計算用(期待容量)'!H6 -> 8087.23 | I6: ='計算用(期待容量)'!I6 -> 5660.6947 | J6: ='計算用(期待容量)'!J6 -> 15181.948
A7: 7月 | B7: ='計算用(期待容量)'!B7 -> 5407.9753 | C7: ='計算用(期待容量)'!C7 -> 14989.065 | D7: ='計算用(期待容量)'!D7 -> 62856.953 | E7: ='計算用(期待容量)'!E7 -> 23937.98 | F7: ='計算用(期待容量)'!F7 -> 4870.79 | G7: ='計算用(期待容量)'!G7 -> 26768.279 | H7: ='計算用(期待容量)'!H7 -> 10500.942 | I7: ='計算用(期待容量)'!I7 -> 6998.68 | J7: ='計算用(期待容量)'!J7 -> 19566.848
A8: 8月 | B8: ='計算用(期待容量)'!B8 -> 5446.804 | C8: ='計算用(期待容量)'!C8 -> 15367.67 | D8: ='計算用(期待容量)'!D8 -> 62855.924 | E8: ='計算用(期待容量)'!E8 -> 23937.98 | F8: ='計算用(期待容量)'!F8 -> 4870.79 | G8: ='計算用(期待容量)'!G8 -> 26773.29 | H8: ='計算用(期待容量)'!H8 -> 10498.358 | I8: ='計算用(期待容量)'!I8 -> 6998.68 | J8: ='計算用(期待容量)'!J8 -> 19566.848
A9: 9月 | B9: ='計算用(期待容量)'!B9 -> 4991.1939 | C9: ='計算用(期待容量)'!C9 -> 13683.935 | D9: ='計算用(期待容量)'!D9 -> 53787.096 | E9: ='計算用(期待容量)'!E9 -> 22892.701 | F9: ='計算用(期待容量)'!F9 -> 4278.6757 | G9: ='計算用(期待容量)'!G9 -> 23440.048 | H9: ='計算用(期待容量)'!H9 -> 9107.9082 | I9: ='計算用(期待容量)'!I9 -> 6234.1184 | J9: ='計算用(期待容量)'!J9 -> 17047.102
A10: 10月 | B10: ='計算用(期待容量)'!B10 -> 4765.3012 | C10: ='計算用(期待容量)'!C10 -> 11935.996 | D10: ='計算用(期待容量)'!D10 -> 44493.789 | E10: ='計算用(期待容量)'!E10 -> 19135.9 | F10: ='計算用(期待容量)'!F10 -> 3588.4825 | G10: ='計算用(期待容量)'!G10 -> 19036.509 | H10: ='計算用(期待容量)'!H10 -> 7560.9827 | I10: ='計算用(期待容量)'!I10 -> 5234.3055 | J10: ='計算用(期待容量)'!J10 -> 14294.799
A11: 11月 | B11: ='計算用(期待容量)'!B11 -> 5460.0793 | C11: ='計算用(期待容量)'!C11 -> 13428.963 | D11: ='計算用(期待容量)'!D11 -> 45287.875 | E11: ='計算用(期待容量)'!E11 -> 19177.289 | F11: ='計算用(期待容量)'!F11 -> 3881.9542 | G11: ='計算用(期待容量)'!G11 -> 18460.741 | H11: ='計算用(期待容量)'!H11 -> 7979.3412 | I11: ='計算用(期待容量)'!I11 -> 4999.0543 | J11: ='計算用(期待容量)'!J11 -> 14219.201
A12: 12月 | B12: ='計算用(期待容量)'!B12 -> 6091.3091 | C12: ='計算用(期待容量)'!C12 -> 15061.552 | D12: ='計算用(期待容量)'!D12 -> 50026.041 | E12: ='計算用(期待容量)'!E12 -> 22023.358 | F12: ='計算用(期待容量)'!F12 -> 4638.7743 | G12: ='計算用(期待容量)'!G12 -> 23659.721 | H12: ='計算用(期待容量)'!H12 -> 9981.4054 | I12: ='計算用(期待容量)'!I12 -> 6645.8031 | J12: ='計算用(期待容量)'!J12 -> 17034.711
A13: 1月 | B13: ='計算用(期待容量)'!B13 -> 6331.24 | C13: ='計算用(期待容量)'!C13 -> 15786.482 | D13: ='計算用(期待容量)'!D13 -> 54673.847 | E13: ='計算用(期待容量)'!E13 -> 23834.486 | F13: ='計算用(期待容量)'!F13 -> 5035.21 | G13: ='計算用(期待容量)'!G13 -> 24811.258 | H13: ='計算用(期待容量)'!H13 -> 10167.328 | I13: ='計算用(期待容量)'!I13 -> 6645.8031 | J13: ='計算用(期待容量)'!J13 -> 18024.355
A14: 2月 | B14: ='計算用(期待容量)'!B14 -> 6293.3369 | C14: ='計算用(期待容量)'!C14 -> 15752.981 | D14: ='計算用(期待容量)'!D14 -> 54675.222 | E14: ='計算用(期待容量)'!E14 -> 23834.486 | F14: ='計算用(期待容量)'!F14 -> 5035.21 | G14: ='計算用(期待容量)'!G14 -> 24817.28 | H14: ='計算用(期待容量)'!H14 -> 10167.542 | I14: ='計算用(期待容量)'!I14 -> 6645.8031 | J14: ='計算用(期待容量)'!J14 -> 18024.355
A15: 3月 | B15: ='計算用(期待容量)'!B15 -> 5700.3866 | C15: ='計算用(期待容量)'!C15 -> 14446.487 | D15: ='計算用(期待容量)'!D15 -> 48307.876 | E15: ='計算用(期待容量)'!E15 -> 20967.722 | F15: ='計算用(期待容量)'!F15 -> 4309.2712 | G15: ='計算用(期待容量)'!G15 -> 21128.942 | H15: ='計算用(期待容量)'!H15 -> 8506.2115 | I15: ='計算用(期待容量)'!I15 -> 5572.478 | J15: ='計算用(期待容量)'!J15 -> 14830.997
A17: ②再エネ除きの調達量 | B17: ='計算用(期待容量)'!B17 -> 161167.57
A19: ③再エネ各月kW
A20: 4月 | B20: ='計算用(期待容量)'!B20 -> 879.90859 | C20: ='計算用(期待容量)'!C20 -> 4063.6504 | D20: ='計算用(期待容量)'!D20 -> 1866.3684 | E20: ='計算用(期待容量)'!E20 -> 1632.5613 | F20: ='計算用(期待容量)'!F20 -> 1306.8716 | G20: ='計算用(期待容量)'!G20 -> 1657.0418 | H20: ='計算用(期待容量)'!H20 -> 896.55563 | I20: ='計算用(期待容量)'!I20 -> 511.4597 | J20: ='計算用(期待容量)'!J20 -> 864.00265
A21: 5月 | B21: ='計算用(期待容量)'!B21 -> 1042.9629 | C21: ='計算用(期待容量)'!C21 -> 4569.2538 | D21: ='計算用(期待容量)'!D21 -> 3908.7588 | E21: ='計算用(期待容量)'!E21 -> 2803.6772 | F21: ='計算用(期待容量)'!F21 -> 1448.7083 | G21: ='計算用(期待容量)'!G21 -> 2610.7433 | H21: ='計算用(期待容量)'!H21 -> 1658.7421 | I21: ='計算用(期待容量)'!I21 -> 983.17758 | J21: ='計算用(期待容量)'!J21 -> 1304.436
A22: 6月 | B22: ='計算用(期待容量)'!B22 -> 1018.2352 | C22: ='計算用(期待容量)'!C22 -> 4603.0002 | D22: ='計算用(期待容量)'!D22 -> 5253.057 | E22: ='計算用(期待容量)'!E22 -> 3829.1855 | F22: ='計算用(期待容量)'!F22 -> 1210.8289 | G22: ='計算用(期待容量)'!G22 -> 3581.3079 | H22: ='計算用(期待容量)'!H22 -> 2141.1187 | I22: ='計算用(期待容量)'!I22 -> 1101.925 | J22: ='計算用(期待容量)'!J22 -> 2255.2417
A23: 7月 | B23: ='計算用(期待容量)'!B23 -> 897.83655 | C23: ='計算用(期待容量)'!C23 -> 4269.8572 | D23: ='計算用(期待容量)'!D23 -> 6224.9095 | E23: ='計算用(期待容量)'!E23 -> 4465.005 | F23: ='計算用(期待容量)'!F23 -> 1255.9632 | G23: ='計算用(期待容量)'!G23 -> 4151.8836 | H23: ='計算用(期待容量)'!H23 -> 2911.0939 | I23: ='計算用(期待容量)'!I23 -> 1298.1169 | J23: ='計算用(期待容量)'!J23 -> 2169.2342
A24: 8月 | B24: ='計算用(期待容量)'!B24 -> 852.01444 | C24: ='計算用(期待容量)'!C24 -> 4546.6067 | D24: ='計算用(期待容量)'!D24 -> 6276.6157 | E24: ='計算用(期待容量)'!E24 -> 3966.6173 | F24: ='計算用(期待容量)'!F24 -> 1105.9153 | G24: ='計算用(期待容量)'!G24 -> 3852.8269 | H24: ='計算用(期待容量)'!H24 -> 2799.5949 | I24: ='計算用(期待容量)'!I24 -> 1324.4027 | J24: ='計算用(期待容量)'!J24 -> 1901.486
A25: 9月 | B25: ='計算用(期待容量)'!B25 -> 711.03193 | C25: ='計算用(期待容量)'!C25 -> 3780.4984 | D25: ='計算用(期待容量)'!D25 -> 4682.0379 | E25: ='計算用(期待容量)'!E25 -> 3329.6137 | F25: ='計算用(期待容量)'!F25 -> 1007.6078 | G25: ='計算用(期待容量)'!G25 -> 3095.8119 | H25: ='計算用(期待容量)'!H25 -> 2042.5242 | I25: ='計算用(期待容量)'!I25 -> 1073.5106 | J25: ='計算用(期待容量)'!J25 -> 2068.6836
A26: 10月 | B26: ='計算用(期待容量)'!B26 -> 702.72166 | C26: ='計算用(期待容量)'!C26 -> 2977.648 | D26: ='計算用(期待容量)'!D26 -> 3061.4042 | E26: ='計算用(期待容量)'!E26 -> 2306.2639 | F26: ='計算用(期待容量)'!F26 -> 881.98043 | G26: ='計算用(期待容量)'!G26 -> 2042.2702 | H26: ='計算用(期待容量)'!H26 -> 1437.042 | I26: ='計算用(期待容量)'!I26 -> 771.56823 | J26: ='計算用(期待容量)'!J26 -> 1300.6914
A27: 11月 | B27: ='計算用(期待容量)'!B27 -> 827.43308 | C27: ='計算用(期待容量)'!C27 -> 2968.4079 | D27: ='計算用(期待容量)'!D27 -> 1125.8388 | E27: ='計算用(期待容量)'!E27 -> 885.04374 | F27: ='計算用(期待容量)'!F27 -> 869.48173 | G27: ='計算用(期待容量)'!G27 -> 828.31287 | H27: ='計算用(期待容量)'!H27 -> 440.51373 | I27: ='計算用(期待容量)'!I27 -> 408.11852 | J27: ='計算用(期待容量)'!J27 -> 956.21956
A28: 12月 | B28: ='計算用(期待容量)'!B28 -> 925.55473 | C28: ='計算用(期待容量)'!C28 -> 4657.9044 | D28: ='計算用(期待容量)'!D28 -> 1161.3454 | E28: ='計算用(期待容量)'!E28 -> 1092.4766 | F28: ='計算用(期待容量)'!F28 -> 1098.3057 | G28: ='計算用(期待容量)'!G28 -> 1115.0612 | H28: ='計算用(期待容量)'!H28 -> 664.44617 | I28: ='計算用(期待容量)'!I28 -> 469.60963 | J28: ='計算用(期待容量)'!J28 -> 1287.6762
A29: 1月 | B29: ='計算用(期待容量)'!B29 -> 661.86111 | C29: ='計算用(期待容量)'!C29 -> 4523.4551 | D29: ='計算用(期待容量)'!D29 -> 1619.096 | E29: ='計算用(期待容量)'!E29 -> 1452.288 | F29: ='計算用(期待容量)'!F29 -> 972.57422 | G29: ='計算用(期待容量)'!G29 -> 1330.9079 | H29: ='計算用(期待容量)'!H29 -> 1007.8147 | I29: ='計算用(期待容量)'!I29 -> 572.11723 | J29: ='計算用(期待容量)'!J29 -> 1212.8558
A30: 2月 | B30: ='計算用(期待容量)'!B30 -> 800.59365 | C30: ='計算用(期待容量)'!C30 -> 4241.5497 | D30: ='計算用(期待容量)'!D30 -> 1227.2499 | E30: ='計算用(期待容量)'!E30 -> 1176.0158 | F30: ='計算用(期待容量)'!F30 -> 933.31738 | G30: ='計算用(期待容量)'!G30 -> 1393.5273 | H30: ='計算用(期待容量)'!H30 -> 850.74645 | I30: ='計算用(期待容量)'!I30 -> 543.73331 | J30: ='計算用(期待容量)'!J30 -> 1268.1666
A31: 3月 | B31: ='計算用(期待容量)'!B31 -> 640.78115 | C31: ='計算用(期待容量)'!C31 -> 2793.3624 | D31: ='計算用(期待容量)'!D31 -> 1441.6649 | E31: ='計算用(期待容量)'!E31 -> 1249.7244 | F31: ='計算用(期待容量)'!F31 -> 1019.28 | G31: ='計算用(期待容量)'!G31 -> 1398.1092 | H31: ='計算用(期待容量)'!H31 -> 803.65374 | I31: ='計算用(期待容量)'!I31 -> 564.17485 | J31: ='計算用(期待容量)'!J31 -> 1053.0394
A33: ④必要供給力(再エネ除き)
A34: 4月 | B34: =B4-B20 -> 3987.729 | C34: =C4-C20 -> 8170.0984 | D34: =D4-D20 -> 40548.343 | E34: =E4-E20 -> 16561.544 | F34: =F4-F20 -> 2348.5436 | G34: =G4-G20 -> 15600.999 | H34: =H4-H20 -> 6187.3697 | I34: =I4-I20 -> 4178.8311 | J34: =J4-J20 -> 11500.189
A35: 5月 | B35: =B5-B21 -> 3356.4302 | C35: =C5-C21 -> 6732.006 | D35: =D5-D21 -> 37497.914 | E35: =E5-E21 -> 15566.364 | F35: =F5-F21 -> 1964.7273 | G35: =G5-G21 -> 15837.964 | H35: =H5-H21 -> 5447.7149 | I35: =I5-I21 -> 3868.8522 | J35: =J5-J21 -> 12099.594
A36: 6月 | B36: =B6-B22 -> 3544.784 | C36: =C6-C22 -> 7853.8878 | D36: =D6-D22 -> 43949.467 | E36: =E6-E22 -> 16362.34 | F36: =F6-F22 -> 2789.54 | G36: =G6-G22 -> 17386.136 | H36: =H6-H22 -> 5946.1113 | I36: =I6-I22 -> 4558.7697 | J36: =J6-J22 -> 12926.706
A37: 7月 | B37: =B7-B23 -> 4510.1387 | C37: =C7-C23 -> 10719.208 | D37: =D7-D23 -> 56632.044 | E37: =E7-E23 -> 19472.975 | F37: =F7-F23 -> 3614.8268 | G37: =G7-G23 -> 22616.395 | H37: =H7-H23 -> 7589.8482 | I37: =I7-I23 -> 5700.5631 | J37: =J7-J23 -> 17397.614
A38: 8月 | B38: =B8-B24 -> 4594.7896 | C38: =C8-C24 -> 10821.063 | D38: =D8-D24 -> 56579.308 | E38: =E8-E24 -> 19971.363 | F38: =F8-F24 -> 3764.8747 | G38: =G8-G24 -> 22920.463 | H38: =H8-H24 -> 7698.7631 | I38: =I8-I24 -> 5674.2773 | J38: =J8-J24 -> 17665.362
A39: 9月 | B39: =B9-B25 -> 4280.162 | C39: =C9-C25 -> 9903.4362 | D39: =D9-D25 -> 49105.059 | E39: =E9-E25 -> 19563.087 | F39: =F9-F25 -> 3271.0679 | G39: =G9-G25 -> 20344.236 | H39: =H9-H25 -> 7065.384 | I39: =I9-I25 -> 5160.6078 | J39: =J9-J25 -> 14978.418
A40: 10月 | B40: =B10-B26 -> 4062.5795 | C40: =C10-C26 -> 8958.3479 | D40: =D10-D26 -> 41432.385 | E40: =E10-E26 -> 16829.636 | F40: =F10-F26 -> 2706.5021 | G40: =G10-G26 -> 16994.239 | H40: =H10-H26 -> 6123.9407 | I40: =I10-I26 -> 4462.7373 | J40: =J10-J26 -> 12994.107
A41: 11月 | B41: =B11-B27 -> 4632.6462 | C41: =C11-C27 -> 10460.556 | D41: =D11-D27 -> 44162.037 | E41: =E11-E27 -> 18292.246 | F41: =F11-F27 -> 3012.4725 | G41: =G11-G27 -> 17632.428 | H41: =H11-H27 -> 7538.8274 | I41: =I11-I27 -> 4590.9358 | J41: =J11-J27 -> 13262.981
A42: 12月 | B42: =B12-B28 -> 5165.7544 | C42: =C12-C28 -> 10403.648 | D42: =D12-D28 -> 48864.696 | E42: =E12-E28 -> 20930.882 | F42: =F12-F28 -> 3540.4686 | G42: =G12-G28 -> 22544.66 | H42: =H12-H28 -> 9316.9592 | I42: =I12-I28 -> 6176.1935 | J42: =J12-J28 -> 15747.034
A43: 1月 | B43: =B13-B29 -> 5669.3789 | C43: =C13-C29 -> 11263.027 | D43: =D13-D29 -> 53054.751 | E43: =E13-E29 -> 22382.198 | F43: =F13-F29 -> 4062.6358 | G43: =G13-G29 -> 23480.35 | H43: =H13-H29 -> 9159.5131 | I43: =I13-I29 -> 6073.6859 | J43: =J13-J29 -> 16811.499
...

Sheet 調整係数一覧
A1: エリア別調整係数 | P1: ：手入力(他ファイルよりマクロ貼り付け可能)
A3: 北海道 | B3: 4 | C3: 5 | D3: 6 | E3: 7 | F3: 8 | G3: 9 | H3: 10 | I3: 11 | J3: 12 | K3: 1 | L3: 2 | M3: 3
A4: 20 | B4: 1 | C4: 0.99800028 | D4: 1 | E4: 1 | F4: 1 | G4: 1 | H4: 1 | I4: 1 | J4: 1 | K4: 1 | L4: 1 | M4: 1
A5: 19 | B5: 1 | C5: 0.99800028 | D5: 1 | E5: 1 | F5: 1 | G5: 1 | H5: 1 | I5: 1 | J5: 1 | K5: 1 | L5: 1 | M5: 1
A6: 18 | B6: 1 | C6: 0.99800028 | D6: 1 | E6: 1 | F6: 1 | G6: 1 | H6: 1 | I6: 1 | J6: 1 | K6: 1 | L6: 1 | M6: 1
A7: 17 | B7: 1 | C7: 0.99800028 | D7: 1 | E7: 1 | F7: 1 | G7: 1 | H7: 1 | I7: 1 | J7: 1 | K7: 1 | L7: 1 | M7: 1
A8: 16 | B8: 1 | C8: 0.99800028 | D8: 1 | E8: 1 | F8: 1 | G8: 1 | H8: 1 | I8: 1 | J8: 1 | K8: 1 | L8: 1 | M8: 1
A9: 15 | B9: 1 | C9: 0.99800028 | D9: 1 | E9: 1 | F9: 1 | G9: 1 | H9: 1 | I9: 1 | J9: 1 | K9: 1 | L9: 1 | M9: 1
A10: 14 | B10: 1 | C10: 0.99800028 | D10: 1 | E10: 1 | F10: 1 | G10: 1 | H10: 1 | I10: 1 | J10: 1 | K10: 1 | L10: 1 | M10: 1
A11: 13 | B11: 1 | C11: 0.99800028 | D11: 1 | E11: 1 | F11: 1 | G11: 1 | H11: 1 | I11: 1 | J11: 1 | K11: 1 | L11: 1 | M11: 1
A12: 12 | B12: 1 | C12: 0.99800028 | D12: 1 | E12: 1 | F12: 1 | G12: 1 | H12: 1 | I12: 1 | J12: 1 | K12: 1 | L12: 1 | M12: 1
A13: 11 | B13: 1 | C13: 0.99800028 | D13: 1 | E13: 1 | F13: 1 | G13: 1 | H13: 1 | I13: 1 | J13: 1 | K13: 1 | L13: 1 | M13: 1
A14: 10 | B14: 1 | C14: 0.99731023 | D14: 1 | E14: 1 | F14: 1 | G14: 1 | H14: 1 | I14: 1 | J14: 1 | K14: 1 | L14: 1 | M14: 1
A15: 9 | B15: 1 | C15: 0.98977392 | D15: 1 | E15: 1 | F15: 1 | G15: 1 | H15: 1 | I15: 1 | J15: 0.99840073 | K15: 0.99168062 | L15: 1 | M15: 1
... A23: 1 | B23: 0.66307457 | C23: 0.68301851 | D23: 0.54167537 | E23: 0.66301289 | F23: 0.67385862 | G23: 0.67938016 | H23: 0.65816464 | I23: 0.72909952 | J23: 0.61492305 | K23: 0.68830127 | L23: 0.61849392 | M23: 0.72771163
A25: 東北 | B25: 4 | C25: 5 | D25: 6 | E25: 7 | F25: 8 | G25: 9 | H25: 10 | I25: 11 | J25: 12 | K25: 1 | L25: 2 | M25: 3
A26: 20 | B26: 1 | C26: 1 | D26: 1 | E26: 1 | F26: 1 | G26: 1 | H26: 1 | I26: 1 | J26: 1 | K26: 1 | L26: 1 | M26: 1
A27: 19 | B27: 1 | C27: 1 | D27: 1 | E27: 1 | F27: 1 | G27: 1 | H27: 1 | I27: 1 | J27: 1 | K27: 1 | L27: 1 | M27: 1
A28: 18 | B28: 1 | C28: 1 | D28: 1 | E28: 1 | F28: 1 | G28: 1 | H28: 1 | I28: 1 | J28: 1 | K28: 1 | L28: 1 | M28: 1
A29: 17 | B29: 1 | C29: 1 | D29: 1 | E29: 1 | F29: 1 | G29: 1 | H29: 1 | I29: 1 | J29: 1 | K29: 1 | L29: 1 | M29: 1
A30: 16 | B30: 1 | C30: 1 | D30: 1 | E30: 1 | F30: 1 | G30: 1 | H30: 1 | I30: 1 | J30: 1 | K30: 1 | L30: 1 | M30: 1
A31: 15 | B31: 1 | C31: 1 | D31: 1 | E31: 1 | F31: 1 | G31: 1 | H31: 1 | I31: 1 | J31: 1 | K31: 1 | L31: 1 | M31: 1
A32: 14 | B32: 1 | C32: 1 | D32: 1 | E32: 1 | F32: 1 | G32: 1 | H32: 1 | I32: 1 | J32: 1 | K32: 1 | L32: 1 | M32: 1
A33: 13 | B33: 1 | C33: 1 | D33: 1 | E33: 1 | F33: 1 | G33: 1 | H33: 1 | I33: 1 | J33: 1 | K33: 1 | L33: 1 | M33: 1
A34: 12 | B34: 1 | C34: 1 | D34: 1 | E34: 1 | F34: 1 | G34: 1 | H34: 1 | I34: 1 | J34: 1 | K34: 1 | L34: 1 | M34: 1
A35: 11 | B35: 1 | C35: 1 | D35: 1 | E35: 1 | F35: 1 | G35: 1 | H35: 1 | I35: 1 | J35: 1 | K35: 1 | L35: 1 | M35: 1
A36: 10 | B36: 1 | C36: 0.99840337 | D36: 1 | E36: 1 | F36: 1 | G36: 1 | H36: 1 | I36: 1 | J36: 1 | K36: 0.99773707 | L36: 1 | M36: 1
A37: 9 | B37: 1 | C37: 0.99160202 | D37: 1 | E37: 1 | F37: 1 | G37: 1 | H37: 1 | I37: 1 | J37: 0.99993137 | K37: 0.98844578 | L37: 1 | M37: 1
... A45: 1 | B45: 0.70263327 | C45: 0.76621356 | D45: 0.56131729 | E45: 0.74228089 | F45: 0.76850924 | G45: 0.61462985 | H45: 0.7377892 | I45: 0.76215284 | J45: 0.62346133 | K45: 0.72220593 | L45: 0.65461354 | M45: 0.79656002
A47: 東京 | B47: 4 | C47: 5 | D47: 6 | E47: 7 | F47: 8 | G47: 9 | H47: 10 | I47: 11 | J47: 12 | K47: 1 | L47: 2 | M47: 3
A48: 20 | B48: 1 | C48: 1 | D48: 1 | E48: 1 | F48: 1 | G48: 1 | H48: 1 | I48: 1 | J48: 1 | K48: 1 | L48: 1 | M48: 1
A49: 19 | B49: 1 | C49: 1 | D49: 1 | E49: 1 | F49: 1 | G49: 1 | H49: 1 | I49: 1 | J49: 1 | K49: 1 | L49: 1 | M49: 1
A50: 18 | B50: 1 | C50: 1 | D50: 1 | E50: 1 | F50: 1 | G50: 1 | H50: 1 | I50: 1 | J50: 1 | K50: 1 | L50: 1 | M50: 1
A51: 17 | B51: 1 | C51: 1 | D51: 1 | E51: 1 | F51: 1 | G51: 1 | H51: 1 | I51: 1 | J51: 1 | K51: 1 | L51: 1 | M51: 1
A52: 16 | B52: 1 | C52: 1 | D52: 1 | E52: 1 | F52: 1 | G52: 1 | H52: 1 | I52: 1 | J52: 1 | K52: 1 | L52: 1 | M52: 1
A53: 15 | B53: 1 | C53: 1 | D53: 1 | E53: 1 | F53: 1 | G53: 1 | H53: 1 | I53: 1 | J53: 1 | K53: 1 | L53: 1 | M53: 1
A54: 14 | B54: 1 | C54: 1 | D54: 1 | E54: 1 | F54: 1 | G54: 1 | H54: 1 | I54: 1 | J54: 1 | K54: 1 | L54: 1 | M54: 1
A55: 13 | B55: 1 | C55: 1 | D55: 1 | E55: 1 | F55: 1 | G55: 1 | H55: 1 | I55: 1 | J55: 1 | K55: 1 | L55: 1 | M55: 1
A56: 12 | B56: 1 | C56: 1 | D56: 1 | E56: 1 | F56: 1 | G56: 1 | H56: 1 | I56: 1 | J56: 1 | K56: 1 | L56: 1 | M56: 1
A57: 11 | B57: 1 | C57: 1 | D57: 1 | E57: 1 | F57: 1 | G57: 1 | H57: 1 | I57: 1 | J57: 1 | K57: 1 | L57: 1 | M57: 1
...

Sheet プルダウンテーブル(非表示)
A1: エリア | B1: 新設 | C1: リプレース等
A2: 北海道 | B2: 蓄電池（リチウムイオン蓄電池） | C2: 蓄電池（リチウムイオン蓄電池）
A3: 東北 | B3: 蓄電池（リチウムイオン蓄電池以外の蓄電池） | C3: 蓄電池（リチウムイオン蓄電池以外の蓄電池）
A4: 東京 | B4: 揚水 | C4: 揚水
A5: 中部 | B5: 長期エネルギー貯蔵システム | C5: 長期エネルギー貯蔵システム
A6: 北陸
A7: 関西
A8: 中国
A9: 四国
A10: 九州

Sheet 制度適用期間上限一覧_antei_long_yousui(非表
B2: 入力された電源における制度適用期間の上限 | C2: =VLOOKUP(入力シート!D12&入力シート!D13, B6:E14, 4, FALSE) -> #N/A
B4: antei_long_yousui用
B5: 検索用 | C5: 新設・リプレース等 | D5: 電源種別 | E5: 制度適用期間上限
B6: =C6&D6 -> 新設蓄電池（リチウムイオン蓄電池） | C6: 新設 | D6: 蓄電池（リチウムイオン蓄電池） | E6: 40
B7: =C7&D7 -> 新設蓄電池（リチウムイオン蓄電池以外の蓄電池） | C7: 新設 | D7: 蓄電池（リチウムイオン蓄電池以外の蓄電池） | E7: 40
B8: =C8&D8 -> 新設揚水 | C8: 新設 | D8: 揚水 | E8: 30
B9: =C9&D9 -> 新設長期エネルギー貯蔵システム | C9: 新設 | D9: 長期エネルギー貯蔵システム | E9: 30
B10: =C10&D10 -> リプレース等蓄電池（リチウムイオン蓄電池） | C10: リプレース等 | D10: 蓄電池（リチウムイオン蓄電池） | E10: 40
B11: =C11&D11 -> リプレース等蓄電池（リチウムイオン蓄電池以外の蓄電池） | C11: リプレース等 | D11: 蓄電池（リチウムイオン蓄電池以外の蓄電池） | E11: 40
B12: =C12&D12 -> リプレース等揚水 | C12: リプレース等 | D12: 揚水 | E12: 40
B13: =C13&D13 -> リプレース等長期エネルギー貯蔵システム | C13: リプレース等 | D13: 長期エネルギー貯蔵システム | E13: 30
